{"text_format":"1","workbook":"xlsx","n_sheets":10,"sheets":["READ_ME","1. Bepaal scope","Decompositie objecten","2. & 3. Class. en uitgangspt.","4. Analyseer opbouw van object","Factoren","5. Bepaal factoren en bereken","6. Bepaal randvoorwaarden","7. Analyseer resultaten","Achtergrond info"],"not_rendered":{"charts":0,"images":4,"macros":1,"external_links":0,"defined_names":29,"comments":5,"pivot_tables":0},"unopened":[],"bounds":{"document_bytes":16777216,"sheet_cells":100000,"rows_first":2000,"rows_last":500,"rows_between":2000,"halvings":0,"cell_chars":16384,"cell_head_chars":4096},"cells_cut":0,"cells_raw":0,"read":"whole","date_system":"1900"}

{"sheet":"READ_ME","index":0,"n_rows":40,"n_cols":12,"rows_kept":40,"cut":false,"hidden":false,"merged":[[9,2,9,25]]}
[]
[]
[null,null,null,null,null,null,null,null,null,null,null," "]
[]
[null,"Rekentool: Losmaakbaarheidsindex (LI) van bouwwerken in de GWW"]
[null,"© Witteveen+Bos, laatste bewerkingsdatum: 7 februari 2024"]
[]
[]
[null,"1. Introductie"]
[null,null,"Deze Excel dient als rekentool om de losmaakbaarheidsindex (LI) van een ontwerp te berekenen. Voor achtergrond informatie betreffende de totstandkoming en werking van de rekenmethode refereren wij naar het rapport Beoordelingsmethode Losmaakbaarheid in de GWW - Versie 2.0. In dit rapport staan ook gehanteerde definities die van belang zijn voor gebruik van de rekentool. Onderstaande kopjes geven relevante informatie over hoe de Excel is opgebouwd en hoe deze te gebruiken. Lees dit allemaal goed door voordat u begint met de berekening."]
[]
[]
[null,"2. Opbouw van de Excel"]
[null,null,"De Excel bestaat uit een aantal tabbladen, zijnde:"]
[]
[null,null,null,"READ_ME: ","huidig tabblad, overzicht van hoe Excel is opgebouwd en hoe deze te gebruiken"]
[]
[null,null,null,"Relevante achtergrond informatie:"]
[null,null,null,"Decompositie objecten: ","indicatie van het minimum detailniveau voor de scope van de berekening, voor verschillende objecttypen (afkomstig van de DuboCalc Objectenbibliotheek)"]
[]
[null,null,null,"Factoren:","definitie en scoring van de factoren die in de meetmethode zijn opgenomen"]
[]
[null,null,null,"Tabbladen die door ontwerper dienen te worden ingevuld:"]
[null,null,null,"Stap 1 - 7:","tabbladen die door ontwerper dienen te worden ingevuld met (ondersteundende) informatie omtrent de opbouw van het object (producten en verbindingen daartussen)"]
[]
[]
[null,null,"In deze sheets geldt de volgende legenda voor de cellen:"]
[]
[null,null,null,null,"niet aanpasbaar - dit zijn resultaten"]
[]
[null,null,null,null,"voor ontwerper om in te vullen"]
[]
[]
[null,"3. Gebruik van de tool"]
[null,null,"1. Neem hoofdstuk 2.3 van het rapport 'Beoordelingsmethode Losmaakbaarheid in de GWW - Versie 2.0' goed door;"]
[null,null,"2. Houd ontwerptekeningen van het ontwerp in kwestie bij de hand;"]
[null,null,"3. Doorloop de oranje gekleurde tabbladen in de volgorde van nummer 1 naar 7. Bij ieder tabblad staan verdere instructies."]
[]
[]
[null,null,null,null,null,null,null,null,null," "]

{"sheet":"1. Bepaal scope","index":1,"n_rows":11,"n_cols":17,"rows_kept":11,"cut":false,"hidden":false,"merged":[[2,1,124,1],[2,14,2,23],[2,3,2,12],[1,3,1,12]]}
[]
[null,"1.A Doorloop vragenlijst",null,"1.B Benoem elementen en producten",null,null,null,null,null,null,null,null,null,null,"1.C Plaats ontwerptekening"]
[null,"Een voorselectie op de te beschouwen producten/ elementen kan worden gemaakt door de onderstaande vragen te stellen, gericht op circulaire doelen en strategieën. De producten/ elementen die als antwoord op onderstaande vragen komen, zijn relevant om mee te nemen in de analyse. Afhankelijk van de gestelde ambities op hergebruik, aanpasbaarheid, onderhoudbaarheid, repareerbaarheid, of standaardisatie, kan er extra aandacht worden gelegd op de beoordeling van specifieke producten/ elementen voor eventuele verbeteringen in het ontwerp. Een voorbeeld van de benadering van elementen en producten dient ter inspiratie en is te vinden in tabblad 'decompositie objecten'.\n\nCirculaire doelen\nLosmaakbaarheid bevordert circulair bouwen, en circulariteit is een middel om hogere duurzaamheidsdoelstellingen te halen. Deze doelstellingen zijn, zoals gedefinieerd door Platform CB’23:\n-\tbeschermen van milieu;\n-\tbeschermen van materiaalvoorraden;\n-\tbeschermen van bestaande en toekomstige waarde.\n\nMilieu impact\nOm milieu-impact op lange termijn te beperken, is het van belang dat producten met een hoge\nmilieu-impact, zo lang mogelijk in gebruik kunnen blijven: \n-\twelke producten/ elementen hebben een hoge MKI?\n-\twelke producten/ elementen hebben een grote massa?\n\nVoor producten met een hoge MKI en/of massa kan het extra relevant zijn om deze goed losmaakbaar te ontwerpen zodat onderhoud of hergebruik in de toekomst wordt vergemakkelijkt. Dit beperkt op langere termijn de milieu impact.\n\nMateriaalvoorraden\nHet beschermen van materiaalvoorraden linkt aan het gebruik van primair en secundair materiaal, en het gebruik van kritieke of schaarse materialen. In de vragenlijst koppelen we het belang van losmaakbaarheid aan producten met kritieke of schaarse materialen (voor een overzicht van kritieke en schaarse materialen in de EU, zie: https://single-market-economy.ec.europa.eu/sectors/raw-materials/areas-specific-interest/critical-raw-materials_en):\n-\tin welke producten zijn kritieke of schaarse materialen aanwezig?\n\nVoor producten met kritieke of schaarse materialen kan het extra relevant zijn om deze goed losmaakbaar te ontwerpen. \n\nWaardebehoud\nWaardebehoud is een breed begrip dat zowel functionele, technische als economische waarde kan omvatten. In dit deel van de vragenlijst bakenen we af op economische waarde. Relevante aspecten m.b.t. functioneel en technisch waardebehoud komen in de overige vragen terug:\n-\twelke producten hebben een hoge economische waarde? \n\nVoor producten met een hoge economische waarde kan het extra relevant zijn om deze goed losmaakbaar te ontwerpen.\n\nCirculaire ontwerpprincipes\nDe circulaire ontwerpprincipes dragen bij aan de drie doelstellingen van circulariteit zoals hierboven beschreven:\n\nHergebruik\nIndien er een hergebruikstrategie voor het object en de onderdelen daarbinnen beschikbaar is, dient daarmee rekening te worden gehouden in het ontwerp. Zo niet, kan het belang van hergebruik a.d.h.v. volgende vragen worden bepaald:\n- welke producten komen voort uit de analyse van de circulaire doelen (stap 2 van de vragenlijst)? \n- welke producten hebben een hoge waarschijnlijkheid van hergebruik als element of product in de (verre) toekomst?\n    · bijvoorbeeld: producten waarvan de technische levensduur langer is dan de ontwerplevensduur van het object;\n    · is hergebruik waarschijnlijk op element- of productniveau? Indien hergebruik op elementniveau plaatsvindt, is losmaakbaarheid op productniveau minder relevant;\n- zijn de producten transporteerbaar?\n- heeft de achterliggende of dragende constructie een langere of kortere (te verwachten) levensduur dan de functionele levensduur van het object? Bij een langere levensduur is hergebruik hiervan extra belangrijk.\n\nAanpasbaarheid\n- met oog op de vereiste flexibiliteit in functie van het object: is de verwachting dat de technische levensduur van het object gehaald wordt, of is het waarschijnlijk dat het object vanuit functionele wijzigingen eerder moeten worden aangepast (uitgebreid, verzwaard, verlengd, verkort, verplaatst)? \nZo ja, welke producten/ elementen zijn daarbij betrokken? Voor deze producten/ elementen is losmaakbaarheid relevant.\n- NB: van bepaalde objecten is bekend dat deze regelmatig vóór het einde van de levensduur gesloopt moeten worden vanwege functionele wijzigingen aan het netwerk waarin zij liggen, zoals viaducten. Zo worden bijvoorbeeld bij Rijkswaterstaat viaducten standaard ontworpen op een levensduur van 100 jaar, terwijl zij gemiddeld na ongeveer 45 jaar al aangepast of gesloopt worden.\n\nOnderhoudbaarheid\n- welke producten/ elementen hebben geplande onderhoudsmaatregelen tijdens de levensduur van het object waarvoor losmaken vereist is?\n- welke producten hebben een kortere levensduur dan de objectlevensduur, en daarbij dus een hoge waarschijnlijkheid aan benodigde vervanging?\n- zijn er systemen die elkaar doorkruisen? Houd dan in het ontwerp rekening met het kunnen onderhouden, verplaatsen en aanpassen van beide systemen (bijvoorbeeld, in het geval van een afvoersysteem dat later wordt ingebouwd, en vervolgens niet meer door de deur past).\n\nVoor deze producten/ elementen is losmaakbaarheid relevant.\n\nRepareerbaarheid\n- welke producten/elementen hebben een hoge waarschijnlijkheid op potentiële beschadigingen en dus een hoge waarschijnlijkheid van potentiële losse vervangingen of reparaties? Voor deze producten/ elementen is losmaakbaarheid relevant;\n    · denk hierbij niet enkel aan onderdelen met korte levensduren: ook als de (technische) levensduur van het product/ element lang is, kan het om andere redenen (bijv. een aanrijding) al eerder vervangen moeten worden. \n\nStandaardisatie\n- welke gestandaardiseerde producten zijn te gebruiken in het ontwerp? Voor deze producten/ elementen is losmaakbaarheid relevant.\n\nRobuust ontwerp\n- welke onderdelen hebben naar verwachting een lange(re) technische en functionele levensduur (dan het object)? \n- voor welke onderdelen kan losmaakbaarheid een risico opleveren voor het blijven functioneren tijdens de levensduur?\n- voor welke onderdelen leidt losmaakbaarheid tot complexiteit, veel duurdere oplossingen danwel (veel) meer materiaalgebruik?\n\nVoor deze producten/ elementen kan losmaakbaarheid juist minder relevant zijn.",null,"Bekijk allereerst globaal het ontwerp en de aanwezige producten/ elementen. Noteer op basis van de relevante doelen en strategieën de relevante producten van het object voor de losmaakbaarheids-analyse. Specifeer hierbij ook de MKI, massa, technische levensduur, of er kritieke of schaarse materialen inzitten, de economische waarde en het 'aantal keer' dat dit product voorkomt. De ingevulde cellen (zie cursieve tekst) zijn als voorbeeld opgenomen.",null,null,null,null,null,null,null,null,null,null,"Plak een (of meerdere) detailtekening(en) van het ontwerp in de sheet en breng labels aan met behulp van de label template (zie 1.1 en kopieer en wijzig naar 1.2, 1.3, 2.1 … etc.) om je producten te benoemen."]
[null,null,null,null,null,null,null,null,null,null,null,null,null,null,"label template te gebruiken:",null,"Voorbeeld:"]
[null,null,null,"Tabel 1: Aanwezige (relevante) producten en elementen",null,null,null,null,null,null,null,null,null,null,"  [tekening(en) hier invoegen]"]
[null,null,null,"Elem.ID","Element naam","Prod.ID","Product naam","Levensduur [jaar]","MKI [EUR MKI]","Massa [kg]","Kritieke/ schaarse materialen?","Economische waarde [EUR]","Aantal keer"]
[null,null,null,"0.","Grond","0.0","Grond","∞",150,900,"Nee",600,1]
[null,null,null,"1.","Element1","1.1","Product1",100,10,30,"Ja",200,20]
[null,null,null,"2.","Element2","2.1","Product2",100,80,100,"Nee",810,10]
[null,null,null,"2.","Element2","2.2","Product3",50,4,24,"Nee",340,5]
[null,null,null,"2.","Element2","2.3","Product4",50,8,10,"Ja",22,1]

{"sheet":"Decompositie objecten","index":2,"n_rows":599,"n_cols":5,"rows_kept":599,"cut":false,"hidden":false,"merged":[]}
[]
[null,"Decompositie overzicht GWW-objecten o.b.v. de Objectenbibliotheek van DuboCalc"]
[null,"t.b.v. de meetmethode Losmaakbaarheid in de GWW 1.0 d.d. 15 december 2022"]
[]
[]
[]
[]
[null,"Hoofdcategorie","Object (1)","Element (2)","Product (3)"]
[null,"Beweegbare bruggen","Ophaalbrug (groot)","Aanbrug","[nader te specificeren]"]
[null,"Beweegbare bruggen","Ophaalbrug (groot)","Aanbrug","[nader te specificeren]"]
[null,"Beweegbare bruggen","Ophaalbrug (groot)","Aanbrug","[nader te specificeren]"]
[null,"Beweegbare bruggen","Ophaalbrug (groot)","Aanbrug","[nader te specificeren]"]
[null,"Beweegbare bruggen","Ophaalbrug (groot)","Aanbrug","[nader te specificeren]"]
[null,"Beweegbare bruggen","Ophaalbrug (groot)","Verharding","[nader te specificeren]"]
[null,"Beweegbare bruggen","Ophaalbrug (groot)","Verharding","[nader te specificeren]"]
[null,"Beweegbare bruggen","Ophaalbrug (groot)","Val","[nader te specificeren]"]
[null,"Beweegbare bruggen","Ophaalbrug (groot)","Val","[nader te specificeren]"]
[null,"Beweegbare bruggen","Ophaalbrug (groot)","Val","[nader te specificeren]"]
[null,"Beweegbare bruggen","Ophaalbrug (groot)","Balans en hamei","[nader te specificeren]"]
[null,"Beweegbare bruggen","Ophaalbrug (groot)","Balans en hamei","[nader te specificeren]"]
[null,"Beweegbare bruggen","Ophaalbrug (groot)","Balans en hamei","[nader te specificeren]"]
[null,"Beweegbare bruggen","Ophaalbrug (groot)","Balans en hamei","[nader te specificeren]"]
[null,"Beweegbare bruggen","Ophaalbrug (groot)","Balans en hamei","[nader te specificeren]"]
[null,"Beweegbare bruggen","Ophaalbrug (groot)","Tussenpeilers","[nader te specificeren]"]
[null,"Beweegbare bruggen","Ophaalbrug (groot)","Tussenpeilers","[nader te specificeren]"]
[null,"Beweegbare bruggen","Ophaalbrug (groot)","Tussenpeilers","[nader te specificeren]"]
[null,"Beweegbare bruggen","Ophaalbrug (groot)","Tussenpeilers","[nader te specificeren]"]
[null,"Beweegbare bruggen","Ophaalbrug (groot)","Tussenpeilers","[nader te specificeren]"]
[null,"Beweegbare bruggen","Ophaalbrug (groot)","Landhoofd","[nader te specificeren]"]
[null,"Beweegbare bruggen","Ophaalbrug (groot)","Landhoofd","[nader te specificeren]"]
[null,"Beweegbare bruggen","Ophaalbrug (groot)","Landhoofd","[nader te specificeren]"]
[null,"Beweegbare bruggen","Ophaalbrug (groot)","Landhoofd","[nader te specificeren]"]
[null,"Beweegbare bruggen","Ophaalbrug (groot)","Landhoofd","[nader te specificeren]"]
[null,"Beweegbare bruggen","Ophaalbrug (groot)","Conservering","[nader te specificeren]"]
[null,"Beweegbare bruggen","Ophaalbrug (groot)","WTB-installatie","[nader te specificeren]"]
[null,"Beweegbare bruggen","Ophaalbrug (groot)","WTB-installatie","[nader te specificeren]"]
[null,"Beweegbare bruggen","Ophaalbrug (groot)","Remmingswerk","[nader te specificeren]"]
[null,"Beweegbare bruggen","Ophaalbrug (groot)","Remmingswerk","[nader te specificeren]"]
[null,"Beweegbare bruggen","Ophaalbrug (groot)","Kelder","[nader te specificeren]"]
[null,"Beweegbare bruggen","Ophaalbrug (groot)","Kelder","[nader te specificeren]"]
[null,"Beweegbare bruggen","Ophaalbrug (groot)","Kelder","[nader te specificeren]"]
[null,"Beweegbare bruggen","Ophaalbrug (groot)","Kelder","[nader te specificeren]"]
[null,"Beweegbare bruggen","Ophaalbrug (groot)","Kelder","[nader te specificeren]"]
[null,"Beweegbare bruggen","Ophaalbrug (groot)","Kelder","[nader te specificeren]"]
[null,"Beweegbare bruggen","Basculebrug (groot)","Fundering","[nader te specificeren]"]
[null,"Beweegbare bruggen","Basculebrug (groot)","Fundering","[nader te specificeren]"]
[null,"Beweegbare bruggen","Basculebrug (groot)","Fundering","[nader te specificeren]"]
[null,"Beweegbare bruggen","Basculebrug (groot)","Fundering","[nader te specificeren]"]
[null,"Beweegbare bruggen","Basculebrug (groot)","Fundering","[nader te specificeren]"]
[null,"Beweegbare bruggen","Basculebrug (groot)","Fundering","[nader te specificeren]"]
[null,"Beweegbare bruggen","Basculebrug (groot)","Fundering","[nader te specificeren]"]
[null,"Beweegbare bruggen","Basculebrug (groot)","Verharding","[nader te specificeren]"]
[null,"Beweegbare bruggen","Basculebrug (groot)","Verharding","[nader te specificeren]"]
[null,"Beweegbare bruggen","Basculebrug (groot)","Verharding","[nader te specificeren]"]
[null,"Beweegbare bruggen","Basculebrug (groot)","Verharding","[nader te specificeren]"]
[null,"Beweegbare bruggen","Basculebrug (groot)","Verharding","[nader te specificeren]"]
[null,"Beweegbare bruggen","Basculebrug (groot)","Verharding","[nader te specificeren]"]
[null,"Beweegbare bruggen","Basculebrug (groot)","Verharding","[nader te specificeren]"]
[null,"Beweegbare bruggen","Basculebrug (groot)","Verharding","[nader te specificeren]"]
[null,"Beweegbare bruggen","Basculebrug (groot)","Verharding","[nader te specificeren]"]
[null,"Beweegbare bruggen","Basculebrug (groot)","Verharding","[nader te specificeren]"]
[null,"Beweegbare bruggen","Basculebrug (groot)","Verharding","[nader te specificeren]"]
[null,"Beweegbare bruggen","Basculebrug (groot)","Verharding","[nader te specificeren]"]
[null,"Beweegbare bruggen","Basculebrug (groot)","Verharding","[nader te specificeren]"]
[null,"Beweegbare bruggen","Basculebrug (groot)","Verharding","[nader te specificeren]"]
[null,"Beweegbare bruggen","Basculebrug (groot)","Verharding","[nader te specificeren]"]
[null,"Beweegbare bruggen","Basculebrug (groot)","Verharding","[nader te specificeren]"]
[null,"Beweegbare bruggen","Basculebrug (groot)","Bovenwerk","[nader te specificeren]"]
[null,"Beweegbare bruggen","Basculebrug (groot)","Bovenwerk","[nader te specificeren]"]
[null,"Beweegbare bruggen","Basculebrug (groot)","Bovenwerk","[nader te specificeren]"]
[null,"Beweegbare bruggen","Basculebrug (groot)","Bovenwerk","[nader te specificeren]"]
[null,"Beweegbare bruggen","Basculebrug (groot)","Brugontsluiting","[nader te specificeren]"]
[null,"Beweegbare bruggen","Basculebrug (groot)","Brugontsluiting","[nader te specificeren]"]
[null,"Beweegbare bruggen","Basculebrug (groot)","Brugontsluiting","[nader te specificeren]"]
[null,"Beweegbare bruggen","Basculebrug (groot)","Brugontsluiting","[nader te specificeren]"]
[null,"Beweegbare bruggen","Basculebrug (groot)","Brugontsluiting","[nader te specificeren]"]
[null,"Beweegbare bruggen","Basculebrug (groot)","Brugontsluiting","[nader te specificeren]"]
[null,"Beweegbare bruggen","Basculebrug (groot)","Brugontsluiting","[nader te specificeren]"]
[null,"Beweegbare bruggen","Basculebrug (groot)","Brugontsluiting","[nader te specificeren]"]
[null,"Beweegbare bruggen","Basculebrug (groot)","Grondwerk","[nader te specificeren]"]
[null,"Beweegbare bruggen","Basculebrug (groot)","Grondwerk","[nader te specificeren]"]
[null,"Beweegbare bruggen","Basculebrug (groot)","Grondwerk","[nader te specificeren]"]
[null,"Beweegbare bruggen","Basculebrug (groot)","Grondwerk","[nader te specificeren]"]
[null,"Beweegbare bruggen","Basculebrug (groot)","Betonwerk","[nader te specificeren]"]
[null,"Beweegbare bruggen","Basculebrug (groot)","Betonwerk","[nader te specificeren]"]
[null,"Beweegbare bruggen","Basculebrug (groot)","Betonwerk","[nader te specificeren]"]
[null,"Beweegbare bruggen","Basculebrug (groot)","Hulpconstructies","[nader te specificeren]"]
[null,"Beweegbare bruggen","Basculebrug (groot)","Hulpconstructies","[nader te specificeren]"]
[null,"Beweegbare bruggen","Basculebrug (groot)","Hulpconstructies","[nader te specificeren]"]
[null,"Beweegbare bruggen","Basculebrug (groot)","Remming en geleidewerk","[nader te specificeren]"]
[null,"Beweegbare bruggen","Basculebrug (groot)","Remming en geleidewerk","[nader te specificeren]"]
[null,"Beweegbare bruggen","Basculebrug (groot)","Afwerking","[nader te specificeren]"]
[null,"Beweegbare bruggen","Basculebrug (groot)","Afwerking","[nader te specificeren]"]
[null,"Beweegbare bruggen","Basculebrug (groot)","Afwerking","[nader te specificeren]"]
[null,"Beweegbare bruggen","Basculebrug (groot)","Afwerking","[nader te specificeren]"]
[null,"Bruggen en viaducten"," Fiets- en voetgangersbruggen over water (6)","Wegverharding","Aanbrengen slijtlaag"]
[null,"Bruggen en viaducten"," Fiets- en voetgangersbruggen over water (6)","Brugconstructie","Aanbrengen randliggers aanbruggen"]
[null,"Bruggen en viaducten"," Fiets- en voetgangersbruggen over water (6)","Brugconstructie","Aanbrengen vakwerk / overig staal"]
[null,"Bruggen en viaducten"," Fiets- en voetgangersbruggen over water (6)","Brugconstructie","Aanbrengen plaatligger"]
[null,"Bruggen en viaducten"," Fiets- en voetgangersbruggen over water (6)","Brugconstructie","Aanbrengen leuningwerken"]
[null,"Bruggen en viaducten"," Fiets- en voetgangersbruggen over water (6)","Landhoofd","Aanbrengen wapening landhoofd"]
[null,"Bruggen en viaducten"," Fiets- en voetgangersbruggen over water (6)","Landhoofd","Aanbrengen beton in landhoofd"]
[null,"Bruggen en viaducten"," Fiets- en voetgangersbruggen over water (6)","Fundering","Aanbrengen wapening in palen"]
[null,"Bruggen en viaducten"," Fiets- en voetgangersbruggen over water (6)","Fundering","Aanbrengen beton in palen"]
[null,"Bruggen en viaducten"," Fiets- en voetgangersbruggen over water (6)","Trappen","Aanbrengen taludtrappen"]
[null,"Bruggen en viaducten"," Fiets- en voetgangersbruggen over water (6)","Pijlers","Aanbrengen voorspanstaal funderingspaal"]
[null,"Bruggen en viaducten"," Fiets- en voetgangersbruggen over water (6)","Pijlers","Aanbrengen wapening funderingspaal"]
[null,"Bruggen en viaducten"," Fiets- en voetgangersbruggen over water (6)","Pijlers","Aanbrengen beton in funderingspaal"]
[null,"Bruggen en viaducten"," Fiets- en voetgangersbruggen over water (6)","Pijlers","Aanbrengen wapening funderingssloof"]
[null,"Bruggen en viaducten"," Fiets- en voetgangersbruggen over water (6)","Pijlers","Aanbrengen beton in funderingssloof"]
[null,"Bruggen en viaducten"," Fiets- en voetgangersbruggen over water (6)","Pijlers","Aanbrengen wapening kolom"]
[null,"Bruggen en viaducten"," Fiets- en voetgangersbruggen over water (6)","Pijlers","Aanbrengen beton in kolom"]
[null,"Bruggen en viaducten"," Fiets- en voetgangersbruggen over water (6)","Pijlers","Aanbrengen wapening onderslagbalk"]
[null,"Bruggen en viaducten"," Fiets- en voetgangersbruggen over water (6)","Pijlers","Aanbrengen beton in onderslagbalk"]
[null,"Bruggen en viaducten"," Fiets- en voetgangersbruggen over water (6)","Verlichting"]
[null,"Bruggen en viaducten"," Fiets- en voetgangersbruggen over water (6)","Markering"]
[null,"Bruggen en viaducten"," Brug 40m (2x2) (13)","Landhoofd incl. vleugelwanden","Prefab betonpalen"]
[null,"Bruggen en viaducten"," Brug 40m (2x2) (13)","Landhoofd incl. vleugelwanden","Beton landhoofden"]
[null,"Bruggen en viaducten"," Brug 40m (2x2) (13)","Landhoofd incl. vleugelwanden","Beton vleugelwanden"]
[null,"Bruggen en viaducten"," Brug 40m (2x2) (13)","Landhoofd incl. vleugelwanden","Wapening landhoofden + vleugelwanden"]
[null,"Bruggen en viaducten"," Brug 40m (2x2) (13)","Landhoofd incl. vleugelwanden","Stootplaten"]
[null,"Bruggen en viaducten"," Brug 40m (2x2) (13)","Landhoofd incl. vleugelwanden","Taludbekleding onder landhoofden"]
[null,"Bruggen en viaducten"," Brug 40m (2x2) (13)","Brugconstructie","Prefab betonliggers"]
[null,"Bruggen en viaducten"," Brug 40m (2x2) (13)","Brugconstructie","Wapening liggers"]
[null,"Bruggen en viaducten"," Brug 40m (2x2) (13)","Verharding","Deklaag op brugdek"]
[null,"Bruggen en viaducten"," Brug 40m (2x2) (13)","Verharding","Onderlaag op brugdek"]
[null,"Bruggen en viaducten"," Brug 40m (2x2) (13)","Verharding","Gietasfalt langs schampstroken"]
[null,"Bruggen en viaducten"," Brug 40m (2x2) (13)","Verharding","Kleeflagen"]
[null,"Bruggen en viaducten"," Brug 40m (2x2) (13)","Geleiderails + leuning","Geleiderail, midden, op brugdek"]
[null,"Bruggen en viaducten"," Brug 40m (2x2) (13)","Geleiderails + leuning","Geleiderail, zijkanten, op brugdek en vleugelwanden"]
[null,"Bruggen en viaducten"," Brug 40m (2x2) (13)","Wegmarkering","Kantstrepen"]
[null,"Bruggen en viaducten"," Brug 40m (2x2) (13)","Wegmarkering","Onderbroken strepen"]
[null,"Bruggen en viaducten"," Brug 40m (2x2) (13)","Verlichting","Verlichting"]
[null,"Bruggen en viaducten"," Brug 40m (2x3) (6)","Verlichting","Verlichting"]
[null,"Bruggen en viaducten"," Brug 40m (2x3) (6)","Wegmarkering","Onderbroken strepen"]
[null,"Bruggen en viaducten"," Brug 40m (2x3) (6)","Wegmarkering","Kantstrepen"]
[null,"Bruggen en viaducten"," Brug 40m (2x3) (6)","Geleiderails + leuning","Geleiderail, zijkanten, op brugdek en vleugelwanden"]
[null,"Bruggen en viaducten"," Brug 40m (2x3) (6)","Geleiderails + leuning","Geleiderail, midden, op brugdek"]
[null,"Bruggen en viaducten"," Brug 40m (2x3) (6)","Verharding","Gietasfalt langs schampstroken"]
[null,"Bruggen en viaducten"," Brug 40m (2x3) (6)","Verharding","Onderlaag op brugdek"]
[null,"Bruggen en viaducten"," Brug 40m (2x3) (6)","Verharding","Deklaag op brugdek"]
[null,"Bruggen en viaducten"," Brug 40m (2x3) (6)","Verharding","Kleeflagen"]
[null,"Bruggen en viaducten"," Brug 40m (2x3) (6)","Brugconstructie","Wapening liggers"]
[null,"Bruggen en viaducten"," Brug 40m (2x3) (6)","Brugconstructie","Prefab betonliggers"]
[null,"Bruggen en viaducten"," Brug 40m (2x3) (6)","Landhoofd incl. vleugelwanden","Taludbekleding onder landhoofden"]
[null,"Bruggen en viaducten"," Brug 40m (2x3) (6)","Landhoofd incl. vleugelwanden","Stootplaten"]
[null,"Bruggen en viaducten"," Brug 40m (2x3) (6)","Landhoofd incl. vleugelwanden","Wapening landhoofden + vleugelwanden"]
[null,"Bruggen en viaducten"," Brug 40m (2x3) (6)","Landhoofd incl. vleugelwanden","Beton vleugelwanden"]
[null,"Bruggen en viaducten"," Brug 40m (2x3) (6)","Landhoofd incl. vleugelwanden","Beton landhoofden"]
[null,"Bruggen en viaducten"," Brug 40m (2x3) (6)","Landhoofd incl. vleugelwanden","Prefab betonpalen"]
[null,"Bruggen en viaducten"," Brug 80m (2x2) (6)","Verlichting","Verlichting"]
[null,"Bruggen en viaducten"," Brug 80m (2x2) (6)","Wegmarkering","Onderbroken strepen"]
[null,"Bruggen en viaducten"," Brug 80m (2x2) (6)","Wegmarkering","Markering op brugdek"]
[null,"Bruggen en viaducten"," Brug 80m (2x2) (6)","Geleiderails + leuning","Geleiderail, zijkanten, op brugdek en vleugelwanden"]
[null,"Bruggen en viaducten"," Brug 80m (2x2) (6)","Geleiderails + leuning","Geleiderail, midden, op brugdek"]
[null,"Bruggen en viaducten"," Brug 80m (2x2) (6)","Verharding","Gietasfalt langs schampstroken"]
[null,"Bruggen en viaducten"," Brug 80m (2x2) (6)","Verharding","Onderlaag op brugdek"]
[null,"Bruggen en viaducten"," Brug 80m (2x2) (6)","Verharding","Slijtlaag op brugdek"]
[null,"Bruggen en viaducten"," Brug 80m (2x2) (6)","Verharding","Kleeflagen"]
[null,"Bruggen en viaducten"," Brug 80m (2x2) (6)","Brugconstructie","Stalen brugconstructie"]
[null,"Bruggen en viaducten"," Brug 80m (2x2) (6)","Landhoofd incl. vleugelwanden","Taludbekleding onder landhoofden"]
[null,"Bruggen en viaducten"," Brug 80m (2x2) (6)","Landhoofd incl. vleugelwanden","Stootplaten"]
[null,"Bruggen en viaducten"," Brug 80m (2x2) (6)","Landhoofd incl. vleugelwanden","Wapening landhoofden + vleugelwanden"]
[null,"Bruggen en viaducten"," Brug 80m (2x2) (6)","Landhoofd incl. vleugelwanden","Beton vleugelwanden"]
[null,"Bruggen en viaducten"," Brug 80m (2x2) (6)","Landhoofd incl. vleugelwanden","Beton landhoofden"]
[null,"Bruggen en viaducten"," Brug 80m (2x2) (6)","Landhoofd incl. vleugelwanden","Stalen buispalen"]
[null,"Bruggen en viaducten"," Brug 80m (2x3) (6)","Landhoofd incl. vleugelwanden","Stalen buispalen"]
[null,"Bruggen en viaducten"," Brug 80m (2x3) (6)","Landhoofd incl. vleugelwanden","Beton landhoofden"]
[null,"Bruggen en viaducten"," Brug 80m (2x3) (6)","Landhoofd incl. vleugelwanden","Beton vleugelwanden"]
[null,"Bruggen en viaducten"," Brug 80m (2x3) (6)","Landhoofd incl. vleugelwanden","Wapening landhoofden + vleugelwanden"]
[null,"Bruggen en viaducten"," Brug 80m (2x3) (6)","Landhoofd incl. vleugelwanden","Stootplaten"]
[null,"Bruggen en viaducten"," Brug 80m (2x3) (6)","Landhoofd incl. vleugelwanden","Taludbekleding onder landhoofden"]
[null,"Bruggen en viaducten"," Brug 80m (2x3) (6)","Brugconstructie","Stalen brugconstructie"]
[null,"Bruggen en viaducten"," Brug 80m (2x3) (6)","Verharding","Slijtlaag op brugdek"]
[null,"Bruggen en viaducten"," Brug 80m (2x3) (6)","Verharding","Onderlaag op brugdek"]
[null,"Bruggen en viaducten"," Brug 80m (2x3) (6)","Verharding","Gietasfalt langs schampstroken"]
[null,"Bruggen en viaducten"," Brug 80m (2x3) (6)","Verharding","Kleeflagen"]
[null,"Bruggen en viaducten"," Brug 80m (2x3) (6)","Geleiderails + leuning","Geleiderail, midden, op brugdek"]
[null,"Bruggen en viaducten"," Brug 80m (2x3) (6)","Geleiderails + leuning","Geleiderail, zijkanten, op brugdek en vleugelwanden"]
[null,"Bruggen en viaducten"," Brug 80m (2x3) (6)","Wegmarkering","Markering op brugdek"]
[null,"Bruggen en viaducten"," Brug 80m (2x3) (6)","Wegmarkering","Onderbroken strepen"]
[null,"Bruggen en viaducten"," Brug 80m (2x3) (6)","Verlichting","Verlichting"]
[null,"Bruggen en viaducten"," Viaduct (2x3) (9)","Hekwerk en geleiderails op brug","Geleiderail op rijbaanscheiding"]
[null,"Bruggen en viaducten"," Viaduct (2x3) (9)","Hekwerk en geleiderails op brug","Hekwerk langs brug"]
[null,"Bruggen en viaducten"," Viaduct (2x3) (9)","Verharding op viaduct","Markering"]
[null,"Bruggen en viaducten"," Viaduct (2x3) (9)","Verharding op viaduct","Uitvullaag"]
[null,"Bruggen en viaducten"," Viaduct (2x3) (9)","Verharding op viaduct","Toplaag"]
[null,"Bruggen en viaducten"," Viaduct (2x3) (9)","Verharding op viaduct","Kleeflagen"]
[null,"Bruggen en viaducten"," Viaduct (2x3) (9)","Brugconstructie","Wapening pijlers"]
[null,"Bruggen en viaducten"," Viaduct (2x3) (9)","Brugconstructie","Beton pijlers"]
[null,"Bruggen en viaducten"," Viaduct (2x3) (9)","Brugconstructie","Wapening liggers"]
[null,"Bruggen en viaducten"," Viaduct (2x3) (9)","Brugconstructie","Beton liggers"]
[null,"Bruggen en viaducten"," Viaduct (2x3) (9)","Heipalen","Heipalen"]
[null,"Bruggen en viaducten"," Viaduct (2x3) (9)","Verlichting"]
[null,"Bruggen en viaducten"," Viaduct (2x3) (9)","Verharding op talud","Markering"]
[null,"Bruggen en viaducten"," Viaduct (2x3) (9)","Verharding op talud","Zandbed"]
[null,"Bruggen en viaducten"," Viaduct (2x3) (9)","Verharding op talud","Funderingslaag"]
[null,"Bruggen en viaducten"," Viaduct (2x3) (9)","Verharding op talud","Tussen- en onderlaag"]
[null,"Bruggen en viaducten"," Viaduct (2x3) (9)","Verharding op talud","Toplaag"]
[null,"Bruggen en viaducten"," Viaduct (2x3) (9)","Verharding op talud","Kleeflagen"]
[null,"Bruggen en viaducten"," Viaduct (2x3) (9)","Geleiderails en afscherming","Geleiderails langs weg"]
[null,"Bruggen en viaducten"," Viaduct (2x3) (9)","Geleiderails en afscherming","Geleiderail op rijbaanscheiding"]
[null,"Bruggen en viaducten"," Viaduct (2x3) (9)","Landhoofd","Wapeningsstaal aanlanding"]
[null,"Bruggen en viaducten"," Viaduct (2x3) (9)","Landhoofd","Beton aanlanding"]
[null,"Bruggen en viaducten"," Viaduct (2x3) (9)","Landhoofd","Bekleding talud onder brugdek"]
[null,"Bruggen en viaducten"," Viaduct (2x3) (9)","Grondlichaam landhoofd","Grondlichaam onder en naast rijbaan"]
[null,"Bruggen en viaducten"," Viaduct (2x2) (35)","Grondlichaam landhoofd","Grondlichaam onder en naast rijbaan"]
[null,"Bruggen en viaducten"," Viaduct (2x2) (35)","Landhoofd","Bekleding talud onder brugdek"]
[null,"Bruggen en viaducten"," Viaduct (2x2) (35)","Landhoofd","Beton aanlanding"]
[null,"Bruggen en viaducten"," Viaduct (2x2) (35)","Landhoofd","Wapeningsstaal aanlanding"]
[null,"Bruggen en viaducten"," Viaduct (2x2) (35)","Geleiderails en afscherming","Geleiderail op rijbaanscheiding"]
[null,"Bruggen en viaducten"," Viaduct (2x2) (35)","Geleiderails en afscherming","Geleiderails langs weg"]
[null,"Bruggen en viaducten"," Viaduct (2x2) (35)","Verharding op talud","Toplaag"]
[null,"Bruggen en viaducten"," Viaduct (2x2) (35)","Verharding op talud","Tussen- en onderlaag"]
[null,"Bruggen en viaducten"," Viaduct (2x2) (35)","Verharding op talud","Funderingslaag"]
[null,"Bruggen en viaducten"," Viaduct (2x2) (35)","Verharding op talud","Zandbed"]
[null,"Bruggen en viaducten"," Viaduct (2x2) (35)","Verharding op talud","Markering"]
[null,"Bruggen en viaducten"," Viaduct (2x2) (35)","Verharding op talud","Kleeflagen"]
[null,"Bruggen en viaducten"," Viaduct (2x2) (35)","Verlichting"]
[null,"Bruggen en viaducten"," Viaduct (2x2) (35)","Heipalen","Heipalen"]
[null,"Bruggen en viaducten"," Viaduct (2x2) (35)","Brugconstructie","Beton liggers"]
[null,"Bruggen en viaducten"," Viaduct (2x2) (35)","Brugconstructie","Wapening liggers"]
[null,"Bruggen en viaducten"," Viaduct (2x2) (35)","Brugconstructie","Beton pijlers"]
[null,"Bruggen en viaducten"," Viaduct (2x2) (35)","Brugconstructie","Wapening pijlers"]
[null,"Bruggen en viaducten"," Viaduct (2x2) (35)","Verharding op viaduct","Toplaag"]
[null,"Bruggen en viaducten"," Viaduct (2x2) (35)","Verharding op viaduct","Uitvullaag"]
[null,"Bruggen en viaducten"," Viaduct (2x2) (35)","Verharding op viaduct","Markering"]
[null,"Bruggen en viaducten"," Viaduct (2x2) (35)","Verharding op viaduct","Kleeflagen"]
[null,"Bruggen en viaducten"," Viaduct (2x2) (35)","Hekwerk en geleiderails op brug","Hekwerk langs brug"]
[null,"Bruggen en viaducten"," Viaduct (2x2) (35)","Hekwerk en geleiderails op brug","Geleiderail op rijbaanscheiding"]
[null,"Bruggen en viaducten"," Viaduct voor semi-directe verbindingsweg (7)","Hekwerk","Hekwerk langs brug"]
[null,"Bruggen en viaducten"," Viaduct voor semi-directe verbindingsweg (7)","Verharding op viaduct","Uitvullaag"]
[null,"Bruggen en viaducten"," Viaduct voor semi-directe verbindingsweg (7)","Verharding op viaduct","Toplaag"]
[null,"Bruggen en viaducten"," Viaduct voor semi-directe verbindingsweg (7)","Brugconstructie","Wapening pijlers"]
[null,"Bruggen en viaducten"," Viaduct voor semi-directe verbindingsweg (7)","Brugconstructie","Beton pijlers"]
[null,"Bruggen en viaducten"," Viaduct voor semi-directe verbindingsweg (7)","Brugconstructie","Wapening liggers"]
[null,"Bruggen en viaducten"," Viaduct voor semi-directe verbindingsweg (7)","Brugconstructie","Beton liggers"]
[null,"Bruggen en viaducten"," Viaduct voor semi-directe verbindingsweg (7)","Heipalen","Heipalen"]
[null,"Bruggen en viaducten"," Viaduct voor semi-directe verbindingsweg (7)","Geleiderails en afscherming viaduct","Geleiderail op rijbaanscheiding viaduct"]
[null,"Bruggen en viaducten"," Viaduct voor semi-directe verbindingsweg (7)","Geleiderails en afscherming viaduct","Geleiderails langs weg viaduct"]
[null,"Bruggen en viaducten"," Viaduct voor semi-directe verbindingsweg (7)","Verharding op talud","Zandbed"]
[null,"Bruggen en viaducten"," Viaduct voor semi-directe verbindingsweg (7)","Verharding op talud","Funderingslaag"]
[null,"Bruggen en viaducten"," Viaduct voor semi-directe verbindingsweg (7)","Verharding op talud","Tussen- en onderlaag"]
[null,"Bruggen en viaducten"," Viaduct voor semi-directe verbindingsweg (7)","Verharding op talud","Toplaag"]
[null,"Bruggen en viaducten"," Viaduct voor semi-directe verbindingsweg (7)","Geleiderails en afscherming toe- en afrit","Geleiderails langs weg toe- en afrit"]
[null,"Bruggen en viaducten"," Viaduct voor semi-directe verbindingsweg (7)","Geleiderails en afscherming toe- en afrit","Geleiderail op rijbaanscheiding toe- en afrit"]
[null,"Bruggen en viaducten"," Viaduct voor semi-directe verbindingsweg (7)","Landhoofd","Wapeningsstaal aanlanding"]
[null,"Bruggen en viaducten"," Viaduct voor semi-directe verbindingsweg (7)","Landhoofd","Beton aanlanding"]
[null,"Bruggen en viaducten"," Viaduct voor semi-directe verbindingsweg (7)","Landhoofd","Bekleding talud onder brugdek"]
[null,"Bruggen en viaducten"," Viaduct voor semi-directe verbindingsweg (7)","Grondlichaam landhoofd","Grondlichaam onder en naast rijbaan"]
[null,"Gemalen","Rioolgemaal droog opgesteld middel","Omgeving","Hekwerk"]
[null,"Gemalen","Rioolgemaal droog opgesteld middel","Omgeving","Trap"]
[null,"Gemalen","Rioolgemaal droog opgesteld middel","Fundering","Bodemvloer"]
[null,"Gemalen","Rioolgemaal droog opgesteld middel","Fundering","Dek"]
[null,"Gemalen","Rioolgemaal droog opgesteld middel","Fundering","Stortvloer"]
[null,"Gemalen","Rioolgemaal droog opgesteld middel","Fundering","Funderingspalen"]
[null,"Gemalen","Rioolgemaal droog opgesteld middel","Wanden","Wandtegels"]
[null,"Gemalen","Rioolgemaal droog opgesteld middel","Wanden","Wanden"]
[null,"Gemalen","Rioolgemaal droog opgesteld middel","Wanden","Wanden (metselwerk)"]
[null,"Gemalen","Rioolgemaal droog opgesteld middel","Wanden","Wapening"]
[null,"Gemalen","Rioolgemaal droog opgesteld middel","Wanden","Constructiebalk HEA"]
[null,"Gemalen","Rioolgemaal droog opgesteld middel","Wanden","Constructiebalk IPE"]
[null,"Gemalen","Rioolgemaal droog opgesteld middel","Dak","Dak"]
[null,"Gemalen","Rioolgemaal droog opgesteld middel","Dak","Isolatie"]
[null,"Gemalen","Rioolgemaal droog opgesteld middel","Installaties","Leidingwerk"]
[null,"Gemalen","Rioolgemaal droog opgesteld middel","Installaties","Pompen"]
[null,"Gemalen","Rioolgemaal nat opgesteld","Put","[nader te specificeren]"]
[null,"Gemalen","Rioolgemaal nat opgesteld","Luiken","[nader te specificeren]"]
[null,"Gemalen","Rioolgemaal nat opgesteld","Schakelkast","[nader te specificeren]"]
[null,"Gemalen","Rioolgemaal nat opgesteld","Wapening","[nader te specificeren]"]
[null,"Gemalen","Rioolgemaal nat opgesteld","Geleidestangen","[nader te specificeren]"]
[null,"Gemalen","Poldergemaal nat opgesteld klein","Persleiding HDPE","[nader te specificeren]"]
[null,"Gemalen","Poldergemaal nat opgesteld klein","Persleiding HDPE","[nader te specificeren]"]
[null,"Gemalen","Poldergemaal nat opgesteld klein","Damwand","[nader te specificeren]"]
[null,"Gemalen","Poldergemaal nat opgesteld klein","Paal","[nader te specificeren]"]
[null,"Gemalen","Poldergemaal nat opgesteld klein","Breuksteen","[nader te specificeren]"]
[null,"Gemalen","Poldergemaal nat opgesteld klein","Grond","[nader te specificeren]"]
[null,"Gemalen","Poldergemaal nat opgesteld klein","Grond","[nader te specificeren]"]
[null,"Gemalen","Poldergemaal nat opgesteld klein","Betonnen onderdelen","[nader te specificeren]"]
[null,"Gemalen","Rioolgemaal droog opgesteld groot","Installaties","Pompen"]
[null,"Gemalen","Rioolgemaal droog opgesteld groot","Installaties","Leidingwerk"]
[null,"Gemalen","Rioolgemaal droog opgesteld groot","Dak","Isolatie"]
[null,"Gemalen","Rioolgemaal droog opgesteld groot","Dak","Dak"]
[null,"Gemalen","Rioolgemaal droog opgesteld groot","Wanden","Wapening"]
[null,"Gemalen","Rioolgemaal droog opgesteld groot","Wanden","Wanden (metselwerk)"]
[null,"Gemalen","Rioolgemaal droog opgesteld groot","Wanden","Wanden"]
[null,"Gemalen","Rioolgemaal droog opgesteld groot","Wanden","Wanden betonkuip"]
[null,"Gemalen","Rioolgemaal droog opgesteld groot","Fundering","Funderingspalen"]
[null,"Gemalen","Rioolgemaal droog opgesteld groot","Fundering","Stortvloer"]
[null,"Gemalen","Rioolgemaal droog opgesteld groot","Fundering","Trap"]
[null,"Gemalen","Rioolgemaal droog opgesteld groot","Fundering","Bodemvloer"]
[null,"Gemalen","Poldergemaal nat opgesteld middel","Betonnen onderdelen","[nader te specificeren]"]
[null,"Gemalen","Poldergemaal nat opgesteld middel","Betonnen onderdelen","[nader te specificeren]"]
[null,"Gemalen","Poldergemaal nat opgesteld middel","Fundering","[nader te specificeren]"]
[null,"Gemalen","Poldergemaal nat opgesteld middel","Damwand","[nader te specificeren]"]
[null,"Gemalen","Poldergemaal nat opgesteld middel","Installaties","[nader te specificeren]"]
[null,"Gemalen","Poldergemaal nat opgesteld middel","Installaties","[nader te specificeren]"]
[null,"Gemalen","Poldergemaal nat opgesteld middel","Installaties","[nader te specificeren]"]
[null,"Kribben en langsdammen","Langsdam met stortsteen","Filterconstructie","[nader te specificeren]"]
[null,"Kribben en langsdammen","Langsdam met stortsteen","Toplaag","[nader te specificeren]"]
[null,"Kribben en langsdammen","Langsdam met stortsteen","Kern","[nader te specificeren]"]
[null,"Kribben en langsdammen","Krib met stortsteen","Toplaag","[nader te specificeren]"]
[null,"Kribben en langsdammen","Krib met stortsteen","Filterconstructie","[nader te specificeren]"]
[null,"Kribben en langsdammen","Krib met stortsteen","Kern","[nader te specificeren]"]
[null,"Kribben en langsdammen","Krib met zetsteen","Filterconstructie","[nader te specificeren]"]
[null,"Kribben en langsdammen","Krib met zetsteen","Toplaag","[nader te specificeren]"]
[null,"Kribben en langsdammen","Krib met zetsteen","Kern","[nader te specificeren]"]
[null,"Kribben en langsdammen","Langsdam met zetsteen","Kern","[nader te specificeren]"]
[null,"Kribben en langsdammen","Langsdam met zetsteen","Toplaag","[nader te specificeren]"]
[null,"Kribben en langsdammen","Langsdam met zetsteen","Filterconstructie","[nader te specificeren]"]
[null,"Lig- en wachtplaatsen","Recreatievaart - Drijvend","Drijver","[nader te specificeren]"]
[null,"Lig- en wachtplaatsen","Recreatievaart - Drijvend","Looppad","[nader te specificeren]"]
[null,"Lig- en wachtplaatsen","Recreatievaart - Drijvend","Looppad","[nader te specificeren]"]
[null,"Lig- en wachtplaatsen","Recreatievaart - Drijvend","Looppad","[nader te specificeren]"]
[null,"Lig- en wachtplaatsen","Recreatievaart - Drijvend","Haalbuis","[nader te specificeren]"]
[null,"Lig- en wachtplaatsen","Recreatievaart - Drijvend","Gording","[nader te specificeren]"]
[null,"Lig- en wachtplaatsen","Recreatievaart - Drijvend","Conservering","[nader te specificeren]"]
[null,"Lig- en wachtplaatsen","Recreatievaart - Drijvend","Geleidepalen","[nader te specificeren]"]
[null,"Lig- en wachtplaatsen","Recreatievaart - Vast","Gording","[nader te specificeren]"]
[null,"Lig- en wachtplaatsen","Recreatievaart - Vast","Haalbuis","[nader te specificeren]"]
[null,"Lig- en wachtplaatsen","Recreatievaart - Vast","Looppad","[nader te specificeren]"]
[null,"Lig- en wachtplaatsen","Recreatievaart - Vast","Looppad","[nader te specificeren]"]
[null,"Lig- en wachtplaatsen","Recreatievaart - Vast","Looppad","[nader te specificeren]"]
[null,"Lig- en wachtplaatsen","Recreatievaart - Vast","Conservering","[nader te specificeren]"]
[null,"Lig- en wachtplaatsen","Recreatievaart - Vast","Houten palen","[nader te specificeren]"]
[null,"Lig- en wachtplaatsen","Drijvend - doorgaand remmingwerk","Drijver","[nader te specificeren]"]
[null,"Lig- en wachtplaatsen","Drijvend - doorgaand remmingwerk","Geleidepalen","[nader te specificeren]"]
[null,"Lig- en wachtplaatsen","Drijvend - doorgaand remmingwerk","Looppad","[nader te specificeren]"]
[null,"Lig- en wachtplaatsen","Drijvend - doorgaand remmingwerk","Looppad","[nader te specificeren]"]
[null,"Lig- en wachtplaatsen","Drijvend - doorgaand remmingwerk","Looppad","[nader te specificeren]"]
[null,"Lig- en wachtplaatsen","Drijvend - doorgaand remmingwerk","Haalbuis","[nader te specificeren]"]
[null,"Lig- en wachtplaatsen","Drijvend - doorgaand remmingwerk","Gording","[nader te specificeren]"]
[null,"Lig- en wachtplaatsen","Drijvend - doorgaand remmingwerk","Gording","[nader te specificeren]"]
[null,"Lig- en wachtplaatsen","Drijvend - doorgaand remmingwerk","Conservering","[nader te specificeren]"]
[null,"Lig- en wachtplaatsen","vast - doorgaand remmingwerk","Buisligger","[nader te specificeren]"]
[null,"Lig- en wachtplaatsen","vast - doorgaand remmingwerk","Buispaal","[nader te specificeren]"]
[null,"Lig- en wachtplaatsen","vast - doorgaand remmingwerk","Conservering","[nader te specificeren]"]
[null,"Lig- en wachtplaatsen","vast - doorgaand remmingwerk","Roostervloer","[nader te specificeren]"]
[null,"Lig- en wachtplaatsen","vast - doorgaand remmingwerk","Roostervloer","[nader te specificeren]"]
[null,"Lig- en wachtplaatsen","vast - doorgaand remmingwerk","Roostervloer","[nader te specificeren]"]
[null,"Lig- en wachtplaatsen","vast - doorgaand remmingwerk","Roostervloer","[nader te specificeren]"]
[null,"Lig- en wachtplaatsen","vast - doorgaand remmingwerk","Steker","[nader te specificeren]"]
[null,"Lig- en wachtplaatsen","vast - doorgaand remmingwerk","Wrijfhout","[nader te specificeren]"]
[null,"Lig- en wachtplaatsen","vast - doorgaand remmingwerk","Wrijfhout","[nader te specificeren]"]
[null,"Lig- en wachtplaatsen","Vast - geen doorgaand remmingswerk CEM-IV","Afmeerpalen","[nader te specificeren]"]
[null,"Lig- en wachtplaatsen","Vast - geen doorgaand remmingswerk CEM-IV","Afmeerpalen","[nader te specificeren]"]
[null,"Lig- en wachtplaatsen","Vast - geen doorgaand remmingswerk CEM-IV","Afstandhouder","[nader te specificeren]"]
[null,"Lig- en wachtplaatsen","Vast - geen doorgaand remmingswerk CEM-IV","Conservering","[nader te specificeren]"]
[null,"Lig- en wachtplaatsen","Vast - geen doorgaand remmingswerk CEM-IV","Klembanden","[nader te specificeren]"]
[null,"Lig- en wachtplaatsen","Vast - geen doorgaand remmingswerk CEM-IV","Wrijfschot","[nader te specificeren]"]
[null,"Lig- en wachtplaatsen","Vast - geen doorgaand remmingswerk CEM-IV","Wrijfschot","[nader te specificeren]"]
[null,"Lig- en wachtplaatsen","Vast - geen doorgaand remmingswerk CEM- Vb","Wrijfschot","[nader te specificeren]"]
[null,"Lig- en wachtplaatsen","Vast - geen doorgaand remmingswerk CEM- Vb","Wrijfschot","[nader te specificeren]"]
[null,"Lig- en wachtplaatsen","Vast - geen doorgaand remmingswerk CEM- Vb","Klembanden","[nader te specificeren]"]
[null,"Lig- en wachtplaatsen","Vast - geen doorgaand remmingswerk CEM- Vb","Conservering","[nader te specificeren]"]
[null,"Lig- en wachtplaatsen","Vast - geen doorgaand remmingswerk CEM- Vb","Afstandhouder","[nader te specificeren]"]
[null,"Lig- en wachtplaatsen","Vast - geen doorgaand remmingswerk CEM- Vb","Afmeerpalen","[nader te specificeren]"]
[null,"Lig- en wachtplaatsen","Vast - geen doorgaand remmingswerk CEM- Vb","Afmeerpalen","[nader te specificeren]"]
[null,"Sluizen","Middelgrote sluis","Sluishoofd","[nader te specificeren]"]
[null,"Sluizen","Middelgrote sluis","Sluishoofd","[nader te specificeren]"]
[null,"Sluizen","Middelgrote sluis","Sluishoofd","[nader te specificeren]"]
[null,"Sluizen","Middelgrote sluis","Sluishoofd","[nader te specificeren]"]
[null,"Sluizen","Middelgrote sluis","Sluishoofd","[nader te specificeren]"]
[null,"Sluizen","Middelgrote sluis","Sluishoofd","[nader te specificeren]"]
[null,"Sluizen","Middelgrote sluis","Sluishoofd","[nader te specificeren]"]
[null,"Sluizen","Middelgrote sluis","Sluisdeuren","[nader te specificeren]"]
[null,"Sluizen","Middelgrote sluis","Remmingswerk","[nader te specificeren]"]
[null,"Sluizen","Middelgrote sluis","Remmingswerk","[nader te specificeren]"]
[null,"Sluizen","Middelgrote sluis","Remmingswerk","[nader te specificeren]"]
[null,"Sluizen","Middelgrote sluis","Remmingswerk","[nader te specificeren]"]
[null,"Sluizen","Middelgrote sluis","Remmingswerk","[nader te specificeren]"]
[null,"Sluizen","Middelgrote sluis","Kolk","[nader te specificeren]"]
[null,"Sluizen","Middelgrote sluis","Kolk","[nader te specificeren]"]
[null,"Sluizen","Middelgrote sluis","Kolk","[nader te specificeren]"]
[null,"Sluizen","Middelgrote sluis","Kolk","[nader te specificeren]"]
[null,"Sluizen","Middelgrote sluis","Kolk","[nader te specificeren]"]
[null,"Sluizen","Middelgrote sluis","Kolk","[nader te specificeren]"]
[null,"Sluizen","Middelgrote sluis","Kolk","[nader te specificeren]"]
[null,"Sluizen","Middelgrote sluis","Grondwerk","[nader te specificeren]"]
[null,"Sluizen","Middelgrote sluis","Grondwerk","[nader te specificeren]"]
[null,"Sluizen","Middelgrote sluis","Geleidewerk","[nader te specificeren]"]
[null,"Sluizen","Middelgrote sluis","Geleidewerk","[nader te specificeren]"]
[null,"Sluizen","Middelgrote sluis","Geleidewerk","[nader te specificeren]"]
[null,"Sluizen","Middelgrote sluis","Geleidewerk","[nader te specificeren]"]
[null,"Sluizen","Middelgrote sluis","Geleidewerk","[nader te specificeren]"]
[null,"Sluizen","Middelgrote sluis","Geleidewerk","[nader te specificeren]"]
[null,"Sluizen","Middelgrote sluis","Geleidewerk","[nader te specificeren]"]
[null,"Sluizen","Middelgrote sluis","Energieverbruik","[nader te specificeren]"]
[null,"Sluizen","Middelgrote sluis","Bodembescherming","[nader te specificeren]"]
[null,"Sluizen","Middelgrote sluis","Bodembescherming","[nader te specificeren]"]
[null,"Sluizen","Middelgrote sluis","Bodembescherming","[nader te specificeren]"]
[null,"Sluizen","Grote sluis","Bodembescherming","[nader te specificeren]"]
[null,"Sluizen","Grote sluis","Bodembescherming","[nader te specificeren]"]
[null,"Sluizen","Grote sluis","Bodembescherming","[nader te specificeren]"]
[null,"Sluizen","Grote sluis","Energieverbruik","[nader te specificeren]"]
[null,"Sluizen","Grote sluis","Energieverbruik","[nader te specificeren]"]
[null,"Sluizen","Grote sluis","Geleidewerk","[nader te specificeren]"]
[null,"Sluizen","Grote sluis","Geleidewerk","[nader te specificeren]"]
[null,"Sluizen","Grote sluis","Geleidewerk","[nader te specificeren]"]
[null,"Sluizen","Grote sluis","Geleidewerk","[nader te specificeren]"]
[null,"Sluizen","Grote sluis","Geleidewerk","[nader te specificeren]"]
[null,"Sluizen","Grote sluis","Grondwerk","[nader te specificeren]"]
[null,"Sluizen","Grote sluis","Kolk","[nader te specificeren]"]
[null,"Sluizen","Grote sluis","Kolk","[nader te specificeren]"]
[null,"Sluizen","Grote sluis","Kolk","[nader te specificeren]"]
[null,"Sluizen","Grote sluis","Kolk","[nader te specificeren]"]
[null,"Sluizen","Grote sluis","Kolk","[nader te specificeren]"]
[null,"Sluizen","Grote sluis","Kolk","[nader te specificeren]"]
[null,"Sluizen","Grote sluis","Remmingswerk","[nader te specificeren]"]
[null,"Sluizen","Grote sluis","Remmingswerk","[nader te specificeren]"]
[null,"Sluizen","Grote sluis","Remmingswerk","[nader te specificeren]"]
[null,"Sluizen","Grote sluis","Remmingswerk","[nader te specificeren]"]
[null,"Sluizen","Grote sluis","Sluishoofd","[nader te specificeren]"]
[null,"Sluizen","Grote sluis","Sluishoofd","[nader te specificeren]"]
[null,"Sluizen","Grote sluis","Sluishoofd","[nader te specificeren]"]
[null,"Sluizen","Grote sluis","Sluishoofd","[nader te specificeren]"]
[null,"Sluizen","Grote sluis","Sluishoofd","[nader te specificeren]"]
[null,"Sluizen","Grote sluis","Sluisdeuren","[nader te specificeren]"]
[null,"Sluizen","Grote sluis","Sluisdeuren","[nader te specificeren]"]
[null,"Spoor"," Ondergrondse metro (2)","Open bak","Voorzetwand toe- en afritten"]
[null,"Spoor"," Ondergrondse metro (2)","Open bak","Damwanden toe- en afritten"]
[null,"Spoor"," Ondergrondse metro (2)","Aardebaan buiten tunnel","Aardebaan"]
[null,"Spoor"," Ondergrondse metro (2)","Spoor buiten tunnel","Geotextiel"]
[null,"Spoor"," Ondergrondse metro (2)","Spoor buiten tunnel","Ballast"]
[null,"Spoor"," Ondergrondse metro (2)","Spoor buiten tunnel","Dwarsliggers"]
[null,"Spoor"," Ondergrondse metro (2)","Spoor buiten tunnel","Spoorstaven"]
[null,"Spoor"," Ondergrondse metro (2)","Spoor buiten tunnel","Stroomgeleider"]
[null,"Spoor"," Ondergrondse metro (2)","Inspectiepad buiten tunnel","Porfier"]
[null,"Spoor"," Ondergrondse metro (2)","Grondverzet","Ontgraven grond toe- en afrit"]
[null,"Spoor"," Ondergrondse metro (2)","Tunnelconstructie","Beton"]
[null,"Spoor"," Ondergrondse metro (2)","Tunnelconstructie","Wapeningsstaal"]
[null,"Spoor"," Ondergrondse metro (2)","Tunnelconstructie","Damwanden tunnelbuis"]
[null,"Spoor"," Ondergrondse metro (2)","Tunnelconstructie","Groutankers"]
[null,"Spoor"," Ondergrondse metro (2)","Spoor in tunnel","Betonvloer"]
[null,"Spoor"," Ondergrondse metro (2)","Spoor in tunnel","Dwarsliggers"]
[null,"Spoor"," Ondergrondse metro (2)","Spoor in tunnel","Spoorstaven"]
[null,"Spoor"," Ondergrondse metro (2)","Spoor in tunnel","Stroomgeleider"]
[null,"Spoor"," Ondergrondse metro (2)","Inspectiepad in tunnel","Betonnen inspectiepad"]
[null,"Spoor"," Ondergrondse metro (2)","Grondverzet","Ontgraven grond tunnelbuis"]
[null,"Spoor"," Ondergrondse metro (2)","Grondverzet","Aanbrengen grond tunnelbuis"]
[null,"Spoor"," Tramspoor (1)","Bovenleiding","Bovenleidingsarm"]
[null,"Spoor"," Tramspoor (1)","Bovenleiding","Paal incl. fundering"]
[null,"Spoor"," Tramspoor (1)","Bovenleiding","Paal incl. fundering"]
[null,"Spoor"," Tramspoor (1)","Tramspoor","Spoorstaaf"]
[null,"Spoor"," Tramspoor (1)","Tramspoor","Monoligger"]
[null,"Spoor"," Tramspoor (1)","Tramspoor","Ballastbed"]
[null,"Spoor"," Tramspoor (1)","Tramspoor","Opvullaag ballast"]
[null,"Spoor"," Tramspoor (1)","Tramspoor","Betonbaan"]
[null,"Spoor"," Tramspoor (1)","Fundering","Zandbed"]
[null,"Spoor"," Dubbel treinspoor (2)","Onderhoudspad","Porfier"]
[null,"Spoor"," Dubbel treinspoor (2)","Geluidsscherm","Geluidsscherm (incl. fundering)"]
[null,"Spoor"," Dubbel treinspoor (2)","Bovenleiding","Ankerblok"]
[null,"Spoor"," Dubbel treinspoor (2)","Bovenleiding","Ankerblok"]
[null,"Spoor"," Dubbel treinspoor (2)","Bovenleiding","RHS balk"]
[null,"Spoor"," Dubbel treinspoor (2)","Bovenleiding","Bovenleidingsarm"]
[null,"Spoor"," Dubbel treinspoor (2)","Bovenleiding","Paal incl. fundering"]
[null,"Spoor"," Dubbel treinspoor (2)","Bovenleiding","Paal incl. fundering"]
[null,"Spoor"," Dubbel treinspoor (2)","Spoor","Spoorstaven"]
[null,"Spoor"," Dubbel treinspoor (2)","Spoor","Dwarsliggers"]
[null,"Spoor"," Dubbel treinspoor (2)","Spoor","Ballast"]
[null,"Spoor"," Dubbel treinspoor (2)","Spoor","Geotextiel"]
[null,"Spoor"," Dubbel treinspoor (2)","Fundering","Aardebaan"]
[null,"Spoor"," Enkel treinspoor (7)","Fundering","Aardebaan"]
[null,"Spoor"," Enkel treinspoor (7)","Spoor","Geotextiel"]
[null,"Spoor"," Enkel treinspoor (7)","Spoor","Ballast"]
[null,"Spoor"," Enkel treinspoor (7)","Spoor","Dwarsliggers"]
[null,"Spoor"," Enkel treinspoor (7)","Spoor","Spoorstaven"]
[null,"Spoor"," Enkel treinspoor (7)","Bovenleiding","Paal incl. fundering"]
[null,"Spoor"," Enkel treinspoor (7)","Bovenleiding","Paal incl. fundering"]
[null,"Spoor"," Enkel treinspoor (7)","Bovenleiding","Bovenleidingsarm"]
[null,"Spoor"," Enkel treinspoor (7)","Bovenleiding","RHS balk"]
[null,"Spoor"," Enkel treinspoor (7)","Bovenleiding","Ankerblok"]
[null,"Spoor"," Enkel treinspoor (7)","Bovenleiding","Ankerblok"]
[null,"Spoor"," Enkel treinspoor (7)","Geluidsscherm","Geluidsscherm (incl. fundering)"]
[null,"Spoor"," Enkel treinspoor (7)","Onderhoudspad","Porfier"]
[null,"Spoor"," Metro (1)","Onderhoudspad","Porfier"]
[null,"Spoor"," Metro (1)","Spoor","Spoorstaven"]
[null,"Spoor"," Metro (1)","Spoor","Dwarsliggers"]
[null,"Spoor"," Metro (1)","Spoor","Ballast"]
[null,"Spoor"," Metro (1)","Spoor","Geotextiel"]
[null,"Spoor"," Metro (1)","Spoor","Stroomgeleider"]
[null,"Spoor"," Metro (1)","Fundering","Aardebaan"]
[null,"Tunnels"," Onderdoorgang (3)","Grondverzet","Ontgraven grond toe- en afrit"]
[null,"Tunnels"," Onderdoorgang (3)","Grondverzet","Ontgraven grond onderdoorgang"]
[null,"Tunnels"," Onderdoorgang (3)","Toe- en uitrit","Toplaag"]
[null,"Tunnels"," Onderdoorgang (3)","Toe- en uitrit","Tussen- en onderlaag"]
[null,"Tunnels"," Onderdoorgang (3)","Toe- en uitrit","Kleeflagen"]
[null,"Tunnels"," Onderdoorgang (3)","Toe- en uitrit","Funderingslaag"]
[null,"Tunnels"," Onderdoorgang (3)","Toe- en uitrit","Zandbed"]
[null,"Tunnels"," Onderdoorgang (3)","Onderdoorgaande weg","Toplaag"]
[null,"Tunnels"," Onderdoorgang (3)","Onderdoorgaande weg","Uitvullaag"]
[null,"Tunnels"," Onderdoorgang (3)","Onderdoorgaande weg","Kleeflagen"]
[null,"Tunnels"," Onderdoorgang (3)","Betonconstructie","Beton"]
[null,"Tunnels"," Open bak (2)","Wandconstructie","Damwand"]
[null,"Tunnels"," Open bak (2)","Wandconstructie","Voorzetwand"]
[null,"Tunnels"," Open bak (2)","Verharding op toe- en afrit","Zandbed"]
[null,"Tunnels"," Open bak (2)","Verharding op toe- en afrit","Funderingslaag"]
[null,"Tunnels"," Open bak (2)","Verharding op toe- en afrit","Tussen- en onderlaag"]
[null,"Tunnels"," Open bak (2)","Verharding op toe- en afrit","Toplaag"]
[null,"Tunnels"," Open bak (2)","Verharding op toe- en afrit","Kleeflagen"]
[null,"Tunnels"," Open bak (2)","Wegmarkering op toe- en uitrit","Onderbroken strepen"]
[null,"Tunnels"," Open bak (2)","Wegmarkering op toe- en uitrit","Kantstrepen"]
[null,"Tunnels"," Open bak (2)","Grondverzet","Ontgraven grond toe- en afrit"]
[null,"Tunnels"," Open bak (2)","Geleiderails","Geleiderails"]
[null,"Tunnels"," Open bak (2)","Wandconstructie - rechte bak","Damwand"]
[null,"Tunnels"," Open bak (2)","Wandconstructie - rechte bak","Voorzetwand"]
[null,"Tunnels"," Open bak (2)","Wandconstructie - rechte bak","Groutankers"]
[null,"Tunnels"," Open bak (2)","Vloerconstructie","Vloer"]
[null,"Tunnels"," Open bak (2)","Vloerconstructie","Vloer"]
[null,"Tunnels"," Open bak (2)","Vloerconstructie","Trekpalen"]
[null,"Tunnels"," Open bak (2)","Verharding in bak","Toplaag"]
[null,"Tunnels"," Open bak (2)","Verharding in bak","Kleeflagen"]
[null,"Tunnels"," Open bak (2)","Wegmarkering in bak","Onderbroken strepen"]
[null,"Tunnels"," Open bak (2)","Wegmarkering in bak","Kantstrepen"]
[null,"Tunnels"," Open bak (2)","Grondverzet","Ontgraven grond bak"]
[null,"Tunnels"," Open bak (2)","Geleiderails","Geleiderails"]
[null,"Tunnels"," Tunnel (423)","Open bak","Voorzetwand toe- en afritten"]
[null,"Tunnels"," Tunnel (423)","Open bak","Damwanden toe- en afritten"]
[null,"Tunnels"," Tunnel (423)","Verharding op toe- en afrit","Toplaag"]
[null,"Tunnels"," Tunnel (423)","Verharding op toe- en afrit","Tussen- en onderlaag"]
[null,"Tunnels"," Tunnel (423)","Verharding op toe- en afrit","Funderingslaag"]
[null,"Tunnels"," Tunnel (423)","Verharding op toe- en afrit","Zandbed"]
[null,"Tunnels"," Tunnel (423)","Verharding op toe- en afrit","Kleeflagen"]
[null,"Tunnels"," Tunnel (423)","Wegmarkering op toe- en uitrit","Kantstrepen"]
[null,"Tunnels"," Tunnel (423)","Wegmarkering op toe- en uitrit","Onderbroken strepen"]
[null,"Tunnels"," Tunnel (423)","Grondverzet","Ontgraven grond toe- en afrit"]
[null,"Tunnels"," Tunnel (423)","Fundering","Heipalen"]
[null,"Tunnels"," Tunnel (423)","Tunnelconstructie","Beton"]
[null,"Tunnels"," Tunnel (423)","Tunnelconstructie","Wapeningsstaal"]
[null,"Tunnels"," Tunnel (423)","Tunnelconstructie","Damwanden tunnelbuis"]
[null,"Tunnels"," Tunnel (423)","Tunnelconstructie","Groutankers"]
[null,"Tunnels"," Tunnel (423)","Verharding in tunnel","Toplaag"]
[null,"Tunnels"," Tunnel (423)","Verharding in tunnel","Kleeflagen"]
[null,"Tunnels"," Tunnel (423)","Wegmarkering in tunnel","Kantstrepen"]
[null,"Tunnels"," Tunnel (423)","Wegmarkering in tunnel","Onderbroken strepen"]
[null,"Tunnels"," Tunnel (423)","Grondverzet","Ontgraven grond tunnelbuis"]
[null,"Tunnels"," Tunnel (423)","Grondverzet","Aanbrengen grond tunnelbuis"]
[null,"Tunnels"," Tunnel (423)","Energieverbruik","Elektriciteit"]
[null,"Wegen"," GO-weg (1)","Rijstroken (aantal per rijbaan)","Toplaag"]
[null,"Wegen"," GO-weg (1)","Rijstroken (aantal per rijbaan)","Tussen- en onderlaag"]
[null,"Wegen"," GO-weg (1)","Rijstroken (aantal per rijbaan)","Kleeflagen"]
[null,"Wegen"," GO-weg (1)","Rijstroken (aantal per rijbaan)","Funderingslaag"]
[null,"Wegen"," GO-weg (1)","Rijstroken (aantal per rijbaan)","Zandbed"]
[null,"Wegen"," GO-weg (1)","Rijstroken (aantal per rijbaan)","Ontgraven cunet"]
[null,"Wegen"," GO-weg (1)","Kantstrepen","Kantstrepen"]
[null,"Wegen"," GO-weg (1)","Redresseerstroken (2 per rijbaan)","Ontgraven cunet"]
[null,"Wegen"," GO-weg (1)","Redresseerstroken (2 per rijbaan)","Zandbed"]
[null,"Wegen"," GO-weg (1)","Redresseerstroken (2 per rijbaan)","Funderingslaag"]
[null,"Wegen"," GO-weg (1)","Redresseerstroken (2 per rijbaan)","Kleeflagen"]
[null,"Wegen"," GO-weg (1)","Redresseerstroken (2 per rijbaan)","Tussen- en onderlaag"]
[null,"Wegen"," GO-weg (1)","Redresseerstroken (2 per rijbaan)","Toplaag"]
[null,"Wegen"," GO-weg (1)","Tussenstuk","Ontgraven cunet"]
[null,"Wegen"," GO-weg (1)","Tussenstuk","Zandbed"]
[null,"Wegen"," GO-weg (1)","Tussenstuk","Funderingslaag"]
[null,"Wegen"," GO-weg (1)","Tussenstuk","Kleeflagen"]
[null,"Wegen"," GO-weg (1)","Tussenstuk","Tussen- en onderlaag"]
[null,"Wegen"," GO-weg (1)","Tussenstuk","Toplaag"]
[null,"Wegen"," N-weg (zonder berm) (1)","Rijstroken (aantal per rijbaan)","Markering"]
[null,"Wegen"," N-weg (zonder berm) (1)","Rijstroken (aantal per rijbaan)","Ontgraven cunet"]
[null,"Wegen"," N-weg (zonder berm) (1)","Rijstroken (aantal per rijbaan)","Zandbed"]
[null,"Wegen"," N-weg (zonder berm) (1)","Rijstroken (aantal per rijbaan)","Funderingslaag"]
[null,"Wegen"," N-weg (zonder berm) (1)","Rijstroken (aantal per rijbaan)","Kleeflagen"]
[null,"Wegen"," N-weg (zonder berm) (1)","Rijstroken (aantal per rijbaan)","Tussen- en onderlaag"]
[null,"Wegen"," N-weg (zonder berm) (1)","Rijstroken (aantal per rijbaan)","Toplaag"]
[null,"Wegen"," N-weg (zonder berm) (1)","Tussenstuk","Toplaag"]
[null,"Wegen"," N-weg (zonder berm) (1)","Tussenstuk","Tussen- en onderlaag"]
[null,"Wegen"," N-weg (zonder berm) (1)","Tussenstuk","Kleeflagen"]
[null,"Wegen"," N-weg (zonder berm) (1)","Tussenstuk","Funderingslaag"]
[null,"Wegen"," N-weg (zonder berm) (1)","Tussenstuk","Zandbed"]
[null,"Wegen"," N-weg (zonder berm) (1)","Tussenstuk","Ontgraven cunet"]
[null,"Wegen"," N-weg (zonder berm) (1)","Redresseerstroken (2 per rijbaan)","Toplaag"]
[null,"Wegen"," N-weg (zonder berm) (1)","Redresseerstroken (2 per rijbaan)","Tussen- en onderlaag"]
[null,"Wegen"," N-weg (zonder berm) (1)","Redresseerstroken (2 per rijbaan)","Kleeflagen"]
[null,"Wegen"," N-weg (zonder berm) (1)","Redresseerstroken (2 per rijbaan)","Funderingslaag"]
[null,"Wegen"," N-weg (zonder berm) (1)","Redresseerstroken (2 per rijbaan)","Zandbed"]
[null,"Wegen"," N-weg (zonder berm) (1)","Redresseerstroken (2 per rijbaan)","Ontgraven cunet"]
[null,"Wegen"," N-weg (zonder berm) (1)","Verlichting","Verlichting in de berm (om-en-om qua zijdes)"]
[null,"Wegen"," N-weg (met berm) (2)","Geleiderail"]
[null,"Wegen"," N-weg (met berm) (2)","Rijstroken (aantal per rijbaan)","Toplaag"]
[null,"Wegen"," N-weg (met berm) (2)","Rijstroken (aantal per rijbaan)","Tussen- en onderlaag"]
[null,"Wegen"," N-weg (met berm) (2)","Rijstroken (aantal per rijbaan)","Kleeflagen"]
[null,"Wegen"," N-weg (met berm) (2)","Rijstroken (aantal per rijbaan)","Funderingslaag"]
[null,"Wegen"," N-weg (met berm) (2)","Rijstroken (aantal per rijbaan)","Zandbed"]
[null,"Wegen"," N-weg (met berm) (2)","Rijstroken (aantal per rijbaan)","Ontgraven cunet"]
[null,"Wegen"," N-weg (met berm) (2)","Kantstrepen","Kantstrepen"]
[null,"Wegen"," N-weg (met berm) (2)","Verlichting","Verlichting middenberm"]
[null,"Wegen"," N-weg (met berm) (2)","Redresseerstroken (2 per rijbaan)","Ontgraven cunet"]
[null,"Wegen"," N-weg (met berm) (2)","Redresseerstroken (2 per rijbaan)","Zandbed"]
[null,"Wegen"," N-weg (met berm) (2)","Redresseerstroken (2 per rijbaan)","Funderingslaag"]
[null,"Wegen"," N-weg (met berm) (2)","Redresseerstroken (2 per rijbaan)","Kleeflagen"]
[null,"Wegen"," N-weg (met berm) (2)","Redresseerstroken (2 per rijbaan)","Tussen- en onderlaag"]
[null,"Wegen"," N-weg (met berm) (2)","Redresseerstroken (2 per rijbaan)","Toplaag"]
[null,"Wegen"," N-weg (met berm) (2)","Onderbroken strepen (aantal = aantal rijstroken min 1)","Onderbroken strepen"]
[null,"Wegen"," Snelfietspad (4)","Toplaag"]
[null,"Wegen"," Snelfietspad (4)","Onderlaag"]
[null,"Wegen"," Snelfietspad (4)","Kleeflagen"]
[null,"Wegen"," Snelfietspad (4)","Funderingslaag"]
[null,"Wegen"," Snelfietspad (4)","Zandbed"]
[null,"Wegen"," Snelfietspad (4)","Markering"]

{"sheet":"2. & 3. Class. en uitgangspt.","index":3,"n_rows":21,"n_cols":5,"rows_kept":21,"cut":false,"hidden":false,"merged":[[6,1,6,13],[20,1,28,13]]}
[]
[null,"2. Classificering van object"]
[]
[null,"Type object:",null,null,"Versie:"]
[null,"Classificering:",null,null,"Datum:"]
[]
[null,"Specificeer of het object een afgebakend object, een lijnobject met componenten of een doorlopend lijnobject is. Bij een afgebakend object is er een duidelijke grens van het object; lijnobjecten met componenten zijn geschakeld door herhaaldelijke onderdelen; doorlopende lijnobjecten hebben geen duidelijke grens, of het object loopt over een aanzienlijke afstand door. Specifiek bij lijnobjecten zijn er een aantal aspecten waar de ontwerper extra naar dient te kijken voor mogelijke ontwerpoptimalisaties."]
[]
[null,"3. Noteer uitgangspunten"]
[]
[null,"Noteer de uitgangspunten omtrent het ontwerp/ het object om de navolgbaarheid van het toepassen van de beoordelingsmethode te bevorderen."]
[null,"Denk hierbij aan:"]
[null,"- object naam;"]
[null,"- ontwerpvariant;"]
[null,"- de status van de ontwerpfase;"]
[null,"- het doel van het project (demontage, VenR, nieuwbouw);"]
[null,"- de ontwerplevensduren van het object en de producten/ elementen;"]
[null,"- praktische aspecten van losmaakbaarheid: van welke werkzaamheden wordt uitgegaan bij vervangingen en demontage?"]
[null,"- de antwoorden op de vragen uit de vragenlijst (zie 1.A)"]
[]
[null,"[Noteer hier je uitgangspunten]"]

{"sheet":"4. Analyseer opbouw van object","index":4,"n_rows":201,"n_cols":12,"rows_kept":201,"cut":false,"hidden":false,"merged":[[2,1,2,9],[4,1,4,9]]}
[]
[null,"4.A Specificeer clusters van producten",null,null,null,null,null,null,null,null,null,{"$f":"'1. Bepaal scope'!O5","v":"  [tekening(en) hier invoegen]"}]
[null,"In de tabel met aanwezige producten (stap 1.B) kunnen clusters van producten aangegeven worden die samen één element vormen. Vanuit deze clustering is het interessant om te kijken naar het verschil in levensduur tussen elementen die aan elkaar verbonden zijn en tussen de producten die samen een element  opmaken. Indien deze verschillende levensduren hebben, wordt losmaakbaarheid een nog relevanter aspect om als ontwerper mee te nemen."]
[null,"4.B Noteer verbindingen tussen producten"]
[null,"Op basis van de omgekeerde bouwvolgorde worden de verbindingen tussen producten genoteerd. Hierbij geldt altijd de verbinding van product A met product B. Indien het producten zijn die zijdelings (volgens de omgekeerde bouwvolgorde tegelijkertijd zijn geplaatst) verbonden zijn, is het niet van belang welk product A of B is.\n\nGWW-werken zijn (vaak) onderdeel van een groter infrastructureel netwerk. Daarom worden niet enkel de verbindingen tussen producten, maar ook de verbindingen tussen een product en het omliggende netwerk genoteerd (mits dit van toepassing is). Bijvoorbeeld de verbinding van het asfalt op een brugdek met het asfalt van het omliggende wegennetwerk.\n\nIn onderstaande tabel dienen kolom D en G ingevuld te worden a.d.h.v. de product-ID's uit tabel 1 (tabblad 1). In kolom J kan worden ingevuld hoe de producten met elkaar verbonden zijn, dit dient als een geheugensteuntje bij het bepalen van de factoren in tabblad 5."]
[]
[]
[null,null,null,null,null,null,null,"Levensduur check aan?","ja"]
[null,"Tabel 2: Verbindingen tussen producten"]
[null,null,null,"Product…",null,null,"… is verbonden met…"]
[null,"Elem.ID","Element","Prod.ID (A)","Product (A)","Product (A) - levensduur","Prod.ID (B)","Product (B)","Product (B) - levensduur","Hoe verbonden?"]
[null,{"$f":"IF(Table1[[#This Row],[Prod.ID (A)]]=\"\",\"\",_xlfn.XLOOKUP(Table1[[#This Row],[Prod.ID (A)]],Table2[Prod.ID],Table2[Elem.ID],\"\",0,1))","v":"0."},{"$f":"IF(Table1[[#This Row],[Prod.ID (A)]]=\"\",\"\",_xlfn.XLOOKUP(Table1[[#This Row],[Prod.ID (A)]],Table2[Prod.ID],Table2[Element naam],\"\",0,1))","v":"Grond"},"0.0",{"$f":"IFERROR((VLOOKUP(Table1[[#This Row],[Prod.ID (A)]],Table2[[Prod.ID]:[Product naam]],2,FALSE)),IF(Table1[[#This Row],[Prod.ID (A)]]=\"nvt\",\"Grond\",\"\"))","v":"Grond"},{"$f":"IFERROR((VLOOKUP(D12,Table2[[Prod.ID]:[Levensduur '[jaar']]],3,FALSE)),\"\")","v":"∞"},"0.0",{"$f":"IFERROR((VLOOKUP(Table1[[#This Row],[Prod.ID (B)]],Table2[[Prod.ID]:[Product naam]],2,FALSE)),IF(Table1[[#This Row],[Prod.ID (B)]]=\"nvt\",\"Grond\",\"\"))","v":"Grond"},{"$f":"IFERROR((VLOOKUP(G12,Table2[[Prod.ID]:[Levensduur '[jaar']]],3,FALSE)),\" \")","v":"∞"},"…"]
[null,{"$f":"IF(Table1[[#This Row],[Prod.ID (A)]]=\"\",\"\",_xlfn.XLOOKUP(Table1[[#This Row],[Prod.ID (A)]],Table2[Prod.ID],Table2[Elem.ID],\"\",0,1))","v":"1."},{"$f":"IF(Table1[[#This Row],[Prod.ID (A)]]=\"\",\"\",_xlfn.XLOOKUP(Table1[[#This Row],[Prod.ID (A)]],Table2[Prod.ID],Table2[Element naam],\"\",0,1))","v":"Element1"},"1.1",{"$f":"IFERROR((VLOOKUP(Table1[[#This Row],[Prod.ID (A)]],Table2[[Prod.ID]:[Product naam]],2,FALSE)),IF(Table1[[#This Row],[Prod.ID (A)]]=\"nvt\",\"Grond\",\"\"))","v":"Product1"},{"$f":"IFERROR((VLOOKUP(D13,Table2[[Prod.ID]:[Levensduur '[jaar']]],3,FALSE)),\"\")","v":100},"2.1",{"$f":"IFERROR((VLOOKUP(Table1[[#This Row],[Prod.ID (B)]],Table2[[Prod.ID]:[Product naam]],2,FALSE)),IF(Table1[[#This Row],[Prod.ID (B)]]=\"nvt\",\"Grond\",\"\"))","v":"Product2"},{"$f":"IFERROR((VLOOKUP(G13,Table2[[Prod.ID]:[Levensduur '[jaar']]],3,FALSE)),\" \")","v":100},"…"]
[null,{"$f":"IF(Table1[[#This Row],[Prod.ID (A)]]=\"\",\"\",_xlfn.XLOOKUP(Table1[[#This Row],[Prod.ID (A)]],Table2[Prod.ID],Table2[Elem.ID],\"\",0,1))","v":"2."},{"$f":"IF(Table1[[#This Row],[Prod.ID (A)]]=\"\",\"\",_xlfn.XLOOKUP(Table1[[#This Row],[Prod.ID (A)]],Table2[Prod.ID],Table2[Element naam],\"\",0,1))","v":"Element2"},"2.2",{"$f":"IFERROR((VLOOKUP(Table1[[#This Row],[Prod.ID (A)]],Table2[[Prod.ID]:[Product naam]],2,FALSE)),IF(Table1[[#This Row],[Prod.ID (A)]]=\"nvt\",\"Grond\",\"\"))","v":"Product3"},{"$f":"IFERROR((VLOOKUP(D14,Table2[[Prod.ID]:[Levensduur '[jaar']]],3,FALSE)),\"\")","v":50},"2.3",{"$f":"IFERROR((VLOOKUP(Table1[[#This Row],[Prod.ID (B)]],Table2[[Prod.ID]:[Product naam]],2,FALSE)),IF(Table1[[#This Row],[Prod.ID (B)]]=\"nvt\",\"Grond\",\"\"))","v":"Product4"},{"$f":"IFERROR((VLOOKUP(G14,Table2[[Prod.ID]:[Levensduur '[jaar']]],3,FALSE)),\" \")","v":50},"…"]
[null,{"$f":"IF(Table1[[#This Row],[Prod.ID (A)]]=\"\",\"\",_xlfn.XLOOKUP(Table1[[#This Row],[Prod.ID (A)]],Table2[Prod.ID],Table2[Elem.ID],\"\",0,1))","v":"2."},{"$f":"IF(Table1[[#This Row],[Prod.ID (A)]]=\"\",\"\",_xlfn.XLOOKUP(Table1[[#This Row],[Prod.ID (A)]],Table2[Prod.ID],Table2[Element naam],\"\",0,1))","v":"Element2"},"2.3",{"$f":"IFERROR((VLOOKUP(Table1[[#This Row],[Prod.ID (A)]],Table2[[Prod.ID]:[Product naam]],2,FALSE)),IF(Table1[[#This Row],[Prod.ID (A)]]=\"nvt\",\"Grond\",\"\"))","v":"Product4"},{"$f":"IFERROR((VLOOKUP(D15,Table2[[Prod.ID]:[Levensduur '[jaar']]],3,FALSE)),\"\")","v":50},"2.1",{"$f":"IFERROR((VLOOKUP(Table1[[#This Row],[Prod.ID (B)]],Table2[[Prod.ID]:[Product naam]],2,FALSE)),IF(Table1[[#This Row],[Prod.ID (B)]]=\"nvt\",\"Grond\",\"\"))","v":"Product2"},{"$f":"IFERROR((VLOOKUP(G15,Table2[[Prod.ID]:[Levensduur '[jaar']]],3,FALSE)),\" \")","v":100},"…"]
[null,{"$f":"IF(Table1[[#This Row],[Prod.ID (A)]]=\"\",\"\",_xlfn.XLOOKUP(Table1[[#This Row],[Prod.ID (A)]],Table2[Prod.ID],Table2[Elem.ID],\"\",0,1))","v":"2."},{"$f":"IF(Table1[[#This Row],[Prod.ID (A)]]=\"\",\"\",_xlfn.XLOOKUP(Table1[[#This Row],[Prod.ID (A)]],Table2[Prod.ID],Table2[Element naam],\"\",0,1))","v":"Element2"},"2.3",{"$f":"IFERROR((VLOOKUP(Table1[[#This Row],[Prod.ID (A)]],Table2[[Prod.ID]:[Product naam]],2,FALSE)),IF(Table1[[#This Row],[Prod.ID (A)]]=\"nvt\",\"Grond\",\"\"))","v":"Product4"},{"$f":"IFERROR((VLOOKUP(D16,Table2[[Prod.ID]:[Levensduur '[jaar']]],3,FALSE)),\"\")","v":50},"2.2",{"$f":"IFERROR((VLOOKUP(Table1[[#This Row],[Prod.ID (B)]],Table2[[Prod.ID]:[Product naam]],2,FALSE)),IF(Table1[[#This Row],[Prod.ID (B)]]=\"nvt\",\"Grond\",\"\"))","v":"Product3"},{"$f":"IFERROR((VLOOKUP(G16,Table2[[Prod.ID]:[Levensduur '[jaar']]],3,FALSE)),\" \")","v":50},"…"]
[null,{"$f":"IF(Table1[[#This Row],[Prod.ID (A)]]=\"\",\"\",_xlfn.XLOOKUP(Table1[[#This Row],[Prod.ID (A)]],Table2[Prod.ID],Table2[Elem.ID],\"\",0,1))","v":""},{"$f":"IF(Table1[[#This Row],[Prod.ID (A)]]=\"\",\"\",_xlfn.XLOOKUP(Table1[[#This Row],[Prod.ID (A)]],Table2[Prod.ID],Table2[Element naam],\"\",0,1))","v":""},null,{"$f":"IFERROR((VLOOKUP(Table1[[#This Row],[Prod.ID (A)]],Table2[[Prod.ID]:[Product naam]],2,FALSE)),IF(Table1[[#This Row],[Prod.ID (A)]]=\"nvt\",\"Grond\",\"\"))","v":""},{"$f":"IFERROR((VLOOKUP(D17,Table2[[Prod.ID]:[Levensduur '[jaar']]],3,FALSE)),\"\")","v":""},null,{"$f":"IFERROR((VLOOKUP(Table1[[#This Row],[Prod.ID (B)]],Table2[[Prod.ID]:[Product naam]],2,FALSE)),IF(Table1[[#This Row],[Prod.ID (B)]]=\"nvt\",\"Grond\",\"\"))","v":""},{"$f":"IFERROR((VLOOKUP(G17,Table2[[Prod.ID]:[Levensduur '[jaar']]],3,FALSE)),\" \")","v":" "}]
[null,{"$f":"IF(Table1[[#This Row],[Prod.ID (A)]]=\"\",\"\",_xlfn.XLOOKUP(Table1[[#This Row],[Prod.ID (A)]],Table2[Prod.ID],Table2[Elem.ID],\"\",0,1))","v":""},{"$f":"IF(Table1[[#This Row],[Prod.ID (A)]]=\"\",\"\",_xlfn.XLOOKUP(Table1[[#This Row],[Prod.ID (A)]],Table2[Prod.ID],Table2[Element naam],\"\",0,1))","v":""},null,{"$f":"IFERROR((VLOOKUP(Table1[[#This Row],[Prod.ID (A)]],Table2[[Prod.ID]:[Product naam]],2,FALSE)),IF(Table1[[#This Row],[Prod.ID (A)]]=\"nvt\",\"Grond\",\"\"))","v":""},{"$f":"IFERROR((VLOOKUP(D18,Table2[[Prod.ID]:[Levensduur '[jaar']]],3,FALSE)),\"\")","v":""},null,{"$f":"IFERROR((VLOOKUP(Table1[[#This Row],[Prod.ID (B)]],Table2[[Prod.ID]:[Product naam]],2,FALSE)),IF(Table1[[#This Row],[Prod.ID (B)]]=\"nvt\",\"Grond\",\"\"))","v":""},{"$f":"IFERROR((VLOOKUP(G18,Table2[[Prod.ID]:[Levensduur '[jaar']]],3,FALSE)),\" \")","v":" "}]
[null,{"$f":"IF(Table1[[#This Row],[Prod.ID (A)]]=\"\",\"\",_xlfn.XLOOKUP(Table1[[#This Row],[Prod.ID (A)]],Table2[Prod.ID],Table2[Elem.ID],\"\",0,1))","v":""},{"$f":"IF(Table1[[#This Row],[Prod.ID (A)]]=\"\",\"\",_xlfn.XLOOKUP(Table1[[#This Row],[Prod.ID (A)]],Table2[Prod.ID],Table2[Element naam],\"\",0,1))","v":""},null,{"$f":"IFERROR((VLOOKUP(Table1[[#This Row],[Prod.ID (A)]],Table2[[Prod.ID]:[Product naam]],2,FALSE)),IF(Table1[[#This Row],[Prod.ID (A)]]=\"nvt\",\"Grond\",\"\"))","v":""},{"$f":"IFERROR((VLOOKUP(D19,Table2[[Prod.ID]:[Levensduur '[jaar']]],3,FALSE)),\"\")","v":""},null,{"$f":"IFERROR((VLOOKUP(Table1[[#This Row],[Prod.ID (B)]],Table2[[Prod.ID]:[Product naam]],2,FALSE)),IF(Table1[[#This Row],[Prod.ID (B)]]=\"nvt\",\"Grond\",\"\"))","v":""},{"$f":"IFERROR((VLOOKUP(G19,Table2[[Prod.ID]:[Levensduur '[jaar']]],3,FALSE)),\" \")","v":" "}]
[null,{"$f":"IF(Table1[[#This Row],[Prod.ID (A)]]=\"\",\"\",_xlfn.XLOOKUP(Table1[[#This Row],[Prod.ID (A)]],Table2[Prod.ID],Table2[Elem.ID],\"\",0,1))","v":""},{"$f":"IF(Table1[[#This Row],[Prod.ID (A)]]=\"\",\"\",_xlfn.XLOOKUP(Table1[[#This Row],[Prod.ID (A)]],Table2[Prod.ID],Table2[Element naam],\"\",0,1))","v":""},null,{"$f":"IFERROR((VLOOKUP(Table1[[#This Row],[Prod.ID (A)]],Table2[[Prod.ID]:[Product naam]],2,FALSE)),IF(Table1[[#This Row],[Prod.ID (A)]]=\"nvt\",\"Grond\",\"\"))","v":""},{"$f":"IFERROR((VLOOKUP(D20,Table2[[Prod.ID]:[Levensduur '[jaar']]],3,FALSE)),\"\")","v":""},null,{"$f":"IFERROR((VLOOKUP(Table1[[#This Row],[Prod.ID (B)]],Table2[[Prod.ID]:[Product naam]],2,FALSE)),IF(Table1[[#This Row],[Prod.ID (B)]]=\"nvt\",\"Grond\",\"\"))","v":""},{"$f":"IFERROR((VLOOKUP(G20,Table2[[Prod.ID]:[Levensduur '[jaar']]],3,FALSE)),\" \")","v":" "}]
[null,{"$f":"IF(Table1[[#This Row],[Prod.ID (A)]]=\"\",\"\",_xlfn.XLOOKUP(Table1[[#This Row],[Prod.ID (A)]],Table2[Prod.ID],Table2[Elem.ID],\"\",0,1))","v":""},{"$f":"IF(Table1[[#This Row],[Prod.ID (A)]]=\"\",\"\",_xlfn.XLOOKUP(Table1[[#This Row],[Prod.ID (A)]],Table2[Prod.ID],Table2[Element naam],\"\",0,1))","v":""},null,{"$f":"IFERROR((VLOOKUP(Table1[[#This Row],[Prod.ID (A)]],Table2[[Prod.ID]:[Product naam]],2,FALSE)),IF(Table1[[#This Row],[Prod.ID (A)]]=\"nvt\",\"Grond\",\"\"))","v":""},{"$f":"IFERROR((VLOOKUP(D21,Table2[[Prod.ID]:[Levensduur '[jaar']]],3,FALSE)),\"\")","v":""},null,{"$f":"IFERROR((VLOOKUP(Table1[[#This Row],[Prod.ID (B)]],Table2[[Prod.ID]:[Product naam]],2,FALSE)),IF(Table1[[#This Row],[Prod.ID (B)]]=\"nvt\",\"Grond\",\"\"))","v":""},{"$f":"IFERROR((VLOOKUP(G21,Table2[[Prod.ID]:[Levensduur '[jaar']]],3,FALSE)),\" \")","v":" "}]
[null,{"$f":"IF(Table1[[#This Row],[Prod.ID (A)]]=\"\",\"\",_xlfn.XLOOKUP(Table1[[#This Row],[Prod.ID (A)]],Table2[Prod.ID],Table2[Elem.ID],\"\",0,1))","v":""},{"$f":"IF(Table1[[#This Row],[Prod.ID (A)]]=\"\",\"\",_xlfn.XLOOKUP(Table1[[#This Row],[Prod.ID (A)]],Table2[Prod.ID],Table2[Element naam],\"\",0,1))","v":""},null,{"$f":"IFERROR((VLOOKUP(Table1[[#This Row],[Prod.ID (A)]],Table2[[Prod.ID]:[Product naam]],2,FALSE)),IF(Table1[[#This Row],[Prod.ID (A)]]=\"nvt\",\"Grond\",\"\"))","v":""},{"$f":"IFERROR((VLOOKUP(D22,Table2[[Prod.ID]:[Levensduur '[jaar']]],3,FALSE)),\"\")","v":""},null,{"$f":"IFERROR((VLOOKUP(Table1[[#This Row],[Prod.ID (B)]],Table2[[Prod.ID]:[Product naam]],2,FALSE)),IF(Table1[[#This Row],[Prod.ID (B)]]=\"nvt\",\"Grond\",\"\"))","v":""},{"$f":"IFERROR((VLOOKUP(G22,Table2[[Prod.ID]:[Levensduur '[jaar']]],3,FALSE)),\" \")","v":" "}]
[null,{"$f":"IF(Table1[[#This Row],[Prod.ID (A)]]=\"\",\"\",_xlfn.XLOOKUP(Table1[[#This Row],[Prod.ID (A)]],Table2[Prod.ID],Table2[Elem.ID],\"\",0,1))","v":""},{"$f":"IF(Table1[[#This Row],[Prod.ID (A)]]=\"\",\"\",_xlfn.XLOOKUP(Table1[[#This Row],[Prod.ID (A)]],Table2[Prod.ID],Table2[Element naam],\"\",0,1))","v":""},null,{"$f":"IFERROR((VLOOKUP(Table1[[#This Row],[Prod.ID (A)]],Table2[[Prod.ID]:[Product naam]],2,FALSE)),IF(Table1[[#This Row],[Prod.ID (A)]]=\"nvt\",\"Grond\",\"\"))","v":""},{"$f":"IFERROR((VLOOKUP(D23,Table2[[Prod.ID]:[Levensduur '[jaar']]],3,FALSE)),\"\")","v":""},null,{"$f":"IFERROR((VLOOKUP(Table1[[#This Row],[Prod.ID (B)]],Table2[[Prod.ID]:[Product naam]],2,FALSE)),IF(Table1[[#This Row],[Prod.ID (B)]]=\"nvt\",\"Grond\",\"\"))","v":""},{"$f":"IFERROR((VLOOKUP(G23,Table2[[Prod.ID]:[Levensduur '[jaar']]],3,FALSE)),\" \")","v":" "}]
[null,{"$f":"IF(Table1[[#This Row],[Prod.ID (A)]]=\"\",\"\",_xlfn.XLOOKUP(Table1[[#This Row],[Prod.ID (A)]],Table2[Prod.ID],Table2[Elem.ID],\"\",0,1))","v":""},{"$f":"IF(Table1[[#This Row],[Prod.ID (A)]]=\"\",\"\",_xlfn.XLOOKUP(Table1[[#This Row],[Prod.ID (A)]],Table2[Prod.ID],Table2[Element naam],\"\",0,1))","v":""},null,{"$f":"IFERROR((VLOOKUP(Table1[[#This Row],[Prod.ID (A)]],Table2[[Prod.ID]:[Product naam]],2,FALSE)),IF(Table1[[#This Row],[Prod.ID (A)]]=\"nvt\",\"Grond\",\"\"))","v":""},{"$f":"IFERROR((VLOOKUP(D24,Table2[[Prod.ID]:[Levensduur '[jaar']]],3,FALSE)),\"\")","v":""},null,{"$f":"IFERROR((VLOOKUP(Table1[[#This Row],[Prod.ID (B)]],Table2[[Prod.ID]:[Product naam]],2,FALSE)),IF(Table1[[#This Row],[Prod.ID (B)]]=\"nvt\",\"Grond\",\"\"))","v":""},{"$f":"IFERROR((VLOOKUP(G24,Table2[[Prod.ID]:[Levensduur '[jaar']]],3,FALSE)),\" \")","v":" "}]
[null,{"$f":"IF(Table1[[#This Row],[Prod.ID (A)]]=\"\",\"\",_xlfn.XLOOKUP(Table1[[#This Row],[Prod.ID (A)]],Table2[Prod.ID],Table2[Elem.ID],\"\",0,1))","v":""},{"$f":"IF(Table1[[#This Row],[Prod.ID (A)]]=\"\",\"\",_xlfn.XLOOKUP(Table1[[#This Row],[Prod.ID (A)]],Table2[Prod.ID],Table2[Element naam],\"\",0,1))","v":""},null,{"$f":"IFERROR((VLOOKUP(Table1[[#This Row],[Prod.ID (A)]],Table2[[Prod.ID]:[Product naam]],2,FALSE)),IF(Table1[[#This Row],[Prod.ID (A)]]=\"nvt\",\"Grond\",\"\"))","v":""},{"$f":"IFERROR((VLOOKUP(D25,Table2[[Prod.ID]:[Levensduur '[jaar']]],3,FALSE)),\"\")","v":""},null,{"$f":"IFERROR((VLOOKUP(Table1[[#This Row],[Prod.ID (B)]],Table2[[Prod.ID]:[Product naam]],2,FALSE)),IF(Table1[[#This Row],[Prod.ID (B)]]=\"nvt\",\"Grond\",\"\"))","v":""},{"$f":"IFERROR((VLOOKUP(G25,Table2[[Prod.ID]:[Levensduur '[jaar']]],3,FALSE)),\" \")","v":" "}]
[null,{"$f":"IF(Table1[[#This Row],[Prod.ID (A)]]=\"\",\"\",_xlfn.XLOOKUP(Table1[[#This Row],[Prod.ID (A)]],Table2[Prod.ID],Table2[Elem.ID],\"\",0,1))","v":""},{"$f":"IF(Table1[[#This Row],[Prod.ID (A)]]=\"\",\"\",_xlfn.XLOOKUP(Table1[[#This Row],[Prod.ID (A)]],Table2[Prod.ID],Table2[Element naam],\"\",0,1))","v":""},null,{"$f":"IFERROR((VLOOKUP(Table1[[#This Row],[Prod.ID (A)]],Table2[[Prod.ID]:[Product naam]],2,FALSE)),IF(Table1[[#This Row],[Prod.ID (A)]]=\"nvt\",\"Grond\",\"\"))","v":""},{"$f":"IFERROR((VLOOKUP(D26,Table2[[Prod.ID]:[Levensduur '[jaar']]],3,FALSE)),\"\")","v":""},null,{"$f":"IFERROR((VLOOKUP(Table1[[#This Row],[Prod.ID (B)]],Table2[[Prod.ID]:[Product naam]],2,FALSE)),IF(Table1[[#This Row],[Prod.ID (B)]]=\"nvt\",\"Grond\",\"\"))","v":""},{"$f":"IFERROR((VLOOKUP(G26,Table2[[Prod.ID]:[Levensduur '[jaar']]],3,FALSE)),\" \")","v":" "}]
[null,{"$f":"IF(Table1[[#This Row],[Prod.ID (A)]]=\"\",\"\",_xlfn.XLOOKUP(Table1[[#This Row],[Prod.ID (A)]],Table2[Prod.ID],Table2[Elem.ID],\"\",0,1))","v":""},{"$f":"IF(Table1[[#This Row],[Prod.ID (A)]]=\"\",\"\",_xlfn.XLOOKUP(Table1[[#This Row],[Prod.ID (A)]],Table2[Prod.ID],Table2[Element naam],\"\",0,1))","v":""},null,{"$f":"IFERROR((VLOOKUP(Table1[[#This Row],[Prod.ID (A)]],Table2[[Prod.ID]:[Product naam]],2,FALSE)),IF(Table1[[#This Row],[Prod.ID (A)]]=\"nvt\",\"Grond\",\"\"))","v":""},{"$f":"IFERROR((VLOOKUP(D27,Table2[[Prod.ID]:[Levensduur '[jaar']]],3,FALSE)),\"\")","v":""},null,{"$f":"IFERROR((VLOOKUP(Table1[[#This Row],[Prod.ID (B)]],Table2[[Prod.ID]:[Product naam]],2,FALSE)),IF(Table1[[#This Row],[Prod.ID (B)]]=\"nvt\",\"Grond\",\"\"))","v":""},{"$f":"IFERROR((VLOOKUP(G27,Table2[[Prod.ID]:[Levensduur '[jaar']]],3,FALSE)),\" \")","v":" "}]
[null,{"$f":"IF(Table1[[#This Row],[Prod.ID (A)]]=\"\",\"\",_xlfn.XLOOKUP(Table1[[#This Row],[Prod.ID (A)]],Table2[Prod.ID],Table2[Elem.ID],\"\",0,1))","v":""},{"$f":"IF(Table1[[#This Row],[Prod.ID (A)]]=\"\",\"\",_xlfn.XLOOKUP(Table1[[#This Row],[Prod.ID (A)]],Table2[Prod.ID],Table2[Element naam],\"\",0,1))","v":""},null,{"$f":"IFERROR((VLOOKUP(Table1[[#This Row],[Prod.ID (A)]],Table2[[Prod.ID]:[Product naam]],2,FALSE)),IF(Table1[[#This Row],[Prod.ID (A)]]=\"nvt\",\"Grond\",\"\"))","v":""},{"$f":"IFERROR((VLOOKUP(D28,Table2[[Prod.ID]:[Levensduur '[jaar']]],3,FALSE)),\"\")","v":""},null,{"$f":"IFERROR((VLOOKUP(Table1[[#This Row],[Prod.ID (B)]],Table2[[Prod.ID]:[Product naam]],2,FALSE)),IF(Table1[[#This Row],[Prod.ID (B)]]=\"nvt\",\"Grond\",\"\"))","v":""},{"$f":"IFERROR((VLOOKUP(G28,Table2[[Prod.ID]:[Levensduur '[jaar']]],3,FALSE)),\" \")","v":" "}]
[null,{"$f":"IF(Table1[[#This Row],[Prod.ID (A)]]=\"\",\"\",_xlfn.XLOOKUP(Table1[[#This Row],[Prod.ID (A)]],Table2[Prod.ID],Table2[Elem.ID],\"\",0,1))","v":""},{"$f":"IF(Table1[[#This Row],[Prod.ID (A)]]=\"\",\"\",_xlfn.XLOOKUP(Table1[[#This Row],[Prod.ID (A)]],Table2[Prod.ID],Table2[Element naam],\"\",0,1))","v":""},null,{"$f":"IFERROR((VLOOKUP(Table1[[#This Row],[Prod.ID (A)]],Table2[[Prod.ID]:[Product naam]],2,FALSE)),IF(Table1[[#This Row],[Prod.ID (A)]]=\"nvt\",\"Grond\",\"\"))","v":""},{"$f":"IFERROR((VLOOKUP(D29,Table2[[Prod.ID]:[Levensduur '[jaar']]],3,FALSE)),\"\")","v":""},null,{"$f":"IFERROR((VLOOKUP(Table1[[#This Row],[Prod.ID (B)]],Table2[[Prod.ID]:[Product naam]],2,FALSE)),IF(Table1[[#This Row],[Prod.ID (B)]]=\"nvt\",\"Grond\",\"\"))","v":""},{"$f":"IFERROR((VLOOKUP(G29,Table2[[Prod.ID]:[Levensduur '[jaar']]],3,FALSE)),\" \")","v":" "}]
[null,{"$f":"IF(Table1[[#This Row],[Prod.ID (A)]]=\"\",\"\",_xlfn.XLOOKUP(Table1[[#This Row],[Prod.ID (A)]],Table2[Prod.ID],Table2[Elem.ID],\"\",0,1))","v":""},{"$f":"IF(Table1[[#This Row],[Prod.ID (A)]]=\"\",\"\",_xlfn.XLOOKUP(Table1[[#This Row],[Prod.ID (A)]],Table2[Prod.ID],Table2[Element naam],\"\",0,1))","v":""},null,{"$f":"IFERROR((VLOOKUP(Table1[[#This Row],[Prod.ID (A)]],Table2[[Prod.ID]:[Product naam]],2,FALSE)),IF(Table1[[#This Row],[Prod.ID (A)]]=\"nvt\",\"Grond\",\"\"))","v":""},{"$f":"IFERROR((VLOOKUP(D30,Table2[[Prod.ID]:[Levensduur '[jaar']]],3,FALSE)),\"\")","v":""},null,{"$f":"IFERROR((VLOOKUP(Table1[[#This Row],[Prod.ID (B)]],Table2[[Prod.ID]:[Product naam]],2,FALSE)),IF(Table1[[#This Row],[Prod.ID (B)]]=\"nvt\",\"Grond\",\"\"))","v":""},{"$f":"IFERROR((VLOOKUP(G30,Table2[[Prod.ID]:[Levensduur '[jaar']]],3,FALSE)),\" \")","v":" "}]
[null,{"$f":"IF(Table1[[#This Row],[Prod.ID (A)]]=\"\",\"\",_xlfn.XLOOKUP(Table1[[#This Row],[Prod.ID (A)]],Table2[Prod.ID],Table2[Elem.ID],\"\",0,1))","v":""},{"$f":"IF(Table1[[#This Row],[Prod.ID (A)]]=\"\",\"\",_xlfn.XLOOKUP(Table1[[#This Row],[Prod.ID (A)]],Table2[Prod.ID],Table2[Element naam],\"\",0,1))","v":""},null,{"$f":"IFERROR((VLOOKUP(Table1[[#This Row],[Prod.ID (A)]],Table2[[Prod.ID]:[Product naam]],2,FALSE)),IF(Table1[[#This Row],[Prod.ID (A)]]=\"nvt\",\"Grond\",\"\"))","v":""},{"$f":"IFERROR((VLOOKUP(D31,Table2[[Prod.ID]:[Levensduur '[jaar']]],3,FALSE)),\"\")","v":""},null,{"$f":"IFERROR((VLOOKUP(Table1[[#This Row],[Prod.ID (B)]],Table2[[Prod.ID]:[Product naam]],2,FALSE)),IF(Table1[[#This Row],[Prod.ID (B)]]=\"nvt\",\"Grond\",\"\"))","v":""},{"$f":"IFERROR((VLOOKUP(G31,Table2[[Prod.ID]:[Levensduur '[jaar']]],3,FALSE)),\" \")","v":" "}]
[null,{"$f":"IF(Table1[[#This Row],[Prod.ID (A)]]=\"\",\"\",_xlfn.XLOOKUP(Table1[[#This Row],[Prod.ID (A)]],Table2[Prod.ID],Table2[Elem.ID],\"\",0,1))","v":""},{"$f":"IF(Table1[[#This Row],[Prod.ID (A)]]=\"\",\"\",_xlfn.XLOOKUP(Table1[[#This Row],[Prod.ID (A)]],Table2[Prod.ID],Table2[Element naam],\"\",0,1))","v":""},null,{"$f":"IFERROR((VLOOKUP(Table1[[#This Row],[Prod.ID (A)]],Table2[[Prod.ID]:[Product naam]],2,FALSE)),IF(Table1[[#This Row],[Prod.ID (A)]]=\"nvt\",\"Grond\",\"\"))","v":""},{"$f":"IFERROR((VLOOKUP(D32,Table2[[Prod.ID]:[Levensduur '[jaar']]],3,FALSE)),\"\")","v":""},null,{"$f":"IFERROR((VLOOKUP(Table1[[#This Row],[Prod.ID (B)]],Table2[[Prod.ID]:[Product naam]],2,FALSE)),IF(Table1[[#This Row],[Prod.ID (B)]]=\"nvt\",\"Grond\",\"\"))","v":""},{"$f":"IFERROR((VLOOKUP(G32,Table2[[Prod.ID]:[Levensduur '[jaar']]],3,FALSE)),\" \")","v":" "}]
[null,{"$f":"IF(Table1[[#This Row],[Prod.ID (A)]]=\"\",\"\",_xlfn.XLOOKUP(Table1[[#This Row],[Prod.ID (A)]],Table2[Prod.ID],Table2[Elem.ID],\"\",0,1))","v":""},{"$f":"IF(Table1[[#This Row],[Prod.ID (A)]]=\"\",\"\",_xlfn.XLOOKUP(Table1[[#This Row],[Prod.ID (A)]],Table2[Prod.ID],Table2[Element naam],\"\",0,1))","v":""},null,{"$f":"IFERROR((VLOOKUP(Table1[[#This Row],[Prod.ID (A)]],Table2[[Prod.ID]:[Product naam]],2,FALSE)),IF(Table1[[#This Row],[Prod.ID (A)]]=\"nvt\",\"Grond\",\"\"))","v":""},{"$f":"IFERROR((VLOOKUP(D33,Table2[[Prod.ID]:[Levensduur '[jaar']]],3,FALSE)),\"\")","v":""},null,{"$f":"IFERROR((VLOOKUP(Table1[[#This Row],[Prod.ID (B)]],Table2[[Prod.ID]:[Product naam]],2,FALSE)),IF(Table1[[#This Row],[Prod.ID (B)]]=\"nvt\",\"Grond\",\"\"))","v":""},{"$f":"IFERROR((VLOOKUP(G33,Table2[[Prod.ID]:[Levensduur '[jaar']]],3,FALSE)),\" \")","v":" "}]
[null,{"$f":"IF(Table1[[#This Row],[Prod.ID (A)]]=\"\",\"\",_xlfn.XLOOKUP(Table1[[#This Row],[Prod.ID (A)]],Table2[Prod.ID],Table2[Elem.ID],\"\",0,1))","v":""},{"$f":"IF(Table1[[#This Row],[Prod.ID (A)]]=\"\",\"\",_xlfn.XLOOKUP(Table1[[#This Row],[Prod.ID (A)]],Table2[Prod.ID],Table2[Element naam],\"\",0,1))","v":""},null,{"$f":"IFERROR((VLOOKUP(Table1[[#This Row],[Prod.ID (A)]],Table2[[Prod.ID]:[Product naam]],2,FALSE)),IF(Table1[[#This Row],[Prod.ID (A)]]=\"nvt\",\"Grond\",\"\"))","v":""},{"$f":"IFERROR((VLOOKUP(D34,Table2[[Prod.ID]:[Levensduur '[jaar']]],3,FALSE)),\"\")","v":""},null,{"$f":"IFERROR((VLOOKUP(Table1[[#This Row],[Prod.ID (B)]],Table2[[Prod.ID]:[Product naam]],2,FALSE)),IF(Table1[[#This Row],[Prod.ID (B)]]=\"nvt\",\"Grond\",\"\"))","v":""},{"$f":"IFERROR((VLOOKUP(G34,Table2[[Prod.ID]:[Levensduur '[jaar']]],3,FALSE)),\" \")","v":" "}]
[null,{"$f":"IF(Table1[[#This Row],[Prod.ID (A)]]=\"\",\"\",_xlfn.XLOOKUP(Table1[[#This Row],[Prod.ID (A)]],Table2[Prod.ID],Table2[Elem.ID],\"\",0,1))","v":""},{"$f":"IF(Table1[[#This Row],[Prod.ID (A)]]=\"\",\"\",_xlfn.XLOOKUP(Table1[[#This Row],[Prod.ID (A)]],Table2[Prod.ID],Table2[Element naam],\"\",0,1))","v":""},null,{"$f":"IFERROR((VLOOKUP(Table1[[#This Row],[Prod.ID (A)]],Table2[[Prod.ID]:[Product naam]],2,FALSE)),IF(Table1[[#This Row],[Prod.ID (A)]]=\"nvt\",\"Grond\",\"\"))","v":""},{"$f":"IFERROR((VLOOKUP(D35,Table2[[Prod.ID]:[Levensduur '[jaar']]],3,FALSE)),\"\")","v":""},null,{"$f":"IFERROR((VLOOKUP(Table1[[#This Row],[Prod.ID (B)]],Table2[[Prod.ID]:[Product naam]],2,FALSE)),IF(Table1[[#This Row],[Prod.ID (B)]]=\"nvt\",\"Grond\",\"\"))","v":""},{"$f":"IFERROR((VLOOKUP(G35,Table2[[Prod.ID]:[Levensduur '[jaar']]],3,FALSE)),\" \")","v":" "}]
[null,{"$f":"IF(Table1[[#This Row],[Prod.ID (A)]]=\"\",\"\",_xlfn.XLOOKUP(Table1[[#This Row],[Prod.ID (A)]],Table2[Prod.ID],Table2[Elem.ID],\"\",0,1))","v":""},{"$f":"IF(Table1[[#This Row],[Prod.ID (A)]]=\"\",\"\",_xlfn.XLOOKUP(Table1[[#This Row],[Prod.ID (A)]],Table2[Prod.ID],Table2[Element naam],\"\",0,1))","v":""},null,{"$f":"IFERROR((VLOOKUP(Table1[[#This Row],[Prod.ID (A)]],Table2[[Prod.ID]:[Product naam]],2,FALSE)),IF(Table1[[#This Row],[Prod.ID (A)]]=\"nvt\",\"Grond\",\"\"))","v":""},{"$f":"IFERROR((VLOOKUP(D36,Table2[[Prod.ID]:[Levensduur '[jaar']]],3,FALSE)),\"\")","v":""},null,{"$f":"IFERROR((VLOOKUP(Table1[[#This Row],[Prod.ID (B)]],Table2[[Prod.ID]:[Product naam]],2,FALSE)),IF(Table1[[#This Row],[Prod.ID (B)]]=\"nvt\",\"Grond\",\"\"))","v":""},{"$f":"IFERROR((VLOOKUP(G36,Table2[[Prod.ID]:[Levensduur '[jaar']]],3,FALSE)),\" \")","v":" "}]
[null,{"$f":"IF(Table1[[#This Row],[Prod.ID (A)]]=\"\",\"\",_xlfn.XLOOKUP(Table1[[#This Row],[Prod.ID (A)]],Table2[Prod.ID],Table2[Elem.ID],\"\",0,1))","v":""},{"$f":"IF(Table1[[#This Row],[Prod.ID (A)]]=\"\",\"\",_xlfn.XLOOKUP(Table1[[#This Row],[Prod.ID (A)]],Table2[Prod.ID],Table2[Element naam],\"\",0,1))","v":""},null,{"$f":"IFERROR((VLOOKUP(Table1[[#This Row],[Prod.ID (A)]],Table2[[Prod.ID]:[Product naam]],2,FALSE)),IF(Table1[[#This Row],[Prod.ID (A)]]=\"nvt\",\"Grond\",\"\"))","v":""},{"$f":"IFERROR((VLOOKUP(D37,Table2[[Prod.ID]:[Levensduur '[jaar']]],3,FALSE)),\"\")","v":""},null,{"$f":"IFERROR((VLOOKUP(Table1[[#This Row],[Prod.ID (B)]],Table2[[Prod.ID]:[Product naam]],2,FALSE)),IF(Table1[[#This Row],[Prod.ID (B)]]=\"nvt\",\"Grond\",\"\"))","v":""},{"$f":"IFERROR((VLOOKUP(G37,Table2[[Prod.ID]:[Levensduur '[jaar']]],3,FALSE)),\" \")","v":" "}]
[null,{"$f":"IF(Table1[[#This Row],[Prod.ID (A)]]=\"\",\"\",_xlfn.XLOOKUP(Table1[[#This Row],[Prod.ID (A)]],Table2[Prod.ID],Table2[Elem.ID],\"\",0,1))","v":""},{"$f":"IF(Table1[[#This Row],[Prod.ID (A)]]=\"\",\"\",_xlfn.XLOOKUP(Table1[[#This Row],[Prod.ID (A)]],Table2[Prod.ID],Table2[Element naam],\"\",0,1))","v":""},null,{"$f":"IFERROR((VLOOKUP(Table1[[#This Row],[Prod.ID (A)]],Table2[[Prod.ID]:[Product naam]],2,FALSE)),IF(Table1[[#This Row],[Prod.ID (A)]]=\"nvt\",\"Grond\",\"\"))","v":""},{"$f":"IFERROR((VLOOKUP(D38,Table2[[Prod.ID]:[Levensduur '[jaar']]],3,FALSE)),\"\")","v":""},null,{"$f":"IFERROR((VLOOKUP(Table1[[#This Row],[Prod.ID (B)]],Table2[[Prod.ID]:[Product naam]],2,FALSE)),IF(Table1[[#This Row],[Prod.ID (B)]]=\"nvt\",\"Grond\",\"\"))","v":""},{"$f":"IFERROR((VLOOKUP(G38,Table2[[Prod.ID]:[Levensduur '[jaar']]],3,FALSE)),\" \")","v":" "}]
[null,{"$f":"IF(Table1[[#This Row],[Prod.ID (A)]]=\"\",\"\",_xlfn.XLOOKUP(Table1[[#This Row],[Prod.ID (A)]],Table2[Prod.ID],Table2[Elem.ID],\"\",0,1))","v":""},{"$f":"IF(Table1[[#This Row],[Prod.ID (A)]]=\"\",\"\",_xlfn.XLOOKUP(Table1[[#This Row],[Prod.ID (A)]],Table2[Prod.ID],Table2[Element naam],\"\",0,1))","v":""},null,{"$f":"IFERROR((VLOOKUP(Table1[[#This Row],[Prod.ID (A)]],Table2[[Prod.ID]:[Product naam]],2,FALSE)),IF(Table1[[#This Row],[Prod.ID (A)]]=\"nvt\",\"Grond\",\"\"))","v":""},{"$f":"IFERROR((VLOOKUP(D39,Table2[[Prod.ID]:[Levensduur '[jaar']]],3,FALSE)),\"\")","v":""},null,{"$f":"IFERROR((VLOOKUP(Table1[[#This Row],[Prod.ID (B)]],Table2[[Prod.ID]:[Product naam]],2,FALSE)),IF(Table1[[#This Row],[Prod.ID (B)]]=\"nvt\",\"Grond\",\"\"))","v":""},{"$f":"IFERROR((VLOOKUP(G39,Table2[[Prod.ID]:[Levensduur '[jaar']]],3,FALSE)),\" \")","v":" "}]
[null,{"$f":"IF(Table1[[#This Row],[Prod.ID (A)]]=\"\",\"\",_xlfn.XLOOKUP(Table1[[#This Row],[Prod.ID (A)]],Table2[Prod.ID],Table2[Elem.ID],\"\",0,1))","v":""},{"$f":"IF(Table1[[#This Row],[Prod.ID (A)]]=\"\",\"\",_xlfn.XLOOKUP(Table1[[#This Row],[Prod.ID (A)]],Table2[Prod.ID],Table2[Element naam],\"\",0,1))","v":""},null,{"$f":"IFERROR((VLOOKUP(Table1[[#This Row],[Prod.ID (A)]],Table2[[Prod.ID]:[Product naam]],2,FALSE)),IF(Table1[[#This Row],[Prod.ID (A)]]=\"nvt\",\"Grond\",\"\"))","v":""},{"$f":"IFERROR((VLOOKUP(D40,Table2[[Prod.ID]:[Levensduur '[jaar']]],3,FALSE)),\"\")","v":""},null,{"$f":"IFERROR((VLOOKUP(Table1[[#This Row],[Prod.ID (B)]],Table2[[Prod.ID]:[Product naam]],2,FALSE)),IF(Table1[[#This Row],[Prod.ID (B)]]=\"nvt\",\"Grond\",\"\"))","v":""},{"$f":"IFERROR((VLOOKUP(G40,Table2[[Prod.ID]:[Levensduur '[jaar']]],3,FALSE)),\" \")","v":" "}]
[null,{"$f":"IF(Table1[[#This Row],[Prod.ID (A)]]=\"\",\"\",_xlfn.XLOOKUP(Table1[[#This Row],[Prod.ID (A)]],Table2[Prod.ID],Table2[Elem.ID],\"\",0,1))","v":""},{"$f":"IF(Table1[[#This Row],[Prod.ID (A)]]=\"\",\"\",_xlfn.XLOOKUP(Table1[[#This Row],[Prod.ID (A)]],Table2[Prod.ID],Table2[Element naam],\"\",0,1))","v":""},null,{"$f":"IFERROR((VLOOKUP(Table1[[#This Row],[Prod.ID (A)]],Table2[[Prod.ID]:[Product naam]],2,FALSE)),IF(Table1[[#This Row],[Prod.ID (A)]]=\"nvt\",\"Grond\",\"\"))","v":""},{"$f":"IFERROR((VLOOKUP(D41,Table2[[Prod.ID]:[Levensduur '[jaar']]],3,FALSE)),\"\")","v":""},null,{"$f":"IFERROR((VLOOKUP(Table1[[#This Row],[Prod.ID (B)]],Table2[[Prod.ID]:[Product naam]],2,FALSE)),IF(Table1[[#This Row],[Prod.ID (B)]]=\"nvt\",\"Grond\",\"\"))","v":""},{"$f":"IFERROR((VLOOKUP(G41,Table2[[Prod.ID]:[Levensduur '[jaar']]],3,FALSE)),\" \")","v":" "}]
[null,{"$f":"IF(Table1[[#This Row],[Prod.ID (A)]]=\"\",\"\",_xlfn.XLOOKUP(Table1[[#This Row],[Prod.ID (A)]],Table2[Prod.ID],Table2[Elem.ID],\"\",0,1))","v":""},{"$f":"IF(Table1[[#This Row],[Prod.ID (A)]]=\"\",\"\",_xlfn.XLOOKUP(Table1[[#This Row],[Prod.ID (A)]],Table2[Prod.ID],Table2[Element naam],\"\",0,1))","v":""},null,{"$f":"IFERROR((VLOOKUP(Table1[[#This Row],[Prod.ID (A)]],Table2[[Prod.ID]:[Product naam]],2,FALSE)),IF(Table1[[#This Row],[Prod.ID (A)]]=\"nvt\",\"Grond\",\"\"))","v":""},{"$f":"IFERROR((VLOOKUP(D42,Table2[[Prod.ID]:[Levensduur '[jaar']]],3,FALSE)),\"\")","v":""},null,{"$f":"IFERROR((VLOOKUP(Table1[[#This Row],[Prod.ID (B)]],Table2[[Prod.ID]:[Product naam]],2,FALSE)),IF(Table1[[#This Row],[Prod.ID (B)]]=\"nvt\",\"Grond\",\"\"))","v":""},{"$f":"IFERROR((VLOOKUP(G42,Table2[[Prod.ID]:[Levensduur '[jaar']]],3,FALSE)),\" \")","v":" "}]
[null,{"$f":"IF(Table1[[#This Row],[Prod.ID (A)]]=\"\",\"\",_xlfn.XLOOKUP(Table1[[#This Row],[Prod.ID (A)]],Table2[Prod.ID],Table2[Elem.ID],\"\",0,1))","v":""},{"$f":"IF(Table1[[#This Row],[Prod.ID (A)]]=\"\",\"\",_xlfn.XLOOKUP(Table1[[#This Row],[Prod.ID (A)]],Table2[Prod.ID],Table2[Element naam],\"\",0,1))","v":""},null,{"$f":"IFERROR((VLOOKUP(Table1[[#This Row],[Prod.ID (A)]],Table2[[Prod.ID]:[Product naam]],2,FALSE)),IF(Table1[[#This Row],[Prod.ID (A)]]=\"nvt\",\"Grond\",\"\"))","v":""},{"$f":"IFERROR((VLOOKUP(D43,Table2[[Prod.ID]:[Levensduur '[jaar']]],3,FALSE)),\"\")","v":""},null,{"$f":"IFERROR((VLOOKUP(Table1[[#This Row],[Prod.ID (B)]],Table2[[Prod.ID]:[Product naam]],2,FALSE)),IF(Table1[[#This Row],[Prod.ID (B)]]=\"nvt\",\"Grond\",\"\"))","v":""},{"$f":"IFERROR((VLOOKUP(G43,Table2[[Prod.ID]:[Levensduur '[jaar']]],3,FALSE)),\" \")","v":" "}]
[null,{"$f":"IF(Table1[[#This Row],[Prod.ID (A)]]=\"\",\"\",_xlfn.XLOOKUP(Table1[[#This Row],[Prod.ID (A)]],Table2[Prod.ID],Table2[Elem.ID],\"\",0,1))","v":""},{"$f":"IF(Table1[[#This Row],[Prod.ID (A)]]=\"\",\"\",_xlfn.XLOOKUP(Table1[[#This Row],[Prod.ID (A)]],Table2[Prod.ID],Table2[Element naam],\"\",0,1))","v":""},null,{"$f":"IFERROR((VLOOKUP(Table1[[#This Row],[Prod.ID (A)]],Table2[[Prod.ID]:[Product naam]],2,FALSE)),IF(Table1[[#This Row],[Prod.ID (A)]]=\"nvt\",\"Grond\",\"\"))","v":""},{"$f":"IFERROR((VLOOKUP(D44,Table2[[Prod.ID]:[Levensduur '[jaar']]],3,FALSE)),\"\")","v":""},null,{"$f":"IFERROR((VLOOKUP(Table1[[#This Row],[Prod.ID (B)]],Table2[[Prod.ID]:[Product naam]],2,FALSE)),IF(Table1[[#This Row],[Prod.ID (B)]]=\"nvt\",\"Grond\",\"\"))","v":""},{"$f":"IFERROR((VLOOKUP(G44,Table2[[Prod.ID]:[Levensduur '[jaar']]],3,FALSE)),\" \")","v":" "}]
[null,{"$f":"IF(Table1[[#This Row],[Prod.ID (A)]]=\"\",\"\",_xlfn.XLOOKUP(Table1[[#This Row],[Prod.ID (A)]],Table2[Prod.ID],Table2[Elem.ID],\"\",0,1))","v":""},{"$f":"IF(Table1[[#This Row],[Prod.ID (A)]]=\"\",\"\",_xlfn.XLOOKUP(Table1[[#This Row],[Prod.ID (A)]],Table2[Prod.ID],Table2[Element naam],\"\",0,1))","v":""},null,{"$f":"IFERROR((VLOOKUP(Table1[[#This Row],[Prod.ID (A)]],Table2[[Prod.ID]:[Product naam]],2,FALSE)),IF(Table1[[#This Row],[Prod.ID (A)]]=\"nvt\",\"Grond\",\"\"))","v":""},{"$f":"IFERROR((VLOOKUP(D45,Table2[[Prod.ID]:[Levensduur '[jaar']]],3,FALSE)),\"\")","v":""},null,{"$f":"IFERROR((VLOOKUP(Table1[[#This Row],[Prod.ID (B)]],Table2[[Prod.ID]:[Product naam]],2,FALSE)),IF(Table1[[#This Row],[Prod.ID (B)]]=\"nvt\",\"Grond\",\"\"))","v":""},{"$f":"IFERROR((VLOOKUP(G45,Table2[[Prod.ID]:[Levensduur '[jaar']]],3,FALSE)),\" \")","v":" "}]
[null,{"$f":"IF(Table1[[#This Row],[Prod.ID (A)]]=\"\",\"\",_xlfn.XLOOKUP(Table1[[#This Row],[Prod.ID (A)]],Table2[Prod.ID],Table2[Elem.ID],\"\",0,1))","v":""},{"$f":"IF(Table1[[#This Row],[Prod.ID (A)]]=\"\",\"\",_xlfn.XLOOKUP(Table1[[#This Row],[Prod.ID (A)]],Table2[Prod.ID],Table2[Element naam],\"\",0,1))","v":""},null,{"$f":"IFERROR((VLOOKUP(Table1[[#This Row],[Prod.ID (A)]],Table2[[Prod.ID]:[Product naam]],2,FALSE)),IF(Table1[[#This Row],[Prod.ID (A)]]=\"nvt\",\"Grond\",\"\"))","v":""},{"$f":"IFERROR((VLOOKUP(D46,Table2[[Prod.ID]:[Levensduur '[jaar']]],3,FALSE)),\"\")","v":""},null,{"$f":"IFERROR((VLOOKUP(Table1[[#This Row],[Prod.ID (B)]],Table2[[Prod.ID]:[Product naam]],2,FALSE)),IF(Table1[[#This Row],[Prod.ID (B)]]=\"nvt\",\"Grond\",\"\"))","v":""},{"$f":"IFERROR((VLOOKUP(G46,Table2[[Prod.ID]:[Levensduur '[jaar']]],3,FALSE)),\" \")","v":" "}]
[null,{"$f":"IF(Table1[[#This Row],[Prod.ID (A)]]=\"\",\"\",_xlfn.XLOOKUP(Table1[[#This Row],[Prod.ID (A)]],Table2[Prod.ID],Table2[Elem.ID],\"\",0,1))","v":""},{"$f":"IF(Table1[[#This Row],[Prod.ID (A)]]=\"\",\"\",_xlfn.XLOOKUP(Table1[[#This Row],[Prod.ID (A)]],Table2[Prod.ID],Table2[Element naam],\"\",0,1))","v":""},null,{"$f":"IFERROR((VLOOKUP(Table1[[#This Row],[Prod.ID (A)]],Table2[[Prod.ID]:[Product naam]],2,FALSE)),IF(Table1[[#This Row],[Prod.ID (A)]]=\"nvt\",\"Grond\",\"\"))","v":""},{"$f":"IFERROR((VLOOKUP(D47,Table2[[Prod.ID]:[Levensduur '[jaar']]],3,FALSE)),\"\")","v":""},null,{"$f":"IFERROR((VLOOKUP(Table1[[#This Row],[Prod.ID (B)]],Table2[[Prod.ID]:[Product naam]],2,FALSE)),IF(Table1[[#This Row],[Prod.ID (B)]]=\"nvt\",\"Grond\",\"\"))","v":""},{"$f":"IFERROR((VLOOKUP(G47,Table2[[Prod.ID]:[Levensduur '[jaar']]],3,FALSE)),\" \")","v":" "}]
[null,{"$f":"IF(Table1[[#This Row],[Prod.ID (A)]]=\"\",\"\",_xlfn.XLOOKUP(Table1[[#This Row],[Prod.ID (A)]],Table2[Prod.ID],Table2[Elem.ID],\"\",0,1))","v":""},{"$f":"IF(Table1[[#This Row],[Prod.ID (A)]]=\"\",\"\",_xlfn.XLOOKUP(Table1[[#This Row],[Prod.ID (A)]],Table2[Prod.ID],Table2[Element naam],\"\",0,1))","v":""},null,{"$f":"IFERROR((VLOOKUP(Table1[[#This Row],[Prod.ID (A)]],Table2[[Prod.ID]:[Product naam]],2,FALSE)),IF(Table1[[#This Row],[Prod.ID (A)]]=\"nvt\",\"Grond\",\"\"))","v":""},{"$f":"IFERROR((VLOOKUP(D48,Table2[[Prod.ID]:[Levensduur '[jaar']]],3,FALSE)),\"\")","v":""},null,{"$f":"IFERROR((VLOOKUP(Table1[[#This Row],[Prod.ID (B)]],Table2[[Prod.ID]:[Product naam]],2,FALSE)),IF(Table1[[#This Row],[Prod.ID (B)]]=\"nvt\",\"Grond\",\"\"))","v":""},{"$f":"IFERROR((VLOOKUP(G48,Table2[[Prod.ID]:[Levensduur '[jaar']]],3,FALSE)),\" \")","v":" "}]
[null,{"$f":"IF(Table1[[#This Row],[Prod.ID (A)]]=\"\",\"\",_xlfn.XLOOKUP(Table1[[#This Row],[Prod.ID (A)]],Table2[Prod.ID],Table2[Elem.ID],\"\",0,1))","v":""},{"$f":"IF(Table1[[#This Row],[Prod.ID (A)]]=\"\",\"\",_xlfn.XLOOKUP(Table1[[#This Row],[Prod.ID (A)]],Table2[Prod.ID],Table2[Element naam],\"\",0,1))","v":""},null,{"$f":"IFERROR((VLOOKUP(Table1[[#This Row],[Prod.ID (A)]],Table2[[Prod.ID]:[Product naam]],2,FALSE)),IF(Table1[[#This Row],[Prod.ID (A)]]=\"nvt\",\"Grond\",\"\"))","v":""},{"$f":"IFERROR((VLOOKUP(D49,Table2[[Prod.ID]:[Levensduur '[jaar']]],3,FALSE)),\"\")","v":""},null,{"$f":"IFERROR((VLOOKUP(Table1[[#This Row],[Prod.ID (B)]],Table2[[Prod.ID]:[Product naam]],2,FALSE)),IF(Table1[[#This Row],[Prod.ID (B)]]=\"nvt\",\"Grond\",\"\"))","v":""},{"$f":"IFERROR((VLOOKUP(G49,Table2[[Prod.ID]:[Levensduur '[jaar']]],3,FALSE)),\" \")","v":" "}]
[null,{"$f":"IF(Table1[[#This Row],[Prod.ID (A)]]=\"\",\"\",_xlfn.XLOOKUP(Table1[[#This Row],[Prod.ID (A)]],Table2[Prod.ID],Table2[Elem.ID],\"\",0,1))","v":""},{"$f":"IF(Table1[[#This Row],[Prod.ID (A)]]=\"\",\"\",_xlfn.XLOOKUP(Table1[[#This Row],[Prod.ID (A)]],Table2[Prod.ID],Table2[Element naam],\"\",0,1))","v":""},null,{"$f":"IFERROR((VLOOKUP(Table1[[#This Row],[Prod.ID (A)]],Table2[[Prod.ID]:[Product naam]],2,FALSE)),IF(Table1[[#This Row],[Prod.ID (A)]]=\"nvt\",\"Grond\",\"\"))","v":""},{"$f":"IFERROR((VLOOKUP(D50,Table2[[Prod.ID]:[Levensduur '[jaar']]],3,FALSE)),\"\")","v":""},null,{"$f":"IFERROR((VLOOKUP(Table1[[#This Row],[Prod.ID (B)]],Table2[[Prod.ID]:[Product naam]],2,FALSE)),IF(Table1[[#This Row],[Prod.ID (B)]]=\"nvt\",\"Grond\",\"\"))","v":""},{"$f":"IFERROR((VLOOKUP(G50,Table2[[Prod.ID]:[Levensduur '[jaar']]],3,FALSE)),\" \")","v":" "}]
[null,{"$f":"IF(Table1[[#This Row],[Prod.ID (A)]]=\"\",\"\",_xlfn.XLOOKUP(Table1[[#This Row],[Prod.ID (A)]],Table2[Prod.ID],Table2[Elem.ID],\"\",0,1))","v":""},{"$f":"IF(Table1[[#This Row],[Prod.ID (A)]]=\"\",\"\",_xlfn.XLOOKUP(Table1[[#This Row],[Prod.ID (A)]],Table2[Prod.ID],Table2[Element naam],\"\",0,1))","v":""},null,{"$f":"IFERROR((VLOOKUP(Table1[[#This Row],[Prod.ID (A)]],Table2[[Prod.ID]:[Product naam]],2,FALSE)),IF(Table1[[#This Row],[Prod.ID (A)]]=\"nvt\",\"Grond\",\"\"))","v":""},{"$f":"IFERROR((VLOOKUP(D51,Table2[[Prod.ID]:[Levensduur '[jaar']]],3,FALSE)),\"\")","v":""},null,{"$f":"IFERROR((VLOOKUP(Table1[[#This Row],[Prod.ID (B)]],Table2[[Prod.ID]:[Product naam]],2,FALSE)),IF(Table1[[#This Row],[Prod.ID (B)]]=\"nvt\",\"Grond\",\"\"))","v":""},{"$f":"IFERROR((VLOOKUP(G51,Table2[[Prod.ID]:[Levensduur '[jaar']]],3,FALSE)),\" \")","v":" "}]
[null,{"$f":"IF(Table1[[#This Row],[Prod.ID (A)]]=\"\",\"\",_xlfn.XLOOKUP(Table1[[#This Row],[Prod.ID (A)]],Table2[Prod.ID],Table2[Elem.ID],\"\",0,1))","v":""},{"$f":"IF(Table1[[#This Row],[Prod.ID (A)]]=\"\",\"\",_xlfn.XLOOKUP(Table1[[#This Row],[Prod.ID (A)]],Table2[Prod.ID],Table2[Element naam],\"\",0,1))","v":""},null,{"$f":"IFERROR((VLOOKUP(Table1[[#This Row],[Prod.ID (A)]],Table2[[Prod.ID]:[Product naam]],2,FALSE)),IF(Table1[[#This Row],[Prod.ID (A)]]=\"nvt\",\"Grond\",\"\"))","v":""},{"$f":"IFERROR((VLOOKUP(D52,Table2[[Prod.ID]:[Levensduur '[jaar']]],3,FALSE)),\"\")","v":""},null,{"$f":"IFERROR((VLOOKUP(Table1[[#This Row],[Prod.ID (B)]],Table2[[Prod.ID]:[Product naam]],2,FALSE)),IF(Table1[[#This Row],[Prod.ID (B)]]=\"nvt\",\"Grond\",\"\"))","v":""},{"$f":"IFERROR((VLOOKUP(G52,Table2[[Prod.ID]:[Levensduur '[jaar']]],3,FALSE)),\" \")","v":" "}]
[null,{"$f":"IF(Table1[[#This Row],[Prod.ID (A)]]=\"\",\"\",_xlfn.XLOOKUP(Table1[[#This Row],[Prod.ID (A)]],Table2[Prod.ID],Table2[Elem.ID],\"\",0,1))","v":""},{"$f":"IF(Table1[[#This Row],[Prod.ID (A)]]=\"\",\"\",_xlfn.XLOOKUP(Table1[[#This Row],[Prod.ID (A)]],Table2[Prod.ID],Table2[Element naam],\"\",0,1))","v":""},null,{"$f":"IFERROR((VLOOKUP(Table1[[#This Row],[Prod.ID (A)]],Table2[[Prod.ID]:[Product naam]],2,FALSE)),IF(Table1[[#This Row],[Prod.ID (A)]]=\"nvt\",\"Grond\",\"\"))","v":""},{"$f":"IFERROR((VLOOKUP(D53,Table2[[Prod.ID]:[Levensduur '[jaar']]],3,FALSE)),\"\")","v":""},null,{"$f":"IFERROR((VLOOKUP(Table1[[#This Row],[Prod.ID (B)]],Table2[[Prod.ID]:[Product naam]],2,FALSE)),IF(Table1[[#This Row],[Prod.ID (B)]]=\"nvt\",\"Grond\",\"\"))","v":""},{"$f":"IFERROR((VLOOKUP(G53,Table2[[Prod.ID]:[Levensduur '[jaar']]],3,FALSE)),\" \")","v":" "}]
[null,{"$f":"IF(Table1[[#This Row],[Prod.ID (A)]]=\"\",\"\",_xlfn.XLOOKUP(Table1[[#This Row],[Prod.ID (A)]],Table2[Prod.ID],Table2[Elem.ID],\"\",0,1))","v":""},{"$f":"IF(Table1[[#This Row],[Prod.ID (A)]]=\"\",\"\",_xlfn.XLOOKUP(Table1[[#This Row],[Prod.ID (A)]],Table2[Prod.ID],Table2[Element naam],\"\",0,1))","v":""},null,{"$f":"IFERROR((VLOOKUP(Table1[[#This Row],[Prod.ID (A)]],Table2[[Prod.ID]:[Product naam]],2,FALSE)),IF(Table1[[#This Row],[Prod.ID (A)]]=\"nvt\",\"Grond\",\"\"))","v":""},{"$f":"IFERROR((VLOOKUP(D54,Table2[[Prod.ID]:[Levensduur '[jaar']]],3,FALSE)),\"\")","v":""},null,{"$f":"IFERROR((VLOOKUP(Table1[[#This Row],[Prod.ID (B)]],Table2[[Prod.ID]:[Product naam]],2,FALSE)),IF(Table1[[#This Row],[Prod.ID (B)]]=\"nvt\",\"Grond\",\"\"))","v":""},{"$f":"IFERROR((VLOOKUP(G54,Table2[[Prod.ID]:[Levensduur '[jaar']]],3,FALSE)),\" \")","v":" "}]
[null,{"$f":"IF(Table1[[#This Row],[Prod.ID (A)]]=\"\",\"\",_xlfn.XLOOKUP(Table1[[#This Row],[Prod.ID (A)]],Table2[Prod.ID],Table2[Elem.ID],\"\",0,1))","v":""},{"$f":"IF(Table1[[#This Row],[Prod.ID (A)]]=\"\",\"\",_xlfn.XLOOKUP(Table1[[#This Row],[Prod.ID (A)]],Table2[Prod.ID],Table2[Element naam],\"\",0,1))","v":""},null,{"$f":"IFERROR((VLOOKUP(Table1[[#This Row],[Prod.ID (A)]],Table2[[Prod.ID]:[Product naam]],2,FALSE)),IF(Table1[[#This Row],[Prod.ID (A)]]=\"nvt\",\"Grond\",\"\"))","v":""},{"$f":"IFERROR((VLOOKUP(D55,Table2[[Prod.ID]:[Levensduur '[jaar']]],3,FALSE)),\"\")","v":""},null,{"$f":"IFERROR((VLOOKUP(Table1[[#This Row],[Prod.ID (B)]],Table2[[Prod.ID]:[Product naam]],2,FALSE)),IF(Table1[[#This Row],[Prod.ID (B)]]=\"nvt\",\"Grond\",\"\"))","v":""},{"$f":"IFERROR((VLOOKUP(G55,Table2[[Prod.ID]:[Levensduur '[jaar']]],3,FALSE)),\" \")","v":" "}]
[null,{"$f":"IF(Table1[[#This Row],[Prod.ID (A)]]=\"\",\"\",_xlfn.XLOOKUP(Table1[[#This Row],[Prod.ID (A)]],Table2[Prod.ID],Table2[Elem.ID],\"\",0,1))","v":""},{"$f":"IF(Table1[[#This Row],[Prod.ID (A)]]=\"\",\"\",_xlfn.XLOOKUP(Table1[[#This Row],[Prod.ID (A)]],Table2[Prod.ID],Table2[Element naam],\"\",0,1))","v":""},null,{"$f":"IFERROR((VLOOKUP(Table1[[#This Row],[Prod.ID (A)]],Table2[[Prod.ID]:[Product naam]],2,FALSE)),IF(Table1[[#This Row],[Prod.ID (A)]]=\"nvt\",\"Grond\",\"\"))","v":""},{"$f":"IFERROR((VLOOKUP(D56,Table2[[Prod.ID]:[Levensduur '[jaar']]],3,FALSE)),\"\")","v":""},null,{"$f":"IFERROR((VLOOKUP(Table1[[#This Row],[Prod.ID (B)]],Table2[[Prod.ID]:[Product naam]],2,FALSE)),IF(Table1[[#This Row],[Prod.ID (B)]]=\"nvt\",\"Grond\",\"\"))","v":""},{"$f":"IFERROR((VLOOKUP(G56,Table2[[Prod.ID]:[Levensduur '[jaar']]],3,FALSE)),\" \")","v":" "}]
[null,{"$f":"IF(Table1[[#This Row],[Prod.ID (A)]]=\"\",\"\",_xlfn.XLOOKUP(Table1[[#This Row],[Prod.ID (A)]],Table2[Prod.ID],Table2[Elem.ID],\"\",0,1))","v":""},{"$f":"IF(Table1[[#This Row],[Prod.ID (A)]]=\"\",\"\",_xlfn.XLOOKUP(Table1[[#This Row],[Prod.ID (A)]],Table2[Prod.ID],Table2[Element naam],\"\",0,1))","v":""},null,{"$f":"IFERROR((VLOOKUP(Table1[[#This Row],[Prod.ID (A)]],Table2[[Prod.ID]:[Product naam]],2,FALSE)),IF(Table1[[#This Row],[Prod.ID (A)]]=\"nvt\",\"Grond\",\"\"))","v":""},{"$f":"IFERROR((VLOOKUP(D57,Table2[[Prod.ID]:[Levensduur '[jaar']]],3,FALSE)),\"\")","v":""},null,{"$f":"IFERROR((VLOOKUP(Table1[[#This Row],[Prod.ID (B)]],Table2[[Prod.ID]:[Product naam]],2,FALSE)),IF(Table1[[#This Row],[Prod.ID (B)]]=\"nvt\",\"Grond\",\"\"))","v":""},{"$f":"IFERROR((VLOOKUP(G57,Table2[[Prod.ID]:[Levensduur '[jaar']]],3,FALSE)),\" \")","v":" "}]
[null,{"$f":"IF(Table1[[#This Row],[Prod.ID (A)]]=\"\",\"\",_xlfn.XLOOKUP(Table1[[#This Row],[Prod.ID (A)]],Table2[Prod.ID],Table2[Elem.ID],\"\",0,1))","v":""},{"$f":"IF(Table1[[#This Row],[Prod.ID (A)]]=\"\",\"\",_xlfn.XLOOKUP(Table1[[#This Row],[Prod.ID (A)]],Table2[Prod.ID],Table2[Element naam],\"\",0,1))","v":""},null,{"$f":"IFERROR((VLOOKUP(Table1[[#This Row],[Prod.ID (A)]],Table2[[Prod.ID]:[Product naam]],2,FALSE)),IF(Table1[[#This Row],[Prod.ID (A)]]=\"nvt\",\"Grond\",\"\"))","v":""},{"$f":"IFERROR((VLOOKUP(D58,Table2[[Prod.ID]:[Levensduur '[jaar']]],3,FALSE)),\"\")","v":""},null,{"$f":"IFERROR((VLOOKUP(Table1[[#This Row],[Prod.ID (B)]],Table2[[Prod.ID]:[Product naam]],2,FALSE)),IF(Table1[[#This Row],[Prod.ID (B)]]=\"nvt\",\"Grond\",\"\"))","v":""},{"$f":"IFERROR((VLOOKUP(G58,Table2[[Prod.ID]:[Levensduur '[jaar']]],3,FALSE)),\" \")","v":" "}]
[null,{"$f":"IF(Table1[[#This Row],[Prod.ID (A)]]=\"\",\"\",_xlfn.XLOOKUP(Table1[[#This Row],[Prod.ID (A)]],Table2[Prod.ID],Table2[Elem.ID],\"\",0,1))","v":""},{"$f":"IF(Table1[[#This Row],[Prod.ID (A)]]=\"\",\"\",_xlfn.XLOOKUP(Table1[[#This Row],[Prod.ID (A)]],Table2[Prod.ID],Table2[Element naam],\"\",0,1))","v":""},null,{"$f":"IFERROR((VLOOKUP(Table1[[#This Row],[Prod.ID (A)]],Table2[[Prod.ID]:[Product naam]],2,FALSE)),IF(Table1[[#This Row],[Prod.ID (A)]]=\"nvt\",\"Grond\",\"\"))","v":""},{"$f":"IFERROR((VLOOKUP(D59,Table2[[Prod.ID]:[Levensduur '[jaar']]],3,FALSE)),\"\")","v":""},null,{"$f":"IFERROR((VLOOKUP(Table1[[#This Row],[Prod.ID (B)]],Table2[[Prod.ID]:[Product naam]],2,FALSE)),IF(Table1[[#This Row],[Prod.ID (B)]]=\"nvt\",\"Grond\",\"\"))","v":""},{"$f":"IFERROR((VLOOKUP(G59,Table2[[Prod.ID]:[Levensduur '[jaar']]],3,FALSE)),\" \")","v":" "}]
[null,{"$f":"IF(Table1[[#This Row],[Prod.ID (A)]]=\"\",\"\",_xlfn.XLOOKUP(Table1[[#This Row],[Prod.ID (A)]],Table2[Prod.ID],Table2[Elem.ID],\"\",0,1))","v":""},{"$f":"IF(Table1[[#This Row],[Prod.ID (A)]]=\"\",\"\",_xlfn.XLOOKUP(Table1[[#This Row],[Prod.ID (A)]],Table2[Prod.ID],Table2[Element naam],\"\",0,1))","v":""},null,{"$f":"IFERROR((VLOOKUP(Table1[[#This Row],[Prod.ID (A)]],Table2[[Prod.ID]:[Product naam]],2,FALSE)),IF(Table1[[#This Row],[Prod.ID (A)]]=\"nvt\",\"Grond\",\"\"))","v":""},{"$f":"IFERROR((VLOOKUP(D60,Table2[[Prod.ID]:[Levensduur '[jaar']]],3,FALSE)),\"\")","v":""},null,{"$f":"IFERROR((VLOOKUP(Table1[[#This Row],[Prod.ID (B)]],Table2[[Prod.ID]:[Product naam]],2,FALSE)),IF(Table1[[#This Row],[Prod.ID (B)]]=\"nvt\",\"Grond\",\"\"))","v":""},{"$f":"IFERROR((VLOOKUP(G60,Table2[[Prod.ID]:[Levensduur '[jaar']]],3,FALSE)),\" \")","v":" "}]
[null,{"$f":"IF(Table1[[#This Row],[Prod.ID (A)]]=\"\",\"\",_xlfn.XLOOKUP(Table1[[#This Row],[Prod.ID (A)]],Table2[Prod.ID],Table2[Elem.ID],\"\",0,1))","v":""},{"$f":"IF(Table1[[#This Row],[Prod.ID (A)]]=\"\",\"\",_xlfn.XLOOKUP(Table1[[#This Row],[Prod.ID (A)]],Table2[Prod.ID],Table2[Element naam],\"\",0,1))","v":""},null,{"$f":"IFERROR((VLOOKUP(Table1[[#This Row],[Prod.ID (A)]],Table2[[Prod.ID]:[Product naam]],2,FALSE)),IF(Table1[[#This Row],[Prod.ID (A)]]=\"nvt\",\"Grond\",\"\"))","v":""},{"$f":"IFERROR((VLOOKUP(D61,Table2[[Prod.ID]:[Levensduur '[jaar']]],3,FALSE)),\"\")","v":""},null,{"$f":"IFERROR((VLOOKUP(Table1[[#This Row],[Prod.ID (B)]],Table2[[Prod.ID]:[Product naam]],2,FALSE)),IF(Table1[[#This Row],[Prod.ID (B)]]=\"nvt\",\"Grond\",\"\"))","v":""},{"$f":"IFERROR((VLOOKUP(G61,Table2[[Prod.ID]:[Levensduur '[jaar']]],3,FALSE)),\" \")","v":" "}]
[null,{"$f":"IF(Table1[[#This Row],[Prod.ID (A)]]=\"\",\"\",_xlfn.XLOOKUP(Table1[[#This Row],[Prod.ID (A)]],Table2[Prod.ID],Table2[Elem.ID],\"\",0,1))","v":""},{"$f":"IF(Table1[[#This Row],[Prod.ID (A)]]=\"\",\"\",_xlfn.XLOOKUP(Table1[[#This Row],[Prod.ID (A)]],Table2[Prod.ID],Table2[Element naam],\"\",0,1))","v":""},null,{"$f":"IFERROR((VLOOKUP(Table1[[#This Row],[Prod.ID (A)]],Table2[[Prod.ID]:[Product naam]],2,FALSE)),IF(Table1[[#This Row],[Prod.ID (A)]]=\"nvt\",\"Grond\",\"\"))","v":""},{"$f":"IFERROR((VLOOKUP(D62,Table2[[Prod.ID]:[Levensduur '[jaar']]],3,FALSE)),\"\")","v":""},null,{"$f":"IFERROR((VLOOKUP(Table1[[#This Row],[Prod.ID (B)]],Table2[[Prod.ID]:[Product naam]],2,FALSE)),IF(Table1[[#This Row],[Prod.ID (B)]]=\"nvt\",\"Grond\",\"\"))","v":""},{"$f":"IFERROR((VLOOKUP(G62,Table2[[Prod.ID]:[Levensduur '[jaar']]],3,FALSE)),\" \")","v":" "}]
[null,{"$f":"IF(Table1[[#This Row],[Prod.ID (A)]]=\"\",\"\",_xlfn.XLOOKUP(Table1[[#This Row],[Prod.ID (A)]],Table2[Prod.ID],Table2[Elem.ID],\"\",0,1))","v":""},{"$f":"IF(Table1[[#This Row],[Prod.ID (A)]]=\"\",\"\",_xlfn.XLOOKUP(Table1[[#This Row],[Prod.ID (A)]],Table2[Prod.ID],Table2[Element naam],\"\",0,1))","v":""},null,{"$f":"IFERROR((VLOOKUP(Table1[[#This Row],[Prod.ID (A)]],Table2[[Prod.ID]:[Product naam]],2,FALSE)),IF(Table1[[#This Row],[Prod.ID (A)]]=\"nvt\",\"Grond\",\"\"))","v":""},{"$f":"IFERROR((VLOOKUP(D63,Table2[[Prod.ID]:[Levensduur '[jaar']]],3,FALSE)),\"\")","v":""},null,{"$f":"IFERROR((VLOOKUP(Table1[[#This Row],[Prod.ID (B)]],Table2[[Prod.ID]:[Product naam]],2,FALSE)),IF(Table1[[#This Row],[Prod.ID (B)]]=\"nvt\",\"Grond\",\"\"))","v":""},{"$f":"IFERROR((VLOOKUP(G63,Table2[[Prod.ID]:[Levensduur '[jaar']]],3,FALSE)),\" \")","v":" "}]
[null,{"$f":"IF(Table1[[#This Row],[Prod.ID (A)]]=\"\",\"\",_xlfn.XLOOKUP(Table1[[#This Row],[Prod.ID (A)]],Table2[Prod.ID],Table2[Elem.ID],\"\",0,1))","v":""},{"$f":"IF(Table1[[#This Row],[Prod.ID (A)]]=\"\",\"\",_xlfn.XLOOKUP(Table1[[#This Row],[Prod.ID (A)]],Table2[Prod.ID],Table2[Element naam],\"\",0,1))","v":""},null,{"$f":"IFERROR((VLOOKUP(Table1[[#This Row],[Prod.ID (A)]],Table2[[Prod.ID]:[Product naam]],2,FALSE)),IF(Table1[[#This Row],[Prod.ID (A)]]=\"nvt\",\"Grond\",\"\"))","v":""},{"$f":"IFERROR((VLOOKUP(D64,Table2[[Prod.ID]:[Levensduur '[jaar']]],3,FALSE)),\"\")","v":""},null,{"$f":"IFERROR((VLOOKUP(Table1[[#This Row],[Prod.ID (B)]],Table2[[Prod.ID]:[Product naam]],2,FALSE)),IF(Table1[[#This Row],[Prod.ID (B)]]=\"nvt\",\"Grond\",\"\"))","v":""},{"$f":"IFERROR((VLOOKUP(G64,Table2[[Prod.ID]:[Levensduur '[jaar']]],3,FALSE)),\" \")","v":" "}]
[null,{"$f":"IF(Table1[[#This Row],[Prod.ID (A)]]=\"\",\"\",_xlfn.XLOOKUP(Table1[[#This Row],[Prod.ID (A)]],Table2[Prod.ID],Table2[Elem.ID],\"\",0,1))","v":""},{"$f":"IF(Table1[[#This Row],[Prod.ID (A)]]=\"\",\"\",_xlfn.XLOOKUP(Table1[[#This Row],[Prod.ID (A)]],Table2[Prod.ID],Table2[Element naam],\"\",0,1))","v":""},null,{"$f":"IFERROR((VLOOKUP(Table1[[#This Row],[Prod.ID (A)]],Table2[[Prod.ID]:[Product naam]],2,FALSE)),IF(Table1[[#This Row],[Prod.ID (A)]]=\"nvt\",\"Grond\",\"\"))","v":""},{"$f":"IFERROR((VLOOKUP(D65,Table2[[Prod.ID]:[Levensduur '[jaar']]],3,FALSE)),\"\")","v":""},null,{"$f":"IFERROR((VLOOKUP(Table1[[#This Row],[Prod.ID (B)]],Table2[[Prod.ID]:[Product naam]],2,FALSE)),IF(Table1[[#This Row],[Prod.ID (B)]]=\"nvt\",\"Grond\",\"\"))","v":""},{"$f":"IFERROR((VLOOKUP(G65,Table2[[Prod.ID]:[Levensduur '[jaar']]],3,FALSE)),\" \")","v":" "}]
[null,{"$f":"IF(Table1[[#This Row],[Prod.ID (A)]]=\"\",\"\",_xlfn.XLOOKUP(Table1[[#This Row],[Prod.ID (A)]],Table2[Prod.ID],Table2[Elem.ID],\"\",0,1))","v":""},{"$f":"IF(Table1[[#This Row],[Prod.ID (A)]]=\"\",\"\",_xlfn.XLOOKUP(Table1[[#This Row],[Prod.ID (A)]],Table2[Prod.ID],Table2[Element naam],\"\",0,1))","v":""},null,{"$f":"IFERROR((VLOOKUP(Table1[[#This Row],[Prod.ID (A)]],Table2[[Prod.ID]:[Product naam]],2,FALSE)),IF(Table1[[#This Row],[Prod.ID (A)]]=\"nvt\",\"Grond\",\"\"))","v":""},{"$f":"IFERROR((VLOOKUP(D66,Table2[[Prod.ID]:[Levensduur '[jaar']]],3,FALSE)),\"\")","v":""},null,{"$f":"IFERROR((VLOOKUP(Table1[[#This Row],[Prod.ID (B)]],Table2[[Prod.ID]:[Product naam]],2,FALSE)),IF(Table1[[#This Row],[Prod.ID (B)]]=\"nvt\",\"Grond\",\"\"))","v":""},{"$f":"IFERROR((VLOOKUP(G66,Table2[[Prod.ID]:[Levensduur '[jaar']]],3,FALSE)),\" \")","v":" "}]
[null,{"$f":"IF(Table1[[#This Row],[Prod.ID (A)]]=\"\",\"\",_xlfn.XLOOKUP(Table1[[#This Row],[Prod.ID (A)]],Table2[Prod.ID],Table2[Elem.ID],\"\",0,1))","v":""},{"$f":"IF(Table1[[#This Row],[Prod.ID (A)]]=\"\",\"\",_xlfn.XLOOKUP(Table1[[#This Row],[Prod.ID (A)]],Table2[Prod.ID],Table2[Element naam],\"\",0,1))","v":""},null,{"$f":"IFERROR((VLOOKUP(Table1[[#This Row],[Prod.ID (A)]],Table2[[Prod.ID]:[Product naam]],2,FALSE)),IF(Table1[[#This Row],[Prod.ID (A)]]=\"nvt\",\"Grond\",\"\"))","v":""},{"$f":"IFERROR((VLOOKUP(D67,Table2[[Prod.ID]:[Levensduur '[jaar']]],3,FALSE)),\"\")","v":""},null,{"$f":"IFERROR((VLOOKUP(Table1[[#This Row],[Prod.ID (B)]],Table2[[Prod.ID]:[Product naam]],2,FALSE)),IF(Table1[[#This Row],[Prod.ID (B)]]=\"nvt\",\"Grond\",\"\"))","v":""},{"$f":"IFERROR((VLOOKUP(G67,Table2[[Prod.ID]:[Levensduur '[jaar']]],3,FALSE)),\" \")","v":" "}]
[null,{"$f":"IF(Table1[[#This Row],[Prod.ID (A)]]=\"\",\"\",_xlfn.XLOOKUP(Table1[[#This Row],[Prod.ID (A)]],Table2[Prod.ID],Table2[Elem.ID],\"\",0,1))","v":""},{"$f":"IF(Table1[[#This Row],[Prod.ID (A)]]=\"\",\"\",_xlfn.XLOOKUP(Table1[[#This Row],[Prod.ID (A)]],Table2[Prod.ID],Table2[Element naam],\"\",0,1))","v":""},null,{"$f":"IFERROR((VLOOKUP(Table1[[#This Row],[Prod.ID (A)]],Table2[[Prod.ID]:[Product naam]],2,FALSE)),IF(Table1[[#This Row],[Prod.ID (A)]]=\"nvt\",\"Grond\",\"\"))","v":""},{"$f":"IFERROR((VLOOKUP(D68,Table2[[Prod.ID]:[Levensduur '[jaar']]],3,FALSE)),\"\")","v":""},null,{"$f":"IFERROR((VLOOKUP(Table1[[#This Row],[Prod.ID (B)]],Table2[[Prod.ID]:[Product naam]],2,FALSE)),IF(Table1[[#This Row],[Prod.ID (B)]]=\"nvt\",\"Grond\",\"\"))","v":""},{"$f":"IFERROR((VLOOKUP(G68,Table2[[Prod.ID]:[Levensduur '[jaar']]],3,FALSE)),\" \")","v":" "}]
[null,{"$f":"IF(Table1[[#This Row],[Prod.ID (A)]]=\"\",\"\",_xlfn.XLOOKUP(Table1[[#This Row],[Prod.ID (A)]],Table2[Prod.ID],Table2[Elem.ID],\"\",0,1))","v":""},{"$f":"IF(Table1[[#This Row],[Prod.ID (A)]]=\"\",\"\",_xlfn.XLOOKUP(Table1[[#This Row],[Prod.ID (A)]],Table2[Prod.ID],Table2[Element naam],\"\",0,1))","v":""},null,{"$f":"IFERROR((VLOOKUP(Table1[[#This Row],[Prod.ID (A)]],Table2[[Prod.ID]:[Product naam]],2,FALSE)),IF(Table1[[#This Row],[Prod.ID (A)]]=\"nvt\",\"Grond\",\"\"))","v":""},{"$f":"IFERROR((VLOOKUP(D69,Table2[[Prod.ID]:[Levensduur '[jaar']]],3,FALSE)),\"\")","v":""},null,{"$f":"IFERROR((VLOOKUP(Table1[[#This Row],[Prod.ID (B)]],Table2[[Prod.ID]:[Product naam]],2,FALSE)),IF(Table1[[#This Row],[Prod.ID (B)]]=\"nvt\",\"Grond\",\"\"))","v":""},{"$f":"IFERROR((VLOOKUP(G69,Table2[[Prod.ID]:[Levensduur '[jaar']]],3,FALSE)),\" \")","v":" "}]
[null,{"$f":"IF(Table1[[#This Row],[Prod.ID (A)]]=\"\",\"\",_xlfn.XLOOKUP(Table1[[#This Row],[Prod.ID (A)]],Table2[Prod.ID],Table2[Elem.ID],\"\",0,1))","v":""},{"$f":"IF(Table1[[#This Row],[Prod.ID (A)]]=\"\",\"\",_xlfn.XLOOKUP(Table1[[#This Row],[Prod.ID (A)]],Table2[Prod.ID],Table2[Element naam],\"\",0,1))","v":""},null,{"$f":"IFERROR((VLOOKUP(Table1[[#This Row],[Prod.ID (A)]],Table2[[Prod.ID]:[Product naam]],2,FALSE)),IF(Table1[[#This Row],[Prod.ID (A)]]=\"nvt\",\"Grond\",\"\"))","v":""},{"$f":"IFERROR((VLOOKUP(D70,Table2[[Prod.ID]:[Levensduur '[jaar']]],3,FALSE)),\"\")","v":""},null,{"$f":"IFERROR((VLOOKUP(Table1[[#This Row],[Prod.ID (B)]],Table2[[Prod.ID]:[Product naam]],2,FALSE)),IF(Table1[[#This Row],[Prod.ID (B)]]=\"nvt\",\"Grond\",\"\"))","v":""},{"$f":"IFERROR((VLOOKUP(G70,Table2[[Prod.ID]:[Levensduur '[jaar']]],3,FALSE)),\" \")","v":" "}]
[null,{"$f":"IF(Table1[[#This Row],[Prod.ID (A)]]=\"\",\"\",_xlfn.XLOOKUP(Table1[[#This Row],[Prod.ID (A)]],Table2[Prod.ID],Table2[Elem.ID],\"\",0,1))","v":""},{"$f":"IF(Table1[[#This Row],[Prod.ID (A)]]=\"\",\"\",_xlfn.XLOOKUP(Table1[[#This Row],[Prod.ID (A)]],Table2[Prod.ID],Table2[Element naam],\"\",0,1))","v":""},null,{"$f":"IFERROR((VLOOKUP(Table1[[#This Row],[Prod.ID (A)]],Table2[[Prod.ID]:[Product naam]],2,FALSE)),IF(Table1[[#This Row],[Prod.ID (A)]]=\"nvt\",\"Grond\",\"\"))","v":""},{"$f":"IFERROR((VLOOKUP(D71,Table2[[Prod.ID]:[Levensduur '[jaar']]],3,FALSE)),\"\")","v":""},null,{"$f":"IFERROR((VLOOKUP(Table1[[#This Row],[Prod.ID (B)]],Table2[[Prod.ID]:[Product naam]],2,FALSE)),IF(Table1[[#This Row],[Prod.ID (B)]]=\"nvt\",\"Grond\",\"\"))","v":""},{"$f":"IFERROR((VLOOKUP(G71,Table2[[Prod.ID]:[Levensduur '[jaar']]],3,FALSE)),\" \")","v":" "}]
[null,{"$f":"IF(Table1[[#This Row],[Prod.ID (A)]]=\"\",\"\",_xlfn.XLOOKUP(Table1[[#This Row],[Prod.ID (A)]],Table2[Prod.ID],Table2[Elem.ID],\"\",0,1))","v":""},{"$f":"IF(Table1[[#This Row],[Prod.ID (A)]]=\"\",\"\",_xlfn.XLOOKUP(Table1[[#This Row],[Prod.ID (A)]],Table2[Prod.ID],Table2[Element naam],\"\",0,1))","v":""},null,{"$f":"IFERROR((VLOOKUP(Table1[[#This Row],[Prod.ID (A)]],Table2[[Prod.ID]:[Product naam]],2,FALSE)),IF(Table1[[#This Row],[Prod.ID (A)]]=\"nvt\",\"Grond\",\"\"))","v":""},{"$f":"IFERROR((VLOOKUP(D72,Table2[[Prod.ID]:[Levensduur '[jaar']]],3,FALSE)),\"\")","v":""},null,{"$f":"IFERROR((VLOOKUP(Table1[[#This Row],[Prod.ID (B)]],Table2[[Prod.ID]:[Product naam]],2,FALSE)),IF(Table1[[#This Row],[Prod.ID (B)]]=\"nvt\",\"Grond\",\"\"))","v":""},{"$f":"IFERROR((VLOOKUP(G72,Table2[[Prod.ID]:[Levensduur '[jaar']]],3,FALSE)),\" \")","v":" "}]
[null,{"$f":"IF(Table1[[#This Row],[Prod.ID (A)]]=\"\",\"\",_xlfn.XLOOKUP(Table1[[#This Row],[Prod.ID (A)]],Table2[Prod.ID],Table2[Elem.ID],\"\",0,1))","v":""},{"$f":"IF(Table1[[#This Row],[Prod.ID (A)]]=\"\",\"\",_xlfn.XLOOKUP(Table1[[#This Row],[Prod.ID (A)]],Table2[Prod.ID],Table2[Element naam],\"\",0,1))","v":""},null,{"$f":"IFERROR((VLOOKUP(Table1[[#This Row],[Prod.ID (A)]],Table2[[Prod.ID]:[Product naam]],2,FALSE)),IF(Table1[[#This Row],[Prod.ID (A)]]=\"nvt\",\"Grond\",\"\"))","v":""},{"$f":"IFERROR((VLOOKUP(D73,Table2[[Prod.ID]:[Levensduur '[jaar']]],3,FALSE)),\"\")","v":""},null,{"$f":"IFERROR((VLOOKUP(Table1[[#This Row],[Prod.ID (B)]],Table2[[Prod.ID]:[Product naam]],2,FALSE)),IF(Table1[[#This Row],[Prod.ID (B)]]=\"nvt\",\"Grond\",\"\"))","v":""},{"$f":"IFERROR((VLOOKUP(G73,Table2[[Prod.ID]:[Levensduur '[jaar']]],3,FALSE)),\" \")","v":" "}]
[null,{"$f":"IF(Table1[[#This Row],[Prod.ID (A)]]=\"\",\"\",_xlfn.XLOOKUP(Table1[[#This Row],[Prod.ID (A)]],Table2[Prod.ID],Table2[Elem.ID],\"\",0,1))","v":""},{"$f":"IF(Table1[[#This Row],[Prod.ID (A)]]=\"\",\"\",_xlfn.XLOOKUP(Table1[[#This Row],[Prod.ID (A)]],Table2[Prod.ID],Table2[Element naam],\"\",0,1))","v":""},null,{"$f":"IFERROR((VLOOKUP(Table1[[#This Row],[Prod.ID (A)]],Table2[[Prod.ID]:[Product naam]],2,FALSE)),IF(Table1[[#This Row],[Prod.ID (A)]]=\"nvt\",\"Grond\",\"\"))","v":""},{"$f":"IFERROR((VLOOKUP(D74,Table2[[Prod.ID]:[Levensduur '[jaar']]],3,FALSE)),\"\")","v":""},null,{"$f":"IFERROR((VLOOKUP(Table1[[#This Row],[Prod.ID (B)]],Table2[[Prod.ID]:[Product naam]],2,FALSE)),IF(Table1[[#This Row],[Prod.ID (B)]]=\"nvt\",\"Grond\",\"\"))","v":""},{"$f":"IFERROR((VLOOKUP(G74,Table2[[Prod.ID]:[Levensduur '[jaar']]],3,FALSE)),\" \")","v":" "}]
[null,{"$f":"IF(Table1[[#This Row],[Prod.ID (A)]]=\"\",\"\",_xlfn.XLOOKUP(Table1[[#This Row],[Prod.ID (A)]],Table2[Prod.ID],Table2[Elem.ID],\"\",0,1))","v":""},{"$f":"IF(Table1[[#This Row],[Prod.ID (A)]]=\"\",\"\",_xlfn.XLOOKUP(Table1[[#This Row],[Prod.ID (A)]],Table2[Prod.ID],Table2[Element naam],\"\",0,1))","v":""},null,{"$f":"IFERROR((VLOOKUP(Table1[[#This Row],[Prod.ID (A)]],Table2[[Prod.ID]:[Product naam]],2,FALSE)),IF(Table1[[#This Row],[Prod.ID (A)]]=\"nvt\",\"Grond\",\"\"))","v":""},{"$f":"IFERROR((VLOOKUP(D75,Table2[[Prod.ID]:[Levensduur '[jaar']]],3,FALSE)),\"\")","v":""},null,{"$f":"IFERROR((VLOOKUP(Table1[[#This Row],[Prod.ID (B)]],Table2[[Prod.ID]:[Product naam]],2,FALSE)),IF(Table1[[#This Row],[Prod.ID (B)]]=\"nvt\",\"Grond\",\"\"))","v":""},{"$f":"IFERROR((VLOOKUP(G75,Table2[[Prod.ID]:[Levensduur '[jaar']]],3,FALSE)),\" \")","v":" "}]
[null,{"$f":"IF(Table1[[#This Row],[Prod.ID (A)]]=\"\",\"\",_xlfn.XLOOKUP(Table1[[#This Row],[Prod.ID (A)]],Table2[Prod.ID],Table2[Elem.ID],\"\",0,1))","v":""},{"$f":"IF(Table1[[#This Row],[Prod.ID (A)]]=\"\",\"\",_xlfn.XLOOKUP(Table1[[#This Row],[Prod.ID (A)]],Table2[Prod.ID],Table2[Element naam],\"\",0,1))","v":""},null,{"$f":"IFERROR((VLOOKUP(Table1[[#This Row],[Prod.ID (A)]],Table2[[Prod.ID]:[Product naam]],2,FALSE)),IF(Table1[[#This Row],[Prod.ID (A)]]=\"nvt\",\"Grond\",\"\"))","v":""},{"$f":"IFERROR((VLOOKUP(D76,Table2[[Prod.ID]:[Levensduur '[jaar']]],3,FALSE)),\"\")","v":""},null,{"$f":"IFERROR((VLOOKUP(Table1[[#This Row],[Prod.ID (B)]],Table2[[Prod.ID]:[Product naam]],2,FALSE)),IF(Table1[[#This Row],[Prod.ID (B)]]=\"nvt\",\"Grond\",\"\"))","v":""},{"$f":"IFERROR((VLOOKUP(G76,Table2[[Prod.ID]:[Levensduur '[jaar']]],3,FALSE)),\" \")","v":" "}]
[null,{"$f":"IF(Table1[[#This Row],[Prod.ID (A)]]=\"\",\"\",_xlfn.XLOOKUP(Table1[[#This Row],[Prod.ID (A)]],Table2[Prod.ID],Table2[Elem.ID],\"\",0,1))","v":""},{"$f":"IF(Table1[[#This Row],[Prod.ID (A)]]=\"\",\"\",_xlfn.XLOOKUP(Table1[[#This Row],[Prod.ID (A)]],Table2[Prod.ID],Table2[Element naam],\"\",0,1))","v":""},null,{"$f":"IFERROR((VLOOKUP(Table1[[#This Row],[Prod.ID (A)]],Table2[[Prod.ID]:[Product naam]],2,FALSE)),IF(Table1[[#This Row],[Prod.ID (A)]]=\"nvt\",\"Grond\",\"\"))","v":""},{"$f":"IFERROR((VLOOKUP(D77,Table2[[Prod.ID]:[Levensduur '[jaar']]],3,FALSE)),\"\")","v":""},null,{"$f":"IFERROR((VLOOKUP(Table1[[#This Row],[Prod.ID (B)]],Table2[[Prod.ID]:[Product naam]],2,FALSE)),IF(Table1[[#This Row],[Prod.ID (B)]]=\"nvt\",\"Grond\",\"\"))","v":""},{"$f":"IFERROR((VLOOKUP(G77,Table2[[Prod.ID]:[Levensduur '[jaar']]],3,FALSE)),\" \")","v":" "}]
[null,{"$f":"IF(Table1[[#This Row],[Prod.ID (A)]]=\"\",\"\",_xlfn.XLOOKUP(Table1[[#This Row],[Prod.ID (A)]],Table2[Prod.ID],Table2[Elem.ID],\"\",0,1))","v":""},{"$f":"IF(Table1[[#This Row],[Prod.ID (A)]]=\"\",\"\",_xlfn.XLOOKUP(Table1[[#This Row],[Prod.ID (A)]],Table2[Prod.ID],Table2[Element naam],\"\",0,1))","v":""},null,{"$f":"IFERROR((VLOOKUP(Table1[[#This Row],[Prod.ID (A)]],Table2[[Prod.ID]:[Product naam]],2,FALSE)),IF(Table1[[#This Row],[Prod.ID (A)]]=\"nvt\",\"Grond\",\"\"))","v":""},{"$f":"IFERROR((VLOOKUP(D78,Table2[[Prod.ID]:[Levensduur '[jaar']]],3,FALSE)),\"\")","v":""},null,{"$f":"IFERROR((VLOOKUP(Table1[[#This Row],[Prod.ID (B)]],Table2[[Prod.ID]:[Product naam]],2,FALSE)),IF(Table1[[#This Row],[Prod.ID (B)]]=\"nvt\",\"Grond\",\"\"))","v":""},{"$f":"IFERROR((VLOOKUP(G78,Table2[[Prod.ID]:[Levensduur '[jaar']]],3,FALSE)),\" \")","v":" "}]
[null,{"$f":"IF(Table1[[#This Row],[Prod.ID (A)]]=\"\",\"\",_xlfn.XLOOKUP(Table1[[#This Row],[Prod.ID (A)]],Table2[Prod.ID],Table2[Elem.ID],\"\",0,1))","v":""},{"$f":"IF(Table1[[#This Row],[Prod.ID (A)]]=\"\",\"\",_xlfn.XLOOKUP(Table1[[#This Row],[Prod.ID (A)]],Table2[Prod.ID],Table2[Element naam],\"\",0,1))","v":""},null,{"$f":"IFERROR((VLOOKUP(Table1[[#This Row],[Prod.ID (A)]],Table2[[Prod.ID]:[Product naam]],2,FALSE)),IF(Table1[[#This Row],[Prod.ID (A)]]=\"nvt\",\"Grond\",\"\"))","v":""},{"$f":"IFERROR((VLOOKUP(D79,Table2[[Prod.ID]:[Levensduur '[jaar']]],3,FALSE)),\"\")","v":""},null,{"$f":"IFERROR((VLOOKUP(Table1[[#This Row],[Prod.ID (B)]],Table2[[Prod.ID]:[Product naam]],2,FALSE)),IF(Table1[[#This Row],[Prod.ID (B)]]=\"nvt\",\"Grond\",\"\"))","v":""},{"$f":"IFERROR((VLOOKUP(G79,Table2[[Prod.ID]:[Levensduur '[jaar']]],3,FALSE)),\" \")","v":" "}]
[null,{"$f":"IF(Table1[[#This Row],[Prod.ID (A)]]=\"\",\"\",_xlfn.XLOOKUP(Table1[[#This Row],[Prod.ID (A)]],Table2[Prod.ID],Table2[Elem.ID],\"\",0,1))","v":""},{"$f":"IF(Table1[[#This Row],[Prod.ID (A)]]=\"\",\"\",_xlfn.XLOOKUP(Table1[[#This Row],[Prod.ID (A)]],Table2[Prod.ID],Table2[Element naam],\"\",0,1))","v":""},null,{"$f":"IFERROR((VLOOKUP(Table1[[#This Row],[Prod.ID (A)]],Table2[[Prod.ID]:[Product naam]],2,FALSE)),IF(Table1[[#This Row],[Prod.ID (A)]]=\"nvt\",\"Grond\",\"\"))","v":""},{"$f":"IFERROR((VLOOKUP(D80,Table2[[Prod.ID]:[Levensduur '[jaar']]],3,FALSE)),\"\")","v":""},null,{"$f":"IFERROR((VLOOKUP(Table1[[#This Row],[Prod.ID (B)]],Table2[[Prod.ID]:[Product naam]],2,FALSE)),IF(Table1[[#This Row],[Prod.ID (B)]]=\"nvt\",\"Grond\",\"\"))","v":""},{"$f":"IFERROR((VLOOKUP(G80,Table2[[Prod.ID]:[Levensduur '[jaar']]],3,FALSE)),\" \")","v":" "}]
[null,{"$f":"IF(Table1[[#This Row],[Prod.ID (A)]]=\"\",\"\",_xlfn.XLOOKUP(Table1[[#This Row],[Prod.ID (A)]],Table2[Prod.ID],Table2[Elem.ID],\"\",0,1))","v":""},{"$f":"IF(Table1[[#This Row],[Prod.ID (A)]]=\"\",\"\",_xlfn.XLOOKUP(Table1[[#This Row],[Prod.ID (A)]],Table2[Prod.ID],Table2[Element naam],\"\",0,1))","v":""},null,{"$f":"IFERROR((VLOOKUP(Table1[[#This Row],[Prod.ID (A)]],Table2[[Prod.ID]:[Product naam]],2,FALSE)),IF(Table1[[#This Row],[Prod.ID (A)]]=\"nvt\",\"Grond\",\"\"))","v":""},{"$f":"IFERROR((VLOOKUP(D81,Table2[[Prod.ID]:[Levensduur '[jaar']]],3,FALSE)),\"\")","v":""},null,{"$f":"IFERROR((VLOOKUP(Table1[[#This Row],[Prod.ID (B)]],Table2[[Prod.ID]:[Product naam]],2,FALSE)),IF(Table1[[#This Row],[Prod.ID (B)]]=\"nvt\",\"Grond\",\"\"))","v":""},{"$f":"IFERROR((VLOOKUP(G81,Table2[[Prod.ID]:[Levensduur '[jaar']]],3,FALSE)),\" \")","v":" "}]
[null,{"$f":"IF(Table1[[#This Row],[Prod.ID (A)]]=\"\",\"\",_xlfn.XLOOKUP(Table1[[#This Row],[Prod.ID (A)]],Table2[Prod.ID],Table2[Elem.ID],\"\",0,1))","v":""},{"$f":"IF(Table1[[#This Row],[Prod.ID (A)]]=\"\",\"\",_xlfn.XLOOKUP(Table1[[#This Row],[Prod.ID (A)]],Table2[Prod.ID],Table2[Element naam],\"\",0,1))","v":""},null,{"$f":"IFERROR((VLOOKUP(Table1[[#This Row],[Prod.ID (A)]],Table2[[Prod.ID]:[Product naam]],2,FALSE)),IF(Table1[[#This Row],[Prod.ID (A)]]=\"nvt\",\"Grond\",\"\"))","v":""},{"$f":"IFERROR((VLOOKUP(D82,Table2[[Prod.ID]:[Levensduur '[jaar']]],3,FALSE)),\"\")","v":""},null,{"$f":"IFERROR((VLOOKUP(Table1[[#This Row],[Prod.ID (B)]],Table2[[Prod.ID]:[Product naam]],2,FALSE)),IF(Table1[[#This Row],[Prod.ID (B)]]=\"nvt\",\"Grond\",\"\"))","v":""},{"$f":"IFERROR((VLOOKUP(G82,Table2[[Prod.ID]:[Levensduur '[jaar']]],3,FALSE)),\" \")","v":" "}]
[null,{"$f":"IF(Table1[[#This Row],[Prod.ID (A)]]=\"\",\"\",_xlfn.XLOOKUP(Table1[[#This Row],[Prod.ID (A)]],Table2[Prod.ID],Table2[Elem.ID],\"\",0,1))","v":""},{"$f":"IF(Table1[[#This Row],[Prod.ID (A)]]=\"\",\"\",_xlfn.XLOOKUP(Table1[[#This Row],[Prod.ID (A)]],Table2[Prod.ID],Table2[Element naam],\"\",0,1))","v":""},null,{"$f":"IFERROR((VLOOKUP(Table1[[#This Row],[Prod.ID (A)]],Table2[[Prod.ID]:[Product naam]],2,FALSE)),IF(Table1[[#This Row],[Prod.ID (A)]]=\"nvt\",\"Grond\",\"\"))","v":""},{"$f":"IFERROR((VLOOKUP(D83,Table2[[Prod.ID]:[Levensduur '[jaar']]],3,FALSE)),\"\")","v":""},null,{"$f":"IFERROR((VLOOKUP(Table1[[#This Row],[Prod.ID (B)]],Table2[[Prod.ID]:[Product naam]],2,FALSE)),IF(Table1[[#This Row],[Prod.ID (B)]]=\"nvt\",\"Grond\",\"\"))","v":""},{"$f":"IFERROR((VLOOKUP(G83,Table2[[Prod.ID]:[Levensduur '[jaar']]],3,FALSE)),\" \")","v":" "}]
[null,{"$f":"IF(Table1[[#This Row],[Prod.ID (A)]]=\"\",\"\",_xlfn.XLOOKUP(Table1[[#This Row],[Prod.ID (A)]],Table2[Prod.ID],Table2[Elem.ID],\"\",0,1))","v":""},{"$f":"IF(Table1[[#This Row],[Prod.ID (A)]]=\"\",\"\",_xlfn.XLOOKUP(Table1[[#This Row],[Prod.ID (A)]],Table2[Prod.ID],Table2[Element naam],\"\",0,1))","v":""},null,{"$f":"IFERROR((VLOOKUP(Table1[[#This Row],[Prod.ID (A)]],Table2[[Prod.ID]:[Product naam]],2,FALSE)),IF(Table1[[#This Row],[Prod.ID (A)]]=\"nvt\",\"Grond\",\"\"))","v":""},{"$f":"IFERROR((VLOOKUP(D84,Table2[[Prod.ID]:[Levensduur '[jaar']]],3,FALSE)),\"\")","v":""},null,{"$f":"IFERROR((VLOOKUP(Table1[[#This Row],[Prod.ID (B)]],Table2[[Prod.ID]:[Product naam]],2,FALSE)),IF(Table1[[#This Row],[Prod.ID (B)]]=\"nvt\",\"Grond\",\"\"))","v":""},{"$f":"IFERROR((VLOOKUP(G84,Table2[[Prod.ID]:[Levensduur '[jaar']]],3,FALSE)),\" \")","v":" "}]
[null,{"$f":"IF(Table1[[#This Row],[Prod.ID (A)]]=\"\",\"\",_xlfn.XLOOKUP(Table1[[#This Row],[Prod.ID (A)]],Table2[Prod.ID],Table2[Elem.ID],\"\",0,1))","v":""},{"$f":"IF(Table1[[#This Row],[Prod.ID (A)]]=\"\",\"\",_xlfn.XLOOKUP(Table1[[#This Row],[Prod.ID (A)]],Table2[Prod.ID],Table2[Element naam],\"\",0,1))","v":""},null,{"$f":"IFERROR((VLOOKUP(Table1[[#This Row],[Prod.ID (A)]],Table2[[Prod.ID]:[Product naam]],2,FALSE)),IF(Table1[[#This Row],[Prod.ID (A)]]=\"nvt\",\"Grond\",\"\"))","v":""},{"$f":"IFERROR((VLOOKUP(D85,Table2[[Prod.ID]:[Levensduur '[jaar']]],3,FALSE)),\"\")","v":""},null,{"$f":"IFERROR((VLOOKUP(Table1[[#This Row],[Prod.ID (B)]],Table2[[Prod.ID]:[Product naam]],2,FALSE)),IF(Table1[[#This Row],[Prod.ID (B)]]=\"nvt\",\"Grond\",\"\"))","v":""},{"$f":"IFERROR((VLOOKUP(G85,Table2[[Prod.ID]:[Levensduur '[jaar']]],3,FALSE)),\" \")","v":" "}]
[null,{"$f":"IF(Table1[[#This Row],[Prod.ID (A)]]=\"\",\"\",_xlfn.XLOOKUP(Table1[[#This Row],[Prod.ID (A)]],Table2[Prod.ID],Table2[Elem.ID],\"\",0,1))","v":""},{"$f":"IF(Table1[[#This Row],[Prod.ID (A)]]=\"\",\"\",_xlfn.XLOOKUP(Table1[[#This Row],[Prod.ID (A)]],Table2[Prod.ID],Table2[Element naam],\"\",0,1))","v":""},null,{"$f":"IFERROR((VLOOKUP(Table1[[#This Row],[Prod.ID (A)]],Table2[[Prod.ID]:[Product naam]],2,FALSE)),IF(Table1[[#This Row],[Prod.ID (A)]]=\"nvt\",\"Grond\",\"\"))","v":""},{"$f":"IFERROR((VLOOKUP(D86,Table2[[Prod.ID]:[Levensduur '[jaar']]],3,FALSE)),\"\")","v":""},null,{"$f":"IFERROR((VLOOKUP(Table1[[#This Row],[Prod.ID (B)]],Table2[[Prod.ID]:[Product naam]],2,FALSE)),IF(Table1[[#This Row],[Prod.ID (B)]]=\"nvt\",\"Grond\",\"\"))","v":""},{"$f":"IFERROR((VLOOKUP(G86,Table2[[Prod.ID]:[Levensduur '[jaar']]],3,FALSE)),\" \")","v":" "}]
[null,{"$f":"IF(Table1[[#This Row],[Prod.ID (A)]]=\"\",\"\",_xlfn.XLOOKUP(Table1[[#This Row],[Prod.ID (A)]],Table2[Prod.ID],Table2[Elem.ID],\"\",0,1))","v":""},{"$f":"IF(Table1[[#This Row],[Prod.ID (A)]]=\"\",\"\",_xlfn.XLOOKUP(Table1[[#This Row],[Prod.ID (A)]],Table2[Prod.ID],Table2[Element naam],\"\",0,1))","v":""},null,{"$f":"IFERROR((VLOOKUP(Table1[[#This Row],[Prod.ID (A)]],Table2[[Prod.ID]:[Product naam]],2,FALSE)),IF(Table1[[#This Row],[Prod.ID (A)]]=\"nvt\",\"Grond\",\"\"))","v":""},{"$f":"IFERROR((VLOOKUP(D87,Table2[[Prod.ID]:[Levensduur '[jaar']]],3,FALSE)),\"\")","v":""},null,{"$f":"IFERROR((VLOOKUP(Table1[[#This Row],[Prod.ID (B)]],Table2[[Prod.ID]:[Product naam]],2,FALSE)),IF(Table1[[#This Row],[Prod.ID (B)]]=\"nvt\",\"Grond\",\"\"))","v":""},{"$f":"IFERROR((VLOOKUP(G87,Table2[[Prod.ID]:[Levensduur '[jaar']]],3,FALSE)),\" \")","v":" "}]
[null,{"$f":"IF(Table1[[#This Row],[Prod.ID (A)]]=\"\",\"\",_xlfn.XLOOKUP(Table1[[#This Row],[Prod.ID (A)]],Table2[Prod.ID],Table2[Elem.ID],\"\",0,1))","v":""},{"$f":"IF(Table1[[#This Row],[Prod.ID (A)]]=\"\",\"\",_xlfn.XLOOKUP(Table1[[#This Row],[Prod.ID (A)]],Table2[Prod.ID],Table2[Element naam],\"\",0,1))","v":""},null,{"$f":"IFERROR((VLOOKUP(Table1[[#This Row],[Prod.ID (A)]],Table2[[Prod.ID]:[Product naam]],2,FALSE)),IF(Table1[[#This Row],[Prod.ID (A)]]=\"nvt\",\"Grond\",\"\"))","v":""},{"$f":"IFERROR((VLOOKUP(D88,Table2[[Prod.ID]:[Levensduur '[jaar']]],3,FALSE)),\"\")","v":""},null,{"$f":"IFERROR((VLOOKUP(Table1[[#This Row],[Prod.ID (B)]],Table2[[Prod.ID]:[Product naam]],2,FALSE)),IF(Table1[[#This Row],[Prod.ID (B)]]=\"nvt\",\"Grond\",\"\"))","v":""},{"$f":"IFERROR((VLOOKUP(G88,Table2[[Prod.ID]:[Levensduur '[jaar']]],3,FALSE)),\" \")","v":" "}]
[null,{"$f":"IF(Table1[[#This Row],[Prod.ID (A)]]=\"\",\"\",_xlfn.XLOOKUP(Table1[[#This Row],[Prod.ID (A)]],Table2[Prod.ID],Table2[Elem.ID],\"\",0,1))","v":""},{"$f":"IF(Table1[[#This Row],[Prod.ID (A)]]=\"\",\"\",_xlfn.XLOOKUP(Table1[[#This Row],[Prod.ID (A)]],Table2[Prod.ID],Table2[Element naam],\"\",0,1))","v":""},null,{"$f":"IFERROR((VLOOKUP(Table1[[#This Row],[Prod.ID (A)]],Table2[[Prod.ID]:[Product naam]],2,FALSE)),IF(Table1[[#This Row],[Prod.ID (A)]]=\"nvt\",\"Grond\",\"\"))","v":""},{"$f":"IFERROR((VLOOKUP(D89,Table2[[Prod.ID]:[Levensduur '[jaar']]],3,FALSE)),\"\")","v":""},null,{"$f":"IFERROR((VLOOKUP(Table1[[#This Row],[Prod.ID (B)]],Table2[[Prod.ID]:[Product naam]],2,FALSE)),IF(Table1[[#This Row],[Prod.ID (B)]]=\"nvt\",\"Grond\",\"\"))","v":""},{"$f":"IFERROR((VLOOKUP(G89,Table2[[Prod.ID]:[Levensduur '[jaar']]],3,FALSE)),\" \")","v":" "}]
[null,{"$f":"IF(Table1[[#This Row],[Prod.ID (A)]]=\"\",\"\",_xlfn.XLOOKUP(Table1[[#This Row],[Prod.ID (A)]],Table2[Prod.ID],Table2[Elem.ID],\"\",0,1))","v":""},{"$f":"IF(Table1[[#This Row],[Prod.ID (A)]]=\"\",\"\",_xlfn.XLOOKUP(Table1[[#This Row],[Prod.ID (A)]],Table2[Prod.ID],Table2[Element naam],\"\",0,1))","v":""},null,{"$f":"IFERROR((VLOOKUP(Table1[[#This Row],[Prod.ID (A)]],Table2[[Prod.ID]:[Product naam]],2,FALSE)),IF(Table1[[#This Row],[Prod.ID (A)]]=\"nvt\",\"Grond\",\"\"))","v":""},{"$f":"IFERROR((VLOOKUP(D90,Table2[[Prod.ID]:[Levensduur '[jaar']]],3,FALSE)),\"\")","v":""},null,{"$f":"IFERROR((VLOOKUP(Table1[[#This Row],[Prod.ID (B)]],Table2[[Prod.ID]:[Product naam]],2,FALSE)),IF(Table1[[#This Row],[Prod.ID (B)]]=\"nvt\",\"Grond\",\"\"))","v":""},{"$f":"IFERROR((VLOOKUP(G90,Table2[[Prod.ID]:[Levensduur '[jaar']]],3,FALSE)),\" \")","v":" "}]
[null,{"$f":"IF(Table1[[#This Row],[Prod.ID (A)]]=\"\",\"\",_xlfn.XLOOKUP(Table1[[#This Row],[Prod.ID (A)]],Table2[Prod.ID],Table2[Elem.ID],\"\",0,1))","v":""},{"$f":"IF(Table1[[#This Row],[Prod.ID (A)]]=\"\",\"\",_xlfn.XLOOKUP(Table1[[#This Row],[Prod.ID (A)]],Table2[Prod.ID],Table2[Element naam],\"\",0,1))","v":""},null,{"$f":"IFERROR((VLOOKUP(Table1[[#This Row],[Prod.ID (A)]],Table2[[Prod.ID]:[Product naam]],2,FALSE)),IF(Table1[[#This Row],[Prod.ID (A)]]=\"nvt\",\"Grond\",\"\"))","v":""},{"$f":"IFERROR((VLOOKUP(D91,Table2[[Prod.ID]:[Levensduur '[jaar']]],3,FALSE)),\"\")","v":""},null,{"$f":"IFERROR((VLOOKUP(Table1[[#This Row],[Prod.ID (B)]],Table2[[Prod.ID]:[Product naam]],2,FALSE)),IF(Table1[[#This Row],[Prod.ID (B)]]=\"nvt\",\"Grond\",\"\"))","v":""},{"$f":"IFERROR((VLOOKUP(G91,Table2[[Prod.ID]:[Levensduur '[jaar']]],3,FALSE)),\" \")","v":" "}]
[null,{"$f":"IF(Table1[[#This Row],[Prod.ID (A)]]=\"\",\"\",_xlfn.XLOOKUP(Table1[[#This Row],[Prod.ID (A)]],Table2[Prod.ID],Table2[Elem.ID],\"\",0,1))","v":""},{"$f":"IF(Table1[[#This Row],[Prod.ID (A)]]=\"\",\"\",_xlfn.XLOOKUP(Table1[[#This Row],[Prod.ID (A)]],Table2[Prod.ID],Table2[Element naam],\"\",0,1))","v":""},null,{"$f":"IFERROR((VLOOKUP(Table1[[#This Row],[Prod.ID (A)]],Table2[[Prod.ID]:[Product naam]],2,FALSE)),IF(Table1[[#This Row],[Prod.ID (A)]]=\"nvt\",\"Grond\",\"\"))","v":""},{"$f":"IFERROR((VLOOKUP(D92,Table2[[Prod.ID]:[Levensduur '[jaar']]],3,FALSE)),\"\")","v":""},null,{"$f":"IFERROR((VLOOKUP(Table1[[#This Row],[Prod.ID (B)]],Table2[[Prod.ID]:[Product naam]],2,FALSE)),IF(Table1[[#This Row],[Prod.ID (B)]]=\"nvt\",\"Grond\",\"\"))","v":""},{"$f":"IFERROR((VLOOKUP(G92,Table2[[Prod.ID]:[Levensduur '[jaar']]],3,FALSE)),\" \")","v":" "}]
[null,{"$f":"IF(Table1[[#This Row],[Prod.ID (A)]]=\"\",\"\",_xlfn.XLOOKUP(Table1[[#This Row],[Prod.ID (A)]],Table2[Prod.ID],Table2[Elem.ID],\"\",0,1))","v":""},{"$f":"IF(Table1[[#This Row],[Prod.ID (A)]]=\"\",\"\",_xlfn.XLOOKUP(Table1[[#This Row],[Prod.ID (A)]],Table2[Prod.ID],Table2[Element naam],\"\",0,1))","v":""},null,{"$f":"IFERROR((VLOOKUP(Table1[[#This Row],[Prod.ID (A)]],Table2[[Prod.ID]:[Product naam]],2,FALSE)),IF(Table1[[#This Row],[Prod.ID (A)]]=\"nvt\",\"Grond\",\"\"))","v":""},{"$f":"IFERROR((VLOOKUP(D93,Table2[[Prod.ID]:[Levensduur '[jaar']]],3,FALSE)),\"\")","v":""},null,{"$f":"IFERROR((VLOOKUP(Table1[[#This Row],[Prod.ID (B)]],Table2[[Prod.ID]:[Product naam]],2,FALSE)),IF(Table1[[#This Row],[Prod.ID (B)]]=\"nvt\",\"Grond\",\"\"))","v":""},{"$f":"IFERROR((VLOOKUP(G93,Table2[[Prod.ID]:[Levensduur '[jaar']]],3,FALSE)),\" \")","v":" "}]
[null,{"$f":"IF(Table1[[#This Row],[Prod.ID (A)]]=\"\",\"\",_xlfn.XLOOKUP(Table1[[#This Row],[Prod.ID (A)]],Table2[Prod.ID],Table2[Elem.ID],\"\",0,1))","v":""},{"$f":"IF(Table1[[#This Row],[Prod.ID (A)]]=\"\",\"\",_xlfn.XLOOKUP(Table1[[#This Row],[Prod.ID (A)]],Table2[Prod.ID],Table2[Element naam],\"\",0,1))","v":""},null,{"$f":"IFERROR((VLOOKUP(Table1[[#This Row],[Prod.ID (A)]],Table2[[Prod.ID]:[Product naam]],2,FALSE)),IF(Table1[[#This Row],[Prod.ID (A)]]=\"nvt\",\"Grond\",\"\"))","v":""},{"$f":"IFERROR((VLOOKUP(D94,Table2[[Prod.ID]:[Levensduur '[jaar']]],3,FALSE)),\"\")","v":""},null,{"$f":"IFERROR((VLOOKUP(Table1[[#This Row],[Prod.ID (B)]],Table2[[Prod.ID]:[Product naam]],2,FALSE)),IF(Table1[[#This Row],[Prod.ID (B)]]=\"nvt\",\"Grond\",\"\"))","v":""},{"$f":"IFERROR((VLOOKUP(G94,Table2[[Prod.ID]:[Levensduur '[jaar']]],3,FALSE)),\" \")","v":" "}]
[null,{"$f":"IF(Table1[[#This Row],[Prod.ID (A)]]=\"\",\"\",_xlfn.XLOOKUP(Table1[[#This Row],[Prod.ID (A)]],Table2[Prod.ID],Table2[Elem.ID],\"\",0,1))","v":""},{"$f":"IF(Table1[[#This Row],[Prod.ID (A)]]=\"\",\"\",_xlfn.XLOOKUP(Table1[[#This Row],[Prod.ID (A)]],Table2[Prod.ID],Table2[Element naam],\"\",0,1))","v":""},null,{"$f":"IFERROR((VLOOKUP(Table1[[#This Row],[Prod.ID (A)]],Table2[[Prod.ID]:[Product naam]],2,FALSE)),IF(Table1[[#This Row],[Prod.ID (A)]]=\"nvt\",\"Grond\",\"\"))","v":""},{"$f":"IFERROR((VLOOKUP(D95,Table2[[Prod.ID]:[Levensduur '[jaar']]],3,FALSE)),\"\")","v":""},null,{"$f":"IFERROR((VLOOKUP(Table1[[#This Row],[Prod.ID (B)]],Table2[[Prod.ID]:[Product naam]],2,FALSE)),IF(Table1[[#This Row],[Prod.ID (B)]]=\"nvt\",\"Grond\",\"\"))","v":""},{"$f":"IFERROR((VLOOKUP(G95,Table2[[Prod.ID]:[Levensduur '[jaar']]],3,FALSE)),\" \")","v":" "}]
[null,{"$f":"IF(Table1[[#This Row],[Prod.ID (A)]]=\"\",\"\",_xlfn.XLOOKUP(Table1[[#This Row],[Prod.ID (A)]],Table2[Prod.ID],Table2[Elem.ID],\"\",0,1))","v":""},{"$f":"IF(Table1[[#This Row],[Prod.ID (A)]]=\"\",\"\",_xlfn.XLOOKUP(Table1[[#This Row],[Prod.ID (A)]],Table2[Prod.ID],Table2[Element naam],\"\",0,1))","v":""},null,{"$f":"IFERROR((VLOOKUP(Table1[[#This Row],[Prod.ID (A)]],Table2[[Prod.ID]:[Product naam]],2,FALSE)),IF(Table1[[#This Row],[Prod.ID (A)]]=\"nvt\",\"Grond\",\"\"))","v":""},{"$f":"IFERROR((VLOOKUP(D96,Table2[[Prod.ID]:[Levensduur '[jaar']]],3,FALSE)),\"\")","v":""},null,{"$f":"IFERROR((VLOOKUP(Table1[[#This Row],[Prod.ID (B)]],Table2[[Prod.ID]:[Product naam]],2,FALSE)),IF(Table1[[#This Row],[Prod.ID (B)]]=\"nvt\",\"Grond\",\"\"))","v":""},{"$f":"IFERROR((VLOOKUP(G96,Table2[[Prod.ID]:[Levensduur '[jaar']]],3,FALSE)),\" \")","v":" "}]
[null,{"$f":"IF(Table1[[#This Row],[Prod.ID (A)]]=\"\",\"\",_xlfn.XLOOKUP(Table1[[#This Row],[Prod.ID (A)]],Table2[Prod.ID],Table2[Elem.ID],\"\",0,1))","v":""},{"$f":"IF(Table1[[#This Row],[Prod.ID (A)]]=\"\",\"\",_xlfn.XLOOKUP(Table1[[#This Row],[Prod.ID (A)]],Table2[Prod.ID],Table2[Element naam],\"\",0,1))","v":""},null,{"$f":"IFERROR((VLOOKUP(Table1[[#This Row],[Prod.ID (A)]],Table2[[Prod.ID]:[Product naam]],2,FALSE)),IF(Table1[[#This Row],[Prod.ID (A)]]=\"nvt\",\"Grond\",\"\"))","v":""},{"$f":"IFERROR((VLOOKUP(D97,Table2[[Prod.ID]:[Levensduur '[jaar']]],3,FALSE)),\"\")","v":""},null,{"$f":"IFERROR((VLOOKUP(Table1[[#This Row],[Prod.ID (B)]],Table2[[Prod.ID]:[Product naam]],2,FALSE)),IF(Table1[[#This Row],[Prod.ID (B)]]=\"nvt\",\"Grond\",\"\"))","v":""},{"$f":"IFERROR((VLOOKUP(G97,Table2[[Prod.ID]:[Levensduur '[jaar']]],3,FALSE)),\" \")","v":" "}]
[null,{"$f":"IF(Table1[[#This Row],[Prod.ID (A)]]=\"\",\"\",_xlfn.XLOOKUP(Table1[[#This Row],[Prod.ID (A)]],Table2[Prod.ID],Table2[Elem.ID],\"\",0,1))","v":""},{"$f":"IF(Table1[[#This Row],[Prod.ID (A)]]=\"\",\"\",_xlfn.XLOOKUP(Table1[[#This Row],[Prod.ID (A)]],Table2[Prod.ID],Table2[Element naam],\"\",0,1))","v":""},null,{"$f":"IFERROR((VLOOKUP(Table1[[#This Row],[Prod.ID (A)]],Table2[[Prod.ID]:[Product naam]],2,FALSE)),IF(Table1[[#This Row],[Prod.ID (A)]]=\"nvt\",\"Grond\",\"\"))","v":""},{"$f":"IFERROR((VLOOKUP(D98,Table2[[Prod.ID]:[Levensduur '[jaar']]],3,FALSE)),\"\")","v":""},null,{"$f":"IFERROR((VLOOKUP(Table1[[#This Row],[Prod.ID (B)]],Table2[[Prod.ID]:[Product naam]],2,FALSE)),IF(Table1[[#This Row],[Prod.ID (B)]]=\"nvt\",\"Grond\",\"\"))","v":""},{"$f":"IFERROR((VLOOKUP(G98,Table2[[Prod.ID]:[Levensduur '[jaar']]],3,FALSE)),\" \")","v":" "}]
[null,{"$f":"IF(Table1[[#This Row],[Prod.ID (A)]]=\"\",\"\",_xlfn.XLOOKUP(Table1[[#This Row],[Prod.ID (A)]],Table2[Prod.ID],Table2[Elem.ID],\"\",0,1))","v":""},{"$f":"IF(Table1[[#This Row],[Prod.ID (A)]]=\"\",\"\",_xlfn.XLOOKUP(Table1[[#This Row],[Prod.ID (A)]],Table2[Prod.ID],Table2[Element naam],\"\",0,1))","v":""},null,{"$f":"IFERROR((VLOOKUP(Table1[[#This Row],[Prod.ID (A)]],Table2[[Prod.ID]:[Product naam]],2,FALSE)),IF(Table1[[#This Row],[Prod.ID (A)]]=\"nvt\",\"Grond\",\"\"))","v":""},{"$f":"IFERROR((VLOOKUP(D99,Table2[[Prod.ID]:[Levensduur '[jaar']]],3,FALSE)),\"\")","v":""},null,{"$f":"IFERROR((VLOOKUP(Table1[[#This Row],[Prod.ID (B)]],Table2[[Prod.ID]:[Product naam]],2,FALSE)),IF(Table1[[#This Row],[Prod.ID (B)]]=\"nvt\",\"Grond\",\"\"))","v":""},{"$f":"IFERROR((VLOOKUP(G99,Table2[[Prod.ID]:[Levensduur '[jaar']]],3,FALSE)),\" \")","v":" "}]
[null,{"$f":"IF(Table1[[#This Row],[Prod.ID (A)]]=\"\",\"\",_xlfn.XLOOKUP(Table1[[#This Row],[Prod.ID (A)]],Table2[Prod.ID],Table2[Elem.ID],\"\",0,1))","v":""},{"$f":"IF(Table1[[#This Row],[Prod.ID (A)]]=\"\",\"\",_xlfn.XLOOKUP(Table1[[#This Row],[Prod.ID (A)]],Table2[Prod.ID],Table2[Element naam],\"\",0,1))","v":""},null,{"$f":"IFERROR((VLOOKUP(Table1[[#This Row],[Prod.ID (A)]],Table2[[Prod.ID]:[Product naam]],2,FALSE)),IF(Table1[[#This Row],[Prod.ID (A)]]=\"nvt\",\"Grond\",\"\"))","v":""},{"$f":"IFERROR((VLOOKUP(D100,Table2[[Prod.ID]:[Levensduur '[jaar']]],3,FALSE)),\"\")","v":""},null,{"$f":"IFERROR((VLOOKUP(Table1[[#This Row],[Prod.ID (B)]],Table2[[Prod.ID]:[Product naam]],2,FALSE)),IF(Table1[[#This Row],[Prod.ID (B)]]=\"nvt\",\"Grond\",\"\"))","v":""},{"$f":"IFERROR((VLOOKUP(G100,Table2[[Prod.ID]:[Levensduur '[jaar']]],3,FALSE)),\" \")","v":" "}]
[null,{"$f":"IF(Table1[[#This Row],[Prod.ID (A)]]=\"\",\"\",_xlfn.XLOOKUP(Table1[[#This Row],[Prod.ID (A)]],Table2[Prod.ID],Table2[Elem.ID],\"\",0,1))","v":""},{"$f":"IF(Table1[[#This Row],[Prod.ID (A)]]=\"\",\"\",_xlfn.XLOOKUP(Table1[[#This Row],[Prod.ID (A)]],Table2[Prod.ID],Table2[Element naam],\"\",0,1))","v":""},null,{"$f":"IFERROR((VLOOKUP(Table1[[#This Row],[Prod.ID (A)]],Table2[[Prod.ID]:[Product naam]],2,FALSE)),IF(Table1[[#This Row],[Prod.ID (A)]]=\"nvt\",\"Grond\",\"\"))","v":""},{"$f":"IFERROR((VLOOKUP(D101,Table2[[Prod.ID]:[Levensduur '[jaar']]],3,FALSE)),\"\")","v":""},null,{"$f":"IFERROR((VLOOKUP(Table1[[#This Row],[Prod.ID (B)]],Table2[[Prod.ID]:[Product naam]],2,FALSE)),IF(Table1[[#This Row],[Prod.ID (B)]]=\"nvt\",\"Grond\",\"\"))","v":""},{"$f":"IFERROR((VLOOKUP(G101,Table2[[Prod.ID]:[Levensduur '[jaar']]],3,FALSE)),\" \")","v":" "}]
[null,{"$f":"IF(Table1[[#This Row],[Prod.ID (A)]]=\"\",\"\",_xlfn.XLOOKUP(Table1[[#This Row],[Prod.ID (A)]],Table2[Prod.ID],Table2[Elem.ID],\"\",0,1))","v":""},{"$f":"IF(Table1[[#This Row],[Prod.ID (A)]]=\"\",\"\",_xlfn.XLOOKUP(Table1[[#This Row],[Prod.ID (A)]],Table2[Prod.ID],Table2[Element naam],\"\",0,1))","v":""},null,{"$f":"IFERROR((VLOOKUP(Table1[[#This Row],[Prod.ID (A)]],Table2[[Prod.ID]:[Product naam]],2,FALSE)),IF(Table1[[#This Row],[Prod.ID (A)]]=\"nvt\",\"Grond\",\"\"))","v":""},{"$f":"IFERROR((VLOOKUP(D102,Table2[[Prod.ID]:[Levensduur '[jaar']]],3,FALSE)),\"\")","v":""},null,{"$f":"IFERROR((VLOOKUP(Table1[[#This Row],[Prod.ID (B)]],Table2[[Prod.ID]:[Product naam]],2,FALSE)),IF(Table1[[#This Row],[Prod.ID (B)]]=\"nvt\",\"Grond\",\"\"))","v":""},{"$f":"IFERROR((VLOOKUP(G102,Table2[[Prod.ID]:[Levensduur '[jaar']]],3,FALSE)),\" \")","v":" "}]
[null,{"$f":"IF(Table1[[#This Row],[Prod.ID (A)]]=\"\",\"\",_xlfn.XLOOKUP(Table1[[#This Row],[Prod.ID (A)]],Table2[Prod.ID],Table2[Elem.ID],\"\",0,1))","v":""},{"$f":"IF(Table1[[#This Row],[Prod.ID (A)]]=\"\",\"\",_xlfn.XLOOKUP(Table1[[#This Row],[Prod.ID (A)]],Table2[Prod.ID],Table2[Element naam],\"\",0,1))","v":""},null,{"$f":"IFERROR((VLOOKUP(Table1[[#This Row],[Prod.ID (A)]],Table2[[Prod.ID]:[Product naam]],2,FALSE)),IF(Table1[[#This Row],[Prod.ID (A)]]=\"nvt\",\"Grond\",\"\"))","v":""},{"$f":"IFERROR((VLOOKUP(D103,Table2[[Prod.ID]:[Levensduur '[jaar']]],3,FALSE)),\"\")","v":""},null,{"$f":"IFERROR((VLOOKUP(Table1[[#This Row],[Prod.ID (B)]],Table2[[Prod.ID]:[Product naam]],2,FALSE)),IF(Table1[[#This Row],[Prod.ID (B)]]=\"nvt\",\"Grond\",\"\"))","v":""},{"$f":"IFERROR((VLOOKUP(G103,Table2[[Prod.ID]:[Levensduur '[jaar']]],3,FALSE)),\" \")","v":" "}]
[null,{"$f":"IF(Table1[[#This Row],[Prod.ID (A)]]=\"\",\"\",_xlfn.XLOOKUP(Table1[[#This Row],[Prod.ID (A)]],Table2[Prod.ID],Table2[Elem.ID],\"\",0,1))","v":""},{"$f":"IF(Table1[[#This Row],[Prod.ID (A)]]=\"\",\"\",_xlfn.XLOOKUP(Table1[[#This Row],[Prod.ID (A)]],Table2[Prod.ID],Table2[Element naam],\"\",0,1))","v":""},null,{"$f":"IFERROR((VLOOKUP(Table1[[#This Row],[Prod.ID (A)]],Table2[[Prod.ID]:[Product naam]],2,FALSE)),IF(Table1[[#This Row],[Prod.ID (A)]]=\"nvt\",\"Grond\",\"\"))","v":""},{"$f":"IFERROR((VLOOKUP(D104,Table2[[Prod.ID]:[Levensduur '[jaar']]],3,FALSE)),\"\")","v":""},null,{"$f":"IFERROR((VLOOKUP(Table1[[#This Row],[Prod.ID (B)]],Table2[[Prod.ID]:[Product naam]],2,FALSE)),IF(Table1[[#This Row],[Prod.ID (B)]]=\"nvt\",\"Grond\",\"\"))","v":""},{"$f":"IFERROR((VLOOKUP(G104,Table2[[Prod.ID]:[Levensduur '[jaar']]],3,FALSE)),\" \")","v":" "}]
[null,{"$f":"IF(Table1[[#This Row],[Prod.ID (A)]]=\"\",\"\",_xlfn.XLOOKUP(Table1[[#This Row],[Prod.ID (A)]],Table2[Prod.ID],Table2[Elem.ID],\"\",0,1))","v":""},{"$f":"IF(Table1[[#This Row],[Prod.ID (A)]]=\"\",\"\",_xlfn.XLOOKUP(Table1[[#This Row],[Prod.ID (A)]],Table2[Prod.ID],Table2[Element naam],\"\",0,1))","v":""},null,{"$f":"IFERROR((VLOOKUP(Table1[[#This Row],[Prod.ID (A)]],Table2[[Prod.ID]:[Product naam]],2,FALSE)),IF(Table1[[#This Row],[Prod.ID (A)]]=\"nvt\",\"Grond\",\"\"))","v":""},{"$f":"IFERROR((VLOOKUP(D105,Table2[[Prod.ID]:[Levensduur '[jaar']]],3,FALSE)),\"\")","v":""},null,{"$f":"IFERROR((VLOOKUP(Table1[[#This Row],[Prod.ID (B)]],Table2[[Prod.ID]:[Product naam]],2,FALSE)),IF(Table1[[#This Row],[Prod.ID (B)]]=\"nvt\",\"Grond\",\"\"))","v":""},{"$f":"IFERROR((VLOOKUP(G105,Table2[[Prod.ID]:[Levensduur '[jaar']]],3,FALSE)),\" \")","v":" "}]
[null,{"$f":"IF(Table1[[#This Row],[Prod.ID (A)]]=\"\",\"\",_xlfn.XLOOKUP(Table1[[#This Row],[Prod.ID (A)]],Table2[Prod.ID],Table2[Elem.ID],\"\",0,1))","v":""},{"$f":"IF(Table1[[#This Row],[Prod.ID (A)]]=\"\",\"\",_xlfn.XLOOKUP(Table1[[#This Row],[Prod.ID (A)]],Table2[Prod.ID],Table2[Element naam],\"\",0,1))","v":""},null,{"$f":"IFERROR((VLOOKUP(Table1[[#This Row],[Prod.ID (A)]],Table2[[Prod.ID]:[Product naam]],2,FALSE)),IF(Table1[[#This Row],[Prod.ID (A)]]=\"nvt\",\"Grond\",\"\"))","v":""},{"$f":"IFERROR((VLOOKUP(D106,Table2[[Prod.ID]:[Levensduur '[jaar']]],3,FALSE)),\"\")","v":""},null,{"$f":"IFERROR((VLOOKUP(Table1[[#This Row],[Prod.ID (B)]],Table2[[Prod.ID]:[Product naam]],2,FALSE)),IF(Table1[[#This Row],[Prod.ID (B)]]=\"nvt\",\"Grond\",\"\"))","v":""},{"$f":"IFERROR((VLOOKUP(G106,Table2[[Prod.ID]:[Levensduur '[jaar']]],3,FALSE)),\" \")","v":" "}]
[null,{"$f":"IF(Table1[[#This Row],[Prod.ID (A)]]=\"\",\"\",_xlfn.XLOOKUP(Table1[[#This Row],[Prod.ID (A)]],Table2[Prod.ID],Table2[Elem.ID],\"\",0,1))","v":""},{"$f":"IF(Table1[[#This Row],[Prod.ID (A)]]=\"\",\"\",_xlfn.XLOOKUP(Table1[[#This Row],[Prod.ID (A)]],Table2[Prod.ID],Table2[Element naam],\"\",0,1))","v":""},null,{"$f":"IFERROR((VLOOKUP(Table1[[#This Row],[Prod.ID (A)]],Table2[[Prod.ID]:[Product naam]],2,FALSE)),IF(Table1[[#This Row],[Prod.ID (A)]]=\"nvt\",\"Grond\",\"\"))","v":""},{"$f":"IFERROR((VLOOKUP(D107,Table2[[Prod.ID]:[Levensduur '[jaar']]],3,FALSE)),\"\")","v":""},null,{"$f":"IFERROR((VLOOKUP(Table1[[#This Row],[Prod.ID (B)]],Table2[[Prod.ID]:[Product naam]],2,FALSE)),IF(Table1[[#This Row],[Prod.ID (B)]]=\"nvt\",\"Grond\",\"\"))","v":""},{"$f":"IFERROR((VLOOKUP(G107,Table2[[Prod.ID]:[Levensduur '[jaar']]],3,FALSE)),\" \")","v":" "}]
[null,{"$f":"IF(Table1[[#This Row],[Prod.ID (A)]]=\"\",\"\",_xlfn.XLOOKUP(Table1[[#This Row],[Prod.ID (A)]],Table2[Prod.ID],Table2[Elem.ID],\"\",0,1))","v":""},{"$f":"IF(Table1[[#This Row],[Prod.ID (A)]]=\"\",\"\",_xlfn.XLOOKUP(Table1[[#This Row],[Prod.ID (A)]],Table2[Prod.ID],Table2[Element naam],\"\",0,1))","v":""},null,{"$f":"IFERROR((VLOOKUP(Table1[[#This Row],[Prod.ID (A)]],Table2[[Prod.ID]:[Product naam]],2,FALSE)),IF(Table1[[#This Row],[Prod.ID (A)]]=\"nvt\",\"Grond\",\"\"))","v":""},{"$f":"IFERROR((VLOOKUP(D108,Table2[[Prod.ID]:[Levensduur '[jaar']]],3,FALSE)),\"\")","v":""},null,{"$f":"IFERROR((VLOOKUP(Table1[[#This Row],[Prod.ID (B)]],Table2[[Prod.ID]:[Product naam]],2,FALSE)),IF(Table1[[#This Row],[Prod.ID (B)]]=\"nvt\",\"Grond\",\"\"))","v":""},{"$f":"IFERROR((VLOOKUP(G108,Table2[[Prod.ID]:[Levensduur '[jaar']]],3,FALSE)),\" \")","v":" "}]
[null,{"$f":"IF(Table1[[#This Row],[Prod.ID (A)]]=\"\",\"\",_xlfn.XLOOKUP(Table1[[#This Row],[Prod.ID (A)]],Table2[Prod.ID],Table2[Elem.ID],\"\",0,1))","v":""},{"$f":"IF(Table1[[#This Row],[Prod.ID (A)]]=\"\",\"\",_xlfn.XLOOKUP(Table1[[#This Row],[Prod.ID (A)]],Table2[Prod.ID],Table2[Element naam],\"\",0,1))","v":""},null,{"$f":"IFERROR((VLOOKUP(Table1[[#This Row],[Prod.ID (A)]],Table2[[Prod.ID]:[Product naam]],2,FALSE)),IF(Table1[[#This Row],[Prod.ID (A)]]=\"nvt\",\"Grond\",\"\"))","v":""},{"$f":"IFERROR((VLOOKUP(D109,Table2[[Prod.ID]:[Levensduur '[jaar']]],3,FALSE)),\"\")","v":""},null,{"$f":"IFERROR((VLOOKUP(Table1[[#This Row],[Prod.ID (B)]],Table2[[Prod.ID]:[Product naam]],2,FALSE)),IF(Table1[[#This Row],[Prod.ID (B)]]=\"nvt\",\"Grond\",\"\"))","v":""},{"$f":"IFERROR((VLOOKUP(G109,Table2[[Prod.ID]:[Levensduur '[jaar']]],3,FALSE)),\" \")","v":" "}]
[null,{"$f":"IF(Table1[[#This Row],[Prod.ID (A)]]=\"\",\"\",_xlfn.XLOOKUP(Table1[[#This Row],[Prod.ID (A)]],Table2[Prod.ID],Table2[Elem.ID],\"\",0,1))","v":""},{"$f":"IF(Table1[[#This Row],[Prod.ID (A)]]=\"\",\"\",_xlfn.XLOOKUP(Table1[[#This Row],[Prod.ID (A)]],Table2[Prod.ID],Table2[Element naam],\"\",0,1))","v":""},null,{"$f":"IFERROR((VLOOKUP(Table1[[#This Row],[Prod.ID (A)]],Table2[[Prod.ID]:[Product naam]],2,FALSE)),IF(Table1[[#This Row],[Prod.ID (A)]]=\"nvt\",\"Grond\",\"\"))","v":""},{"$f":"IFERROR((VLOOKUP(D110,Table2[[Prod.ID]:[Levensduur '[jaar']]],3,FALSE)),\"\")","v":""},null,{"$f":"IFERROR((VLOOKUP(Table1[[#This Row],[Prod.ID (B)]],Table2[[Prod.ID]:[Product naam]],2,FALSE)),IF(Table1[[#This Row],[Prod.ID (B)]]=\"nvt\",\"Grond\",\"\"))","v":""},{"$f":"IFERROR((VLOOKUP(G110,Table2[[Prod.ID]:[Levensduur '[jaar']]],3,FALSE)),\" \")","v":" "}]
[null,{"$f":"IF(Table1[[#This Row],[Prod.ID (A)]]=\"\",\"\",_xlfn.XLOOKUP(Table1[[#This Row],[Prod.ID (A)]],Table2[Prod.ID],Table2[Elem.ID],\"\",0,1))","v":""},{"$f":"IF(Table1[[#This Row],[Prod.ID (A)]]=\"\",\"\",_xlfn.XLOOKUP(Table1[[#This Row],[Prod.ID (A)]],Table2[Prod.ID],Table2[Element naam],\"\",0,1))","v":""},null,{"$f":"IFERROR((VLOOKUP(Table1[[#This Row],[Prod.ID (A)]],Table2[[Prod.ID]:[Product naam]],2,FALSE)),IF(Table1[[#This Row],[Prod.ID (A)]]=\"nvt\",\"Grond\",\"\"))","v":""},{"$f":"IFERROR((VLOOKUP(D111,Table2[[Prod.ID]:[Levensduur '[jaar']]],3,FALSE)),\"\")","v":""},null,{"$f":"IFERROR((VLOOKUP(Table1[[#This Row],[Prod.ID (B)]],Table2[[Prod.ID]:[Product naam]],2,FALSE)),IF(Table1[[#This Row],[Prod.ID (B)]]=\"nvt\",\"Grond\",\"\"))","v":""},{"$f":"IFERROR((VLOOKUP(G111,Table2[[Prod.ID]:[Levensduur '[jaar']]],3,FALSE)),\" \")","v":" "}]
[null,{"$f":"IF(Table1[[#This Row],[Prod.ID (A)]]=\"\",\"\",_xlfn.XLOOKUP(Table1[[#This Row],[Prod.ID (A)]],Table2[Prod.ID],Table2[Elem.ID],\"\",0,1))","v":""},{"$f":"IF(Table1[[#This Row],[Prod.ID (A)]]=\"\",\"\",_xlfn.XLOOKUP(Table1[[#This Row],[Prod.ID (A)]],Table2[Prod.ID],Table2[Element naam],\"\",0,1))","v":""},null,{"$f":"IFERROR((VLOOKUP(Table1[[#This Row],[Prod.ID (A)]],Table2[[Prod.ID]:[Product naam]],2,FALSE)),IF(Table1[[#This Row],[Prod.ID (A)]]=\"nvt\",\"Grond\",\"\"))","v":""},{"$f":"IFERROR((VLOOKUP(D112,Table2[[Prod.ID]:[Levensduur '[jaar']]],3,FALSE)),\"\")","v":""},null,{"$f":"IFERROR((VLOOKUP(Table1[[#This Row],[Prod.ID (B)]],Table2[[Prod.ID]:[Product naam]],2,FALSE)),IF(Table1[[#This Row],[Prod.ID (B)]]=\"nvt\",\"Grond\",\"\"))","v":""},{"$f":"IFERROR((VLOOKUP(G112,Table2[[Prod.ID]:[Levensduur '[jaar']]],3,FALSE)),\" \")","v":" "}]
[null,{"$f":"IF(Table1[[#This Row],[Prod.ID (A)]]=\"\",\"\",_xlfn.XLOOKUP(Table1[[#This Row],[Prod.ID (A)]],Table2[Prod.ID],Table2[Elem.ID],\"\",0,1))","v":""},{"$f":"IF(Table1[[#This Row],[Prod.ID (A)]]=\"\",\"\",_xlfn.XLOOKUP(Table1[[#This Row],[Prod.ID (A)]],Table2[Prod.ID],Table2[Element naam],\"\",0,1))","v":""},null,{"$f":"IFERROR((VLOOKUP(Table1[[#This Row],[Prod.ID (A)]],Table2[[Prod.ID]:[Product naam]],2,FALSE)),IF(Table1[[#This Row],[Prod.ID (A)]]=\"nvt\",\"Grond\",\"\"))","v":""},{"$f":"IFERROR((VLOOKUP(D113,Table2[[Prod.ID]:[Levensduur '[jaar']]],3,FALSE)),\"\")","v":""},null,{"$f":"IFERROR((VLOOKUP(Table1[[#This Row],[Prod.ID (B)]],Table2[[Prod.ID]:[Product naam]],2,FALSE)),IF(Table1[[#This Row],[Prod.ID (B)]]=\"nvt\",\"Grond\",\"\"))","v":""},{"$f":"IFERROR((VLOOKUP(G113,Table2[[Prod.ID]:[Levensduur '[jaar']]],3,FALSE)),\" \")","v":" "}]
[null,{"$f":"IF(Table1[[#This Row],[Prod.ID (A)]]=\"\",\"\",_xlfn.XLOOKUP(Table1[[#This Row],[Prod.ID (A)]],Table2[Prod.ID],Table2[Elem.ID],\"\",0,1))","v":""},{"$f":"IF(Table1[[#This Row],[Prod.ID (A)]]=\"\",\"\",_xlfn.XLOOKUP(Table1[[#This Row],[Prod.ID (A)]],Table2[Prod.ID],Table2[Element naam],\"\",0,1))","v":""},null,{"$f":"IFERROR((VLOOKUP(Table1[[#This Row],[Prod.ID (A)]],Table2[[Prod.ID]:[Product naam]],2,FALSE)),IF(Table1[[#This Row],[Prod.ID (A)]]=\"nvt\",\"Grond\",\"\"))","v":""},{"$f":"IFERROR((VLOOKUP(D114,Table2[[Prod.ID]:[Levensduur '[jaar']]],3,FALSE)),\"\")","v":""},null,{"$f":"IFERROR((VLOOKUP(Table1[[#This Row],[Prod.ID (B)]],Table2[[Prod.ID]:[Product naam]],2,FALSE)),IF(Table1[[#This Row],[Prod.ID (B)]]=\"nvt\",\"Grond\",\"\"))","v":""},{"$f":"IFERROR((VLOOKUP(G114,Table2[[Prod.ID]:[Levensduur '[jaar']]],3,FALSE)),\" \")","v":" "}]
[null,{"$f":"IF(Table1[[#This Row],[Prod.ID (A)]]=\"\",\"\",_xlfn.XLOOKUP(Table1[[#This Row],[Prod.ID (A)]],Table2[Prod.ID],Table2[Elem.ID],\"\",0,1))","v":""},{"$f":"IF(Table1[[#This Row],[Prod.ID (A)]]=\"\",\"\",_xlfn.XLOOKUP(Table1[[#This Row],[Prod.ID (A)]],Table2[Prod.ID],Table2[Element naam],\"\",0,1))","v":""},null,{"$f":"IFERROR((VLOOKUP(Table1[[#This Row],[Prod.ID (A)]],Table2[[Prod.ID]:[Product naam]],2,FALSE)),IF(Table1[[#This Row],[Prod.ID (A)]]=\"nvt\",\"Grond\",\"\"))","v":""},{"$f":"IFERROR((VLOOKUP(D115,Table2[[Prod.ID]:[Levensduur '[jaar']]],3,FALSE)),\"\")","v":""},null,{"$f":"IFERROR((VLOOKUP(Table1[[#This Row],[Prod.ID (B)]],Table2[[Prod.ID]:[Product naam]],2,FALSE)),IF(Table1[[#This Row],[Prod.ID (B)]]=\"nvt\",\"Grond\",\"\"))","v":""},{"$f":"IFERROR((VLOOKUP(G115,Table2[[Prod.ID]:[Levensduur '[jaar']]],3,FALSE)),\" \")","v":" "}]
[null,{"$f":"IF(Table1[[#This Row],[Prod.ID (A)]]=\"\",\"\",_xlfn.XLOOKUP(Table1[[#This Row],[Prod.ID (A)]],Table2[Prod.ID],Table2[Elem.ID],\"\",0,1))","v":""},{"$f":"IF(Table1[[#This Row],[Prod.ID (A)]]=\"\",\"\",_xlfn.XLOOKUP(Table1[[#This Row],[Prod.ID (A)]],Table2[Prod.ID],Table2[Element naam],\"\",0,1))","v":""},null,{"$f":"IFERROR((VLOOKUP(Table1[[#This Row],[Prod.ID (A)]],Table2[[Prod.ID]:[Product naam]],2,FALSE)),IF(Table1[[#This Row],[Prod.ID (A)]]=\"nvt\",\"Grond\",\"\"))","v":""},{"$f":"IFERROR((VLOOKUP(D116,Table2[[Prod.ID]:[Levensduur '[jaar']]],3,FALSE)),\"\")","v":""},null,{"$f":"IFERROR((VLOOKUP(Table1[[#This Row],[Prod.ID (B)]],Table2[[Prod.ID]:[Product naam]],2,FALSE)),IF(Table1[[#This Row],[Prod.ID (B)]]=\"nvt\",\"Grond\",\"\"))","v":""},{"$f":"IFERROR((VLOOKUP(G116,Table2[[Prod.ID]:[Levensduur '[jaar']]],3,FALSE)),\" \")","v":" "}]
[null,{"$f":"IF(Table1[[#This Row],[Prod.ID (A)]]=\"\",\"\",_xlfn.XLOOKUP(Table1[[#This Row],[Prod.ID (A)]],Table2[Prod.ID],Table2[Elem.ID],\"\",0,1))","v":""},{"$f":"IF(Table1[[#This Row],[Prod.ID (A)]]=\"\",\"\",_xlfn.XLOOKUP(Table1[[#This Row],[Prod.ID (A)]],Table2[Prod.ID],Table2[Element naam],\"\",0,1))","v":""},null,{"$f":"IFERROR((VLOOKUP(Table1[[#This Row],[Prod.ID (A)]],Table2[[Prod.ID]:[Product naam]],2,FALSE)),IF(Table1[[#This Row],[Prod.ID (A)]]=\"nvt\",\"Grond\",\"\"))","v":""},{"$f":"IFERROR((VLOOKUP(D117,Table2[[Prod.ID]:[Levensduur '[jaar']]],3,FALSE)),\"\")","v":""},null,{"$f":"IFERROR((VLOOKUP(Table1[[#This Row],[Prod.ID (B)]],Table2[[Prod.ID]:[Product naam]],2,FALSE)),IF(Table1[[#This Row],[Prod.ID (B)]]=\"nvt\",\"Grond\",\"\"))","v":""},{"$f":"IFERROR((VLOOKUP(G117,Table2[[Prod.ID]:[Levensduur '[jaar']]],3,FALSE)),\" \")","v":" "}]
[null,{"$f":"IF(Table1[[#This Row],[Prod.ID (A)]]=\"\",\"\",_xlfn.XLOOKUP(Table1[[#This Row],[Prod.ID (A)]],Table2[Prod.ID],Table2[Elem.ID],\"\",0,1))","v":""},{"$f":"IF(Table1[[#This Row],[Prod.ID (A)]]=\"\",\"\",_xlfn.XLOOKUP(Table1[[#This Row],[Prod.ID (A)]],Table2[Prod.ID],Table2[Element naam],\"\",0,1))","v":""},null,{"$f":"IFERROR((VLOOKUP(Table1[[#This Row],[Prod.ID (A)]],Table2[[Prod.ID]:[Product naam]],2,FALSE)),IF(Table1[[#This Row],[Prod.ID (A)]]=\"nvt\",\"Grond\",\"\"))","v":""},{"$f":"IFERROR((VLOOKUP(D118,Table2[[Prod.ID]:[Levensduur '[jaar']]],3,FALSE)),\"\")","v":""},null,{"$f":"IFERROR((VLOOKUP(Table1[[#This Row],[Prod.ID (B)]],Table2[[Prod.ID]:[Product naam]],2,FALSE)),IF(Table1[[#This Row],[Prod.ID (B)]]=\"nvt\",\"Grond\",\"\"))","v":""},{"$f":"IFERROR((VLOOKUP(G118,Table2[[Prod.ID]:[Levensduur '[jaar']]],3,FALSE)),\" \")","v":" "}]
[null,{"$f":"IF(Table1[[#This Row],[Prod.ID (A)]]=\"\",\"\",_xlfn.XLOOKUP(Table1[[#This Row],[Prod.ID (A)]],Table2[Prod.ID],Table2[Elem.ID],\"\",0,1))","v":""},{"$f":"IF(Table1[[#This Row],[Prod.ID (A)]]=\"\",\"\",_xlfn.XLOOKUP(Table1[[#This Row],[Prod.ID (A)]],Table2[Prod.ID],Table2[Element naam],\"\",0,1))","v":""},null,{"$f":"IFERROR((VLOOKUP(Table1[[#This Row],[Prod.ID (A)]],Table2[[Prod.ID]:[Product naam]],2,FALSE)),IF(Table1[[#This Row],[Prod.ID (A)]]=\"nvt\",\"Grond\",\"\"))","v":""},{"$f":"IFERROR((VLOOKUP(D119,Table2[[Prod.ID]:[Levensduur '[jaar']]],3,FALSE)),\"\")","v":""},null,{"$f":"IFERROR((VLOOKUP(Table1[[#This Row],[Prod.ID (B)]],Table2[[Prod.ID]:[Product naam]],2,FALSE)),IF(Table1[[#This Row],[Prod.ID (B)]]=\"nvt\",\"Grond\",\"\"))","v":""},{"$f":"IFERROR((VLOOKUP(G119,Table2[[Prod.ID]:[Levensduur '[jaar']]],3,FALSE)),\" \")","v":" "}]
[null,{"$f":"IF(Table1[[#This Row],[Prod.ID (A)]]=\"\",\"\",_xlfn.XLOOKUP(Table1[[#This Row],[Prod.ID (A)]],Table2[Prod.ID],Table2[Elem.ID],\"\",0,1))","v":""},{"$f":"IF(Table1[[#This Row],[Prod.ID (A)]]=\"\",\"\",_xlfn.XLOOKUP(Table1[[#This Row],[Prod.ID (A)]],Table2[Prod.ID],Table2[Element naam],\"\",0,1))","v":""},null,{"$f":"IFERROR((VLOOKUP(Table1[[#This Row],[Prod.ID (A)]],Table2[[Prod.ID]:[Product naam]],2,FALSE)),IF(Table1[[#This Row],[Prod.ID (A)]]=\"nvt\",\"Grond\",\"\"))","v":""},{"$f":"IFERROR((VLOOKUP(D120,Table2[[Prod.ID]:[Levensduur '[jaar']]],3,FALSE)),\"\")","v":""},null,{"$f":"IFERROR((VLOOKUP(Table1[[#This Row],[Prod.ID (B)]],Table2[[Prod.ID]:[Product naam]],2,FALSE)),IF(Table1[[#This Row],[Prod.ID (B)]]=\"nvt\",\"Grond\",\"\"))","v":""},{"$f":"IFERROR((VLOOKUP(G120,Table2[[Prod.ID]:[Levensduur '[jaar']]],3,FALSE)),\" \")","v":" "}]
[null,{"$f":"IF(Table1[[#This Row],[Prod.ID (A)]]=\"\",\"\",_xlfn.XLOOKUP(Table1[[#This Row],[Prod.ID (A)]],Table2[Prod.ID],Table2[Elem.ID],\"\",0,1))","v":""},{"$f":"IF(Table1[[#This Row],[Prod.ID (A)]]=\"\",\"\",_xlfn.XLOOKUP(Table1[[#This Row],[Prod.ID (A)]],Table2[Prod.ID],Table2[Element naam],\"\",0,1))","v":""},null,{"$f":"IFERROR((VLOOKUP(Table1[[#This Row],[Prod.ID (A)]],Table2[[Prod.ID]:[Product naam]],2,FALSE)),IF(Table1[[#This Row],[Prod.ID (A)]]=\"nvt\",\"Grond\",\"\"))","v":""},{"$f":"IFERROR((VLOOKUP(D121,Table2[[Prod.ID]:[Levensduur '[jaar']]],3,FALSE)),\"\")","v":""},null,{"$f":"IFERROR((VLOOKUP(Table1[[#This Row],[Prod.ID (B)]],Table2[[Prod.ID]:[Product naam]],2,FALSE)),IF(Table1[[#This Row],[Prod.ID (B)]]=\"nvt\",\"Grond\",\"\"))","v":""},{"$f":"IFERROR((VLOOKUP(G121,Table2[[Prod.ID]:[Levensduur '[jaar']]],3,FALSE)),\" \")","v":" "}]
[null,{"$f":"IF(Table1[[#This Row],[Prod.ID (A)]]=\"\",\"\",_xlfn.XLOOKUP(Table1[[#This Row],[Prod.ID (A)]],Table2[Prod.ID],Table2[Elem.ID],\"\",0,1))","v":""},{"$f":"IF(Table1[[#This Row],[Prod.ID (A)]]=\"\",\"\",_xlfn.XLOOKUP(Table1[[#This Row],[Prod.ID (A)]],Table2[Prod.ID],Table2[Element naam],\"\",0,1))","v":""},null,{"$f":"IFERROR((VLOOKUP(Table1[[#This Row],[Prod.ID (A)]],Table2[[Prod.ID]:[Product naam]],2,FALSE)),IF(Table1[[#This Row],[Prod.ID (A)]]=\"nvt\",\"Grond\",\"\"))","v":""},{"$f":"IFERROR((VLOOKUP(D122,Table2[[Prod.ID]:[Levensduur '[jaar']]],3,FALSE)),\"\")","v":""},null,{"$f":"IFERROR((VLOOKUP(Table1[[#This Row],[Prod.ID (B)]],Table2[[Prod.ID]:[Product naam]],2,FALSE)),IF(Table1[[#This Row],[Prod.ID (B)]]=\"nvt\",\"Grond\",\"\"))","v":""},{"$f":"IFERROR((VLOOKUP(G122,Table2[[Prod.ID]:[Levensduur '[jaar']]],3,FALSE)),\" \")","v":" "}]
[null,{"$f":"IF(Table1[[#This Row],[Prod.ID (A)]]=\"\",\"\",_xlfn.XLOOKUP(Table1[[#This Row],[Prod.ID (A)]],Table2[Prod.ID],Table2[Elem.ID],\"\",0,1))","v":""},{"$f":"IF(Table1[[#This Row],[Prod.ID (A)]]=\"\",\"\",_xlfn.XLOOKUP(Table1[[#This Row],[Prod.ID (A)]],Table2[Prod.ID],Table2[Element naam],\"\",0,1))","v":""},null,{"$f":"IFERROR((VLOOKUP(Table1[[#This Row],[Prod.ID (A)]],Table2[[Prod.ID]:[Product naam]],2,FALSE)),IF(Table1[[#This Row],[Prod.ID (A)]]=\"nvt\",\"Grond\",\"\"))","v":""},{"$f":"IFERROR((VLOOKUP(D123,Table2[[Prod.ID]:[Levensduur '[jaar']]],3,FALSE)),\"\")","v":""},null,{"$f":"IFERROR((VLOOKUP(Table1[[#This Row],[Prod.ID (B)]],Table2[[Prod.ID]:[Product naam]],2,FALSE)),IF(Table1[[#This Row],[Prod.ID (B)]]=\"nvt\",\"Grond\",\"\"))","v":""},{"$f":"IFERROR((VLOOKUP(G123,Table2[[Prod.ID]:[Levensduur '[jaar']]],3,FALSE)),\" \")","v":" "}]
[null,{"$f":"IF(Table1[[#This Row],[Prod.ID (A)]]=\"\",\"\",_xlfn.XLOOKUP(Table1[[#This Row],[Prod.ID (A)]],Table2[Prod.ID],Table2[Elem.ID],\"\",0,1))","v":""},{"$f":"IF(Table1[[#This Row],[Prod.ID (A)]]=\"\",\"\",_xlfn.XLOOKUP(Table1[[#This Row],[Prod.ID (A)]],Table2[Prod.ID],Table2[Element naam],\"\",0,1))","v":""},null,{"$f":"IFERROR((VLOOKUP(Table1[[#This Row],[Prod.ID (A)]],Table2[[Prod.ID]:[Product naam]],2,FALSE)),IF(Table1[[#This Row],[Prod.ID (A)]]=\"nvt\",\"Grond\",\"\"))","v":""},{"$f":"IFERROR((VLOOKUP(D124,Table2[[Prod.ID]:[Levensduur '[jaar']]],3,FALSE)),\"\")","v":""},null,{"$f":"IFERROR((VLOOKUP(Table1[[#This Row],[Prod.ID (B)]],Table2[[Prod.ID]:[Product naam]],2,FALSE)),IF(Table1[[#This Row],[Prod.ID (B)]]=\"nvt\",\"Grond\",\"\"))","v":""},{"$f":"IFERROR((VLOOKUP(G124,Table2[[Prod.ID]:[Levensduur '[jaar']]],3,FALSE)),\" \")","v":" "}]
[null,{"$f":"IF(Table1[[#This Row],[Prod.ID (A)]]=\"\",\"\",_xlfn.XLOOKUP(Table1[[#This Row],[Prod.ID (A)]],Table2[Prod.ID],Table2[Elem.ID],\"\",0,1))","v":""},{"$f":"IF(Table1[[#This Row],[Prod.ID (A)]]=\"\",\"\",_xlfn.XLOOKUP(Table1[[#This Row],[Prod.ID (A)]],Table2[Prod.ID],Table2[Element naam],\"\",0,1))","v":""},null,{"$f":"IFERROR((VLOOKUP(Table1[[#This Row],[Prod.ID (A)]],Table2[[Prod.ID]:[Product naam]],2,FALSE)),IF(Table1[[#This Row],[Prod.ID (A)]]=\"nvt\",\"Grond\",\"\"))","v":""},{"$f":"IFERROR((VLOOKUP(D125,Table2[[Prod.ID]:[Levensduur '[jaar']]],3,FALSE)),\"\")","v":""},null,{"$f":"IFERROR((VLOOKUP(Table1[[#This Row],[Prod.ID (B)]],Table2[[Prod.ID]:[Product naam]],2,FALSE)),IF(Table1[[#This Row],[Prod.ID (B)]]=\"nvt\",\"Grond\",\"\"))","v":""},{"$f":"IFERROR((VLOOKUP(G125,Table2[[Prod.ID]:[Levensduur '[jaar']]],3,FALSE)),\" \")","v":" "}]
[null,{"$f":"IF(Table1[[#This Row],[Prod.ID (A)]]=\"\",\"\",_xlfn.XLOOKUP(Table1[[#This Row],[Prod.ID (A)]],Table2[Prod.ID],Table2[Elem.ID],\"\",0,1))","v":""},{"$f":"IF(Table1[[#This Row],[Prod.ID (A)]]=\"\",\"\",_xlfn.XLOOKUP(Table1[[#This Row],[Prod.ID (A)]],Table2[Prod.ID],Table2[Element naam],\"\",0,1))","v":""},null,{"$f":"IFERROR((VLOOKUP(Table1[[#This Row],[Prod.ID (A)]],Table2[[Prod.ID]:[Product naam]],2,FALSE)),IF(Table1[[#This Row],[Prod.ID (A)]]=\"nvt\",\"Grond\",\"\"))","v":""},{"$f":"IFERROR((VLOOKUP(D126,Table2[[Prod.ID]:[Levensduur '[jaar']]],3,FALSE)),\"\")","v":""},null,{"$f":"IFERROR((VLOOKUP(Table1[[#This Row],[Prod.ID (B)]],Table2[[Prod.ID]:[Product naam]],2,FALSE)),IF(Table1[[#This Row],[Prod.ID (B)]]=\"nvt\",\"Grond\",\"\"))","v":""},{"$f":"IFERROR((VLOOKUP(G126,Table2[[Prod.ID]:[Levensduur '[jaar']]],3,FALSE)),\" \")","v":" "}]
[null,{"$f":"IF(Table1[[#This Row],[Prod.ID (A)]]=\"\",\"\",_xlfn.XLOOKUP(Table1[[#This Row],[Prod.ID (A)]],Table2[Prod.ID],Table2[Elem.ID],\"\",0,1))","v":""},{"$f":"IF(Table1[[#This Row],[Prod.ID (A)]]=\"\",\"\",_xlfn.XLOOKUP(Table1[[#This Row],[Prod.ID (A)]],Table2[Prod.ID],Table2[Element naam],\"\",0,1))","v":""},null,{"$f":"IFERROR((VLOOKUP(Table1[[#This Row],[Prod.ID (A)]],Table2[[Prod.ID]:[Product naam]],2,FALSE)),IF(Table1[[#This Row],[Prod.ID (A)]]=\"nvt\",\"Grond\",\"\"))","v":""},{"$f":"IFERROR((VLOOKUP(D127,Table2[[Prod.ID]:[Levensduur '[jaar']]],3,FALSE)),\"\")","v":""},null,{"$f":"IFERROR((VLOOKUP(Table1[[#This Row],[Prod.ID (B)]],Table2[[Prod.ID]:[Product naam]],2,FALSE)),IF(Table1[[#This Row],[Prod.ID (B)]]=\"nvt\",\"Grond\",\"\"))","v":""},{"$f":"IFERROR((VLOOKUP(G127,Table2[[Prod.ID]:[Levensduur '[jaar']]],3,FALSE)),\" \")","v":" "}]
[null,{"$f":"IF(Table1[[#This Row],[Prod.ID (A)]]=\"\",\"\",_xlfn.XLOOKUP(Table1[[#This Row],[Prod.ID (A)]],Table2[Prod.ID],Table2[Elem.ID],\"\",0,1))","v":""},{"$f":"IF(Table1[[#This Row],[Prod.ID (A)]]=\"\",\"\",_xlfn.XLOOKUP(Table1[[#This Row],[Prod.ID (A)]],Table2[Prod.ID],Table2[Element naam],\"\",0,1))","v":""},null,{"$f":"IFERROR((VLOOKUP(Table1[[#This Row],[Prod.ID (A)]],Table2[[Prod.ID]:[Product naam]],2,FALSE)),IF(Table1[[#This Row],[Prod.ID (A)]]=\"nvt\",\"Grond\",\"\"))","v":""},{"$f":"IFERROR((VLOOKUP(D128,Table2[[Prod.ID]:[Levensduur '[jaar']]],3,FALSE)),\"\")","v":""},null,{"$f":"IFERROR((VLOOKUP(Table1[[#This Row],[Prod.ID (B)]],Table2[[Prod.ID]:[Product naam]],2,FALSE)),IF(Table1[[#This Row],[Prod.ID (B)]]=\"nvt\",\"Grond\",\"\"))","v":""},{"$f":"IFERROR((VLOOKUP(G128,Table2[[Prod.ID]:[Levensduur '[jaar']]],3,FALSE)),\" \")","v":" "}]
[null,{"$f":"IF(Table1[[#This Row],[Prod.ID (A)]]=\"\",\"\",_xlfn.XLOOKUP(Table1[[#This Row],[Prod.ID (A)]],Table2[Prod.ID],Table2[Elem.ID],\"\",0,1))","v":""},{"$f":"IF(Table1[[#This Row],[Prod.ID (A)]]=\"\",\"\",_xlfn.XLOOKUP(Table1[[#This Row],[Prod.ID (A)]],Table2[Prod.ID],Table2[Element naam],\"\",0,1))","v":""},null,{"$f":"IFERROR((VLOOKUP(Table1[[#This Row],[Prod.ID (A)]],Table2[[Prod.ID]:[Product naam]],2,FALSE)),IF(Table1[[#This Row],[Prod.ID (A)]]=\"nvt\",\"Grond\",\"\"))","v":""},{"$f":"IFERROR((VLOOKUP(D129,Table2[[Prod.ID]:[Levensduur '[jaar']]],3,FALSE)),\"\")","v":""},null,{"$f":"IFERROR((VLOOKUP(Table1[[#This Row],[Prod.ID (B)]],Table2[[Prod.ID]:[Product naam]],2,FALSE)),IF(Table1[[#This Row],[Prod.ID (B)]]=\"nvt\",\"Grond\",\"\"))","v":""},{"$f":"IFERROR((VLOOKUP(G129,Table2[[Prod.ID]:[Levensduur '[jaar']]],3,FALSE)),\" \")","v":" "}]
[null,{"$f":"IF(Table1[[#This Row],[Prod.ID (A)]]=\"\",\"\",_xlfn.XLOOKUP(Table1[[#This Row],[Prod.ID (A)]],Table2[Prod.ID],Table2[Elem.ID],\"\",0,1))","v":""},{"$f":"IF(Table1[[#This Row],[Prod.ID (A)]]=\"\",\"\",_xlfn.XLOOKUP(Table1[[#This Row],[Prod.ID (A)]],Table2[Prod.ID],Table2[Element naam],\"\",0,1))","v":""},null,{"$f":"IFERROR((VLOOKUP(Table1[[#This Row],[Prod.ID (A)]],Table2[[Prod.ID]:[Product naam]],2,FALSE)),IF(Table1[[#This Row],[Prod.ID (A)]]=\"nvt\",\"Grond\",\"\"))","v":""},{"$f":"IFERROR((VLOOKUP(D130,Table2[[Prod.ID]:[Levensduur '[jaar']]],3,FALSE)),\"\")","v":""},null,{"$f":"IFERROR((VLOOKUP(Table1[[#This Row],[Prod.ID (B)]],Table2[[Prod.ID]:[Product naam]],2,FALSE)),IF(Table1[[#This Row],[Prod.ID (B)]]=\"nvt\",\"Grond\",\"\"))","v":""},{"$f":"IFERROR((VLOOKUP(G130,Table2[[Prod.ID]:[Levensduur '[jaar']]],3,FALSE)),\" \")","v":" "}]
[null,{"$f":"IF(Table1[[#This Row],[Prod.ID (A)]]=\"\",\"\",_xlfn.XLOOKUP(Table1[[#This Row],[Prod.ID (A)]],Table2[Prod.ID],Table2[Elem.ID],\"\",0,1))","v":""},{"$f":"IF(Table1[[#This Row],[Prod.ID (A)]]=\"\",\"\",_xlfn.XLOOKUP(Table1[[#This Row],[Prod.ID (A)]],Table2[Prod.ID],Table2[Element naam],\"\",0,1))","v":""},null,{"$f":"IFERROR((VLOOKUP(Table1[[#This Row],[Prod.ID (A)]],Table2[[Prod.ID]:[Product naam]],2,FALSE)),IF(Table1[[#This Row],[Prod.ID (A)]]=\"nvt\",\"Grond\",\"\"))","v":""},{"$f":"IFERROR((VLOOKUP(D131,Table2[[Prod.ID]:[Levensduur '[jaar']]],3,FALSE)),\"\")","v":""},null,{"$f":"IFERROR((VLOOKUP(Table1[[#This Row],[Prod.ID (B)]],Table2[[Prod.ID]:[Product naam]],2,FALSE)),IF(Table1[[#This Row],[Prod.ID (B)]]=\"nvt\",\"Grond\",\"\"))","v":""},{"$f":"IFERROR((VLOOKUP(G131,Table2[[Prod.ID]:[Levensduur '[jaar']]],3,FALSE)),\" \")","v":" "}]
[null,{"$f":"IF(Table1[[#This Row],[Prod.ID (A)]]=\"\",\"\",_xlfn.XLOOKUP(Table1[[#This Row],[Prod.ID (A)]],Table2[Prod.ID],Table2[Elem.ID],\"\",0,1))","v":""},{"$f":"IF(Table1[[#This Row],[Prod.ID (A)]]=\"\",\"\",_xlfn.XLOOKUP(Table1[[#This Row],[Prod.ID (A)]],Table2[Prod.ID],Table2[Element naam],\"\",0,1))","v":""},null,{"$f":"IFERROR((VLOOKUP(Table1[[#This Row],[Prod.ID (A)]],Table2[[Prod.ID]:[Product naam]],2,FALSE)),IF(Table1[[#This Row],[Prod.ID (A)]]=\"nvt\",\"Grond\",\"\"))","v":""},{"$f":"IFERROR((VLOOKUP(D132,Table2[[Prod.ID]:[Levensduur '[jaar']]],3,FALSE)),\"\")","v":""},null,{"$f":"IFERROR((VLOOKUP(Table1[[#This Row],[Prod.ID (B)]],Table2[[Prod.ID]:[Product naam]],2,FALSE)),IF(Table1[[#This Row],[Prod.ID (B)]]=\"nvt\",\"Grond\",\"\"))","v":""},{"$f":"IFERROR((VLOOKUP(G132,Table2[[Prod.ID]:[Levensduur '[jaar']]],3,FALSE)),\" \")","v":" "}]
[null,{"$f":"IF(Table1[[#This Row],[Prod.ID (A)]]=\"\",\"\",_xlfn.XLOOKUP(Table1[[#This Row],[Prod.ID (A)]],Table2[Prod.ID],Table2[Elem.ID],\"\",0,1))","v":""},{"$f":"IF(Table1[[#This Row],[Prod.ID (A)]]=\"\",\"\",_xlfn.XLOOKUP(Table1[[#This Row],[Prod.ID (A)]],Table2[Prod.ID],Table2[Element naam],\"\",0,1))","v":""},null,{"$f":"IFERROR((VLOOKUP(Table1[[#This Row],[Prod.ID (A)]],Table2[[Prod.ID]:[Product naam]],2,FALSE)),IF(Table1[[#This Row],[Prod.ID (A)]]=\"nvt\",\"Grond\",\"\"))","v":""},{"$f":"IFERROR((VLOOKUP(D133,Table2[[Prod.ID]:[Levensduur '[jaar']]],3,FALSE)),\"\")","v":""},null,{"$f":"IFERROR((VLOOKUP(Table1[[#This Row],[Prod.ID (B)]],Table2[[Prod.ID]:[Product naam]],2,FALSE)),IF(Table1[[#This Row],[Prod.ID (B)]]=\"nvt\",\"Grond\",\"\"))","v":""},{"$f":"IFERROR((VLOOKUP(G133,Table2[[Prod.ID]:[Levensduur '[jaar']]],3,FALSE)),\" \")","v":" "}]
[null,{"$f":"IF(Table1[[#This Row],[Prod.ID (A)]]=\"\",\"\",_xlfn.XLOOKUP(Table1[[#This Row],[Prod.ID (A)]],Table2[Prod.ID],Table2[Elem.ID],\"\",0,1))","v":""},{"$f":"IF(Table1[[#This Row],[Prod.ID (A)]]=\"\",\"\",_xlfn.XLOOKUP(Table1[[#This Row],[Prod.ID (A)]],Table2[Prod.ID],Table2[Element naam],\"\",0,1))","v":""},null,{"$f":"IFERROR((VLOOKUP(Table1[[#This Row],[Prod.ID (A)]],Table2[[Prod.ID]:[Product naam]],2,FALSE)),IF(Table1[[#This Row],[Prod.ID (A)]]=\"nvt\",\"Grond\",\"\"))","v":""},{"$f":"IFERROR((VLOOKUP(D134,Table2[[Prod.ID]:[Levensduur '[jaar']]],3,FALSE)),\"\")","v":""},null,{"$f":"IFERROR((VLOOKUP(Table1[[#This Row],[Prod.ID (B)]],Table2[[Prod.ID]:[Product naam]],2,FALSE)),IF(Table1[[#This Row],[Prod.ID (B)]]=\"nvt\",\"Grond\",\"\"))","v":""},{"$f":"IFERROR((VLOOKUP(G134,Table2[[Prod.ID]:[Levensduur '[jaar']]],3,FALSE)),\" \")","v":" "}]
[null,{"$f":"IF(Table1[[#This Row],[Prod.ID (A)]]=\"\",\"\",_xlfn.XLOOKUP(Table1[[#This Row],[Prod.ID (A)]],Table2[Prod.ID],Table2[Elem.ID],\"\",0,1))","v":""},{"$f":"IF(Table1[[#This Row],[Prod.ID (A)]]=\"\",\"\",_xlfn.XLOOKUP(Table1[[#This Row],[Prod.ID (A)]],Table2[Prod.ID],Table2[Element naam],\"\",0,1))","v":""},null,{"$f":"IFERROR((VLOOKUP(Table1[[#This Row],[Prod.ID (A)]],Table2[[Prod.ID]:[Product naam]],2,FALSE)),IF(Table1[[#This Row],[Prod.ID (A)]]=\"nvt\",\"Grond\",\"\"))","v":""},{"$f":"IFERROR((VLOOKUP(D135,Table2[[Prod.ID]:[Levensduur '[jaar']]],3,FALSE)),\"\")","v":""},null,{"$f":"IFERROR((VLOOKUP(Table1[[#This Row],[Prod.ID (B)]],Table2[[Prod.ID]:[Product naam]],2,FALSE)),IF(Table1[[#This Row],[Prod.ID (B)]]=\"nvt\",\"Grond\",\"\"))","v":""},{"$f":"IFERROR((VLOOKUP(G135,Table2[[Prod.ID]:[Levensduur '[jaar']]],3,FALSE)),\" \")","v":" "}]
[null,{"$f":"IF(Table1[[#This Row],[Prod.ID (A)]]=\"\",\"\",_xlfn.XLOOKUP(Table1[[#This Row],[Prod.ID (A)]],Table2[Prod.ID],Table2[Elem.ID],\"\",0,1))","v":""},{"$f":"IF(Table1[[#This Row],[Prod.ID (A)]]=\"\",\"\",_xlfn.XLOOKUP(Table1[[#This Row],[Prod.ID (A)]],Table2[Prod.ID],Table2[Element naam],\"\",0,1))","v":""},null,{"$f":"IFERROR((VLOOKUP(Table1[[#This Row],[Prod.ID (A)]],Table2[[Prod.ID]:[Product naam]],2,FALSE)),IF(Table1[[#This Row],[Prod.ID (A)]]=\"nvt\",\"Grond\",\"\"))","v":""},{"$f":"IFERROR((VLOOKUP(D136,Table2[[Prod.ID]:[Levensduur '[jaar']]],3,FALSE)),\"\")","v":""},null,{"$f":"IFERROR((VLOOKUP(Table1[[#This Row],[Prod.ID (B)]],Table2[[Prod.ID]:[Product naam]],2,FALSE)),IF(Table1[[#This Row],[Prod.ID (B)]]=\"nvt\",\"Grond\",\"\"))","v":""},{"$f":"IFERROR((VLOOKUP(G136,Table2[[Prod.ID]:[Levensduur '[jaar']]],3,FALSE)),\" \")","v":" "}]
[null,{"$f":"IF(Table1[[#This Row],[Prod.ID (A)]]=\"\",\"\",_xlfn.XLOOKUP(Table1[[#This Row],[Prod.ID (A)]],Table2[Prod.ID],Table2[Elem.ID],\"\",0,1))","v":""},{"$f":"IF(Table1[[#This Row],[Prod.ID (A)]]=\"\",\"\",_xlfn.XLOOKUP(Table1[[#This Row],[Prod.ID (A)]],Table2[Prod.ID],Table2[Element naam],\"\",0,1))","v":""},null,{"$f":"IFERROR((VLOOKUP(Table1[[#This Row],[Prod.ID (A)]],Table2[[Prod.ID]:[Product naam]],2,FALSE)),IF(Table1[[#This Row],[Prod.ID (A)]]=\"nvt\",\"Grond\",\"\"))","v":""},{"$f":"IFERROR((VLOOKUP(D137,Table2[[Prod.ID]:[Levensduur '[jaar']]],3,FALSE)),\"\")","v":""},null,{"$f":"IFERROR((VLOOKUP(Table1[[#This Row],[Prod.ID (B)]],Table2[[Prod.ID]:[Product naam]],2,FALSE)),IF(Table1[[#This Row],[Prod.ID (B)]]=\"nvt\",\"Grond\",\"\"))","v":""},{"$f":"IFERROR((VLOOKUP(G137,Table2[[Prod.ID]:[Levensduur '[jaar']]],3,FALSE)),\" \")","v":" "}]
[null,{"$f":"IF(Table1[[#This Row],[Prod.ID (A)]]=\"\",\"\",_xlfn.XLOOKUP(Table1[[#This Row],[Prod.ID (A)]],Table2[Prod.ID],Table2[Elem.ID],\"\",0,1))","v":""},{"$f":"IF(Table1[[#This Row],[Prod.ID (A)]]=\"\",\"\",_xlfn.XLOOKUP(Table1[[#This Row],[Prod.ID (A)]],Table2[Prod.ID],Table2[Element naam],\"\",0,1))","v":""},null,{"$f":"IFERROR((VLOOKUP(Table1[[#This Row],[Prod.ID (A)]],Table2[[Prod.ID]:[Product naam]],2,FALSE)),IF(Table1[[#This Row],[Prod.ID (A)]]=\"nvt\",\"Grond\",\"\"))","v":""},{"$f":"IFERROR((VLOOKUP(D138,Table2[[Prod.ID]:[Levensduur '[jaar']]],3,FALSE)),\"\")","v":""},null,{"$f":"IFERROR((VLOOKUP(Table1[[#This Row],[Prod.ID (B)]],Table2[[Prod.ID]:[Product naam]],2,FALSE)),IF(Table1[[#This Row],[Prod.ID (B)]]=\"nvt\",\"Grond\",\"\"))","v":""},{"$f":"IFERROR((VLOOKUP(G138,Table2[[Prod.ID]:[Levensduur '[jaar']]],3,FALSE)),\" \")","v":" "}]
[null,{"$f":"IF(Table1[[#This Row],[Prod.ID (A)]]=\"\",\"\",_xlfn.XLOOKUP(Table1[[#This Row],[Prod.ID (A)]],Table2[Prod.ID],Table2[Elem.ID],\"\",0,1))","v":""},{"$f":"IF(Table1[[#This Row],[Prod.ID (A)]]=\"\",\"\",_xlfn.XLOOKUP(Table1[[#This Row],[Prod.ID (A)]],Table2[Prod.ID],Table2[Element naam],\"\",0,1))","v":""},null,{"$f":"IFERROR((VLOOKUP(Table1[[#This Row],[Prod.ID (A)]],Table2[[Prod.ID]:[Product naam]],2,FALSE)),IF(Table1[[#This Row],[Prod.ID (A)]]=\"nvt\",\"Grond\",\"\"))","v":""},{"$f":"IFERROR((VLOOKUP(D139,Table2[[Prod.ID]:[Levensduur '[jaar']]],3,FALSE)),\"\")","v":""},null,{"$f":"IFERROR((VLOOKUP(Table1[[#This Row],[Prod.ID (B)]],Table2[[Prod.ID]:[Product naam]],2,FALSE)),IF(Table1[[#This Row],[Prod.ID (B)]]=\"nvt\",\"Grond\",\"\"))","v":""},{"$f":"IFERROR((VLOOKUP(G139,Table2[[Prod.ID]:[Levensduur '[jaar']]],3,FALSE)),\" \")","v":" "}]
[null,{"$f":"IF(Table1[[#This Row],[Prod.ID (A)]]=\"\",\"\",_xlfn.XLOOKUP(Table1[[#This Row],[Prod.ID (A)]],Table2[Prod.ID],Table2[Elem.ID],\"\",0,1))","v":""},{"$f":"IF(Table1[[#This Row],[Prod.ID (A)]]=\"\",\"\",_xlfn.XLOOKUP(Table1[[#This Row],[Prod.ID (A)]],Table2[Prod.ID],Table2[Element naam],\"\",0,1))","v":""},null,{"$f":"IFERROR((VLOOKUP(Table1[[#This Row],[Prod.ID (A)]],Table2[[Prod.ID]:[Product naam]],2,FALSE)),IF(Table1[[#This Row],[Prod.ID (A)]]=\"nvt\",\"Grond\",\"\"))","v":""},{"$f":"IFERROR((VLOOKUP(D140,Table2[[Prod.ID]:[Levensduur '[jaar']]],3,FALSE)),\"\")","v":""},null,{"$f":"IFERROR((VLOOKUP(Table1[[#This Row],[Prod.ID (B)]],Table2[[Prod.ID]:[Product naam]],2,FALSE)),IF(Table1[[#This Row],[Prod.ID (B)]]=\"nvt\",\"Grond\",\"\"))","v":""},{"$f":"IFERROR((VLOOKUP(G140,Table2[[Prod.ID]:[Levensduur '[jaar']]],3,FALSE)),\" \")","v":" "}]
[null,{"$f":"IF(Table1[[#This Row],[Prod.ID (A)]]=\"\",\"\",_xlfn.XLOOKUP(Table1[[#This Row],[Prod.ID (A)]],Table2[Prod.ID],Table2[Elem.ID],\"\",0,1))","v":""},{"$f":"IF(Table1[[#This Row],[Prod.ID (A)]]=\"\",\"\",_xlfn.XLOOKUP(Table1[[#This Row],[Prod.ID (A)]],Table2[Prod.ID],Table2[Element naam],\"\",0,1))","v":""},null,{"$f":"IFERROR((VLOOKUP(Table1[[#This Row],[Prod.ID (A)]],Table2[[Prod.ID]:[Product naam]],2,FALSE)),IF(Table1[[#This Row],[Prod.ID (A)]]=\"nvt\",\"Grond\",\"\"))","v":""},{"$f":"IFERROR((VLOOKUP(D141,Table2[[Prod.ID]:[Levensduur '[jaar']]],3,FALSE)),\"\")","v":""},null,{"$f":"IFERROR((VLOOKUP(Table1[[#This Row],[Prod.ID (B)]],Table2[[Prod.ID]:[Product naam]],2,FALSE)),IF(Table1[[#This Row],[Prod.ID (B)]]=\"nvt\",\"Grond\",\"\"))","v":""},{"$f":"IFERROR((VLOOKUP(G141,Table2[[Prod.ID]:[Levensduur '[jaar']]],3,FALSE)),\" \")","v":" "}]
[null,{"$f":"IF(Table1[[#This Row],[Prod.ID (A)]]=\"\",\"\",_xlfn.XLOOKUP(Table1[[#This Row],[Prod.ID (A)]],Table2[Prod.ID],Table2[Elem.ID],\"\",0,1))","v":""},{"$f":"IF(Table1[[#This Row],[Prod.ID (A)]]=\"\",\"\",_xlfn.XLOOKUP(Table1[[#This Row],[Prod.ID (A)]],Table2[Prod.ID],Table2[Element naam],\"\",0,1))","v":""},null,{"$f":"IFERROR((VLOOKUP(Table1[[#This Row],[Prod.ID (A)]],Table2[[Prod.ID]:[Product naam]],2,FALSE)),IF(Table1[[#This Row],[Prod.ID (A)]]=\"nvt\",\"Grond\",\"\"))","v":""},{"$f":"IFERROR((VLOOKUP(D142,Table2[[Prod.ID]:[Levensduur '[jaar']]],3,FALSE)),\"\")","v":""},null,{"$f":"IFERROR((VLOOKUP(Table1[[#This Row],[Prod.ID (B)]],Table2[[Prod.ID]:[Product naam]],2,FALSE)),IF(Table1[[#This Row],[Prod.ID (B)]]=\"nvt\",\"Grond\",\"\"))","v":""},{"$f":"IFERROR((VLOOKUP(G142,Table2[[Prod.ID]:[Levensduur '[jaar']]],3,FALSE)),\" \")","v":" "}]
[null,{"$f":"IF(Table1[[#This Row],[Prod.ID (A)]]=\"\",\"\",_xlfn.XLOOKUP(Table1[[#This Row],[Prod.ID (A)]],Table2[Prod.ID],Table2[Elem.ID],\"\",0,1))","v":""},{"$f":"IF(Table1[[#This Row],[Prod.ID (A)]]=\"\",\"\",_xlfn.XLOOKUP(Table1[[#This Row],[Prod.ID (A)]],Table2[Prod.ID],Table2[Element naam],\"\",0,1))","v":""},null,{"$f":"IFERROR((VLOOKUP(Table1[[#This Row],[Prod.ID (A)]],Table2[[Prod.ID]:[Product naam]],2,FALSE)),IF(Table1[[#This Row],[Prod.ID (A)]]=\"nvt\",\"Grond\",\"\"))","v":""},{"$f":"IFERROR((VLOOKUP(D143,Table2[[Prod.ID]:[Levensduur '[jaar']]],3,FALSE)),\"\")","v":""},null,{"$f":"IFERROR((VLOOKUP(Table1[[#This Row],[Prod.ID (B)]],Table2[[Prod.ID]:[Product naam]],2,FALSE)),IF(Table1[[#This Row],[Prod.ID (B)]]=\"nvt\",\"Grond\",\"\"))","v":""},{"$f":"IFERROR((VLOOKUP(G143,Table2[[Prod.ID]:[Levensduur '[jaar']]],3,FALSE)),\" \")","v":" "}]
[null,{"$f":"IF(Table1[[#This Row],[Prod.ID (A)]]=\"\",\"\",_xlfn.XLOOKUP(Table1[[#This Row],[Prod.ID (A)]],Table2[Prod.ID],Table2[Elem.ID],\"\",0,1))","v":""},{"$f":"IF(Table1[[#This Row],[Prod.ID (A)]]=\"\",\"\",_xlfn.XLOOKUP(Table1[[#This Row],[Prod.ID (A)]],Table2[Prod.ID],Table2[Element naam],\"\",0,1))","v":""},null,{"$f":"IFERROR((VLOOKUP(Table1[[#This Row],[Prod.ID (A)]],Table2[[Prod.ID]:[Product naam]],2,FALSE)),IF(Table1[[#This Row],[Prod.ID (A)]]=\"nvt\",\"Grond\",\"\"))","v":""},{"$f":"IFERROR((VLOOKUP(D144,Table2[[Prod.ID]:[Levensduur '[jaar']]],3,FALSE)),\"\")","v":""},null,{"$f":"IFERROR((VLOOKUP(Table1[[#This Row],[Prod.ID (B)]],Table2[[Prod.ID]:[Product naam]],2,FALSE)),IF(Table1[[#This Row],[Prod.ID (B)]]=\"nvt\",\"Grond\",\"\"))","v":""},{"$f":"IFERROR((VLOOKUP(G144,Table2[[Prod.ID]:[Levensduur '[jaar']]],3,FALSE)),\" \")","v":" "}]
[null,{"$f":"IF(Table1[[#This Row],[Prod.ID (A)]]=\"\",\"\",_xlfn.XLOOKUP(Table1[[#This Row],[Prod.ID (A)]],Table2[Prod.ID],Table2[Elem.ID],\"\",0,1))","v":""},{"$f":"IF(Table1[[#This Row],[Prod.ID (A)]]=\"\",\"\",_xlfn.XLOOKUP(Table1[[#This Row],[Prod.ID (A)]],Table2[Prod.ID],Table2[Element naam],\"\",0,1))","v":""},null,{"$f":"IFERROR((VLOOKUP(Table1[[#This Row],[Prod.ID (A)]],Table2[[Prod.ID]:[Product naam]],2,FALSE)),IF(Table1[[#This Row],[Prod.ID (A)]]=\"nvt\",\"Grond\",\"\"))","v":""},{"$f":"IFERROR((VLOOKUP(D145,Table2[[Prod.ID]:[Levensduur '[jaar']]],3,FALSE)),\"\")","v":""},null,{"$f":"IFERROR((VLOOKUP(Table1[[#This Row],[Prod.ID (B)]],Table2[[Prod.ID]:[Product naam]],2,FALSE)),IF(Table1[[#This Row],[Prod.ID (B)]]=\"nvt\",\"Grond\",\"\"))","v":""},{"$f":"IFERROR((VLOOKUP(G145,Table2[[Prod.ID]:[Levensduur '[jaar']]],3,FALSE)),\" \")","v":" "}]
[null,{"$f":"IF(Table1[[#This Row],[Prod.ID (A)]]=\"\",\"\",_xlfn.XLOOKUP(Table1[[#This Row],[Prod.ID (A)]],Table2[Prod.ID],Table2[Elem.ID],\"\",0,1))","v":""},{"$f":"IF(Table1[[#This Row],[Prod.ID (A)]]=\"\",\"\",_xlfn.XLOOKUP(Table1[[#This Row],[Prod.ID (A)]],Table2[Prod.ID],Table2[Element naam],\"\",0,1))","v":""},null,{"$f":"IFERROR((VLOOKUP(Table1[[#This Row],[Prod.ID (A)]],Table2[[Prod.ID]:[Product naam]],2,FALSE)),IF(Table1[[#This Row],[Prod.ID (A)]]=\"nvt\",\"Grond\",\"\"))","v":""},{"$f":"IFERROR((VLOOKUP(D146,Table2[[Prod.ID]:[Levensduur '[jaar']]],3,FALSE)),\"\")","v":""},null,{"$f":"IFERROR((VLOOKUP(Table1[[#This Row],[Prod.ID (B)]],Table2[[Prod.ID]:[Product naam]],2,FALSE)),IF(Table1[[#This Row],[Prod.ID (B)]]=\"nvt\",\"Grond\",\"\"))","v":""},{"$f":"IFERROR((VLOOKUP(G146,Table2[[Prod.ID]:[Levensduur '[jaar']]],3,FALSE)),\" \")","v":" "}]
[null,{"$f":"IF(Table1[[#This Row],[Prod.ID (A)]]=\"\",\"\",_xlfn.XLOOKUP(Table1[[#This Row],[Prod.ID (A)]],Table2[Prod.ID],Table2[Elem.ID],\"\",0,1))","v":""},{"$f":"IF(Table1[[#This Row],[Prod.ID (A)]]=\"\",\"\",_xlfn.XLOOKUP(Table1[[#This Row],[Prod.ID (A)]],Table2[Prod.ID],Table2[Element naam],\"\",0,1))","v":""},null,{"$f":"IFERROR((VLOOKUP(Table1[[#This Row],[Prod.ID (A)]],Table2[[Prod.ID]:[Product naam]],2,FALSE)),IF(Table1[[#This Row],[Prod.ID (A)]]=\"nvt\",\"Grond\",\"\"))","v":""},{"$f":"IFERROR((VLOOKUP(D147,Table2[[Prod.ID]:[Levensduur '[jaar']]],3,FALSE)),\"\")","v":""},null,{"$f":"IFERROR((VLOOKUP(Table1[[#This Row],[Prod.ID (B)]],Table2[[Prod.ID]:[Product naam]],2,FALSE)),IF(Table1[[#This Row],[Prod.ID (B)]]=\"nvt\",\"Grond\",\"\"))","v":""},{"$f":"IFERROR((VLOOKUP(G147,Table2[[Prod.ID]:[Levensduur '[jaar']]],3,FALSE)),\" \")","v":" "}]
[null,{"$f":"IF(Table1[[#This Row],[Prod.ID (A)]]=\"\",\"\",_xlfn.XLOOKUP(Table1[[#This Row],[Prod.ID (A)]],Table2[Prod.ID],Table2[Elem.ID],\"\",0,1))","v":""},{"$f":"IF(Table1[[#This Row],[Prod.ID (A)]]=\"\",\"\",_xlfn.XLOOKUP(Table1[[#This Row],[Prod.ID (A)]],Table2[Prod.ID],Table2[Element naam],\"\",0,1))","v":""},null,{"$f":"IFERROR((VLOOKUP(Table1[[#This Row],[Prod.ID (A)]],Table2[[Prod.ID]:[Product naam]],2,FALSE)),IF(Table1[[#This Row],[Prod.ID (A)]]=\"nvt\",\"Grond\",\"\"))","v":""},{"$f":"IFERROR((VLOOKUP(D148,Table2[[Prod.ID]:[Levensduur '[jaar']]],3,FALSE)),\"\")","v":""},null,{"$f":"IFERROR((VLOOKUP(Table1[[#This Row],[Prod.ID (B)]],Table2[[Prod.ID]:[Product naam]],2,FALSE)),IF(Table1[[#This Row],[Prod.ID (B)]]=\"nvt\",\"Grond\",\"\"))","v":""},{"$f":"IFERROR((VLOOKUP(G148,Table2[[Prod.ID]:[Levensduur '[jaar']]],3,FALSE)),\" \")","v":" "}]
[null,{"$f":"IF(Table1[[#This Row],[Prod.ID (A)]]=\"\",\"\",_xlfn.XLOOKUP(Table1[[#This Row],[Prod.ID (A)]],Table2[Prod.ID],Table2[Elem.ID],\"\",0,1))","v":""},{"$f":"IF(Table1[[#This Row],[Prod.ID (A)]]=\"\",\"\",_xlfn.XLOOKUP(Table1[[#This Row],[Prod.ID (A)]],Table2[Prod.ID],Table2[Element naam],\"\",0,1))","v":""},null,{"$f":"IFERROR((VLOOKUP(Table1[[#This Row],[Prod.ID (A)]],Table2[[Prod.ID]:[Product naam]],2,FALSE)),IF(Table1[[#This Row],[Prod.ID (A)]]=\"nvt\",\"Grond\",\"\"))","v":""},{"$f":"IFERROR((VLOOKUP(D149,Table2[[Prod.ID]:[Levensduur '[jaar']]],3,FALSE)),\"\")","v":""},null,{"$f":"IFERROR((VLOOKUP(Table1[[#This Row],[Prod.ID (B)]],Table2[[Prod.ID]:[Product naam]],2,FALSE)),IF(Table1[[#This Row],[Prod.ID (B)]]=\"nvt\",\"Grond\",\"\"))","v":""},{"$f":"IFERROR((VLOOKUP(G149,Table2[[Prod.ID]:[Levensduur '[jaar']]],3,FALSE)),\" \")","v":" "}]
[null,{"$f":"IF(Table1[[#This Row],[Prod.ID (A)]]=\"\",\"\",_xlfn.XLOOKUP(Table1[[#This Row],[Prod.ID (A)]],Table2[Prod.ID],Table2[Elem.ID],\"\",0,1))","v":""},{"$f":"IF(Table1[[#This Row],[Prod.ID (A)]]=\"\",\"\",_xlfn.XLOOKUP(Table1[[#This Row],[Prod.ID (A)]],Table2[Prod.ID],Table2[Element naam],\"\",0,1))","v":""},null,{"$f":"IFERROR((VLOOKUP(Table1[[#This Row],[Prod.ID (A)]],Table2[[Prod.ID]:[Product naam]],2,FALSE)),IF(Table1[[#This Row],[Prod.ID (A)]]=\"nvt\",\"Grond\",\"\"))","v":""},{"$f":"IFERROR((VLOOKUP(D150,Table2[[Prod.ID]:[Levensduur '[jaar']]],3,FALSE)),\"\")","v":""},null,{"$f":"IFERROR((VLOOKUP(Table1[[#This Row],[Prod.ID (B)]],Table2[[Prod.ID]:[Product naam]],2,FALSE)),IF(Table1[[#This Row],[Prod.ID (B)]]=\"nvt\",\"Grond\",\"\"))","v":""},{"$f":"IFERROR((VLOOKUP(G150,Table2[[Prod.ID]:[Levensduur '[jaar']]],3,FALSE)),\" \")","v":" "}]
[null,{"$f":"IF(Table1[[#This Row],[Prod.ID (A)]]=\"\",\"\",_xlfn.XLOOKUP(Table1[[#This Row],[Prod.ID (A)]],Table2[Prod.ID],Table2[Elem.ID],\"\",0,1))","v":""},{"$f":"IF(Table1[[#This Row],[Prod.ID (A)]]=\"\",\"\",_xlfn.XLOOKUP(Table1[[#This Row],[Prod.ID (A)]],Table2[Prod.ID],Table2[Element naam],\"\",0,1))","v":""},null,{"$f":"IFERROR((VLOOKUP(Table1[[#This Row],[Prod.ID (A)]],Table2[[Prod.ID]:[Product naam]],2,FALSE)),IF(Table1[[#This Row],[Prod.ID (A)]]=\"nvt\",\"Grond\",\"\"))","v":""},{"$f":"IFERROR((VLOOKUP(D151,Table2[[Prod.ID]:[Levensduur '[jaar']]],3,FALSE)),\"\")","v":""},null,{"$f":"IFERROR((VLOOKUP(Table1[[#This Row],[Prod.ID (B)]],Table2[[Prod.ID]:[Product naam]],2,FALSE)),IF(Table1[[#This Row],[Prod.ID (B)]]=\"nvt\",\"Grond\",\"\"))","v":""},{"$f":"IFERROR((VLOOKUP(G151,Table2[[Prod.ID]:[Levensduur '[jaar']]],3,FALSE)),\" \")","v":" "}]
[null,{"$f":"IF(Table1[[#This Row],[Prod.ID (A)]]=\"\",\"\",_xlfn.XLOOKUP(Table1[[#This Row],[Prod.ID (A)]],Table2[Prod.ID],Table2[Elem.ID],\"\",0,1))","v":""},{"$f":"IF(Table1[[#This Row],[Prod.ID (A)]]=\"\",\"\",_xlfn.XLOOKUP(Table1[[#This Row],[Prod.ID (A)]],Table2[Prod.ID],Table2[Element naam],\"\",0,1))","v":""},null,{"$f":"IFERROR((VLOOKUP(Table1[[#This Row],[Prod.ID (A)]],Table2[[Prod.ID]:[Product naam]],2,FALSE)),IF(Table1[[#This Row],[Prod.ID (A)]]=\"nvt\",\"Grond\",\"\"))","v":""},{"$f":"IFERROR((VLOOKUP(D152,Table2[[Prod.ID]:[Levensduur '[jaar']]],3,FALSE)),\"\")","v":""},null,{"$f":"IFERROR((VLOOKUP(Table1[[#This Row],[Prod.ID (B)]],Table2[[Prod.ID]:[Product naam]],2,FALSE)),IF(Table1[[#This Row],[Prod.ID (B)]]=\"nvt\",\"Grond\",\"\"))","v":""},{"$f":"IFERROR((VLOOKUP(G152,Table2[[Prod.ID]:[Levensduur '[jaar']]],3,FALSE)),\" \")","v":" "}]
[null,{"$f":"IF(Table1[[#This Row],[Prod.ID (A)]]=\"\",\"\",_xlfn.XLOOKUP(Table1[[#This Row],[Prod.ID (A)]],Table2[Prod.ID],Table2[Elem.ID],\"\",0,1))","v":""},{"$f":"IF(Table1[[#This Row],[Prod.ID (A)]]=\"\",\"\",_xlfn.XLOOKUP(Table1[[#This Row],[Prod.ID (A)]],Table2[Prod.ID],Table2[Element naam],\"\",0,1))","v":""},null,{"$f":"IFERROR((VLOOKUP(Table1[[#This Row],[Prod.ID (A)]],Table2[[Prod.ID]:[Product naam]],2,FALSE)),IF(Table1[[#This Row],[Prod.ID (A)]]=\"nvt\",\"Grond\",\"\"))","v":""},{"$f":"IFERROR((VLOOKUP(D153,Table2[[Prod.ID]:[Levensduur '[jaar']]],3,FALSE)),\"\")","v":""},null,{"$f":"IFERROR((VLOOKUP(Table1[[#This Row],[Prod.ID (B)]],Table2[[Prod.ID]:[Product naam]],2,FALSE)),IF(Table1[[#This Row],[Prod.ID (B)]]=\"nvt\",\"Grond\",\"\"))","v":""},{"$f":"IFERROR((VLOOKUP(G153,Table2[[Prod.ID]:[Levensduur '[jaar']]],3,FALSE)),\" \")","v":" "}]
[null,{"$f":"IF(Table1[[#This Row],[Prod.ID (A)]]=\"\",\"\",_xlfn.XLOOKUP(Table1[[#This Row],[Prod.ID (A)]],Table2[Prod.ID],Table2[Elem.ID],\"\",0,1))","v":""},{"$f":"IF(Table1[[#This Row],[Prod.ID (A)]]=\"\",\"\",_xlfn.XLOOKUP(Table1[[#This Row],[Prod.ID (A)]],Table2[Prod.ID],Table2[Element naam],\"\",0,1))","v":""},null,{"$f":"IFERROR((VLOOKUP(Table1[[#This Row],[Prod.ID (A)]],Table2[[Prod.ID]:[Product naam]],2,FALSE)),IF(Table1[[#This Row],[Prod.ID (A)]]=\"nvt\",\"Grond\",\"\"))","v":""},{"$f":"IFERROR((VLOOKUP(D154,Table2[[Prod.ID]:[Levensduur '[jaar']]],3,FALSE)),\"\")","v":""},null,{"$f":"IFERROR((VLOOKUP(Table1[[#This Row],[Prod.ID (B)]],Table2[[Prod.ID]:[Product naam]],2,FALSE)),IF(Table1[[#This Row],[Prod.ID (B)]]=\"nvt\",\"Grond\",\"\"))","v":""},{"$f":"IFERROR((VLOOKUP(G154,Table2[[Prod.ID]:[Levensduur '[jaar']]],3,FALSE)),\" \")","v":" "}]
[null,{"$f":"IF(Table1[[#This Row],[Prod.ID (A)]]=\"\",\"\",_xlfn.XLOOKUP(Table1[[#This Row],[Prod.ID (A)]],Table2[Prod.ID],Table2[Elem.ID],\"\",0,1))","v":""},{"$f":"IF(Table1[[#This Row],[Prod.ID (A)]]=\"\",\"\",_xlfn.XLOOKUP(Table1[[#This Row],[Prod.ID (A)]],Table2[Prod.ID],Table2[Element naam],\"\",0,1))","v":""},null,{"$f":"IFERROR((VLOOKUP(Table1[[#This Row],[Prod.ID (A)]],Table2[[Prod.ID]:[Product naam]],2,FALSE)),IF(Table1[[#This Row],[Prod.ID (A)]]=\"nvt\",\"Grond\",\"\"))","v":""},{"$f":"IFERROR((VLOOKUP(D155,Table2[[Prod.ID]:[Levensduur '[jaar']]],3,FALSE)),\"\")","v":""},null,{"$f":"IFERROR((VLOOKUP(Table1[[#This Row],[Prod.ID (B)]],Table2[[Prod.ID]:[Product naam]],2,FALSE)),IF(Table1[[#This Row],[Prod.ID (B)]]=\"nvt\",\"Grond\",\"\"))","v":""},{"$f":"IFERROR((VLOOKUP(G155,Table2[[Prod.ID]:[Levensduur '[jaar']]],3,FALSE)),\" \")","v":" "}]
[null,{"$f":"IF(Table1[[#This Row],[Prod.ID (A)]]=\"\",\"\",_xlfn.XLOOKUP(Table1[[#This Row],[Prod.ID (A)]],Table2[Prod.ID],Table2[Elem.ID],\"\",0,1))","v":""},{"$f":"IF(Table1[[#This Row],[Prod.ID (A)]]=\"\",\"\",_xlfn.XLOOKUP(Table1[[#This Row],[Prod.ID (A)]],Table2[Prod.ID],Table2[Element naam],\"\",0,1))","v":""},null,{"$f":"IFERROR((VLOOKUP(Table1[[#This Row],[Prod.ID (A)]],Table2[[Prod.ID]:[Product naam]],2,FALSE)),IF(Table1[[#This Row],[Prod.ID (A)]]=\"nvt\",\"Grond\",\"\"))","v":""},{"$f":"IFERROR((VLOOKUP(D156,Table2[[Prod.ID]:[Levensduur '[jaar']]],3,FALSE)),\"\")","v":""},null,{"$f":"IFERROR((VLOOKUP(Table1[[#This Row],[Prod.ID (B)]],Table2[[Prod.ID]:[Product naam]],2,FALSE)),IF(Table1[[#This Row],[Prod.ID (B)]]=\"nvt\",\"Grond\",\"\"))","v":""},{"$f":"IFERROR((VLOOKUP(G156,Table2[[Prod.ID]:[Levensduur '[jaar']]],3,FALSE)),\" \")","v":" "}]
[null,{"$f":"IF(Table1[[#This Row],[Prod.ID (A)]]=\"\",\"\",_xlfn.XLOOKUP(Table1[[#This Row],[Prod.ID (A)]],Table2[Prod.ID],Table2[Elem.ID],\"\",0,1))","v":""},{"$f":"IF(Table1[[#This Row],[Prod.ID (A)]]=\"\",\"\",_xlfn.XLOOKUP(Table1[[#This Row],[Prod.ID (A)]],Table2[Prod.ID],Table2[Element naam],\"\",0,1))","v":""},null,{"$f":"IFERROR((VLOOKUP(Table1[[#This Row],[Prod.ID (A)]],Table2[[Prod.ID]:[Product naam]],2,FALSE)),IF(Table1[[#This Row],[Prod.ID (A)]]=\"nvt\",\"Grond\",\"\"))","v":""},{"$f":"IFERROR((VLOOKUP(D157,Table2[[Prod.ID]:[Levensduur '[jaar']]],3,FALSE)),\"\")","v":""},null,{"$f":"IFERROR((VLOOKUP(Table1[[#This Row],[Prod.ID (B)]],Table2[[Prod.ID]:[Product naam]],2,FALSE)),IF(Table1[[#This Row],[Prod.ID (B)]]=\"nvt\",\"Grond\",\"\"))","v":""},{"$f":"IFERROR((VLOOKUP(G157,Table2[[Prod.ID]:[Levensduur '[jaar']]],3,FALSE)),\" \")","v":" "}]
[null,{"$f":"IF(Table1[[#This Row],[Prod.ID (A)]]=\"\",\"\",_xlfn.XLOOKUP(Table1[[#This Row],[Prod.ID (A)]],Table2[Prod.ID],Table2[Elem.ID],\"\",0,1))","v":""},{"$f":"IF(Table1[[#This Row],[Prod.ID (A)]]=\"\",\"\",_xlfn.XLOOKUP(Table1[[#This Row],[Prod.ID (A)]],Table2[Prod.ID],Table2[Element naam],\"\",0,1))","v":""},null,{"$f":"IFERROR((VLOOKUP(Table1[[#This Row],[Prod.ID (A)]],Table2[[Prod.ID]:[Product naam]],2,FALSE)),IF(Table1[[#This Row],[Prod.ID (A)]]=\"nvt\",\"Grond\",\"\"))","v":""},{"$f":"IFERROR((VLOOKUP(D158,Table2[[Prod.ID]:[Levensduur '[jaar']]],3,FALSE)),\"\")","v":""},null,{"$f":"IFERROR((VLOOKUP(Table1[[#This Row],[Prod.ID (B)]],Table2[[Prod.ID]:[Product naam]],2,FALSE)),IF(Table1[[#This Row],[Prod.ID (B)]]=\"nvt\",\"Grond\",\"\"))","v":""},{"$f":"IFERROR((VLOOKUP(G158,Table2[[Prod.ID]:[Levensduur '[jaar']]],3,FALSE)),\" \")","v":" "}]
[null,{"$f":"IF(Table1[[#This Row],[Prod.ID (A)]]=\"\",\"\",_xlfn.XLOOKUP(Table1[[#This Row],[Prod.ID (A)]],Table2[Prod.ID],Table2[Elem.ID],\"\",0,1))","v":""},{"$f":"IF(Table1[[#This Row],[Prod.ID (A)]]=\"\",\"\",_xlfn.XLOOKUP(Table1[[#This Row],[Prod.ID (A)]],Table2[Prod.ID],Table2[Element naam],\"\",0,1))","v":""},null,{"$f":"IFERROR((VLOOKUP(Table1[[#This Row],[Prod.ID (A)]],Table2[[Prod.ID]:[Product naam]],2,FALSE)),IF(Table1[[#This Row],[Prod.ID (A)]]=\"nvt\",\"Grond\",\"\"))","v":""},{"$f":"IFERROR((VLOOKUP(D159,Table2[[Prod.ID]:[Levensduur '[jaar']]],3,FALSE)),\"\")","v":""},null,{"$f":"IFERROR((VLOOKUP(Table1[[#This Row],[Prod.ID (B)]],Table2[[Prod.ID]:[Product naam]],2,FALSE)),IF(Table1[[#This Row],[Prod.ID (B)]]=\"nvt\",\"Grond\",\"\"))","v":""},{"$f":"IFERROR((VLOOKUP(G159,Table2[[Prod.ID]:[Levensduur '[jaar']]],3,FALSE)),\" \")","v":" "}]
[null,{"$f":"IF(Table1[[#This Row],[Prod.ID (A)]]=\"\",\"\",_xlfn.XLOOKUP(Table1[[#This Row],[Prod.ID (A)]],Table2[Prod.ID],Table2[Elem.ID],\"\",0,1))","v":""},{"$f":"IF(Table1[[#This Row],[Prod.ID (A)]]=\"\",\"\",_xlfn.XLOOKUP(Table1[[#This Row],[Prod.ID (A)]],Table2[Prod.ID],Table2[Element naam],\"\",0,1))","v":""},null,{"$f":"IFERROR((VLOOKUP(Table1[[#This Row],[Prod.ID (A)]],Table2[[Prod.ID]:[Product naam]],2,FALSE)),IF(Table1[[#This Row],[Prod.ID (A)]]=\"nvt\",\"Grond\",\"\"))","v":""},{"$f":"IFERROR((VLOOKUP(D160,Table2[[Prod.ID]:[Levensduur '[jaar']]],3,FALSE)),\"\")","v":""},null,{"$f":"IFERROR((VLOOKUP(Table1[[#This Row],[Prod.ID (B)]],Table2[[Prod.ID]:[Product naam]],2,FALSE)),IF(Table1[[#This Row],[Prod.ID (B)]]=\"nvt\",\"Grond\",\"\"))","v":""},{"$f":"IFERROR((VLOOKUP(G160,Table2[[Prod.ID]:[Levensduur '[jaar']]],3,FALSE)),\" \")","v":" "}]
[null,{"$f":"IF(Table1[[#This Row],[Prod.ID (A)]]=\"\",\"\",_xlfn.XLOOKUP(Table1[[#This Row],[Prod.ID (A)]],Table2[Prod.ID],Table2[Elem.ID],\"\",0,1))","v":""},{"$f":"IF(Table1[[#This Row],[Prod.ID (A)]]=\"\",\"\",_xlfn.XLOOKUP(Table1[[#This Row],[Prod.ID (A)]],Table2[Prod.ID],Table2[Element naam],\"\",0,1))","v":""},null,{"$f":"IFERROR((VLOOKUP(Table1[[#This Row],[Prod.ID (A)]],Table2[[Prod.ID]:[Product naam]],2,FALSE)),IF(Table1[[#This Row],[Prod.ID (A)]]=\"nvt\",\"Grond\",\"\"))","v":""},{"$f":"IFERROR((VLOOKUP(D161,Table2[[Prod.ID]:[Levensduur '[jaar']]],3,FALSE)),\"\")","v":""},null,{"$f":"IFERROR((VLOOKUP(Table1[[#This Row],[Prod.ID (B)]],Table2[[Prod.ID]:[Product naam]],2,FALSE)),IF(Table1[[#This Row],[Prod.ID (B)]]=\"nvt\",\"Grond\",\"\"))","v":""},{"$f":"IFERROR((VLOOKUP(G161,Table2[[Prod.ID]:[Levensduur '[jaar']]],3,FALSE)),\" \")","v":" "}]
[null,{"$f":"IF(Table1[[#This Row],[Prod.ID (A)]]=\"\",\"\",_xlfn.XLOOKUP(Table1[[#This Row],[Prod.ID (A)]],Table2[Prod.ID],Table2[Elem.ID],\"\",0,1))","v":""},{"$f":"IF(Table1[[#This Row],[Prod.ID (A)]]=\"\",\"\",_xlfn.XLOOKUP(Table1[[#This Row],[Prod.ID (A)]],Table2[Prod.ID],Table2[Element naam],\"\",0,1))","v":""},null,{"$f":"IFERROR((VLOOKUP(Table1[[#This Row],[Prod.ID (A)]],Table2[[Prod.ID]:[Product naam]],2,FALSE)),IF(Table1[[#This Row],[Prod.ID (A)]]=\"nvt\",\"Grond\",\"\"))","v":""},{"$f":"IFERROR((VLOOKUP(D162,Table2[[Prod.ID]:[Levensduur '[jaar']]],3,FALSE)),\"\")","v":""},null,{"$f":"IFERROR((VLOOKUP(Table1[[#This Row],[Prod.ID (B)]],Table2[[Prod.ID]:[Product naam]],2,FALSE)),IF(Table1[[#This Row],[Prod.ID (B)]]=\"nvt\",\"Grond\",\"\"))","v":""},{"$f":"IFERROR((VLOOKUP(G162,Table2[[Prod.ID]:[Levensduur '[jaar']]],3,FALSE)),\" \")","v":" "}]
[null,{"$f":"IF(Table1[[#This Row],[Prod.ID (A)]]=\"\",\"\",_xlfn.XLOOKUP(Table1[[#This Row],[Prod.ID (A)]],Table2[Prod.ID],Table2[Elem.ID],\"\",0,1))","v":""},{"$f":"IF(Table1[[#This Row],[Prod.ID (A)]]=\"\",\"\",_xlfn.XLOOKUP(Table1[[#This Row],[Prod.ID (A)]],Table2[Prod.ID],Table2[Element naam],\"\",0,1))","v":""},null,{"$f":"IFERROR((VLOOKUP(Table1[[#This Row],[Prod.ID (A)]],Table2[[Prod.ID]:[Product naam]],2,FALSE)),IF(Table1[[#This Row],[Prod.ID (A)]]=\"nvt\",\"Grond\",\"\"))","v":""},{"$f":"IFERROR((VLOOKUP(D163,Table2[[Prod.ID]:[Levensduur '[jaar']]],3,FALSE)),\"\")","v":""},null,{"$f":"IFERROR((VLOOKUP(Table1[[#This Row],[Prod.ID (B)]],Table2[[Prod.ID]:[Product naam]],2,FALSE)),IF(Table1[[#This Row],[Prod.ID (B)]]=\"nvt\",\"Grond\",\"\"))","v":""},{"$f":"IFERROR((VLOOKUP(G163,Table2[[Prod.ID]:[Levensduur '[jaar']]],3,FALSE)),\" \")","v":" "}]
[null,{"$f":"IF(Table1[[#This Row],[Prod.ID (A)]]=\"\",\"\",_xlfn.XLOOKUP(Table1[[#This Row],[Prod.ID (A)]],Table2[Prod.ID],Table2[Elem.ID],\"\",0,1))","v":""},{"$f":"IF(Table1[[#This Row],[Prod.ID (A)]]=\"\",\"\",_xlfn.XLOOKUP(Table1[[#This Row],[Prod.ID (A)]],Table2[Prod.ID],Table2[Element naam],\"\",0,1))","v":""},null,{"$f":"IFERROR((VLOOKUP(Table1[[#This Row],[Prod.ID (A)]],Table2[[Prod.ID]:[Product naam]],2,FALSE)),IF(Table1[[#This Row],[Prod.ID (A)]]=\"nvt\",\"Grond\",\"\"))","v":""},{"$f":"IFERROR((VLOOKUP(D164,Table2[[Prod.ID]:[Levensduur '[jaar']]],3,FALSE)),\"\")","v":""},null,{"$f":"IFERROR((VLOOKUP(Table1[[#This Row],[Prod.ID (B)]],Table2[[Prod.ID]:[Product naam]],2,FALSE)),IF(Table1[[#This Row],[Prod.ID (B)]]=\"nvt\",\"Grond\",\"\"))","v":""},{"$f":"IFERROR((VLOOKUP(G164,Table2[[Prod.ID]:[Levensduur '[jaar']]],3,FALSE)),\" \")","v":" "}]
[null,{"$f":"IF(Table1[[#This Row],[Prod.ID (A)]]=\"\",\"\",_xlfn.XLOOKUP(Table1[[#This Row],[Prod.ID (A)]],Table2[Prod.ID],Table2[Elem.ID],\"\",0,1))","v":""},{"$f":"IF(Table1[[#This Row],[Prod.ID (A)]]=\"\",\"\",_xlfn.XLOOKUP(Table1[[#This Row],[Prod.ID (A)]],Table2[Prod.ID],Table2[Element naam],\"\",0,1))","v":""},null,{"$f":"IFERROR((VLOOKUP(Table1[[#This Row],[Prod.ID (A)]],Table2[[Prod.ID]:[Product naam]],2,FALSE)),IF(Table1[[#This Row],[Prod.ID (A)]]=\"nvt\",\"Grond\",\"\"))","v":""},{"$f":"IFERROR((VLOOKUP(D165,Table2[[Prod.ID]:[Levensduur '[jaar']]],3,FALSE)),\"\")","v":""},null,{"$f":"IFERROR((VLOOKUP(Table1[[#This Row],[Prod.ID (B)]],Table2[[Prod.ID]:[Product naam]],2,FALSE)),IF(Table1[[#This Row],[Prod.ID (B)]]=\"nvt\",\"Grond\",\"\"))","v":""},{"$f":"IFERROR((VLOOKUP(G165,Table2[[Prod.ID]:[Levensduur '[jaar']]],3,FALSE)),\" \")","v":" "}]
[null,{"$f":"IF(Table1[[#This Row],[Prod.ID (A)]]=\"\",\"\",_xlfn.XLOOKUP(Table1[[#This Row],[Prod.ID (A)]],Table2[Prod.ID],Table2[Elem.ID],\"\",0,1))","v":""},{"$f":"IF(Table1[[#This Row],[Prod.ID (A)]]=\"\",\"\",_xlfn.XLOOKUP(Table1[[#This Row],[Prod.ID (A)]],Table2[Prod.ID],Table2[Element naam],\"\",0,1))","v":""},null,{"$f":"IFERROR((VLOOKUP(Table1[[#This Row],[Prod.ID (A)]],Table2[[Prod.ID]:[Product naam]],2,FALSE)),IF(Table1[[#This Row],[Prod.ID (A)]]=\"nvt\",\"Grond\",\"\"))","v":""},{"$f":"IFERROR((VLOOKUP(D166,Table2[[Prod.ID]:[Levensduur '[jaar']]],3,FALSE)),\"\")","v":""},null,{"$f":"IFERROR((VLOOKUP(Table1[[#This Row],[Prod.ID (B)]],Table2[[Prod.ID]:[Product naam]],2,FALSE)),IF(Table1[[#This Row],[Prod.ID (B)]]=\"nvt\",\"Grond\",\"\"))","v":""},{"$f":"IFERROR((VLOOKUP(G166,Table2[[Prod.ID]:[Levensduur '[jaar']]],3,FALSE)),\" \")","v":" "}]
[null,{"$f":"IF(Table1[[#This Row],[Prod.ID (A)]]=\"\",\"\",_xlfn.XLOOKUP(Table1[[#This Row],[Prod.ID (A)]],Table2[Prod.ID],Table2[Elem.ID],\"\",0,1))","v":""},{"$f":"IF(Table1[[#This Row],[Prod.ID (A)]]=\"\",\"\",_xlfn.XLOOKUP(Table1[[#This Row],[Prod.ID (A)]],Table2[Prod.ID],Table2[Element naam],\"\",0,1))","v":""},null,{"$f":"IFERROR((VLOOKUP(Table1[[#This Row],[Prod.ID (A)]],Table2[[Prod.ID]:[Product naam]],2,FALSE)),IF(Table1[[#This Row],[Prod.ID (A)]]=\"nvt\",\"Grond\",\"\"))","v":""},{"$f":"IFERROR((VLOOKUP(D167,Table2[[Prod.ID]:[Levensduur '[jaar']]],3,FALSE)),\"\")","v":""},null,{"$f":"IFERROR((VLOOKUP(Table1[[#This Row],[Prod.ID (B)]],Table2[[Prod.ID]:[Product naam]],2,FALSE)),IF(Table1[[#This Row],[Prod.ID (B)]]=\"nvt\",\"Grond\",\"\"))","v":""},{"$f":"IFERROR((VLOOKUP(G167,Table2[[Prod.ID]:[Levensduur '[jaar']]],3,FALSE)),\" \")","v":" "}]
[null,{"$f":"IF(Table1[[#This Row],[Prod.ID (A)]]=\"\",\"\",_xlfn.XLOOKUP(Table1[[#This Row],[Prod.ID (A)]],Table2[Prod.ID],Table2[Elem.ID],\"\",0,1))","v":""},{"$f":"IF(Table1[[#This Row],[Prod.ID (A)]]=\"\",\"\",_xlfn.XLOOKUP(Table1[[#This Row],[Prod.ID (A)]],Table2[Prod.ID],Table2[Element naam],\"\",0,1))","v":""},null,{"$f":"IFERROR((VLOOKUP(Table1[[#This Row],[Prod.ID (A)]],Table2[[Prod.ID]:[Product naam]],2,FALSE)),IF(Table1[[#This Row],[Prod.ID (A)]]=\"nvt\",\"Grond\",\"\"))","v":""},{"$f":"IFERROR((VLOOKUP(D168,Table2[[Prod.ID]:[Levensduur '[jaar']]],3,FALSE)),\"\")","v":""},null,{"$f":"IFERROR((VLOOKUP(Table1[[#This Row],[Prod.ID (B)]],Table2[[Prod.ID]:[Product naam]],2,FALSE)),IF(Table1[[#This Row],[Prod.ID (B)]]=\"nvt\",\"Grond\",\"\"))","v":""},{"$f":"IFERROR((VLOOKUP(G168,Table2[[Prod.ID]:[Levensduur '[jaar']]],3,FALSE)),\" \")","v":" "}]
[null,{"$f":"IF(Table1[[#This Row],[Prod.ID (A)]]=\"\",\"\",_xlfn.XLOOKUP(Table1[[#This Row],[Prod.ID (A)]],Table2[Prod.ID],Table2[Elem.ID],\"\",0,1))","v":""},{"$f":"IF(Table1[[#This Row],[Prod.ID (A)]]=\"\",\"\",_xlfn.XLOOKUP(Table1[[#This Row],[Prod.ID (A)]],Table2[Prod.ID],Table2[Element naam],\"\",0,1))","v":""},null,{"$f":"IFERROR((VLOOKUP(Table1[[#This Row],[Prod.ID (A)]],Table2[[Prod.ID]:[Product naam]],2,FALSE)),IF(Table1[[#This Row],[Prod.ID (A)]]=\"nvt\",\"Grond\",\"\"))","v":""},{"$f":"IFERROR((VLOOKUP(D169,Table2[[Prod.ID]:[Levensduur '[jaar']]],3,FALSE)),\"\")","v":""},null,{"$f":"IFERROR((VLOOKUP(Table1[[#This Row],[Prod.ID (B)]],Table2[[Prod.ID]:[Product naam]],2,FALSE)),IF(Table1[[#This Row],[Prod.ID (B)]]=\"nvt\",\"Grond\",\"\"))","v":""},{"$f":"IFERROR((VLOOKUP(G169,Table2[[Prod.ID]:[Levensduur '[jaar']]],3,FALSE)),\" \")","v":" "}]
[null,{"$f":"IF(Table1[[#This Row],[Prod.ID (A)]]=\"\",\"\",_xlfn.XLOOKUP(Table1[[#This Row],[Prod.ID (A)]],Table2[Prod.ID],Table2[Elem.ID],\"\",0,1))","v":""},{"$f":"IF(Table1[[#This Row],[Prod.ID (A)]]=\"\",\"\",_xlfn.XLOOKUP(Table1[[#This Row],[Prod.ID (A)]],Table2[Prod.ID],Table2[Element naam],\"\",0,1))","v":""},null,{"$f":"IFERROR((VLOOKUP(Table1[[#This Row],[Prod.ID (A)]],Table2[[Prod.ID]:[Product naam]],2,FALSE)),IF(Table1[[#This Row],[Prod.ID (A)]]=\"nvt\",\"Grond\",\"\"))","v":""},{"$f":"IFERROR((VLOOKUP(D170,Table2[[Prod.ID]:[Levensduur '[jaar']]],3,FALSE)),\"\")","v":""},null,{"$f":"IFERROR((VLOOKUP(Table1[[#This Row],[Prod.ID (B)]],Table2[[Prod.ID]:[Product naam]],2,FALSE)),IF(Table1[[#This Row],[Prod.ID (B)]]=\"nvt\",\"Grond\",\"\"))","v":""},{"$f":"IFERROR((VLOOKUP(G170,Table2[[Prod.ID]:[Levensduur '[jaar']]],3,FALSE)),\" \")","v":" "}]
[null,{"$f":"IF(Table1[[#This Row],[Prod.ID (A)]]=\"\",\"\",_xlfn.XLOOKUP(Table1[[#This Row],[Prod.ID (A)]],Table2[Prod.ID],Table2[Elem.ID],\"\",0,1))","v":""},{"$f":"IF(Table1[[#This Row],[Prod.ID (A)]]=\"\",\"\",_xlfn.XLOOKUP(Table1[[#This Row],[Prod.ID (A)]],Table2[Prod.ID],Table2[Element naam],\"\",0,1))","v":""},null,{"$f":"IFERROR((VLOOKUP(Table1[[#This Row],[Prod.ID (A)]],Table2[[Prod.ID]:[Product naam]],2,FALSE)),IF(Table1[[#This Row],[Prod.ID (A)]]=\"nvt\",\"Grond\",\"\"))","v":""},{"$f":"IFERROR((VLOOKUP(D171,Table2[[Prod.ID]:[Levensduur '[jaar']]],3,FALSE)),\"\")","v":""},null,{"$f":"IFERROR((VLOOKUP(Table1[[#This Row],[Prod.ID (B)]],Table2[[Prod.ID]:[Product naam]],2,FALSE)),IF(Table1[[#This Row],[Prod.ID (B)]]=\"nvt\",\"Grond\",\"\"))","v":""},{"$f":"IFERROR((VLOOKUP(G171,Table2[[Prod.ID]:[Levensduur '[jaar']]],3,FALSE)),\" \")","v":" "}]
[null,{"$f":"IF(Table1[[#This Row],[Prod.ID (A)]]=\"\",\"\",_xlfn.XLOOKUP(Table1[[#This Row],[Prod.ID (A)]],Table2[Prod.ID],Table2[Elem.ID],\"\",0,1))","v":""},{"$f":"IF(Table1[[#This Row],[Prod.ID (A)]]=\"\",\"\",_xlfn.XLOOKUP(Table1[[#This Row],[Prod.ID (A)]],Table2[Prod.ID],Table2[Element naam],\"\",0,1))","v":""},null,{"$f":"IFERROR((VLOOKUP(Table1[[#This Row],[Prod.ID (A)]],Table2[[Prod.ID]:[Product naam]],2,FALSE)),IF(Table1[[#This Row],[Prod.ID (A)]]=\"nvt\",\"Grond\",\"\"))","v":""},{"$f":"IFERROR((VLOOKUP(D172,Table2[[Prod.ID]:[Levensduur '[jaar']]],3,FALSE)),\"\")","v":""},null,{"$f":"IFERROR((VLOOKUP(Table1[[#This Row],[Prod.ID (B)]],Table2[[Prod.ID]:[Product naam]],2,FALSE)),IF(Table1[[#This Row],[Prod.ID (B)]]=\"nvt\",\"Grond\",\"\"))","v":""},{"$f":"IFERROR((VLOOKUP(G172,Table2[[Prod.ID]:[Levensduur '[jaar']]],3,FALSE)),\" \")","v":" "}]
[null,{"$f":"IF(Table1[[#This Row],[Prod.ID (A)]]=\"\",\"\",_xlfn.XLOOKUP(Table1[[#This Row],[Prod.ID (A)]],Table2[Prod.ID],Table2[Elem.ID],\"\",0,1))","v":""},{"$f":"IF(Table1[[#This Row],[Prod.ID (A)]]=\"\",\"\",_xlfn.XLOOKUP(Table1[[#This Row],[Prod.ID (A)]],Table2[Prod.ID],Table2[Element naam],\"\",0,1))","v":""},null,{"$f":"IFERROR((VLOOKUP(Table1[[#This Row],[Prod.ID (A)]],Table2[[Prod.ID]:[Product naam]],2,FALSE)),IF(Table1[[#This Row],[Prod.ID (A)]]=\"nvt\",\"Grond\",\"\"))","v":""},{"$f":"IFERROR((VLOOKUP(D173,Table2[[Prod.ID]:[Levensduur '[jaar']]],3,FALSE)),\"\")","v":""},null,{"$f":"IFERROR((VLOOKUP(Table1[[#This Row],[Prod.ID (B)]],Table2[[Prod.ID]:[Product naam]],2,FALSE)),IF(Table1[[#This Row],[Prod.ID (B)]]=\"nvt\",\"Grond\",\"\"))","v":""},{"$f":"IFERROR((VLOOKUP(G173,Table2[[Prod.ID]:[Levensduur '[jaar']]],3,FALSE)),\" \")","v":" "}]
[null,{"$f":"IF(Table1[[#This Row],[Prod.ID (A)]]=\"\",\"\",_xlfn.XLOOKUP(Table1[[#This Row],[Prod.ID (A)]],Table2[Prod.ID],Table2[Elem.ID],\"\",0,1))","v":""},{"$f":"IF(Table1[[#This Row],[Prod.ID (A)]]=\"\",\"\",_xlfn.XLOOKUP(Table1[[#This Row],[Prod.ID (A)]],Table2[Prod.ID],Table2[Element naam],\"\",0,1))","v":""},null,{"$f":"IFERROR((VLOOKUP(Table1[[#This Row],[Prod.ID (A)]],Table2[[Prod.ID]:[Product naam]],2,FALSE)),IF(Table1[[#This Row],[Prod.ID (A)]]=\"nvt\",\"Grond\",\"\"))","v":""},{"$f":"IFERROR((VLOOKUP(D174,Table2[[Prod.ID]:[Levensduur '[jaar']]],3,FALSE)),\"\")","v":""},null,{"$f":"IFERROR((VLOOKUP(Table1[[#This Row],[Prod.ID (B)]],Table2[[Prod.ID]:[Product naam]],2,FALSE)),IF(Table1[[#This Row],[Prod.ID (B)]]=\"nvt\",\"Grond\",\"\"))","v":""},{"$f":"IFERROR((VLOOKUP(G174,Table2[[Prod.ID]:[Levensduur '[jaar']]],3,FALSE)),\" \")","v":" "}]
[null,{"$f":"IF(Table1[[#This Row],[Prod.ID (A)]]=\"\",\"\",_xlfn.XLOOKUP(Table1[[#This Row],[Prod.ID (A)]],Table2[Prod.ID],Table2[Elem.ID],\"\",0,1))","v":""},{"$f":"IF(Table1[[#This Row],[Prod.ID (A)]]=\"\",\"\",_xlfn.XLOOKUP(Table1[[#This Row],[Prod.ID (A)]],Table2[Prod.ID],Table2[Element naam],\"\",0,1))","v":""},null,{"$f":"IFERROR((VLOOKUP(Table1[[#This Row],[Prod.ID (A)]],Table2[[Prod.ID]:[Product naam]],2,FALSE)),IF(Table1[[#This Row],[Prod.ID (A)]]=\"nvt\",\"Grond\",\"\"))","v":""},{"$f":"IFERROR((VLOOKUP(D175,Table2[[Prod.ID]:[Levensduur '[jaar']]],3,FALSE)),\"\")","v":""},null,{"$f":"IFERROR((VLOOKUP(Table1[[#This Row],[Prod.ID (B)]],Table2[[Prod.ID]:[Product naam]],2,FALSE)),IF(Table1[[#This Row],[Prod.ID (B)]]=\"nvt\",\"Grond\",\"\"))","v":""},{"$f":"IFERROR((VLOOKUP(G175,Table2[[Prod.ID]:[Levensduur '[jaar']]],3,FALSE)),\" \")","v":" "}]
[null,{"$f":"IF(Table1[[#This Row],[Prod.ID (A)]]=\"\",\"\",_xlfn.XLOOKUP(Table1[[#This Row],[Prod.ID (A)]],Table2[Prod.ID],Table2[Elem.ID],\"\",0,1))","v":""},{"$f":"IF(Table1[[#This Row],[Prod.ID (A)]]=\"\",\"\",_xlfn.XLOOKUP(Table1[[#This Row],[Prod.ID (A)]],Table2[Prod.ID],Table2[Element naam],\"\",0,1))","v":""},null,{"$f":"IFERROR((VLOOKUP(Table1[[#This Row],[Prod.ID (A)]],Table2[[Prod.ID]:[Product naam]],2,FALSE)),IF(Table1[[#This Row],[Prod.ID (A)]]=\"nvt\",\"Grond\",\"\"))","v":""},{"$f":"IFERROR((VLOOKUP(D176,Table2[[Prod.ID]:[Levensduur '[jaar']]],3,FALSE)),\"\")","v":""},null,{"$f":"IFERROR((VLOOKUP(Table1[[#This Row],[Prod.ID (B)]],Table2[[Prod.ID]:[Product naam]],2,FALSE)),IF(Table1[[#This Row],[Prod.ID (B)]]=\"nvt\",\"Grond\",\"\"))","v":""},{"$f":"IFERROR((VLOOKUP(G176,Table2[[Prod.ID]:[Levensduur '[jaar']]],3,FALSE)),\" \")","v":" "}]
[null,{"$f":"IF(Table1[[#This Row],[Prod.ID (A)]]=\"\",\"\",_xlfn.XLOOKUP(Table1[[#This Row],[Prod.ID (A)]],Table2[Prod.ID],Table2[Elem.ID],\"\",0,1))","v":""},{"$f":"IF(Table1[[#This Row],[Prod.ID (A)]]=\"\",\"\",_xlfn.XLOOKUP(Table1[[#This Row],[Prod.ID (A)]],Table2[Prod.ID],Table2[Element naam],\"\",0,1))","v":""},null,{"$f":"IFERROR((VLOOKUP(Table1[[#This Row],[Prod.ID (A)]],Table2[[Prod.ID]:[Product naam]],2,FALSE)),IF(Table1[[#This Row],[Prod.ID (A)]]=\"nvt\",\"Grond\",\"\"))","v":""},{"$f":"IFERROR((VLOOKUP(D177,Table2[[Prod.ID]:[Levensduur '[jaar']]],3,FALSE)),\"\")","v":""},null,{"$f":"IFERROR((VLOOKUP(Table1[[#This Row],[Prod.ID (B)]],Table2[[Prod.ID]:[Product naam]],2,FALSE)),IF(Table1[[#This Row],[Prod.ID (B)]]=\"nvt\",\"Grond\",\"\"))","v":""},{"$f":"IFERROR((VLOOKUP(G177,Table2[[Prod.ID]:[Levensduur '[jaar']]],3,FALSE)),\" \")","v":" "}]
[null,{"$f":"IF(Table1[[#This Row],[Prod.ID (A)]]=\"\",\"\",_xlfn.XLOOKUP(Table1[[#This Row],[Prod.ID (A)]],Table2[Prod.ID],Table2[Elem.ID],\"\",0,1))","v":""},{"$f":"IF(Table1[[#This Row],[Prod.ID (A)]]=\"\",\"\",_xlfn.XLOOKUP(Table1[[#This Row],[Prod.ID (A)]],Table2[Prod.ID],Table2[Element naam],\"\",0,1))","v":""},null,{"$f":"IFERROR((VLOOKUP(Table1[[#This Row],[Prod.ID (A)]],Table2[[Prod.ID]:[Product naam]],2,FALSE)),IF(Table1[[#This Row],[Prod.ID (A)]]=\"nvt\",\"Grond\",\"\"))","v":""},{"$f":"IFERROR((VLOOKUP(D178,Table2[[Prod.ID]:[Levensduur '[jaar']]],3,FALSE)),\"\")","v":""},null,{"$f":"IFERROR((VLOOKUP(Table1[[#This Row],[Prod.ID (B)]],Table2[[Prod.ID]:[Product naam]],2,FALSE)),IF(Table1[[#This Row],[Prod.ID (B)]]=\"nvt\",\"Grond\",\"\"))","v":""},{"$f":"IFERROR((VLOOKUP(G178,Table2[[Prod.ID]:[Levensduur '[jaar']]],3,FALSE)),\" \")","v":" "}]
[null,{"$f":"IF(Table1[[#This Row],[Prod.ID (A)]]=\"\",\"\",_xlfn.XLOOKUP(Table1[[#This Row],[Prod.ID (A)]],Table2[Prod.ID],Table2[Elem.ID],\"\",0,1))","v":""},{"$f":"IF(Table1[[#This Row],[Prod.ID (A)]]=\"\",\"\",_xlfn.XLOOKUP(Table1[[#This Row],[Prod.ID (A)]],Table2[Prod.ID],Table2[Element naam],\"\",0,1))","v":""},null,{"$f":"IFERROR((VLOOKUP(Table1[[#This Row],[Prod.ID (A)]],Table2[[Prod.ID]:[Product naam]],2,FALSE)),IF(Table1[[#This Row],[Prod.ID (A)]]=\"nvt\",\"Grond\",\"\"))","v":""},{"$f":"IFERROR((VLOOKUP(D179,Table2[[Prod.ID]:[Levensduur '[jaar']]],3,FALSE)),\"\")","v":""},null,{"$f":"IFERROR((VLOOKUP(Table1[[#This Row],[Prod.ID (B)]],Table2[[Prod.ID]:[Product naam]],2,FALSE)),IF(Table1[[#This Row],[Prod.ID (B)]]=\"nvt\",\"Grond\",\"\"))","v":""},{"$f":"IFERROR((VLOOKUP(G179,Table2[[Prod.ID]:[Levensduur '[jaar']]],3,FALSE)),\" \")","v":" "}]
[null,{"$f":"IF(Table1[[#This Row],[Prod.ID (A)]]=\"\",\"\",_xlfn.XLOOKUP(Table1[[#This Row],[Prod.ID (A)]],Table2[Prod.ID],Table2[Elem.ID],\"\",0,1))","v":""},{"$f":"IF(Table1[[#This Row],[Prod.ID (A)]]=\"\",\"\",_xlfn.XLOOKUP(Table1[[#This Row],[Prod.ID (A)]],Table2[Prod.ID],Table2[Element naam],\"\",0,1))","v":""},null,{"$f":"IFERROR((VLOOKUP(Table1[[#This Row],[Prod.ID (A)]],Table2[[Prod.ID]:[Product naam]],2,FALSE)),IF(Table1[[#This Row],[Prod.ID (A)]]=\"nvt\",\"Grond\",\"\"))","v":""},{"$f":"IFERROR((VLOOKUP(D180,Table2[[Prod.ID]:[Levensduur '[jaar']]],3,FALSE)),\"\")","v":""},null,{"$f":"IFERROR((VLOOKUP(Table1[[#This Row],[Prod.ID (B)]],Table2[[Prod.ID]:[Product naam]],2,FALSE)),IF(Table1[[#This Row],[Prod.ID (B)]]=\"nvt\",\"Grond\",\"\"))","v":""},{"$f":"IFERROR((VLOOKUP(G180,Table2[[Prod.ID]:[Levensduur '[jaar']]],3,FALSE)),\" \")","v":" "}]
[null,{"$f":"IF(Table1[[#This Row],[Prod.ID (A)]]=\"\",\"\",_xlfn.XLOOKUP(Table1[[#This Row],[Prod.ID (A)]],Table2[Prod.ID],Table2[Elem.ID],\"\",0,1))","v":""},{"$f":"IF(Table1[[#This Row],[Prod.ID (A)]]=\"\",\"\",_xlfn.XLOOKUP(Table1[[#This Row],[Prod.ID (A)]],Table2[Prod.ID],Table2[Element naam],\"\",0,1))","v":""},null,{"$f":"IFERROR((VLOOKUP(Table1[[#This Row],[Prod.ID (A)]],Table2[[Prod.ID]:[Product naam]],2,FALSE)),IF(Table1[[#This Row],[Prod.ID (A)]]=\"nvt\",\"Grond\",\"\"))","v":""},{"$f":"IFERROR((VLOOKUP(D181,Table2[[Prod.ID]:[Levensduur '[jaar']]],3,FALSE)),\"\")","v":""},null,{"$f":"IFERROR((VLOOKUP(Table1[[#This Row],[Prod.ID (B)]],Table2[[Prod.ID]:[Product naam]],2,FALSE)),IF(Table1[[#This Row],[Prod.ID (B)]]=\"nvt\",\"Grond\",\"\"))","v":""},{"$f":"IFERROR((VLOOKUP(G181,Table2[[Prod.ID]:[Levensduur '[jaar']]],3,FALSE)),\" \")","v":" "}]
[null,{"$f":"IF(Table1[[#This Row],[Prod.ID (A)]]=\"\",\"\",_xlfn.XLOOKUP(Table1[[#This Row],[Prod.ID (A)]],Table2[Prod.ID],Table2[Elem.ID],\"\",0,1))","v":""},{"$f":"IF(Table1[[#This Row],[Prod.ID (A)]]=\"\",\"\",_xlfn.XLOOKUP(Table1[[#This Row],[Prod.ID (A)]],Table2[Prod.ID],Table2[Element naam],\"\",0,1))","v":""},null,{"$f":"IFERROR((VLOOKUP(Table1[[#This Row],[Prod.ID (A)]],Table2[[Prod.ID]:[Product naam]],2,FALSE)),IF(Table1[[#This Row],[Prod.ID (A)]]=\"nvt\",\"Grond\",\"\"))","v":""},{"$f":"IFERROR((VLOOKUP(D182,Table2[[Prod.ID]:[Levensduur '[jaar']]],3,FALSE)),\"\")","v":""},null,{"$f":"IFERROR((VLOOKUP(Table1[[#This Row],[Prod.ID (B)]],Table2[[Prod.ID]:[Product naam]],2,FALSE)),IF(Table1[[#This Row],[Prod.ID (B)]]=\"nvt\",\"Grond\",\"\"))","v":""},{"$f":"IFERROR((VLOOKUP(G182,Table2[[Prod.ID]:[Levensduur '[jaar']]],3,FALSE)),\" \")","v":" "}]
[null,{"$f":"IF(Table1[[#This Row],[Prod.ID (A)]]=\"\",\"\",_xlfn.XLOOKUP(Table1[[#This Row],[Prod.ID (A)]],Table2[Prod.ID],Table2[Elem.ID],\"\",0,1))","v":""},{"$f":"IF(Table1[[#This Row],[Prod.ID (A)]]=\"\",\"\",_xlfn.XLOOKUP(Table1[[#This Row],[Prod.ID (A)]],Table2[Prod.ID],Table2[Element naam],\"\",0,1))","v":""},null,{"$f":"IFERROR((VLOOKUP(Table1[[#This Row],[Prod.ID (A)]],Table2[[Prod.ID]:[Product naam]],2,FALSE)),IF(Table1[[#This Row],[Prod.ID (A)]]=\"nvt\",\"Grond\",\"\"))","v":""},{"$f":"IFERROR((VLOOKUP(D183,Table2[[Prod.ID]:[Levensduur '[jaar']]],3,FALSE)),\"\")","v":""},null,{"$f":"IFERROR((VLOOKUP(Table1[[#This Row],[Prod.ID (B)]],Table2[[Prod.ID]:[Product naam]],2,FALSE)),IF(Table1[[#This Row],[Prod.ID (B)]]=\"nvt\",\"Grond\",\"\"))","v":""},{"$f":"IFERROR((VLOOKUP(G183,Table2[[Prod.ID]:[Levensduur '[jaar']]],3,FALSE)),\" \")","v":" "}]
[null,{"$f":"IF(Table1[[#This Row],[Prod.ID (A)]]=\"\",\"\",_xlfn.XLOOKUP(Table1[[#This Row],[Prod.ID (A)]],Table2[Prod.ID],Table2[Elem.ID],\"\",0,1))","v":""},{"$f":"IF(Table1[[#This Row],[Prod.ID (A)]]=\"\",\"\",_xlfn.XLOOKUP(Table1[[#This Row],[Prod.ID (A)]],Table2[Prod.ID],Table2[Element naam],\"\",0,1))","v":""},null,{"$f":"IFERROR((VLOOKUP(Table1[[#This Row],[Prod.ID (A)]],Table2[[Prod.ID]:[Product naam]],2,FALSE)),IF(Table1[[#This Row],[Prod.ID (A)]]=\"nvt\",\"Grond\",\"\"))","v":""},{"$f":"IFERROR((VLOOKUP(D184,Table2[[Prod.ID]:[Levensduur '[jaar']]],3,FALSE)),\"\")","v":""},null,{"$f":"IFERROR((VLOOKUP(Table1[[#This Row],[Prod.ID (B)]],Table2[[Prod.ID]:[Product naam]],2,FALSE)),IF(Table1[[#This Row],[Prod.ID (B)]]=\"nvt\",\"Grond\",\"\"))","v":""},{"$f":"IFERROR((VLOOKUP(G184,Table2[[Prod.ID]:[Levensduur '[jaar']]],3,FALSE)),\" \")","v":" "}]
[null,{"$f":"IF(Table1[[#This Row],[Prod.ID (A)]]=\"\",\"\",_xlfn.XLOOKUP(Table1[[#This Row],[Prod.ID (A)]],Table2[Prod.ID],Table2[Elem.ID],\"\",0,1))","v":""},{"$f":"IF(Table1[[#This Row],[Prod.ID (A)]]=\"\",\"\",_xlfn.XLOOKUP(Table1[[#This Row],[Prod.ID (A)]],Table2[Prod.ID],Table2[Element naam],\"\",0,1))","v":""},null,{"$f":"IFERROR((VLOOKUP(Table1[[#This Row],[Prod.ID (A)]],Table2[[Prod.ID]:[Product naam]],2,FALSE)),IF(Table1[[#This Row],[Prod.ID (A)]]=\"nvt\",\"Grond\",\"\"))","v":""},{"$f":"IFERROR((VLOOKUP(D185,Table2[[Prod.ID]:[Levensduur '[jaar']]],3,FALSE)),\"\")","v":""},null,{"$f":"IFERROR((VLOOKUP(Table1[[#This Row],[Prod.ID (B)]],Table2[[Prod.ID]:[Product naam]],2,FALSE)),IF(Table1[[#This Row],[Prod.ID (B)]]=\"nvt\",\"Grond\",\"\"))","v":""},{"$f":"IFERROR((VLOOKUP(G185,Table2[[Prod.ID]:[Levensduur '[jaar']]],3,FALSE)),\" \")","v":" "}]
[null,{"$f":"IF(Table1[[#This Row],[Prod.ID (A)]]=\"\",\"\",_xlfn.XLOOKUP(Table1[[#This Row],[Prod.ID (A)]],Table2[Prod.ID],Table2[Elem.ID],\"\",0,1))","v":""},{"$f":"IF(Table1[[#This Row],[Prod.ID (A)]]=\"\",\"\",_xlfn.XLOOKUP(Table1[[#This Row],[Prod.ID (A)]],Table2[Prod.ID],Table2[Element naam],\"\",0,1))","v":""},null,{"$f":"IFERROR((VLOOKUP(Table1[[#This Row],[Prod.ID (A)]],Table2[[Prod.ID]:[Product naam]],2,FALSE)),IF(Table1[[#This Row],[Prod.ID (A)]]=\"nvt\",\"Grond\",\"\"))","v":""},{"$f":"IFERROR((VLOOKUP(D186,Table2[[Prod.ID]:[Levensduur '[jaar']]],3,FALSE)),\"\")","v":""},null,{"$f":"IFERROR((VLOOKUP(Table1[[#This Row],[Prod.ID (B)]],Table2[[Prod.ID]:[Product naam]],2,FALSE)),IF(Table1[[#This Row],[Prod.ID (B)]]=\"nvt\",\"Grond\",\"\"))","v":""},{"$f":"IFERROR((VLOOKUP(G186,Table2[[Prod.ID]:[Levensduur '[jaar']]],3,FALSE)),\" \")","v":" "}]
[null,{"$f":"IF(Table1[[#This Row],[Prod.ID (A)]]=\"\",\"\",_xlfn.XLOOKUP(Table1[[#This Row],[Prod.ID (A)]],Table2[Prod.ID],Table2[Elem.ID],\"\",0,1))","v":""},{"$f":"IF(Table1[[#This Row],[Prod.ID (A)]]=\"\",\"\",_xlfn.XLOOKUP(Table1[[#This Row],[Prod.ID (A)]],Table2[Prod.ID],Table2[Element naam],\"\",0,1))","v":""},null,{"$f":"IFERROR((VLOOKUP(Table1[[#This Row],[Prod.ID (A)]],Table2[[Prod.ID]:[Product naam]],2,FALSE)),IF(Table1[[#This Row],[Prod.ID (A)]]=\"nvt\",\"Grond\",\"\"))","v":""},{"$f":"IFERROR((VLOOKUP(D187,Table2[[Prod.ID]:[Levensduur '[jaar']]],3,FALSE)),\"\")","v":""},null,{"$f":"IFERROR((VLOOKUP(Table1[[#This Row],[Prod.ID (B)]],Table2[[Prod.ID]:[Product naam]],2,FALSE)),IF(Table1[[#This Row],[Prod.ID (B)]]=\"nvt\",\"Grond\",\"\"))","v":""},{"$f":"IFERROR((VLOOKUP(G187,Table2[[Prod.ID]:[Levensduur '[jaar']]],3,FALSE)),\" \")","v":" "}]
[null,{"$f":"IF(Table1[[#This Row],[Prod.ID (A)]]=\"\",\"\",_xlfn.XLOOKUP(Table1[[#This Row],[Prod.ID (A)]],Table2[Prod.ID],Table2[Elem.ID],\"\",0,1))","v":""},{"$f":"IF(Table1[[#This Row],[Prod.ID (A)]]=\"\",\"\",_xlfn.XLOOKUP(Table1[[#This Row],[Prod.ID (A)]],Table2[Prod.ID],Table2[Element naam],\"\",0,1))","v":""},null,{"$f":"IFERROR((VLOOKUP(Table1[[#This Row],[Prod.ID (A)]],Table2[[Prod.ID]:[Product naam]],2,FALSE)),IF(Table1[[#This Row],[Prod.ID (A)]]=\"nvt\",\"Grond\",\"\"))","v":""},{"$f":"IFERROR((VLOOKUP(D188,Table2[[Prod.ID]:[Levensduur '[jaar']]],3,FALSE)),\"\")","v":""},null,{"$f":"IFERROR((VLOOKUP(Table1[[#This Row],[Prod.ID (B)]],Table2[[Prod.ID]:[Product naam]],2,FALSE)),IF(Table1[[#This Row],[Prod.ID (B)]]=\"nvt\",\"Grond\",\"\"))","v":""},{"$f":"IFERROR((VLOOKUP(G188,Table2[[Prod.ID]:[Levensduur '[jaar']]],3,FALSE)),\" \")","v":" "}]
[null,{"$f":"IF(Table1[[#This Row],[Prod.ID (A)]]=\"\",\"\",_xlfn.XLOOKUP(Table1[[#This Row],[Prod.ID (A)]],Table2[Prod.ID],Table2[Elem.ID],\"\",0,1))","v":""},{"$f":"IF(Table1[[#This Row],[Prod.ID (A)]]=\"\",\"\",_xlfn.XLOOKUP(Table1[[#This Row],[Prod.ID (A)]],Table2[Prod.ID],Table2[Element naam],\"\",0,1))","v":""},null,{"$f":"IFERROR((VLOOKUP(Table1[[#This Row],[Prod.ID (A)]],Table2[[Prod.ID]:[Product naam]],2,FALSE)),IF(Table1[[#This Row],[Prod.ID (A)]]=\"nvt\",\"Grond\",\"\"))","v":""},{"$f":"IFERROR((VLOOKUP(D189,Table2[[Prod.ID]:[Levensduur '[jaar']]],3,FALSE)),\"\")","v":""},null,{"$f":"IFERROR((VLOOKUP(Table1[[#This Row],[Prod.ID (B)]],Table2[[Prod.ID]:[Product naam]],2,FALSE)),IF(Table1[[#This Row],[Prod.ID (B)]]=\"nvt\",\"Grond\",\"\"))","v":""},{"$f":"IFERROR((VLOOKUP(G189,Table2[[Prod.ID]:[Levensduur '[jaar']]],3,FALSE)),\" \")","v":" "}]
[null,{"$f":"IF(Table1[[#This Row],[Prod.ID (A)]]=\"\",\"\",_xlfn.XLOOKUP(Table1[[#This Row],[Prod.ID (A)]],Table2[Prod.ID],Table2[Elem.ID],\"\",0,1))","v":""},{"$f":"IF(Table1[[#This Row],[Prod.ID (A)]]=\"\",\"\",_xlfn.XLOOKUP(Table1[[#This Row],[Prod.ID (A)]],Table2[Prod.ID],Table2[Element naam],\"\",0,1))","v":""},null,{"$f":"IFERROR((VLOOKUP(Table1[[#This Row],[Prod.ID (A)]],Table2[[Prod.ID]:[Product naam]],2,FALSE)),IF(Table1[[#This Row],[Prod.ID (A)]]=\"nvt\",\"Grond\",\"\"))","v":""},{"$f":"IFERROR((VLOOKUP(D190,Table2[[Prod.ID]:[Levensduur '[jaar']]],3,FALSE)),\"\")","v":""},null,{"$f":"IFERROR((VLOOKUP(Table1[[#This Row],[Prod.ID (B)]],Table2[[Prod.ID]:[Product naam]],2,FALSE)),IF(Table1[[#This Row],[Prod.ID (B)]]=\"nvt\",\"Grond\",\"\"))","v":""},{"$f":"IFERROR((VLOOKUP(G190,Table2[[Prod.ID]:[Levensduur '[jaar']]],3,FALSE)),\" \")","v":" "}]
[null,{"$f":"IF(Table1[[#This Row],[Prod.ID (A)]]=\"\",\"\",_xlfn.XLOOKUP(Table1[[#This Row],[Prod.ID (A)]],Table2[Prod.ID],Table2[Elem.ID],\"\",0,1))","v":""},{"$f":"IF(Table1[[#This Row],[Prod.ID (A)]]=\"\",\"\",_xlfn.XLOOKUP(Table1[[#This Row],[Prod.ID (A)]],Table2[Prod.ID],Table2[Element naam],\"\",0,1))","v":""},null,{"$f":"IFERROR((VLOOKUP(Table1[[#This Row],[Prod.ID (A)]],Table2[[Prod.ID]:[Product naam]],2,FALSE)),IF(Table1[[#This Row],[Prod.ID (A)]]=\"nvt\",\"Grond\",\"\"))","v":""},{"$f":"IFERROR((VLOOKUP(D191,Table2[[Prod.ID]:[Levensduur '[jaar']]],3,FALSE)),\"\")","v":""},null,{"$f":"IFERROR((VLOOKUP(Table1[[#This Row],[Prod.ID (B)]],Table2[[Prod.ID]:[Product naam]],2,FALSE)),IF(Table1[[#This Row],[Prod.ID (B)]]=\"nvt\",\"Grond\",\"\"))","v":""},{"$f":"IFERROR((VLOOKUP(G191,Table2[[Prod.ID]:[Levensduur '[jaar']]],3,FALSE)),\" \")","v":" "}]
[null,{"$f":"IF(Table1[[#This Row],[Prod.ID (A)]]=\"\",\"\",_xlfn.XLOOKUP(Table1[[#This Row],[Prod.ID (A)]],Table2[Prod.ID],Table2[Elem.ID],\"\",0,1))","v":""},{"$f":"IF(Table1[[#This Row],[Prod.ID (A)]]=\"\",\"\",_xlfn.XLOOKUP(Table1[[#This Row],[Prod.ID (A)]],Table2[Prod.ID],Table2[Element naam],\"\",0,1))","v":""},null,{"$f":"IFERROR((VLOOKUP(Table1[[#This Row],[Prod.ID (A)]],Table2[[Prod.ID]:[Product naam]],2,FALSE)),IF(Table1[[#This Row],[Prod.ID (A)]]=\"nvt\",\"Grond\",\"\"))","v":""},{"$f":"IFERROR((VLOOKUP(D192,Table2[[Prod.ID]:[Levensduur '[jaar']]],3,FALSE)),\"\")","v":""},null,{"$f":"IFERROR((VLOOKUP(Table1[[#This Row],[Prod.ID (B)]],Table2[[Prod.ID]:[Product naam]],2,FALSE)),IF(Table1[[#This Row],[Prod.ID (B)]]=\"nvt\",\"Grond\",\"\"))","v":""},{"$f":"IFERROR((VLOOKUP(G192,Table2[[Prod.ID]:[Levensduur '[jaar']]],3,FALSE)),\" \")","v":" "}]
[null,{"$f":"IF(Table1[[#This Row],[Prod.ID (A)]]=\"\",\"\",_xlfn.XLOOKUP(Table1[[#This Row],[Prod.ID (A)]],Table2[Prod.ID],Table2[Elem.ID],\"\",0,1))","v":""},{"$f":"IF(Table1[[#This Row],[Prod.ID (A)]]=\"\",\"\",_xlfn.XLOOKUP(Table1[[#This Row],[Prod.ID (A)]],Table2[Prod.ID],Table2[Element naam],\"\",0,1))","v":""},null,{"$f":"IFERROR((VLOOKUP(Table1[[#This Row],[Prod.ID (A)]],Table2[[Prod.ID]:[Product naam]],2,FALSE)),IF(Table1[[#This Row],[Prod.ID (A)]]=\"nvt\",\"Grond\",\"\"))","v":""},{"$f":"IFERROR((VLOOKUP(D193,Table2[[Prod.ID]:[Levensduur '[jaar']]],3,FALSE)),\"\")","v":""},null,{"$f":"IFERROR((VLOOKUP(Table1[[#This Row],[Prod.ID (B)]],Table2[[Prod.ID]:[Product naam]],2,FALSE)),IF(Table1[[#This Row],[Prod.ID (B)]]=\"nvt\",\"Grond\",\"\"))","v":""},{"$f":"IFERROR((VLOOKUP(G193,Table2[[Prod.ID]:[Levensduur '[jaar']]],3,FALSE)),\" \")","v":" "}]
[null,{"$f":"IF(Table1[[#This Row],[Prod.ID (A)]]=\"\",\"\",_xlfn.XLOOKUP(Table1[[#This Row],[Prod.ID (A)]],Table2[Prod.ID],Table2[Elem.ID],\"\",0,1))","v":""},{"$f":"IF(Table1[[#This Row],[Prod.ID (A)]]=\"\",\"\",_xlfn.XLOOKUP(Table1[[#This Row],[Prod.ID (A)]],Table2[Prod.ID],Table2[Element naam],\"\",0,1))","v":""},null,{"$f":"IFERROR((VLOOKUP(Table1[[#This Row],[Prod.ID (A)]],Table2[[Prod.ID]:[Product naam]],2,FALSE)),IF(Table1[[#This Row],[Prod.ID (A)]]=\"nvt\",\"Grond\",\"\"))","v":""},{"$f":"IFERROR((VLOOKUP(D194,Table2[[Prod.ID]:[Levensduur '[jaar']]],3,FALSE)),\"\")","v":""},null,{"$f":"IFERROR((VLOOKUP(Table1[[#This Row],[Prod.ID (B)]],Table2[[Prod.ID]:[Product naam]],2,FALSE)),IF(Table1[[#This Row],[Prod.ID (B)]]=\"nvt\",\"Grond\",\"\"))","v":""},{"$f":"IFERROR((VLOOKUP(G194,Table2[[Prod.ID]:[Levensduur '[jaar']]],3,FALSE)),\" \")","v":" "}]
[null,{"$f":"IF(Table1[[#This Row],[Prod.ID (A)]]=\"\",\"\",_xlfn.XLOOKUP(Table1[[#This Row],[Prod.ID (A)]],Table2[Prod.ID],Table2[Elem.ID],\"\",0,1))","v":""},{"$f":"IF(Table1[[#This Row],[Prod.ID (A)]]=\"\",\"\",_xlfn.XLOOKUP(Table1[[#This Row],[Prod.ID (A)]],Table2[Prod.ID],Table2[Element naam],\"\",0,1))","v":""},null,{"$f":"IFERROR((VLOOKUP(Table1[[#This Row],[Prod.ID (A)]],Table2[[Prod.ID]:[Product naam]],2,FALSE)),IF(Table1[[#This Row],[Prod.ID (A)]]=\"nvt\",\"Grond\",\"\"))","v":""},{"$f":"IFERROR((VLOOKUP(D195,Table2[[Prod.ID]:[Levensduur '[jaar']]],3,FALSE)),\"\")","v":""},null,{"$f":"IFERROR((VLOOKUP(Table1[[#This Row],[Prod.ID (B)]],Table2[[Prod.ID]:[Product naam]],2,FALSE)),IF(Table1[[#This Row],[Prod.ID (B)]]=\"nvt\",\"Grond\",\"\"))","v":""},{"$f":"IFERROR((VLOOKUP(G195,Table2[[Prod.ID]:[Levensduur '[jaar']]],3,FALSE)),\" \")","v":" "}]
[null,{"$f":"IF(Table1[[#This Row],[Prod.ID (A)]]=\"\",\"\",_xlfn.XLOOKUP(Table1[[#This Row],[Prod.ID (A)]],Table2[Prod.ID],Table2[Elem.ID],\"\",0,1))","v":""},{"$f":"IF(Table1[[#This Row],[Prod.ID (A)]]=\"\",\"\",_xlfn.XLOOKUP(Table1[[#This Row],[Prod.ID (A)]],Table2[Prod.ID],Table2[Element naam],\"\",0,1))","v":""},null,{"$f":"IFERROR((VLOOKUP(Table1[[#This Row],[Prod.ID (A)]],Table2[[Prod.ID]:[Product naam]],2,FALSE)),IF(Table1[[#This Row],[Prod.ID (A)]]=\"nvt\",\"Grond\",\"\"))","v":""},{"$f":"IFERROR((VLOOKUP(D196,Table2[[Prod.ID]:[Levensduur '[jaar']]],3,FALSE)),\"\")","v":""},null,{"$f":"IFERROR((VLOOKUP(Table1[[#This Row],[Prod.ID (B)]],Table2[[Prod.ID]:[Product naam]],2,FALSE)),IF(Table1[[#This Row],[Prod.ID (B)]]=\"nvt\",\"Grond\",\"\"))","v":""},{"$f":"IFERROR((VLOOKUP(G196,Table2[[Prod.ID]:[Levensduur '[jaar']]],3,FALSE)),\" \")","v":" "}]
[null,{"$f":"IF(Table1[[#This Row],[Prod.ID (A)]]=\"\",\"\",_xlfn.XLOOKUP(Table1[[#This Row],[Prod.ID (A)]],Table2[Prod.ID],Table2[Elem.ID],\"\",0,1))","v":""},{"$f":"IF(Table1[[#This Row],[Prod.ID (A)]]=\"\",\"\",_xlfn.XLOOKUP(Table1[[#This Row],[Prod.ID (A)]],Table2[Prod.ID],Table2[Element naam],\"\",0,1))","v":""},null,{"$f":"IFERROR((VLOOKUP(Table1[[#This Row],[Prod.ID (A)]],Table2[[Prod.ID]:[Product naam]],2,FALSE)),IF(Table1[[#This Row],[Prod.ID (A)]]=\"nvt\",\"Grond\",\"\"))","v":""},{"$f":"IFERROR((VLOOKUP(D197,Table2[[Prod.ID]:[Levensduur '[jaar']]],3,FALSE)),\"\")","v":""},null,{"$f":"IFERROR((VLOOKUP(Table1[[#This Row],[Prod.ID (B)]],Table2[[Prod.ID]:[Product naam]],2,FALSE)),IF(Table1[[#This Row],[Prod.ID (B)]]=\"nvt\",\"Grond\",\"\"))","v":""},{"$f":"IFERROR((VLOOKUP(G197,Table2[[Prod.ID]:[Levensduur '[jaar']]],3,FALSE)),\" \")","v":" "}]
[null,{"$f":"IF(Table1[[#This Row],[Prod.ID (A)]]=\"\",\"\",_xlfn.XLOOKUP(Table1[[#This Row],[Prod.ID (A)]],Table2[Prod.ID],Table2[Elem.ID],\"\",0,1))","v":""},{"$f":"IF(Table1[[#This Row],[Prod.ID (A)]]=\"\",\"\",_xlfn.XLOOKUP(Table1[[#This Row],[Prod.ID (A)]],Table2[Prod.ID],Table2[Element naam],\"\",0,1))","v":""},null,{"$f":"IFERROR((VLOOKUP(Table1[[#This Row],[Prod.ID (A)]],Table2[[Prod.ID]:[Product naam]],2,FALSE)),IF(Table1[[#This Row],[Prod.ID (A)]]=\"nvt\",\"Grond\",\"\"))","v":""},{"$f":"IFERROR((VLOOKUP(D198,Table2[[Prod.ID]:[Levensduur '[jaar']]],3,FALSE)),\"\")","v":""},null,{"$f":"IFERROR((VLOOKUP(Table1[[#This Row],[Prod.ID (B)]],Table2[[Prod.ID]:[Product naam]],2,FALSE)),IF(Table1[[#This Row],[Prod.ID (B)]]=\"nvt\",\"Grond\",\"\"))","v":""},{"$f":"IFERROR((VLOOKUP(G198,Table2[[Prod.ID]:[Levensduur '[jaar']]],3,FALSE)),\" \")","v":" "}]
[null,{"$f":"IF(Table1[[#This Row],[Prod.ID (A)]]=\"\",\"\",_xlfn.XLOOKUP(Table1[[#This Row],[Prod.ID (A)]],Table2[Prod.ID],Table2[Elem.ID],\"\",0,1))","v":""},{"$f":"IF(Table1[[#This Row],[Prod.ID (A)]]=\"\",\"\",_xlfn.XLOOKUP(Table1[[#This Row],[Prod.ID (A)]],Table2[Prod.ID],Table2[Element naam],\"\",0,1))","v":""},null,{"$f":"IFERROR((VLOOKUP(Table1[[#This Row],[Prod.ID (A)]],Table2[[Prod.ID]:[Product naam]],2,FALSE)),IF(Table1[[#This Row],[Prod.ID (A)]]=\"nvt\",\"Grond\",\"\"))","v":""},{"$f":"IFERROR((VLOOKUP(D199,Table2[[Prod.ID]:[Levensduur '[jaar']]],3,FALSE)),\"\")","v":""},null,{"$f":"IFERROR((VLOOKUP(Table1[[#This Row],[Prod.ID (B)]],Table2[[Prod.ID]:[Product naam]],2,FALSE)),IF(Table1[[#This Row],[Prod.ID (B)]]=\"nvt\",\"Grond\",\"\"))","v":""},{"$f":"IFERROR((VLOOKUP(G199,Table2[[Prod.ID]:[Levensduur '[jaar']]],3,FALSE)),\" \")","v":" "}]
[null,{"$f":"IF(Table1[[#This Row],[Prod.ID (A)]]=\"\",\"\",_xlfn.XLOOKUP(Table1[[#This Row],[Prod.ID (A)]],Table2[Prod.ID],Table2[Elem.ID],\"\",0,1))","v":""},{"$f":"IF(Table1[[#This Row],[Prod.ID (A)]]=\"\",\"\",_xlfn.XLOOKUP(Table1[[#This Row],[Prod.ID (A)]],Table2[Prod.ID],Table2[Element naam],\"\",0,1))","v":""},null,{"$f":"IFERROR((VLOOKUP(Table1[[#This Row],[Prod.ID (A)]],Table2[[Prod.ID]:[Product naam]],2,FALSE)),IF(Table1[[#This Row],[Prod.ID (A)]]=\"nvt\",\"Grond\",\"\"))","v":""},{"$f":"IFERROR((VLOOKUP(D200,Table2[[Prod.ID]:[Levensduur '[jaar']]],3,FALSE)),\"\")","v":""},null,{"$f":"IFERROR((VLOOKUP(Table1[[#This Row],[Prod.ID (B)]],Table2[[Prod.ID]:[Product naam]],2,FALSE)),IF(Table1[[#This Row],[Prod.ID (B)]]=\"nvt\",\"Grond\",\"\"))","v":""},{"$f":"IFERROR((VLOOKUP(G200,Table2[[Prod.ID]:[Levensduur '[jaar']]],3,FALSE)),\" \")","v":" "}]
[null,{"$f":"IF(Table1[[#This Row],[Prod.ID (A)]]=\"\",\"\",_xlfn.XLOOKUP(Table1[[#This Row],[Prod.ID (A)]],Table2[Prod.ID],Table2[Elem.ID],\"\",0,1))","v":""},{"$f":"IF(Table1[[#This Row],[Prod.ID (A)]]=\"\",\"\",_xlfn.XLOOKUP(Table1[[#This Row],[Prod.ID (A)]],Table2[Prod.ID],Table2[Element naam],\"\",0,1))","v":""},null,{"$f":"IFERROR((VLOOKUP(Table1[[#This Row],[Prod.ID (A)]],Table2[[Prod.ID]:[Product naam]],2,FALSE)),IF(Table1[[#This Row],[Prod.ID (A)]]=\"nvt\",\"Grond\",\"\"))","v":""},{"$f":"IFERROR((VLOOKUP(D201,Table2[[Prod.ID]:[Levensduur '[jaar']]],3,FALSE)),\"\")","v":""},null,{"$f":"IFERROR((VLOOKUP(Table1[[#This Row],[Prod.ID (B)]],Table2[[Prod.ID]:[Product naam]],2,FALSE)),IF(Table1[[#This Row],[Prod.ID (B)]]=\"nvt\",\"Grond\",\"\"))","v":""},{"$f":"IFERROR((VLOOKUP(G201,Table2[[Prod.ID]:[Levensduur '[jaar']]],3,FALSE)),\" \")","v":" "}]

{"sheet":"Factoren","index":5,"n_rows":56,"n_cols":5,"rows_kept":56,"cut":false,"hidden":false,"merged":[[50,1,50,4],[53,2,53,3],[54,2,54,3],[11,4,15,4],[16,4,19,4],[20,4,22,4],[23,4,28,4],[8,1,28,1],[8,4,10,4],[8,2,10,2],[55,2,55,3],[44,2,44,3],[3,1,3,10],[34,1,38,1],[44,1,47,1],[53,1,55,1],[11,2,15,2],[16,2,19,2],[20,2,22,2],[23,2,28,2],[5,1,5,4],[45,2,45,3],[46,2,46,3],[47,2,47,3],[31,1,31,4],[41,1,41,4]]}
[]
[null,"Factoren die opgenomen zijn in de meetmethode"]
[null,"Deze sheet toont allereerst de verschillende factoren die zijn opgenomen in de beoordelingsmethode en welke scores er mogelijk zijn."]
[null,"\nWe toetsen de theoretische losmaakbaarheid van het object: hoe het technisch ontworpen is. Dit wordt bepaald aan de hand van vier factoren:\n- Type verbinding;\n- Toegankelijkheid verbinding;\n- Randopsluiting;\n- Doorkruisingen.\n\nHieronder volgt een overzicht van de mogelijke categorieen per factor en de bijbehorende score."]
[null,"Type verbinding"]
[null,"Producten kunnen middels diverse typen verbindingen met elkaar verbonden zijn. Voor ieder product A dat met een product B verbonden is, wordt de verbinding in kaart gebracht en ingedeeld in de categorieën van tabel hieronder. De subcategorie geeft voorbeelden van type verbindingen die in de hoofdcategorie kunnen voorkomen, maar dit is geen volledige lijst. Bij toegepaste verbindingen die niet in tabel 2.1 voorkomen kan de gebruiker zelf nagaan waar het type verbinding het meest op lijkt. Daarbij is het van belang om stil te staan bij de vraag of de verbinding zonder schade demonteerbaar is. \n\nVoorbeelden: \n- betonnen aanstortverbindingen scoren 0,1;\n- losse zandlichamen scoren 1,0;\n- een chemisch anker (injectie-anker) heeft aan de ene kant een vaste (hard chemische) verbinding; aan de andere kant een verbinding met toegevoegde elementen. Dit scoort als een hard chemische verbinding (0,1). "]
[]
[null,"Factor","Categorie","Sub-categorie","Score"]
[null,"Type verbinding","Droge verbinding","Los (geen bevestigingsmateriaal)",1]
[null,null,null,"Klikverbinding"]
[null,null,null,"Overige droge verbindingen"]
[null,null,"Verbinding met toegevoegde elementen","Bout- en moerverbinding",0.8]
[null,null,null,"Veerverbinding"]
[null,null,null,"Hoekverbindingen"]
[null,null,null,"Schroefverbinding"]
[null,null,null,"Overige verbindingen met toegevoegde verbindingselementen"]
[null,null,"Directe integrale verbinding","Pin-verbindingen",0.6]
[null,null,null,"Spijkerverbinding"]
[null,null,null,"Klinknagels en popnagels"]
[null,null,null,"Overige integrale verbindingen"]
[null,null,"Zachte chemische verbinding","Kitverbinding",0.2]
[null,null,null,"Schuimverbinding (PUR)"]
[null,null,null,"Overige zachte chemische verbindingen"]
[null,null,"Harde chemische verbinding","Lijmverbinding",0.1]
[null,null,null,"Aanstortverbinding"]
[null,null,null,"Lasverbinding"]
[null,null,null,"Cementgebonden verbinding"]
[null,null,null,"Chemische ankers"]
[null,null,null,"Overige harde chemische verbinding"]
[]
[null,"Toegankelijkheid verbinding"]
[null,"Toegankelijkheid van de verbinding toetst of men direct bij het verbindingselement kan komen en in hoeverre er daardoor schade ontstaat aan de directe of omliggende producten. De toegankelijkheid van de verbinding betreft de situatie in de omgekeerde bouwvolgorde. Voor producten met dezelfde levensduur als de projectlevensduur van het object, betekent dit de situatie bij einde levensduur. Voor producten met een kortere levensduur dan de projectlevensduur, betekent dit de omgekeerde bouwvolgorde bij vervangingswerkzaamheden. De verschillende scores zijn opgenomen in onderstaande tabel. Daarnaast wordt er enkel gekeken naar de eerst omliggende producten. Dit voorkomt negatieve dubbeltellingen.\n\nVoorbeelden: \n- bout- en moerverbindingen van een leuningwerk van een brug zijn vrij toegankelijk en scoren 1,0;\n- om bij de funderingslaag onder een asfaltweg te komen, moet eerst de asfaltlaag kapot gefreesd worden. Dit scoort 0,1. Om vervolgens bij de zandlaag onder de funderingslaag te komen, hoeft enkel de funderingslaag - die los bevestigd is - verwijderd te worden. Dit scoort 0,8."]
[]
[null,"Factor","Categorie",null,"Score"]
[null,"Toegankelijkheid verbinding","Vrij toegankelijk zonder extra handelingen",null,1]
[null,null,"Toegankelijk met extra handelingen die geen schade veroorzaken aan het product of omliggende producten",null,0.8]
[null,null,"Toegankelijk met extra handelingen met volledig herstelbare schade aan het product of omliggende producten",null,0.6]
[null,null,"Toegankelijk met extra handelingen met gedeeltelijk herstelbare schade aan het product of omliggende producten",null,0.4]
[null,null,"Niet toegankelijk – onherstelbare schade aan het product of omliggende producten",null,0.1]
[]
[null,"Randopsluiting"]
[null,"Met de factor randopsluiting wordt beoordeeld hoe producten in het object zijn geplaatst en in hoeverre deze toegankelijk zijn. Dit speelt voor zowel tussentijdse vervangingen alsook einde levensduur demontage. Daarbij geldt dat randopsluiting bij tussentijdse vervangingen een belangrijkere rol speelt dan bij einde levensduur demontage; immers, in het tweede geval wordt de gehele constructie sowieso uit elkaar gehaald.\n\nIdealiter zijn producten direct vrij uitneembaar uit het object, zonder dat andere producten daarvoor hoeven worden weggehaald (met oog op tussentijds vervangen). Als dat niet mogelijk is, kijkt deze factor naar het volgen van de omgekeerde bouwvolgorde. Is er na het volgen van de omgekeerde bouwvolgorde nog steeds een belemmering voor het demonteren van het product? Dan valt de score lager uit. Bij ‘gedeeltelijk ingesloten’ geldt dat er aan minimaal een rand van het product overlapping is en andere producten moeten worden gedemonteerd alvorens het betreffende product vrij uitneembaar is. Bij ‘volledig ingesloten’ is er aan minimaal twee randen van het product overlapping met andere producten en moeten deze worden gedemonteerd alvorens het betreffende product vrij uitneembaar is. Het verschil tussen gedeeltelijke en volledige insluiting zit in de benodigde werkzaamheden/ moeite/ kans op schade bij het demonteren van omliggende producten, dat in het geval van gedeeltelijke insluiting lager is. Volledige insluiting geldt ook in gevallen van hard-chemische verbindingen en in het werk gestorte producten.\n\nDeze factor is van belang bij producten die door andere producten worden ingesloten (fysiek, of door het hebben van een hard chemische verbinding) en bij seriematige producten die elkaar insluiten (zoals bijvoorbeeld bij riolering het geval is). De verschillende scores zijn opgenomen in onderstaande tabel. \n\nVoorbeeld:\n- het leuningwerk op een brug is vrij toegankelijk en kan direct worden losgehaald zonder dat andere producten moeten worden weggehaald; de score is 1,0. "]
[]
[null,"Factor","Categorie",null,"Score"]
[null,"Randopsluiting","Product is direct vrij uitneembaar zonder de omgekeerde bouwvolgorde te volgen",null,1]
[null,null,"Vrij toegankelijk: er is na het volgen van de omgekeerde bouwvolgorde géén belemmering voor het (tussentijds) uitnemen van het product of element",null,0.6]
[null,null,"Gedeeltelijk ingesloten: er is na het volgen van de omgekeerde bouwvolgorde gedeeltelijke belemmering voor het (tussentijds) uitnemen van het product of element",null,0.4]
[null,null,"Volledig ingesloten: er is na het volgen van de omgekeerde bouwvolgorde volledige belemmering voor het (tussentijds) uitnemen van het product of element",null,0.1]
[]
[null,"Doorkruisingen"]
[null,"Het begrip ‘doorkruisingen’ betekent dat producten door elkaar heen lopen of compleet met elkaar zijn geïntegreerd. Hierdoor zijn er meer handelingen nodig om het product tussentijds of bij einde levensduur te verwijderen. Deze factor is extra van belang als de producten afwijkende levensduren hebben. Doorkruising van producten hoeft geen probleem te vormen als producten gemakkelijk, zonder grote moeite of schade, uit elkaar gehaald kunnen worden. Het verschil tussen incidentele doorkruisingen en volledige integratie zit in de frequentie van de doorkruising en dus de benodigde moeite of schade die bij demontage optreedt. De mogelijke scores zijn opgenomen in onderstaande tabel. De daarop volgende afbeelding demonstreert de verschillende opties.\n\nVoorbeeld:\n- bij betonnen tunnelelementen die een gat hebben waar kabels los in liggen, is weliswaar sprake van twee producten die elkaar doorkruisen, maar omdat de kabels los in het gat liggen en zonder schade eruit te halen zijn, is er geen belemmering voor demontage. Dit scoort een 1,0. "]
[]
[null,"Factor","Categorie",null,"Score"]
[null,"Doorkruisingen","Geen doorkruisingen - modulaire zonering van producten of elementen",null,1]
[null,null,"Incidentele doorkruisingen van producten of elementen die verhinderen dat het product zonder schade uit de constructie kan worden gehaald bij vervanging- of verwijderwerkzaamheden",null,0.4]
[null,null,"Volledige integratie van producten of elementen die verhinderen dat het product zonder schade uit de constructie kan worden gehaald bij vervanging- of verwijderwerkzaamheden",null,0.1]

{"sheet":"5. Bepaal factoren en bereken","index":6,"n_rows":202,"n_cols":22,"rows_kept":202,"cut":false,"hidden":false,"merged":[[7,1,7,9]]}
[]
[null,"5. Bepaal factoren en bereken losmaakbaarheidsindex"]
[]
[null,"In deze sheet worden de vier factoren voor iedere verbinding tussen twee producten gescoord (zie tabblad 'Factoren' voor uitleg)."]
[null,"De rij waarin de gebruiker actief is, licht geel op ter visuele ondersteuning."]
[]
[null,"Bij de berekening zijn volgende uitgangspunten van belang:"]
[null,"1. De losmaakbaarheid wordt voor iedere verbinding tussen twee producten berekend, waar geldt dat: product A is verbonden met product B, volgens de omgekeerde bouwvolgorde. Wat dit betekent voor de scoring per factor is in tabblad 'Factoren' toegelicht;"]
[null,"2. De randopsluiting en doorkruisingen hebben dan betrekking op product A."]
[]
[null,"Tabel 3: Overzicht factoren per product en verbinding"]
[null,null,null,null,"Product…",null,"… is verbonden met…"]
[null,"Rij ID","Elem.ID","Element","Prod.ID","Product (A)","Prod.ID","Product (B)","Hoe verbonden?","Opmerking (optioneel)","Type verbinding","Sub-categorie","Score","Toegankelijkheid verbinding","Score","Randopsluiting","Score","Doorkruisingen","Score","LI connectie","LI samenstelling","LI product"]
[null,1,{"$f":"IF('4. Analyseer opbouw van object'!B12=\"\",\"\",'4. Analyseer opbouw van object'!B12)","v":"0."},{"$f":"IF('4. Analyseer opbouw van object'!C12=\"\",\"\",'4. Analyseer opbouw van object'!C12)","v":"Grond"},{"$f":"IF('4. Analyseer opbouw van object'!D12=\"\",\"\",'4. Analyseer opbouw van object'!D12)","v":"0.0"},{"$f":"IF('4. Analyseer opbouw van object'!E12=\"\",\"\",'4. Analyseer opbouw van object'!E12)","v":"Grond"},{"$f":"IF('4. Analyseer opbouw van object'!G12=\"\",\"\",'4. Analyseer opbouw van object'!G12)","v":"0.0"},{"$f":"IF('4. Analyseer opbouw van object'!H12=\"\",\"\",'4. Analyseer opbouw van object'!H12)","v":"Grond"},{"$f":"IF('4. Analyseer opbouw van object'!J12=\"\",\"\",'4. Analyseer opbouw van object'!J12)","v":"…"},null,"Droge verbinding","Los (geen bevestigingsmateriaal)",{"$f":"IFERROR(INDEX(Score_per_factor,MATCH(K14,Alle_factoren,0)),\"\" )","v":1},"Vrij toegankelijk zonder extra handelingen",{"$f":"IFERROR(INDEX(#REF!,MATCH(N14,#REF!,0)),\"\")","v":""},"Product is direct vrij uitneembaar zonder de omgekeerde bouwvolgorde te volgen",{"$f":"IFERROR(INDEX(#REF!,MATCH(P14,#REF!,0)),\"\")","v":""},"Geen doorkruisingen - modulaire zonering van producten of elementen",{"$f":"IFERROR(INDEX(#REF!,MATCH(R14,#REF!,0)),\"\")","v":""},{"$f":"IFERROR((2/((1/M14)+(1/O14))),\"\")","v":""},{"$f":"IFERROR((2/((1/Q14)+(1/S14))),\"\")","v":""},{"$f":"IFERROR((2/((1/T14)+(1/U14))),\"\")","v":""}]
[null,{"$f":"B14+1","v":2},{"$f":"IF('4. Analyseer opbouw van object'!B13=\"\",\"\",'4. Analyseer opbouw van object'!B13)","v":"1."},{"$f":"IF('4. Analyseer opbouw van object'!C13=\"\",\"\",'4. Analyseer opbouw van object'!C13)","v":"Element1"},{"$f":"IF('4. Analyseer opbouw van object'!D13=\"\",\"\",'4. Analyseer opbouw van object'!D13)","v":"1.1"},{"$f":"IF('4. Analyseer opbouw van object'!E13=\"\",\"\",'4. Analyseer opbouw van object'!E13)","v":"Product1"},{"$f":"IF('4. Analyseer opbouw van object'!G13=\"\",\"\",'4. Analyseer opbouw van object'!G13)","v":"2.1"},{"$f":"IF('4. Analyseer opbouw van object'!H13=\"\",\"\",'4. Analyseer opbouw van object'!H13)","v":"Product2"},{"$f":"IF('4. Analyseer opbouw van object'!J13=\"\",\"\",'4. Analyseer opbouw van object'!J13)","v":"…"},null,"Directe integrale verbinding","Spijkerverbinding",{"$f":"IFERROR(INDEX(Score_per_factor,MATCH(K15,Alle_factoren,0)),\"\" )","v":0.6},"Toegankelijk met extra handelingen die geen schade veroorzaken aan het product of omliggende producten",{"$f":"IFERROR(INDEX(#REF!,MATCH(N15,#REF!,0)),\"\")","v":""},"Product is direct vrij uitneembaar zonder de omgekeerde bouwvolgorde te volgen",{"$f":"IFERROR(INDEX(#REF!,MATCH(P15,#REF!,0)),\"\")","v":""},"Geen doorkruisingen - modulaire zonering van producten of elementen",{"$f":"IFERROR(INDEX(#REF!,MATCH(R15,#REF!,0)),\"\")","v":""},{"$f":"IFERROR((2/((1/M15)+(1/O15))),\"\")","v":""},{"$f":"IFERROR((2/((1/Q15)+(1/S15))),\"\")","v":""},{"$f":"IFERROR((2/((1/T15)+(1/U15))),\"\")","v":""}]
[null,{"$f":"B15+1","v":3},{"$f":"IF('4. Analyseer opbouw van object'!B14=\"\",\"\",'4. Analyseer opbouw van object'!B14)","v":"2."},{"$f":"IF('4. Analyseer opbouw van object'!C14=\"\",\"\",'4. Analyseer opbouw van object'!C14)","v":"Element2"},{"$f":"IF('4. Analyseer opbouw van object'!D14=\"\",\"\",'4. Analyseer opbouw van object'!D14)","v":"2.2"},{"$f":"IF('4. Analyseer opbouw van object'!E14=\"\",\"\",'4. Analyseer opbouw van object'!E14)","v":"Product3"},{"$f":"IF('4. Analyseer opbouw van object'!G14=\"\",\"\",'4. Analyseer opbouw van object'!G14)","v":"2.3"},{"$f":"IF('4. Analyseer opbouw van object'!H14=\"\",\"\",'4. Analyseer opbouw van object'!H14)","v":"Product4"},{"$f":"IF('4. Analyseer opbouw van object'!J14=\"\",\"\",'4. Analyseer opbouw van object'!J14)","v":"…"},null,"Droge verbinding","Los (geen bevestigingsmateriaal)",{"$f":"IFERROR(INDEX(Score_per_factor,MATCH(K16,Alle_factoren,0)),\"\" )","v":1},"Toegankelijk met extra handelingen met gedeeltelijk herstelbare schade aan het product of omliggende producten",{"$f":"IFERROR(INDEX(#REF!,MATCH(N16,#REF!,0)),\"\")","v":""},"Product is direct vrij uitneembaar zonder de omgekeerde bouwvolgorde te volgen",{"$f":"IFERROR(INDEX(#REF!,MATCH(P16,#REF!,0)),\"\")","v":""},"Volledige integratie van producten of elementen die verhinderen dat het product zonder schade uit de constructie kan worden gehaald bij vervanging- of verwijderwerkzaamheden",{"$f":"IFERROR(INDEX(#REF!,MATCH(R16,#REF!,0)),\"\")","v":""},"","",""]
[null,{"$f":"B16+1","v":4},{"$f":"IF('4. Analyseer opbouw van object'!B15=\"\",\"\",'4. Analyseer opbouw van object'!B15)","v":"2."},{"$f":"IF('4. Analyseer opbouw van object'!C15=\"\",\"\",'4. Analyseer opbouw van object'!C15)","v":"Element2"},{"$f":"IF('4. Analyseer opbouw van object'!D15=\"\",\"\",'4. Analyseer opbouw van object'!D15)","v":"2.3"},{"$f":"IF('4. Analyseer opbouw van object'!E15=\"\",\"\",'4. Analyseer opbouw van object'!E15)","v":"Product4"},{"$f":"IF('4. Analyseer opbouw van object'!G15=\"\",\"\",'4. Analyseer opbouw van object'!G15)","v":"2.1"},{"$f":"IF('4. Analyseer opbouw van object'!H15=\"\",\"\",'4. Analyseer opbouw van object'!H15)","v":"Product2"},{"$f":"IF('4. Analyseer opbouw van object'!J15=\"\",\"\",'4. Analyseer opbouw van object'!J15)","v":"…"},null,"Droge verbinding","Los (geen bevestigingsmateriaal)",1,"Toegankelijk met extra handelingen met gedeeltelijk herstelbare schade aan het product of omliggende producten",{"$f":"IFERROR(INDEX(#REF!,MATCH(N17,#REF!,0)),\"\")","v":""},"Product is direct vrij uitneembaar zonder de omgekeerde bouwvolgorde te volgen",{"$f":"IFERROR(INDEX(#REF!,MATCH(P17,#REF!,0)),\"\")","v":""},"Geen doorkruisingen - modulaire zonering van producten of elementen",{"$f":"IFERROR(INDEX(#REF!,MATCH(R17,#REF!,0)),\"\")","v":""},"","",""]
[null,5,{"$f":"IF('4. Analyseer opbouw van object'!B16=\"\",\"\",'4. Analyseer opbouw van object'!B16)","v":"2."},{"$f":"IF('4. Analyseer opbouw van object'!C16=\"\",\"\",'4. Analyseer opbouw van object'!C16)","v":"Element2"},{"$f":"IF('4. Analyseer opbouw van object'!D16=\"\",\"\",'4. Analyseer opbouw van object'!D16)","v":"2.3"},{"$f":"IF('4. Analyseer opbouw van object'!E16=\"\",\"\",'4. Analyseer opbouw van object'!E16)","v":"Product4"},{"$f":"IF('4. Analyseer opbouw van object'!G16=\"\",\"\",'4. Analyseer opbouw van object'!G16)","v":"2.2"},{"$f":"IF('4. Analyseer opbouw van object'!H16=\"\",\"\",'4. Analyseer opbouw van object'!H16)","v":"Product3"},{"$f":"IF('4. Analyseer opbouw van object'!J16=\"\",\"\",'4. Analyseer opbouw van object'!J16)","v":"…"},null,"Droge verbinding","Los (geen bevestigingsmateriaal)",1,"Niet toegankelijk – onherstelbare schade aan het product of omliggende producten",{"$f":"IFERROR(INDEX(#REF!,MATCH(N18,#REF!,0)),\"\")","v":""},"Product is direct vrij uitneembaar zonder de omgekeerde bouwvolgorde te volgen",{"$f":"IFERROR(INDEX(#REF!,MATCH(P18,#REF!,0)),\"\")","v":""},"Incidentele doorkruisingen van producten of elementen die verhinderen dat het product zonder schade uit de constructie kan worden gehaald bij vervanging- of verwijderwerkzaamheden",{"$f":"IFERROR(INDEX(#REF!,MATCH(R18,#REF!,0)),\"\")","v":""},"","",""]
[null,6,{"$f":"IF('4. Analyseer opbouw van object'!B17=\"\",\"\",'4. Analyseer opbouw van object'!B17)","v":""},{"$f":"IF('4. Analyseer opbouw van object'!C17=\"\",\"\",'4. Analyseer opbouw van object'!C17)","v":""},{"$f":"IF('4. Analyseer opbouw van object'!D17=\"\",\"\",'4. Analyseer opbouw van object'!D17)","v":""},{"$f":"IF('4. Analyseer opbouw van object'!E17=\"\",\"\",'4. Analyseer opbouw van object'!E17)","v":""},{"$f":"IF('4. Analyseer opbouw van object'!G17=\"\",\"\",'4. Analyseer opbouw van object'!G17)","v":""},{"$f":"IF('4. Analyseer opbouw van object'!H17=\"\",\"\",'4. Analyseer opbouw van object'!H17)","v":""},{"$f":"IF('4. Analyseer opbouw van object'!J17=\"\",\"\",'4. Analyseer opbouw van object'!J17)","v":""},null,null,null,"",null,{"$f":"IFERROR(INDEX(#REF!,MATCH(N19,#REF!,0)),\"\")","v":""},null,{"$f":"IFERROR(INDEX(#REF!,MATCH(P19,#REF!,0)),\"\")","v":""},null,{"$f":"IFERROR(INDEX(#REF!,MATCH(R19,#REF!,0)),\"\")","v":""},"","",""]
[null,7,{"$f":"IF('4. Analyseer opbouw van object'!B18=\"\",\"\",'4. Analyseer opbouw van object'!B18)","v":""},{"$f":"IF('4. Analyseer opbouw van object'!C18=\"\",\"\",'4. Analyseer opbouw van object'!C18)","v":""},{"$f":"IF('4. Analyseer opbouw van object'!D18=\"\",\"\",'4. Analyseer opbouw van object'!D18)","v":""},{"$f":"IF('4. Analyseer opbouw van object'!E18=\"\",\"\",'4. Analyseer opbouw van object'!E18)","v":""},{"$f":"IF('4. Analyseer opbouw van object'!G18=\"\",\"\",'4. Analyseer opbouw van object'!G18)","v":""},{"$f":"IF('4. Analyseer opbouw van object'!H18=\"\",\"\",'4. Analyseer opbouw van object'!H18)","v":""},{"$f":"IF('4. Analyseer opbouw van object'!J18=\"\",\"\",'4. Analyseer opbouw van object'!J18)","v":""},null,null,null,"",null,{"$f":"IFERROR(INDEX(#REF!,MATCH(N20,#REF!,0)),\"\")","v":""},null,{"$f":"IFERROR(INDEX(#REF!,MATCH(P20,#REF!,0)),\"\")","v":""},null,{"$f":"IFERROR(INDEX(#REF!,MATCH(R20,#REF!,0)),\"\")","v":""},"","",""]
[null,8,{"$f":"IF('4. Analyseer opbouw van object'!B19=\"\",\"\",'4. Analyseer opbouw van object'!B19)","v":""},{"$f":"IF('4. Analyseer opbouw van object'!C19=\"\",\"\",'4. Analyseer opbouw van object'!C19)","v":""},{"$f":"IF('4. Analyseer opbouw van object'!D19=\"\",\"\",'4. Analyseer opbouw van object'!D19)","v":""},{"$f":"IF('4. Analyseer opbouw van object'!E19=\"\",\"\",'4. Analyseer opbouw van object'!E19)","v":""},{"$f":"IF('4. Analyseer opbouw van object'!G19=\"\",\"\",'4. Analyseer opbouw van object'!G19)","v":""},{"$f":"IF('4. Analyseer opbouw van object'!H19=\"\",\"\",'4. Analyseer opbouw van object'!H19)","v":""},{"$f":"IF('4. Analyseer opbouw van object'!J19=\"\",\"\",'4. Analyseer opbouw van object'!J19)","v":""},null,null,null,"",null,{"$f":"IFERROR(INDEX(#REF!,MATCH(N21,#REF!,0)),\"\")","v":""},null,{"$f":"IFERROR(INDEX(#REF!,MATCH(P21,#REF!,0)),\"\")","v":""},null,{"$f":"IFERROR(INDEX(#REF!,MATCH(R21,#REF!,0)),\"\")","v":""},"","",""]
[null,9,{"$f":"IF('4. Analyseer opbouw van object'!B20=\"\",\"\",'4. Analyseer opbouw van object'!B20)","v":""},{"$f":"IF('4. Analyseer opbouw van object'!C20=\"\",\"\",'4. Analyseer opbouw van object'!C20)","v":""},{"$f":"IF('4. Analyseer opbouw van object'!D20=\"\",\"\",'4. Analyseer opbouw van object'!D20)","v":""},{"$f":"IF('4. Analyseer opbouw van object'!E20=\"\",\"\",'4. Analyseer opbouw van object'!E20)","v":""},{"$f":"IF('4. Analyseer opbouw van object'!G20=\"\",\"\",'4. Analyseer opbouw van object'!G20)","v":""},{"$f":"IF('4. Analyseer opbouw van object'!H20=\"\",\"\",'4. Analyseer opbouw van object'!H20)","v":""},{"$f":"IF('4. Analyseer opbouw van object'!J20=\"\",\"\",'4. Analyseer opbouw van object'!J20)","v":""},null,null,null,"",null,{"$f":"IFERROR(INDEX(#REF!,MATCH(N22,#REF!,0)),\"\")","v":""},null,{"$f":"IFERROR(INDEX(#REF!,MATCH(P22,#REF!,0)),\"\")","v":""},null,{"$f":"IFERROR(INDEX(#REF!,MATCH(R22,#REF!,0)),\"\")","v":""},"","",""]
[null,10,{"$f":"IF('4. Analyseer opbouw van object'!B21=\"\",\"\",'4. Analyseer opbouw van object'!B21)","v":""},{"$f":"IF('4. Analyseer opbouw van object'!C21=\"\",\"\",'4. Analyseer opbouw van object'!C21)","v":""},{"$f":"IF('4. Analyseer opbouw van object'!D21=\"\",\"\",'4. Analyseer opbouw van object'!D21)","v":""},{"$f":"IF('4. Analyseer opbouw van object'!E21=\"\",\"\",'4. Analyseer opbouw van object'!E21)","v":""},{"$f":"IF('4. Analyseer opbouw van object'!G21=\"\",\"\",'4. Analyseer opbouw van object'!G21)","v":""},{"$f":"IF('4. Analyseer opbouw van object'!H21=\"\",\"\",'4. Analyseer opbouw van object'!H21)","v":""},{"$f":"IF('4. Analyseer opbouw van object'!J21=\"\",\"\",'4. Analyseer opbouw van object'!J21)","v":""},null,null,null,"",null,{"$f":"IFERROR(INDEX(#REF!,MATCH(N23,#REF!,0)),\"\")","v":""},null,{"$f":"IFERROR(INDEX(#REF!,MATCH(P23,#REF!,0)),\"\")","v":""},null,{"$f":"IFERROR(INDEX(#REF!,MATCH(R23,#REF!,0)),\"\")","v":""},"","",""]
[null,11,{"$f":"IF('4. Analyseer opbouw van object'!B22=\"\",\"\",'4. Analyseer opbouw van object'!B22)","v":""},{"$f":"IF('4. Analyseer opbouw van object'!C22=\"\",\"\",'4. Analyseer opbouw van object'!C22)","v":""},{"$f":"IF('4. Analyseer opbouw van object'!D22=\"\",\"\",'4. Analyseer opbouw van object'!D22)","v":""},{"$f":"IF('4. Analyseer opbouw van object'!E22=\"\",\"\",'4. Analyseer opbouw van object'!E22)","v":""},{"$f":"IF('4. Analyseer opbouw van object'!G22=\"\",\"\",'4. Analyseer opbouw van object'!G22)","v":""},{"$f":"IF('4. Analyseer opbouw van object'!H22=\"\",\"\",'4. Analyseer opbouw van object'!H22)","v":""},{"$f":"IF('4. Analyseer opbouw van object'!J22=\"\",\"\",'4. Analyseer opbouw van object'!J22)","v":""},null,null,null,"",null,{"$f":"IFERROR(INDEX(#REF!,MATCH(N24,#REF!,0)),\"\")","v":""},null,{"$f":"IFERROR(INDEX(#REF!,MATCH(P24,#REF!,0)),\"\")","v":""},null,{"$f":"IFERROR(INDEX(#REF!,MATCH(R24,#REF!,0)),\"\")","v":""},"","",""]
[null,12,{"$f":"IF('4. Analyseer opbouw van object'!B23=\"\",\"\",'4. Analyseer opbouw van object'!B23)","v":""},{"$f":"IF('4. Analyseer opbouw van object'!C23=\"\",\"\",'4. Analyseer opbouw van object'!C23)","v":""},{"$f":"IF('4. Analyseer opbouw van object'!D23=\"\",\"\",'4. Analyseer opbouw van object'!D23)","v":""},{"$f":"IF('4. Analyseer opbouw van object'!E23=\"\",\"\",'4. Analyseer opbouw van object'!E23)","v":""},{"$f":"IF('4. Analyseer opbouw van object'!G23=\"\",\"\",'4. Analyseer opbouw van object'!G23)","v":""},{"$f":"IF('4. Analyseer opbouw van object'!H23=\"\",\"\",'4. Analyseer opbouw van object'!H23)","v":""},{"$f":"IF('4. Analyseer opbouw van object'!J23=\"\",\"\",'4. Analyseer opbouw van object'!J23)","v":""},null,null,null,"",null,{"$f":"IFERROR(INDEX(#REF!,MATCH(N25,#REF!,0)),\"\")","v":""},null,{"$f":"IFERROR(INDEX(#REF!,MATCH(P25,#REF!,0)),\"\")","v":""},null,{"$f":"IFERROR(INDEX(#REF!,MATCH(R25,#REF!,0)),\"\")","v":""},"","",""]
[null,13,{"$f":"IF('4. Analyseer opbouw van object'!B24=\"\",\"\",'4. Analyseer opbouw van object'!B24)","v":""},{"$f":"IF('4. Analyseer opbouw van object'!C24=\"\",\"\",'4. Analyseer opbouw van object'!C24)","v":""},{"$f":"IF('4. Analyseer opbouw van object'!D24=\"\",\"\",'4. Analyseer opbouw van object'!D24)","v":""},{"$f":"IF('4. Analyseer opbouw van object'!E24=\"\",\"\",'4. Analyseer opbouw van object'!E24)","v":""},{"$f":"IF('4. Analyseer opbouw van object'!G24=\"\",\"\",'4. Analyseer opbouw van object'!G24)","v":""},{"$f":"IF('4. Analyseer opbouw van object'!H24=\"\",\"\",'4. Analyseer opbouw van object'!H24)","v":""},{"$f":"IF('4. Analyseer opbouw van object'!J24=\"\",\"\",'4. Analyseer opbouw van object'!J24)","v":""},null,null,null,"",null,{"$f":"IFERROR(INDEX(#REF!,MATCH(N26,#REF!,0)),\"\")","v":""},null,{"$f":"IFERROR(INDEX(#REF!,MATCH(P26,#REF!,0)),\"\")","v":""},null,{"$f":"IFERROR(INDEX(#REF!,MATCH(R26,#REF!,0)),\"\")","v":""},"","",""]
[null,14,{"$f":"IF('4. Analyseer opbouw van object'!B25=\"\",\"\",'4. Analyseer opbouw van object'!B25)","v":""},{"$f":"IF('4. Analyseer opbouw van object'!C25=\"\",\"\",'4. Analyseer opbouw van object'!C25)","v":""},{"$f":"IF('4. Analyseer opbouw van object'!D25=\"\",\"\",'4. Analyseer opbouw van object'!D25)","v":""},{"$f":"IF('4. Analyseer opbouw van object'!E25=\"\",\"\",'4. Analyseer opbouw van object'!E25)","v":""},{"$f":"IF('4. Analyseer opbouw van object'!G25=\"\",\"\",'4. Analyseer opbouw van object'!G25)","v":""},{"$f":"IF('4. Analyseer opbouw van object'!H25=\"\",\"\",'4. Analyseer opbouw van object'!H25)","v":""},{"$f":"IF('4. Analyseer opbouw van object'!J25=\"\",\"\",'4. Analyseer opbouw van object'!J25)","v":""},null,null,null,"",null,{"$f":"IFERROR(INDEX(#REF!,MATCH(N27,#REF!,0)),\"\")","v":""},null,{"$f":"IFERROR(INDEX(#REF!,MATCH(P27,#REF!,0)),\"\")","v":""},null,{"$f":"IFERROR(INDEX(#REF!,MATCH(R27,#REF!,0)),\"\")","v":""},"","",""]
[null,15,{"$f":"IF('4. Analyseer opbouw van object'!B26=\"\",\"\",'4. Analyseer opbouw van object'!B26)","v":""},{"$f":"IF('4. Analyseer opbouw van object'!C26=\"\",\"\",'4. Analyseer opbouw van object'!C26)","v":""},{"$f":"IF('4. Analyseer opbouw van object'!D26=\"\",\"\",'4. Analyseer opbouw van object'!D26)","v":""},{"$f":"IF('4. Analyseer opbouw van object'!E26=\"\",\"\",'4. Analyseer opbouw van object'!E26)","v":""},{"$f":"IF('4. Analyseer opbouw van object'!G26=\"\",\"\",'4. Analyseer opbouw van object'!G26)","v":""},{"$f":"IF('4. Analyseer opbouw van object'!H26=\"\",\"\",'4. Analyseer opbouw van object'!H26)","v":""},{"$f":"IF('4. Analyseer opbouw van object'!J26=\"\",\"\",'4. Analyseer opbouw van object'!J26)","v":""},null,null,null,"",null,{"$f":"IFERROR(INDEX(#REF!,MATCH(N28,#REF!,0)),\"\")","v":""},null,{"$f":"IFERROR(INDEX(#REF!,MATCH(P28,#REF!,0)),\"\")","v":""},null,{"$f":"IFERROR(INDEX(#REF!,MATCH(R28,#REF!,0)),\"\")","v":""},"","",""]
[null,16,{"$f":"IF('4. Analyseer opbouw van object'!B28=\"\",\"\",'4. Analyseer opbouw van object'!B28)","v":""},{"$f":"IF('4. Analyseer opbouw van object'!C28=\"\",\"\",'4. Analyseer opbouw van object'!C28)","v":""},{"$f":"IF('4. Analyseer opbouw van object'!D28=\"\",\"\",'4. Analyseer opbouw van object'!D28)","v":""},{"$f":"IF('4. Analyseer opbouw van object'!E28=\"\",\"\",'4. Analyseer opbouw van object'!E28)","v":""},{"$f":"IF('4. Analyseer opbouw van object'!G28=\"\",\"\",'4. Analyseer opbouw van object'!G28)","v":""},{"$f":"IF('4. Analyseer opbouw van object'!H28=\"\",\"\",'4. Analyseer opbouw van object'!H28)","v":""},{"$f":"IF('4. Analyseer opbouw van object'!J28=\"\",\"\",'4. Analyseer opbouw van object'!J28)","v":""},null,null,null,"",null,{"$f":"IFERROR(INDEX(#REF!,MATCH(N29,#REF!,0)),\"\")","v":""},null,{"$f":"IFERROR(INDEX(#REF!,MATCH(P29,#REF!,0)),\"\")","v":""},null,{"$f":"IFERROR(INDEX(#REF!,MATCH(R29,#REF!,0)),\"\")","v":""},"","",""]
[null,17,{"$f":"IF('4. Analyseer opbouw van object'!B29=\"\",\"\",'4. Analyseer opbouw van object'!B29)","v":""},{"$f":"IF('4. Analyseer opbouw van object'!C29=\"\",\"\",'4. Analyseer opbouw van object'!C29)","v":""},{"$f":"IF('4. Analyseer opbouw van object'!D29=\"\",\"\",'4. Analyseer opbouw van object'!D29)","v":""},{"$f":"IF('4. Analyseer opbouw van object'!E29=\"\",\"\",'4. Analyseer opbouw van object'!E29)","v":""},{"$f":"IF('4. Analyseer opbouw van object'!G29=\"\",\"\",'4. Analyseer opbouw van object'!G29)","v":""},{"$f":"IF('4. Analyseer opbouw van object'!H29=\"\",\"\",'4. Analyseer opbouw van object'!H29)","v":""},{"$f":"IF('4. Analyseer opbouw van object'!J29=\"\",\"\",'4. Analyseer opbouw van object'!J29)","v":""},null,null,null,"",null,{"$f":"IFERROR(INDEX(#REF!,MATCH(N30,#REF!,0)),\"\")","v":""},null,{"$f":"IFERROR(INDEX(#REF!,MATCH(P30,#REF!,0)),\"\")","v":""},null,{"$f":"IFERROR(INDEX(#REF!,MATCH(R30,#REF!,0)),\"\")","v":""},"","",""]
[null,18,{"$f":"IF('4. Analyseer opbouw van object'!B30=\"\",\"\",'4. Analyseer opbouw van object'!B30)","v":""},{"$f":"IF('4. Analyseer opbouw van object'!C30=\"\",\"\",'4. Analyseer opbouw van object'!C30)","v":""},{"$f":"IF('4. Analyseer opbouw van object'!D30=\"\",\"\",'4. Analyseer opbouw van object'!D30)","v":""},{"$f":"IF('4. Analyseer opbouw van object'!E30=\"\",\"\",'4. Analyseer opbouw van object'!E30)","v":""},{"$f":"IF('4. Analyseer opbouw van object'!G30=\"\",\"\",'4. Analyseer opbouw van object'!G30)","v":""},{"$f":"IF('4. Analyseer opbouw van object'!H30=\"\",\"\",'4. Analyseer opbouw van object'!H30)","v":""},{"$f":"IF('4. Analyseer opbouw van object'!J30=\"\",\"\",'4. Analyseer opbouw van object'!J30)","v":""},null,null,null,"",null,{"$f":"IFERROR(INDEX(#REF!,MATCH(N31,#REF!,0)),\"\")","v":""},null,{"$f":"IFERROR(INDEX(#REF!,MATCH(P31,#REF!,0)),\"\")","v":""},null,{"$f":"IFERROR(INDEX(#REF!,MATCH(R31,#REF!,0)),\"\")","v":""},"","",""]
[null,19,{"$f":"IF('4. Analyseer opbouw van object'!B31=\"\",\"\",'4. Analyseer opbouw van object'!B31)","v":""},{"$f":"IF('4. Analyseer opbouw van object'!C31=\"\",\"\",'4. Analyseer opbouw van object'!C31)","v":""},{"$f":"IF('4. Analyseer opbouw van object'!D31=\"\",\"\",'4. Analyseer opbouw van object'!D31)","v":""},{"$f":"IF('4. Analyseer opbouw van object'!E31=\"\",\"\",'4. Analyseer opbouw van object'!E31)","v":""},{"$f":"IF('4. Analyseer opbouw van object'!G31=\"\",\"\",'4. Analyseer opbouw van object'!G31)","v":""},{"$f":"IF('4. Analyseer opbouw van object'!H31=\"\",\"\",'4. Analyseer opbouw van object'!H31)","v":""},{"$f":"IF('4. Analyseer opbouw van object'!J31=\"\",\"\",'4. Analyseer opbouw van object'!J31)","v":""},null,null,null,"",null,{"$f":"IFERROR(INDEX(#REF!,MATCH(N32,#REF!,0)),\"\")","v":""},null,{"$f":"IFERROR(INDEX(#REF!,MATCH(P32,#REF!,0)),\"\")","v":""},null,{"$f":"IFERROR(INDEX(#REF!,MATCH(R32,#REF!,0)),\"\")","v":""},"","",""]
[null,20,{"$f":"IF('4. Analyseer opbouw van object'!B32=\"\",\"\",'4. Analyseer opbouw van object'!B32)","v":""},{"$f":"IF('4. Analyseer opbouw van object'!C32=\"\",\"\",'4. Analyseer opbouw van object'!C32)","v":""},{"$f":"IF('4. Analyseer opbouw van object'!D32=\"\",\"\",'4. Analyseer opbouw van object'!D32)","v":""},{"$f":"IF('4. Analyseer opbouw van object'!E32=\"\",\"\",'4. Analyseer opbouw van object'!E32)","v":""},{"$f":"IF('4. Analyseer opbouw van object'!G32=\"\",\"\",'4. Analyseer opbouw van object'!G32)","v":""},{"$f":"IF('4. Analyseer opbouw van object'!H32=\"\",\"\",'4. Analyseer opbouw van object'!H32)","v":""},{"$f":"IF('4. Analyseer opbouw van object'!J32=\"\",\"\",'4. Analyseer opbouw van object'!J32)","v":""},null,null,null,"",null,{"$f":"IFERROR(INDEX(#REF!,MATCH(N33,#REF!,0)),\"\")","v":""},null,{"$f":"IFERROR(INDEX(#REF!,MATCH(P33,#REF!,0)),\"\")","v":""},null,{"$f":"IFERROR(INDEX(#REF!,MATCH(R33,#REF!,0)),\"\")","v":""},"","",""]
[null,21,{"$f":"IF('4. Analyseer opbouw van object'!B33=\"\",\"\",'4. Analyseer opbouw van object'!B33)","v":""},{"$f":"IF('4. Analyseer opbouw van object'!C33=\"\",\"\",'4. Analyseer opbouw van object'!C33)","v":""},{"$f":"IF('4. Analyseer opbouw van object'!D33=\"\",\"\",'4. Analyseer opbouw van object'!D33)","v":""},{"$f":"IF('4. Analyseer opbouw van object'!E33=\"\",\"\",'4. Analyseer opbouw van object'!E33)","v":""},{"$f":"IF('4. Analyseer opbouw van object'!G33=\"\",\"\",'4. Analyseer opbouw van object'!G33)","v":""},{"$f":"IF('4. Analyseer opbouw van object'!H33=\"\",\"\",'4. Analyseer opbouw van object'!H33)","v":""},{"$f":"IF('4. Analyseer opbouw van object'!J33=\"\",\"\",'4. Analyseer opbouw van object'!J33)","v":""},null,null,null,"",null,{"$f":"IFERROR(INDEX(#REF!,MATCH(N34,#REF!,0)),\"\")","v":""},null,{"$f":"IFERROR(INDEX(#REF!,MATCH(P34,#REF!,0)),\"\")","v":""},null,{"$f":"IFERROR(INDEX(#REF!,MATCH(R34,#REF!,0)),\"\")","v":""},"","",""]
[null,22,{"$f":"IF('4. Analyseer opbouw van object'!B34=\"\",\"\",'4. Analyseer opbouw van object'!B34)","v":""},{"$f":"IF('4. Analyseer opbouw van object'!C34=\"\",\"\",'4. Analyseer opbouw van object'!C34)","v":""},{"$f":"IF('4. Analyseer opbouw van object'!D34=\"\",\"\",'4. Analyseer opbouw van object'!D34)","v":""},{"$f":"IF('4. Analyseer opbouw van object'!E34=\"\",\"\",'4. Analyseer opbouw van object'!E34)","v":""},{"$f":"IF('4. Analyseer opbouw van object'!G34=\"\",\"\",'4. Analyseer opbouw van object'!G34)","v":""},{"$f":"IF('4. Analyseer opbouw van object'!H34=\"\",\"\",'4. Analyseer opbouw van object'!H34)","v":""},{"$f":"IF('4. Analyseer opbouw van object'!J34=\"\",\"\",'4. Analyseer opbouw van object'!J34)","v":""},null,null,null,"",null,{"$f":"IFERROR(INDEX(#REF!,MATCH(N35,#REF!,0)),\"\")","v":""},null,{"$f":"IFERROR(INDEX(#REF!,MATCH(P35,#REF!,0)),\"\")","v":""},null,{"$f":"IFERROR(INDEX(#REF!,MATCH(R35,#REF!,0)),\"\")","v":""},"","",""]
[null,23,{"$f":"IF('4. Analyseer opbouw van object'!B35=\"\",\"\",'4. Analyseer opbouw van object'!B35)","v":""},{"$f":"IF('4. Analyseer opbouw van object'!C35=\"\",\"\",'4. Analyseer opbouw van object'!C35)","v":""},{"$f":"IF('4. Analyseer opbouw van object'!D35=\"\",\"\",'4. Analyseer opbouw van object'!D35)","v":""},{"$f":"IF('4. Analyseer opbouw van object'!E35=\"\",\"\",'4. Analyseer opbouw van object'!E35)","v":""},{"$f":"IF('4. Analyseer opbouw van object'!G35=\"\",\"\",'4. Analyseer opbouw van object'!G35)","v":""},{"$f":"IF('4. Analyseer opbouw van object'!H35=\"\",\"\",'4. Analyseer opbouw van object'!H35)","v":""},{"$f":"IF('4. Analyseer opbouw van object'!J35=\"\",\"\",'4. Analyseer opbouw van object'!J35)","v":""},null,null,null,"",null,{"$f":"IFERROR(INDEX(#REF!,MATCH(N36,#REF!,0)),\"\")","v":""},null,{"$f":"IFERROR(INDEX(#REF!,MATCH(P36,#REF!,0)),\"\")","v":""},null,{"$f":"IFERROR(INDEX(#REF!,MATCH(R36,#REF!,0)),\"\")","v":""},"","",""]
[null,24,{"$f":"IF('4. Analyseer opbouw van object'!B36=\"\",\"\",'4. Analyseer opbouw van object'!B36)","v":""},{"$f":"IF('4. Analyseer opbouw van object'!C36=\"\",\"\",'4. Analyseer opbouw van object'!C36)","v":""},{"$f":"IF('4. Analyseer opbouw van object'!D36=\"\",\"\",'4. Analyseer opbouw van object'!D36)","v":""},{"$f":"IF('4. Analyseer opbouw van object'!E36=\"\",\"\",'4. Analyseer opbouw van object'!E36)","v":""},{"$f":"IF('4. Analyseer opbouw van object'!G36=\"\",\"\",'4. Analyseer opbouw van object'!G36)","v":""},{"$f":"IF('4. Analyseer opbouw van object'!H36=\"\",\"\",'4. Analyseer opbouw van object'!H36)","v":""},{"$f":"IF('4. Analyseer opbouw van object'!J36=\"\",\"\",'4. Analyseer opbouw van object'!J36)","v":""},null,null,null,"",null,{"$f":"IFERROR(INDEX(#REF!,MATCH(N37,#REF!,0)),\"\")","v":""},null,{"$f":"IFERROR(INDEX(#REF!,MATCH(P37,#REF!,0)),\"\")","v":""},null,{"$f":"IFERROR(INDEX(#REF!,MATCH(R37,#REF!,0)),\"\")","v":""},"","",""]
[null,25,{"$f":"IF('4. Analyseer opbouw van object'!B37=\"\",\"\",'4. Analyseer opbouw van object'!B37)","v":""},{"$f":"IF('4. Analyseer opbouw van object'!C37=\"\",\"\",'4. Analyseer opbouw van object'!C37)","v":""},{"$f":"IF('4. Analyseer opbouw van object'!D37=\"\",\"\",'4. Analyseer opbouw van object'!D37)","v":""},{"$f":"IF('4. Analyseer opbouw van object'!E37=\"\",\"\",'4. Analyseer opbouw van object'!E37)","v":""},{"$f":"IF('4. Analyseer opbouw van object'!G37=\"\",\"\",'4. Analyseer opbouw van object'!G37)","v":""},{"$f":"IF('4. Analyseer opbouw van object'!H37=\"\",\"\",'4. Analyseer opbouw van object'!H37)","v":""},{"$f":"IF('4. Analyseer opbouw van object'!J37=\"\",\"\",'4. Analyseer opbouw van object'!J37)","v":""},null,null,null,"",null,{"$f":"IFERROR(INDEX(#REF!,MATCH(N38,#REF!,0)),\"\")","v":""},null,{"$f":"IFERROR(INDEX(#REF!,MATCH(P38,#REF!,0)),\"\")","v":""},null,{"$f":"IFERROR(INDEX(#REF!,MATCH(R38,#REF!,0)),\"\")","v":""},"","",""]
[null,26,{"$f":"IF('4. Analyseer opbouw van object'!B38=\"\",\"\",'4. Analyseer opbouw van object'!B38)","v":""},{"$f":"IF('4. Analyseer opbouw van object'!C38=\"\",\"\",'4. Analyseer opbouw van object'!C38)","v":""},{"$f":"IF('4. Analyseer opbouw van object'!D38=\"\",\"\",'4. Analyseer opbouw van object'!D38)","v":""},{"$f":"IF('4. Analyseer opbouw van object'!E38=\"\",\"\",'4. Analyseer opbouw van object'!E38)","v":""},{"$f":"IF('4. Analyseer opbouw van object'!G38=\"\",\"\",'4. Analyseer opbouw van object'!G38)","v":""},{"$f":"IF('4. Analyseer opbouw van object'!H38=\"\",\"\",'4. Analyseer opbouw van object'!H38)","v":""},{"$f":"IF('4. Analyseer opbouw van object'!J38=\"\",\"\",'4. Analyseer opbouw van object'!J38)","v":""},null,null,null,"",null,{"$f":"IFERROR(INDEX(#REF!,MATCH(N39,#REF!,0)),\"\")","v":""},null,{"$f":"IFERROR(INDEX(#REF!,MATCH(P39,#REF!,0)),\"\")","v":""},null,{"$f":"IFERROR(INDEX(#REF!,MATCH(R39,#REF!,0)),\"\")","v":""},"","",""]
[null,27,{"$f":"IF('4. Analyseer opbouw van object'!B39=\"\",\"\",'4. Analyseer opbouw van object'!B39)","v":""},{"$f":"IF('4. Analyseer opbouw van object'!C39=\"\",\"\",'4. Analyseer opbouw van object'!C39)","v":""},{"$f":"IF('4. Analyseer opbouw van object'!D39=\"\",\"\",'4. Analyseer opbouw van object'!D39)","v":""},{"$f":"IF('4. Analyseer opbouw van object'!E39=\"\",\"\",'4. Analyseer opbouw van object'!E39)","v":""},{"$f":"IF('4. Analyseer opbouw van object'!G39=\"\",\"\",'4. Analyseer opbouw van object'!G39)","v":""},{"$f":"IF('4. Analyseer opbouw van object'!H39=\"\",\"\",'4. Analyseer opbouw van object'!H39)","v":""},{"$f":"IF('4. Analyseer opbouw van object'!J39=\"\",\"\",'4. Analyseer opbouw van object'!J39)","v":""},null,null,null,"",null,{"$f":"IFERROR(INDEX(#REF!,MATCH(N40,#REF!,0)),\"\")","v":""},null,{"$f":"IFERROR(INDEX(#REF!,MATCH(P40,#REF!,0)),\"\")","v":""},null,{"$f":"IFERROR(INDEX(#REF!,MATCH(R40,#REF!,0)),\"\")","v":""},"","",""]
[null,28,{"$f":"IF('4. Analyseer opbouw van object'!B40=\"\",\"\",'4. Analyseer opbouw van object'!B40)","v":""},{"$f":"IF('4. Analyseer opbouw van object'!C40=\"\",\"\",'4. Analyseer opbouw van object'!C40)","v":""},{"$f":"IF('4. Analyseer opbouw van object'!D40=\"\",\"\",'4. Analyseer opbouw van object'!D40)","v":""},{"$f":"IF('4. Analyseer opbouw van object'!E40=\"\",\"\",'4. Analyseer opbouw van object'!E40)","v":""},{"$f":"IF('4. Analyseer opbouw van object'!G40=\"\",\"\",'4. Analyseer opbouw van object'!G40)","v":""},{"$f":"IF('4. Analyseer opbouw van object'!H40=\"\",\"\",'4. Analyseer opbouw van object'!H40)","v":""},{"$f":"IF('4. Analyseer opbouw van object'!J40=\"\",\"\",'4. Analyseer opbouw van object'!J40)","v":""},null,null,null,"",null,{"$f":"IFERROR(INDEX(#REF!,MATCH(N41,#REF!,0)),\"\")","v":""},null,{"$f":"IFERROR(INDEX(#REF!,MATCH(P41,#REF!,0)),\"\")","v":""},null,{"$f":"IFERROR(INDEX(#REF!,MATCH(R41,#REF!,0)),\"\")","v":""},"","",""]
[null,29,{"$f":"IF('4. Analyseer opbouw van object'!B41=\"\",\"\",'4. Analyseer opbouw van object'!B41)","v":""},{"$f":"IF('4. Analyseer opbouw van object'!C41=\"\",\"\",'4. Analyseer opbouw van object'!C41)","v":""},{"$f":"IF('4. Analyseer opbouw van object'!D41=\"\",\"\",'4. Analyseer opbouw van object'!D41)","v":""},{"$f":"IF('4. Analyseer opbouw van object'!E41=\"\",\"\",'4. Analyseer opbouw van object'!E41)","v":""},{"$f":"IF('4. Analyseer opbouw van object'!G41=\"\",\"\",'4. Analyseer opbouw van object'!G41)","v":""},{"$f":"IF('4. Analyseer opbouw van object'!H41=\"\",\"\",'4. Analyseer opbouw van object'!H41)","v":""},{"$f":"IF('4. Analyseer opbouw van object'!J41=\"\",\"\",'4. Analyseer opbouw van object'!J41)","v":""},null,null,null,"",null,{"$f":"IFERROR(INDEX(#REF!,MATCH(N42,#REF!,0)),\"\")","v":""},null,{"$f":"IFERROR(INDEX(#REF!,MATCH(P42,#REF!,0)),\"\")","v":""},null,{"$f":"IFERROR(INDEX(#REF!,MATCH(R42,#REF!,0)),\"\")","v":""},"","",""]
[null,30,{"$f":"IF('4. Analyseer opbouw van object'!B42=\"\",\"\",'4. Analyseer opbouw van object'!B42)","v":""},{"$f":"IF('4. Analyseer opbouw van object'!C42=\"\",\"\",'4. Analyseer opbouw van object'!C42)","v":""},{"$f":"IF('4. Analyseer opbouw van object'!D42=\"\",\"\",'4. Analyseer opbouw van object'!D42)","v":""},{"$f":"IF('4. Analyseer opbouw van object'!E42=\"\",\"\",'4. Analyseer opbouw van object'!E42)","v":""},{"$f":"IF('4. Analyseer opbouw van object'!G42=\"\",\"\",'4. Analyseer opbouw van object'!G42)","v":""},{"$f":"IF('4. Analyseer opbouw van object'!H42=\"\",\"\",'4. Analyseer opbouw van object'!H42)","v":""},{"$f":"IF('4. Analyseer opbouw van object'!J42=\"\",\"\",'4. Analyseer opbouw van object'!J42)","v":""},null,null,null,"",null,{"$f":"IFERROR(INDEX(#REF!,MATCH(N43,#REF!,0)),\"\")","v":""},null,{"$f":"IFERROR(INDEX(#REF!,MATCH(P43,#REF!,0)),\"\")","v":""},null,{"$f":"IFERROR(INDEX(#REF!,MATCH(R43,#REF!,0)),\"\")","v":""},"","",""]
[null,31,{"$f":"IF('4. Analyseer opbouw van object'!B43=\"\",\"\",'4. Analyseer opbouw van object'!B43)","v":""},{"$f":"IF('4. Analyseer opbouw van object'!C43=\"\",\"\",'4. Analyseer opbouw van object'!C43)","v":""},{"$f":"IF('4. Analyseer opbouw van object'!D43=\"\",\"\",'4. Analyseer opbouw van object'!D43)","v":""},{"$f":"IF('4. Analyseer opbouw van object'!E43=\"\",\"\",'4. Analyseer opbouw van object'!E43)","v":""},{"$f":"IF('4. Analyseer opbouw van object'!G43=\"\",\"\",'4. Analyseer opbouw van object'!G43)","v":""},{"$f":"IF('4. Analyseer opbouw van object'!H43=\"\",\"\",'4. Analyseer opbouw van object'!H43)","v":""},{"$f":"IF('4. Analyseer opbouw van object'!J43=\"\",\"\",'4. Analyseer opbouw van object'!J43)","v":""},null,null,null,"",null,{"$f":"IFERROR(INDEX(#REF!,MATCH(N44,#REF!,0)),\"\")","v":""},null,{"$f":"IFERROR(INDEX(#REF!,MATCH(P44,#REF!,0)),\"\")","v":""},null,{"$f":"IFERROR(INDEX(#REF!,MATCH(R44,#REF!,0)),\"\")","v":""},"","",""]
[null,32,{"$f":"IF('4. Analyseer opbouw van object'!B44=\"\",\"\",'4. Analyseer opbouw van object'!B44)","v":""},{"$f":"IF('4. Analyseer opbouw van object'!C44=\"\",\"\",'4. Analyseer opbouw van object'!C44)","v":""},{"$f":"IF('4. Analyseer opbouw van object'!D44=\"\",\"\",'4. Analyseer opbouw van object'!D44)","v":""},{"$f":"IF('4. Analyseer opbouw van object'!E44=\"\",\"\",'4. Analyseer opbouw van object'!E44)","v":""},{"$f":"IF('4. Analyseer opbouw van object'!G44=\"\",\"\",'4. Analyseer opbouw van object'!G44)","v":""},{"$f":"IF('4. Analyseer opbouw van object'!H44=\"\",\"\",'4. Analyseer opbouw van object'!H44)","v":""},{"$f":"IF('4. Analyseer opbouw van object'!J44=\"\",\"\",'4. Analyseer opbouw van object'!J44)","v":""},null,null,null,"",null,{"$f":"IFERROR(INDEX(#REF!,MATCH(N45,#REF!,0)),\"\")","v":""},null,{"$f":"IFERROR(INDEX(#REF!,MATCH(P45,#REF!,0)),\"\")","v":""},null,{"$f":"IFERROR(INDEX(#REF!,MATCH(R45,#REF!,0)),\"\")","v":""},"","",""]
[null,33,{"$f":"IF('4. Analyseer opbouw van object'!B45=\"\",\"\",'4. Analyseer opbouw van object'!B45)","v":""},{"$f":"IF('4. Analyseer opbouw van object'!C45=\"\",\"\",'4. Analyseer opbouw van object'!C45)","v":""},{"$f":"IF('4. Analyseer opbouw van object'!D45=\"\",\"\",'4. Analyseer opbouw van object'!D45)","v":""},{"$f":"IF('4. Analyseer opbouw van object'!E45=\"\",\"\",'4. Analyseer opbouw van object'!E45)","v":""},{"$f":"IF('4. Analyseer opbouw van object'!G45=\"\",\"\",'4. Analyseer opbouw van object'!G45)","v":""},{"$f":"IF('4. Analyseer opbouw van object'!H45=\"\",\"\",'4. Analyseer opbouw van object'!H45)","v":""},{"$f":"IF('4. Analyseer opbouw van object'!J45=\"\",\"\",'4. Analyseer opbouw van object'!J45)","v":""},null,null,null,"",null,{"$f":"IFERROR(INDEX(#REF!,MATCH(N46,#REF!,0)),\"\")","v":""},null,{"$f":"IFERROR(INDEX(#REF!,MATCH(P46,#REF!,0)),\"\")","v":""},null,{"$f":"IFERROR(INDEX(#REF!,MATCH(R46,#REF!,0)),\"\")","v":""},"","",""]
[null,34,{"$f":"IF('4. Analyseer opbouw van object'!B46=\"\",\"\",'4. Analyseer opbouw van object'!B46)","v":""},{"$f":"IF('4. Analyseer opbouw van object'!C46=\"\",\"\",'4. Analyseer opbouw van object'!C46)","v":""},{"$f":"IF('4. Analyseer opbouw van object'!D46=\"\",\"\",'4. Analyseer opbouw van object'!D46)","v":""},{"$f":"IF('4. Analyseer opbouw van object'!E46=\"\",\"\",'4. Analyseer opbouw van object'!E46)","v":""},{"$f":"IF('4. Analyseer opbouw van object'!G46=\"\",\"\",'4. Analyseer opbouw van object'!G46)","v":""},{"$f":"IF('4. Analyseer opbouw van object'!H46=\"\",\"\",'4. Analyseer opbouw van object'!H46)","v":""},{"$f":"IF('4. Analyseer opbouw van object'!J46=\"\",\"\",'4. Analyseer opbouw van object'!J46)","v":""},null,null,null,"",null,{"$f":"IFERROR(INDEX(#REF!,MATCH(N47,#REF!,0)),\"\")","v":""},null,{"$f":"IFERROR(INDEX(#REF!,MATCH(P47,#REF!,0)),\"\")","v":""},null,{"$f":"IFERROR(INDEX(#REF!,MATCH(R47,#REF!,0)),\"\")","v":""},"","",""]
[null,35,{"$f":"IF('4. Analyseer opbouw van object'!B47=\"\",\"\",'4. Analyseer opbouw van object'!B47)","v":""},{"$f":"IF('4. Analyseer opbouw van object'!C47=\"\",\"\",'4. Analyseer opbouw van object'!C47)","v":""},{"$f":"IF('4. Analyseer opbouw van object'!D47=\"\",\"\",'4. Analyseer opbouw van object'!D47)","v":""},{"$f":"IF('4. Analyseer opbouw van object'!E47=\"\",\"\",'4. Analyseer opbouw van object'!E47)","v":""},{"$f":"IF('4. Analyseer opbouw van object'!G47=\"\",\"\",'4. Analyseer opbouw van object'!G47)","v":""},{"$f":"IF('4. Analyseer opbouw van object'!H47=\"\",\"\",'4. Analyseer opbouw van object'!H47)","v":""},{"$f":"IF('4. Analyseer opbouw van object'!J47=\"\",\"\",'4. Analyseer opbouw van object'!J47)","v":""},null,null,null,"",null,{"$f":"IFERROR(INDEX(#REF!,MATCH(N48,#REF!,0)),\"\")","v":""},null,{"$f":"IFERROR(INDEX(#REF!,MATCH(P48,#REF!,0)),\"\")","v":""},null,{"$f":"IFERROR(INDEX(#REF!,MATCH(R48,#REF!,0)),\"\")","v":""},"","",""]
[null,36,{"$f":"IF('4. Analyseer opbouw van object'!B48=\"\",\"\",'4. Analyseer opbouw van object'!B48)","v":""},{"$f":"IF('4. Analyseer opbouw van object'!C48=\"\",\"\",'4. Analyseer opbouw van object'!C48)","v":""},{"$f":"IF('4. Analyseer opbouw van object'!D48=\"\",\"\",'4. Analyseer opbouw van object'!D48)","v":""},{"$f":"IF('4. Analyseer opbouw van object'!E48=\"\",\"\",'4. Analyseer opbouw van object'!E48)","v":""},{"$f":"IF('4. Analyseer opbouw van object'!G48=\"\",\"\",'4. Analyseer opbouw van object'!G48)","v":""},{"$f":"IF('4. Analyseer opbouw van object'!H48=\"\",\"\",'4. Analyseer opbouw van object'!H48)","v":""},{"$f":"IF('4. Analyseer opbouw van object'!J48=\"\",\"\",'4. Analyseer opbouw van object'!J48)","v":""},null,null,null,"",null,{"$f":"IFERROR(INDEX(#REF!,MATCH(N49,#REF!,0)),\"\")","v":""},null,{"$f":"IFERROR(INDEX(#REF!,MATCH(P49,#REF!,0)),\"\")","v":""},null,{"$f":"IFERROR(INDEX(#REF!,MATCH(R49,#REF!,0)),\"\")","v":""},"","",""]
[null,37,{"$f":"IF('4. Analyseer opbouw van object'!B49=\"\",\"\",'4. Analyseer opbouw van object'!B49)","v":""},{"$f":"IF('4. Analyseer opbouw van object'!C49=\"\",\"\",'4. Analyseer opbouw van object'!C49)","v":""},{"$f":"IF('4. Analyseer opbouw van object'!D49=\"\",\"\",'4. Analyseer opbouw van object'!D49)","v":""},{"$f":"IF('4. Analyseer opbouw van object'!E49=\"\",\"\",'4. Analyseer opbouw van object'!E49)","v":""},{"$f":"IF('4. Analyseer opbouw van object'!G49=\"\",\"\",'4. Analyseer opbouw van object'!G49)","v":""},{"$f":"IF('4. Analyseer opbouw van object'!H49=\"\",\"\",'4. Analyseer opbouw van object'!H49)","v":""},{"$f":"IF('4. Analyseer opbouw van object'!J49=\"\",\"\",'4. Analyseer opbouw van object'!J49)","v":""},null,null,null,"",null,{"$f":"IFERROR(INDEX(#REF!,MATCH(N50,#REF!,0)),\"\")","v":""},null,{"$f":"IFERROR(INDEX(#REF!,MATCH(P50,#REF!,0)),\"\")","v":""},null,{"$f":"IFERROR(INDEX(#REF!,MATCH(R50,#REF!,0)),\"\")","v":""},"","",""]
[null,38,{"$f":"IF('4. Analyseer opbouw van object'!B50=\"\",\"\",'4. Analyseer opbouw van object'!B50)","v":""},{"$f":"IF('4. Analyseer opbouw van object'!C50=\"\",\"\",'4. Analyseer opbouw van object'!C50)","v":""},{"$f":"IF('4. Analyseer opbouw van object'!D50=\"\",\"\",'4. Analyseer opbouw van object'!D50)","v":""},{"$f":"IF('4. Analyseer opbouw van object'!E50=\"\",\"\",'4. Analyseer opbouw van object'!E50)","v":""},{"$f":"IF('4. Analyseer opbouw van object'!G50=\"\",\"\",'4. Analyseer opbouw van object'!G50)","v":""},{"$f":"IF('4. Analyseer opbouw van object'!H50=\"\",\"\",'4. Analyseer opbouw van object'!H50)","v":""},{"$f":"IF('4. Analyseer opbouw van object'!J50=\"\",\"\",'4. Analyseer opbouw van object'!J50)","v":""},null,null,null,"",null,{"$f":"IFERROR(INDEX(#REF!,MATCH(N51,#REF!,0)),\"\")","v":""},null,{"$f":"IFERROR(INDEX(#REF!,MATCH(P51,#REF!,0)),\"\")","v":""},null,{"$f":"IFERROR(INDEX(#REF!,MATCH(R51,#REF!,0)),\"\")","v":""},"","",""]
[null,39,{"$f":"IF('4. Analyseer opbouw van object'!B51=\"\",\"\",'4. Analyseer opbouw van object'!B51)","v":""},{"$f":"IF('4. Analyseer opbouw van object'!C51=\"\",\"\",'4. Analyseer opbouw van object'!C51)","v":""},{"$f":"IF('4. Analyseer opbouw van object'!D51=\"\",\"\",'4. Analyseer opbouw van object'!D51)","v":""},{"$f":"IF('4. Analyseer opbouw van object'!E51=\"\",\"\",'4. Analyseer opbouw van object'!E51)","v":""},{"$f":"IF('4. Analyseer opbouw van object'!G51=\"\",\"\",'4. Analyseer opbouw van object'!G51)","v":""},{"$f":"IF('4. Analyseer opbouw van object'!H51=\"\",\"\",'4. Analyseer opbouw van object'!H51)","v":""},{"$f":"IF('4. Analyseer opbouw van object'!J51=\"\",\"\",'4. Analyseer opbouw van object'!J51)","v":""},null,null,null,"",null,{"$f":"IFERROR(INDEX(#REF!,MATCH(N52,#REF!,0)),\"\")","v":""},null,{"$f":"IFERROR(INDEX(#REF!,MATCH(P52,#REF!,0)),\"\")","v":""},null,{"$f":"IFERROR(INDEX(#REF!,MATCH(R52,#REF!,0)),\"\")","v":""},"","",""]
[null,40,{"$f":"IF('4. Analyseer opbouw van object'!B52=\"\",\"\",'4. Analyseer opbouw van object'!B52)","v":""},{"$f":"IF('4. Analyseer opbouw van object'!C52=\"\",\"\",'4. Analyseer opbouw van object'!C52)","v":""},{"$f":"IF('4. Analyseer opbouw van object'!D52=\"\",\"\",'4. Analyseer opbouw van object'!D52)","v":""},{"$f":"IF('4. Analyseer opbouw van object'!E52=\"\",\"\",'4. Analyseer opbouw van object'!E52)","v":""},{"$f":"IF('4. Analyseer opbouw van object'!G52=\"\",\"\",'4. Analyseer opbouw van object'!G52)","v":""},{"$f":"IF('4. Analyseer opbouw van object'!H52=\"\",\"\",'4. Analyseer opbouw van object'!H52)","v":""},{"$f":"IF('4. Analyseer opbouw van object'!J52=\"\",\"\",'4. Analyseer opbouw van object'!J52)","v":""},null,null,null,"",null,{"$f":"IFERROR(INDEX(#REF!,MATCH(N53,#REF!,0)),\"\")","v":""},null,{"$f":"IFERROR(INDEX(#REF!,MATCH(P53,#REF!,0)),\"\")","v":""},null,{"$f":"IFERROR(INDEX(#REF!,MATCH(R53,#REF!,0)),\"\")","v":""},"","",""]
[null,41,{"$f":"IF('4. Analyseer opbouw van object'!B53=\"\",\"\",'4. Analyseer opbouw van object'!B53)","v":""},{"$f":"IF('4. Analyseer opbouw van object'!C53=\"\",\"\",'4. Analyseer opbouw van object'!C53)","v":""},{"$f":"IF('4. Analyseer opbouw van object'!D53=\"\",\"\",'4. Analyseer opbouw van object'!D53)","v":""},{"$f":"IF('4. Analyseer opbouw van object'!E53=\"\",\"\",'4. Analyseer opbouw van object'!E53)","v":""},{"$f":"IF('4. Analyseer opbouw van object'!G53=\"\",\"\",'4. Analyseer opbouw van object'!G53)","v":""},{"$f":"IF('4. Analyseer opbouw van object'!H53=\"\",\"\",'4. Analyseer opbouw van object'!H53)","v":""},{"$f":"IF('4. Analyseer opbouw van object'!J53=\"\",\"\",'4. Analyseer opbouw van object'!J53)","v":""},null,null,null,"",null,{"$f":"IFERROR(INDEX(#REF!,MATCH(N54,#REF!,0)),\"\")","v":""},null,{"$f":"IFERROR(INDEX(#REF!,MATCH(P54,#REF!,0)),\"\")","v":""},null,{"$f":"IFERROR(INDEX(#REF!,MATCH(R54,#REF!,0)),\"\")","v":""},"","",""]
[null,42,{"$f":"IF('4. Analyseer opbouw van object'!B54=\"\",\"\",'4. Analyseer opbouw van object'!B54)","v":""},{"$f":"IF('4. Analyseer opbouw van object'!C54=\"\",\"\",'4. Analyseer opbouw van object'!C54)","v":""},{"$f":"IF('4. Analyseer opbouw van object'!D54=\"\",\"\",'4. Analyseer opbouw van object'!D54)","v":""},{"$f":"IF('4. Analyseer opbouw van object'!E54=\"\",\"\",'4. Analyseer opbouw van object'!E54)","v":""},{"$f":"IF('4. Analyseer opbouw van object'!G54=\"\",\"\",'4. Analyseer opbouw van object'!G54)","v":""},{"$f":"IF('4. Analyseer opbouw van object'!H54=\"\",\"\",'4. Analyseer opbouw van object'!H54)","v":""},{"$f":"IF('4. Analyseer opbouw van object'!J54=\"\",\"\",'4. Analyseer opbouw van object'!J54)","v":""},null,null,null,"",null,{"$f":"IFERROR(INDEX(#REF!,MATCH(N55,#REF!,0)),\"\")","v":""},null,{"$f":"IFERROR(INDEX(#REF!,MATCH(P55,#REF!,0)),\"\")","v":""},null,{"$f":"IFERROR(INDEX(#REF!,MATCH(R55,#REF!,0)),\"\")","v":""},"","",""]
[null,43,{"$f":"IF('4. Analyseer opbouw van object'!B55=\"\",\"\",'4. Analyseer opbouw van object'!B55)","v":""},{"$f":"IF('4. Analyseer opbouw van object'!C55=\"\",\"\",'4. Analyseer opbouw van object'!C55)","v":""},{"$f":"IF('4. Analyseer opbouw van object'!D55=\"\",\"\",'4. Analyseer opbouw van object'!D55)","v":""},{"$f":"IF('4. Analyseer opbouw van object'!E55=\"\",\"\",'4. Analyseer opbouw van object'!E55)","v":""},{"$f":"IF('4. Analyseer opbouw van object'!G55=\"\",\"\",'4. Analyseer opbouw van object'!G55)","v":""},{"$f":"IF('4. Analyseer opbouw van object'!H55=\"\",\"\",'4. Analyseer opbouw van object'!H55)","v":""},{"$f":"IF('4. Analyseer opbouw van object'!J55=\"\",\"\",'4. Analyseer opbouw van object'!J55)","v":""},null,null,null,"",null,{"$f":"IFERROR(INDEX(#REF!,MATCH(N56,#REF!,0)),\"\")","v":""},null,{"$f":"IFERROR(INDEX(#REF!,MATCH(P56,#REF!,0)),\"\")","v":""},null,{"$f":"IFERROR(INDEX(#REF!,MATCH(R56,#REF!,0)),\"\")","v":""},"","",""]
[null,44,{"$f":"IF('4. Analyseer opbouw van object'!B56=\"\",\"\",'4. Analyseer opbouw van object'!B56)","v":""},{"$f":"IF('4. Analyseer opbouw van object'!C56=\"\",\"\",'4. Analyseer opbouw van object'!C56)","v":""},{"$f":"IF('4. Analyseer opbouw van object'!D56=\"\",\"\",'4. Analyseer opbouw van object'!D56)","v":""},{"$f":"IF('4. Analyseer opbouw van object'!E56=\"\",\"\",'4. Analyseer opbouw van object'!E56)","v":""},{"$f":"IF('4. Analyseer opbouw van object'!G56=\"\",\"\",'4. Analyseer opbouw van object'!G56)","v":""},{"$f":"IF('4. Analyseer opbouw van object'!H56=\"\",\"\",'4. Analyseer opbouw van object'!H56)","v":""},{"$f":"IF('4. Analyseer opbouw van object'!J56=\"\",\"\",'4. Analyseer opbouw van object'!J56)","v":""},null,null,null,"",null,{"$f":"IFERROR(INDEX(#REF!,MATCH(N57,#REF!,0)),\"\")","v":""},null,{"$f":"IFERROR(INDEX(#REF!,MATCH(P57,#REF!,0)),\"\")","v":""},null,{"$f":"IFERROR(INDEX(#REF!,MATCH(R57,#REF!,0)),\"\")","v":""},"","",""]
[null,45,{"$f":"IF('4. Analyseer opbouw van object'!B57=\"\",\"\",'4. Analyseer opbouw van object'!B57)","v":""},{"$f":"IF('4. Analyseer opbouw van object'!C57=\"\",\"\",'4. Analyseer opbouw van object'!C57)","v":""},{"$f":"IF('4. Analyseer opbouw van object'!D57=\"\",\"\",'4. Analyseer opbouw van object'!D57)","v":""},{"$f":"IF('4. Analyseer opbouw van object'!E57=\"\",\"\",'4. Analyseer opbouw van object'!E57)","v":""},{"$f":"IF('4. Analyseer opbouw van object'!G57=\"\",\"\",'4. Analyseer opbouw van object'!G57)","v":""},{"$f":"IF('4. Analyseer opbouw van object'!H57=\"\",\"\",'4. Analyseer opbouw van object'!H57)","v":""},{"$f":"IF('4. Analyseer opbouw van object'!J57=\"\",\"\",'4. Analyseer opbouw van object'!J57)","v":""},null,null,null,"",null,{"$f":"IFERROR(INDEX(#REF!,MATCH(N58,#REF!,0)),\"\")","v":""},null,{"$f":"IFERROR(INDEX(#REF!,MATCH(P58,#REF!,0)),\"\")","v":""},null,{"$f":"IFERROR(INDEX(#REF!,MATCH(R58,#REF!,0)),\"\")","v":""},"","",""]
[null,46,{"$f":"IF('4. Analyseer opbouw van object'!B58=\"\",\"\",'4. Analyseer opbouw van object'!B58)","v":""},{"$f":"IF('4. Analyseer opbouw van object'!C58=\"\",\"\",'4. Analyseer opbouw van object'!C58)","v":""},{"$f":"IF('4. Analyseer opbouw van object'!D58=\"\",\"\",'4. Analyseer opbouw van object'!D58)","v":""},{"$f":"IF('4. Analyseer opbouw van object'!E58=\"\",\"\",'4. Analyseer opbouw van object'!E58)","v":""},{"$f":"IF('4. Analyseer opbouw van object'!G58=\"\",\"\",'4. Analyseer opbouw van object'!G58)","v":""},{"$f":"IF('4. Analyseer opbouw van object'!H58=\"\",\"\",'4. Analyseer opbouw van object'!H58)","v":""},{"$f":"IF('4. Analyseer opbouw van object'!J58=\"\",\"\",'4. Analyseer opbouw van object'!J58)","v":""},null,null,null,"",null,{"$f":"IFERROR(INDEX(#REF!,MATCH(N59,#REF!,0)),\"\")","v":""},null,{"$f":"IFERROR(INDEX(#REF!,MATCH(P59,#REF!,0)),\"\")","v":""},null,{"$f":"IFERROR(INDEX(#REF!,MATCH(R59,#REF!,0)),\"\")","v":""},"","",""]
[null,47,{"$f":"IF('4. Analyseer opbouw van object'!B59=\"\",\"\",'4. Analyseer opbouw van object'!B59)","v":""},{"$f":"IF('4. Analyseer opbouw van object'!C59=\"\",\"\",'4. Analyseer opbouw van object'!C59)","v":""},{"$f":"IF('4. Analyseer opbouw van object'!D59=\"\",\"\",'4. Analyseer opbouw van object'!D59)","v":""},{"$f":"IF('4. Analyseer opbouw van object'!E59=\"\",\"\",'4. Analyseer opbouw van object'!E59)","v":""},{"$f":"IF('4. Analyseer opbouw van object'!G59=\"\",\"\",'4. Analyseer opbouw van object'!G59)","v":""},{"$f":"IF('4. Analyseer opbouw van object'!H59=\"\",\"\",'4. Analyseer opbouw van object'!H59)","v":""},{"$f":"IF('4. Analyseer opbouw van object'!J59=\"\",\"\",'4. Analyseer opbouw van object'!J59)","v":""},null,null,null,"",null,{"$f":"IFERROR(INDEX(#REF!,MATCH(N60,#REF!,0)),\"\")","v":""},null,{"$f":"IFERROR(INDEX(#REF!,MATCH(P60,#REF!,0)),\"\")","v":""},null,{"$f":"IFERROR(INDEX(#REF!,MATCH(R60,#REF!,0)),\"\")","v":""},"","",""]
[null,48,{"$f":"IF('4. Analyseer opbouw van object'!B60=\"\",\"\",'4. Analyseer opbouw van object'!B60)","v":""},{"$f":"IF('4. Analyseer opbouw van object'!C60=\"\",\"\",'4. Analyseer opbouw van object'!C60)","v":""},{"$f":"IF('4. Analyseer opbouw van object'!D60=\"\",\"\",'4. Analyseer opbouw van object'!D60)","v":""},{"$f":"IF('4. Analyseer opbouw van object'!E60=\"\",\"\",'4. Analyseer opbouw van object'!E60)","v":""},{"$f":"IF('4. Analyseer opbouw van object'!G60=\"\",\"\",'4. Analyseer opbouw van object'!G60)","v":""},{"$f":"IF('4. Analyseer opbouw van object'!H60=\"\",\"\",'4. Analyseer opbouw van object'!H60)","v":""},{"$f":"IF('4. Analyseer opbouw van object'!J60=\"\",\"\",'4. Analyseer opbouw van object'!J60)","v":""},null,null,null,"",null,{"$f":"IFERROR(INDEX(#REF!,MATCH(N61,#REF!,0)),\"\")","v":""},null,{"$f":"IFERROR(INDEX(#REF!,MATCH(P61,#REF!,0)),\"\")","v":""},null,{"$f":"IFERROR(INDEX(#REF!,MATCH(R61,#REF!,0)),\"\")","v":""},"","",""]
[null,49,{"$f":"IF('4. Analyseer opbouw van object'!B61=\"\",\"\",'4. Analyseer opbouw van object'!B61)","v":""},{"$f":"IF('4. Analyseer opbouw van object'!C61=\"\",\"\",'4. Analyseer opbouw van object'!C61)","v":""},{"$f":"IF('4. Analyseer opbouw van object'!D61=\"\",\"\",'4. Analyseer opbouw van object'!D61)","v":""},{"$f":"IF('4. Analyseer opbouw van object'!E61=\"\",\"\",'4. Analyseer opbouw van object'!E61)","v":""},{"$f":"IF('4. Analyseer opbouw van object'!G61=\"\",\"\",'4. Analyseer opbouw van object'!G61)","v":""},{"$f":"IF('4. Analyseer opbouw van object'!H61=\"\",\"\",'4. Analyseer opbouw van object'!H61)","v":""},{"$f":"IF('4. Analyseer opbouw van object'!J61=\"\",\"\",'4. Analyseer opbouw van object'!J61)","v":""},null,null,null,"",null,{"$f":"IFERROR(INDEX(#REF!,MATCH(N62,#REF!,0)),\"\")","v":""},null,{"$f":"IFERROR(INDEX(#REF!,MATCH(P62,#REF!,0)),\"\")","v":""},null,{"$f":"IFERROR(INDEX(#REF!,MATCH(R62,#REF!,0)),\"\")","v":""},"","",""]
[null,50,{"$f":"IF('4. Analyseer opbouw van object'!B62=\"\",\"\",'4. Analyseer opbouw van object'!B62)","v":""},{"$f":"IF('4. Analyseer opbouw van object'!C62=\"\",\"\",'4. Analyseer opbouw van object'!C62)","v":""},{"$f":"IF('4. Analyseer opbouw van object'!D62=\"\",\"\",'4. Analyseer opbouw van object'!D62)","v":""},{"$f":"IF('4. Analyseer opbouw van object'!E62=\"\",\"\",'4. Analyseer opbouw van object'!E62)","v":""},{"$f":"IF('4. Analyseer opbouw van object'!G62=\"\",\"\",'4. Analyseer opbouw van object'!G62)","v":""},{"$f":"IF('4. Analyseer opbouw van object'!H62=\"\",\"\",'4. Analyseer opbouw van object'!H62)","v":""},{"$f":"IF('4. Analyseer opbouw van object'!J62=\"\",\"\",'4. Analyseer opbouw van object'!J62)","v":""},null,null,null,"",null,{"$f":"IFERROR(INDEX(#REF!,MATCH(N63,#REF!,0)),\"\")","v":""},null,{"$f":"IFERROR(INDEX(#REF!,MATCH(P63,#REF!,0)),\"\")","v":""},null,{"$f":"IFERROR(INDEX(#REF!,MATCH(R63,#REF!,0)),\"\")","v":""},"","",""]
[null,51,{"$f":"IF('4. Analyseer opbouw van object'!B63=\"\",\"\",'4. Analyseer opbouw van object'!B63)","v":""},{"$f":"IF('4. Analyseer opbouw van object'!C63=\"\",\"\",'4. Analyseer opbouw van object'!C63)","v":""},{"$f":"IF('4. Analyseer opbouw van object'!D63=\"\",\"\",'4. Analyseer opbouw van object'!D63)","v":""},{"$f":"IF('4. Analyseer opbouw van object'!E63=\"\",\"\",'4. Analyseer opbouw van object'!E63)","v":""},{"$f":"IF('4. Analyseer opbouw van object'!G63=\"\",\"\",'4. Analyseer opbouw van object'!G63)","v":""},{"$f":"IF('4. Analyseer opbouw van object'!H63=\"\",\"\",'4. Analyseer opbouw van object'!H63)","v":""},{"$f":"IF('4. Analyseer opbouw van object'!J63=\"\",\"\",'4. Analyseer opbouw van object'!J63)","v":""},null,null,null,"",null,{"$f":"IFERROR(INDEX(#REF!,MATCH(N64,#REF!,0)),\"\")","v":""},null,{"$f":"IFERROR(INDEX(#REF!,MATCH(P64,#REF!,0)),\"\")","v":""},null,{"$f":"IFERROR(INDEX(#REF!,MATCH(R64,#REF!,0)),\"\")","v":""},"","",""]
[null,52,{"$f":"IF('4. Analyseer opbouw van object'!B64=\"\",\"\",'4. Analyseer opbouw van object'!B64)","v":""},{"$f":"IF('4. Analyseer opbouw van object'!C64=\"\",\"\",'4. Analyseer opbouw van object'!C64)","v":""},{"$f":"IF('4. Analyseer opbouw van object'!D64=\"\",\"\",'4. Analyseer opbouw van object'!D64)","v":""},{"$f":"IF('4. Analyseer opbouw van object'!E64=\"\",\"\",'4. Analyseer opbouw van object'!E64)","v":""},{"$f":"IF('4. Analyseer opbouw van object'!G64=\"\",\"\",'4. Analyseer opbouw van object'!G64)","v":""},{"$f":"IF('4. Analyseer opbouw van object'!H64=\"\",\"\",'4. Analyseer opbouw van object'!H64)","v":""},{"$f":"IF('4. Analyseer opbouw van object'!J64=\"\",\"\",'4. Analyseer opbouw van object'!J64)","v":""},null,null,null,"",null,{"$f":"IFERROR(INDEX(#REF!,MATCH(N65,#REF!,0)),\"\")","v":""},null,{"$f":"IFERROR(INDEX(#REF!,MATCH(P65,#REF!,0)),\"\")","v":""},null,{"$f":"IFERROR(INDEX(#REF!,MATCH(R65,#REF!,0)),\"\")","v":""},"","",""]
[null,53,{"$f":"IF('4. Analyseer opbouw van object'!B65=\"\",\"\",'4. Analyseer opbouw van object'!B65)","v":""},{"$f":"IF('4. Analyseer opbouw van object'!C65=\"\",\"\",'4. Analyseer opbouw van object'!C65)","v":""},{"$f":"IF('4. Analyseer opbouw van object'!D65=\"\",\"\",'4. Analyseer opbouw van object'!D65)","v":""},{"$f":"IF('4. Analyseer opbouw van object'!E65=\"\",\"\",'4. Analyseer opbouw van object'!E65)","v":""},{"$f":"IF('4. Analyseer opbouw van object'!G65=\"\",\"\",'4. Analyseer opbouw van object'!G65)","v":""},{"$f":"IF('4. Analyseer opbouw van object'!H65=\"\",\"\",'4. Analyseer opbouw van object'!H65)","v":""},{"$f":"IF('4. Analyseer opbouw van object'!J65=\"\",\"\",'4. Analyseer opbouw van object'!J65)","v":""},null,null,null,"",null,{"$f":"IFERROR(INDEX(#REF!,MATCH(N66,#REF!,0)),\"\")","v":""},null,{"$f":"IFERROR(INDEX(#REF!,MATCH(P66,#REF!,0)),\"\")","v":""},null,{"$f":"IFERROR(INDEX(#REF!,MATCH(R66,#REF!,0)),\"\")","v":""},"","",""]
[null,54,{"$f":"IF('4. Analyseer opbouw van object'!B66=\"\",\"\",'4. Analyseer opbouw van object'!B66)","v":""},{"$f":"IF('4. Analyseer opbouw van object'!C66=\"\",\"\",'4. Analyseer opbouw van object'!C66)","v":""},{"$f":"IF('4. Analyseer opbouw van object'!D66=\"\",\"\",'4. Analyseer opbouw van object'!D66)","v":""},{"$f":"IF('4. Analyseer opbouw van object'!E66=\"\",\"\",'4. Analyseer opbouw van object'!E66)","v":""},{"$f":"IF('4. Analyseer opbouw van object'!G66=\"\",\"\",'4. Analyseer opbouw van object'!G66)","v":""},{"$f":"IF('4. Analyseer opbouw van object'!H66=\"\",\"\",'4. Analyseer opbouw van object'!H66)","v":""},{"$f":"IF('4. Analyseer opbouw van object'!J66=\"\",\"\",'4. Analyseer opbouw van object'!J66)","v":""},null,null,null,"",null,{"$f":"IFERROR(INDEX(#REF!,MATCH(N67,#REF!,0)),\"\")","v":""},null,{"$f":"IFERROR(INDEX(#REF!,MATCH(P67,#REF!,0)),\"\")","v":""},null,{"$f":"IFERROR(INDEX(#REF!,MATCH(R67,#REF!,0)),\"\")","v":""},"","",""]
[null,55,{"$f":"IF('4. Analyseer opbouw van object'!B67=\"\",\"\",'4. Analyseer opbouw van object'!B67)","v":""},{"$f":"IF('4. Analyseer opbouw van object'!C67=\"\",\"\",'4. Analyseer opbouw van object'!C67)","v":""},{"$f":"IF('4. Analyseer opbouw van object'!D67=\"\",\"\",'4. Analyseer opbouw van object'!D67)","v":""},{"$f":"IF('4. Analyseer opbouw van object'!E67=\"\",\"\",'4. Analyseer opbouw van object'!E67)","v":""},{"$f":"IF('4. Analyseer opbouw van object'!G67=\"\",\"\",'4. Analyseer opbouw van object'!G67)","v":""},{"$f":"IF('4. Analyseer opbouw van object'!H67=\"\",\"\",'4. Analyseer opbouw van object'!H67)","v":""},{"$f":"IF('4. Analyseer opbouw van object'!J67=\"\",\"\",'4. Analyseer opbouw van object'!J67)","v":""},null,null,null,"",null,{"$f":"IFERROR(INDEX(#REF!,MATCH(N68,#REF!,0)),\"\")","v":""},null,{"$f":"IFERROR(INDEX(#REF!,MATCH(P68,#REF!,0)),\"\")","v":""},null,{"$f":"IFERROR(INDEX(#REF!,MATCH(R68,#REF!,0)),\"\")","v":""},"","",""]
[null,56,{"$f":"IF('4. Analyseer opbouw van object'!B68=\"\",\"\",'4. Analyseer opbouw van object'!B68)","v":""},{"$f":"IF('4. Analyseer opbouw van object'!C68=\"\",\"\",'4. Analyseer opbouw van object'!C68)","v":""},{"$f":"IF('4. Analyseer opbouw van object'!D68=\"\",\"\",'4. Analyseer opbouw van object'!D68)","v":""},{"$f":"IF('4. Analyseer opbouw van object'!E68=\"\",\"\",'4. Analyseer opbouw van object'!E68)","v":""},{"$f":"IF('4. Analyseer opbouw van object'!G68=\"\",\"\",'4. Analyseer opbouw van object'!G68)","v":""},{"$f":"IF('4. Analyseer opbouw van object'!H68=\"\",\"\",'4. Analyseer opbouw van object'!H68)","v":""},{"$f":"IF('4. Analyseer opbouw van object'!J68=\"\",\"\",'4. Analyseer opbouw van object'!J68)","v":""},null,null,null,"",null,{"$f":"IFERROR(INDEX(#REF!,MATCH(N69,#REF!,0)),\"\")","v":""},null,{"$f":"IFERROR(INDEX(#REF!,MATCH(P69,#REF!,0)),\"\")","v":""},null,{"$f":"IFERROR(INDEX(#REF!,MATCH(R69,#REF!,0)),\"\")","v":""},"","",""]
[null,57,{"$f":"IF('4. Analyseer opbouw van object'!B69=\"\",\"\",'4. Analyseer opbouw van object'!B69)","v":""},{"$f":"IF('4. Analyseer opbouw van object'!C69=\"\",\"\",'4. Analyseer opbouw van object'!C69)","v":""},{"$f":"IF('4. Analyseer opbouw van object'!D69=\"\",\"\",'4. Analyseer opbouw van object'!D69)","v":""},{"$f":"IF('4. Analyseer opbouw van object'!E69=\"\",\"\",'4. Analyseer opbouw van object'!E69)","v":""},{"$f":"IF('4. Analyseer opbouw van object'!G69=\"\",\"\",'4. Analyseer opbouw van object'!G69)","v":""},{"$f":"IF('4. Analyseer opbouw van object'!H69=\"\",\"\",'4. Analyseer opbouw van object'!H69)","v":""},{"$f":"IF('4. Analyseer opbouw van object'!J69=\"\",\"\",'4. Analyseer opbouw van object'!J69)","v":""},null,null,null,"",null,{"$f":"IFERROR(INDEX(#REF!,MATCH(N70,#REF!,0)),\"\")","v":""},null,{"$f":"IFERROR(INDEX(#REF!,MATCH(P70,#REF!,0)),\"\")","v":""},null,{"$f":"IFERROR(INDEX(#REF!,MATCH(R70,#REF!,0)),\"\")","v":""},"","",""]
[null,58,{"$f":"IF('4. Analyseer opbouw van object'!B70=\"\",\"\",'4. Analyseer opbouw van object'!B70)","v":""},{"$f":"IF('4. Analyseer opbouw van object'!C70=\"\",\"\",'4. Analyseer opbouw van object'!C70)","v":""},{"$f":"IF('4. Analyseer opbouw van object'!D70=\"\",\"\",'4. Analyseer opbouw van object'!D70)","v":""},{"$f":"IF('4. Analyseer opbouw van object'!E70=\"\",\"\",'4. Analyseer opbouw van object'!E70)","v":""},{"$f":"IF('4. Analyseer opbouw van object'!G70=\"\",\"\",'4. Analyseer opbouw van object'!G70)","v":""},{"$f":"IF('4. Analyseer opbouw van object'!H70=\"\",\"\",'4. Analyseer opbouw van object'!H70)","v":""},{"$f":"IF('4. Analyseer opbouw van object'!J70=\"\",\"\",'4. Analyseer opbouw van object'!J70)","v":""},null,null,null,"",null,{"$f":"IFERROR(INDEX(#REF!,MATCH(N71,#REF!,0)),\"\")","v":""},null,{"$f":"IFERROR(INDEX(#REF!,MATCH(P71,#REF!,0)),\"\")","v":""},null,{"$f":"IFERROR(INDEX(#REF!,MATCH(R71,#REF!,0)),\"\")","v":""},"","",""]
[null,59,{"$f":"IF('4. Analyseer opbouw van object'!B71=\"\",\"\",'4. Analyseer opbouw van object'!B71)","v":""},{"$f":"IF('4. Analyseer opbouw van object'!C71=\"\",\"\",'4. Analyseer opbouw van object'!C71)","v":""},{"$f":"IF('4. Analyseer opbouw van object'!D71=\"\",\"\",'4. Analyseer opbouw van object'!D71)","v":""},{"$f":"IF('4. Analyseer opbouw van object'!E71=\"\",\"\",'4. Analyseer opbouw van object'!E71)","v":""},{"$f":"IF('4. Analyseer opbouw van object'!G71=\"\",\"\",'4. Analyseer opbouw van object'!G71)","v":""},{"$f":"IF('4. Analyseer opbouw van object'!H71=\"\",\"\",'4. Analyseer opbouw van object'!H71)","v":""},{"$f":"IF('4. Analyseer opbouw van object'!J71=\"\",\"\",'4. Analyseer opbouw van object'!J71)","v":""},null,null,null,"",null,{"$f":"IFERROR(INDEX(#REF!,MATCH(N72,#REF!,0)),\"\")","v":""},null,{"$f":"IFERROR(INDEX(#REF!,MATCH(P72,#REF!,0)),\"\")","v":""},null,{"$f":"IFERROR(INDEX(#REF!,MATCH(R72,#REF!,0)),\"\")","v":""},"","",""]
[null,60,{"$f":"IF('4. Analyseer opbouw van object'!B72=\"\",\"\",'4. Analyseer opbouw van object'!B72)","v":""},{"$f":"IF('4. Analyseer opbouw van object'!C72=\"\",\"\",'4. Analyseer opbouw van object'!C72)","v":""},{"$f":"IF('4. Analyseer opbouw van object'!D72=\"\",\"\",'4. Analyseer opbouw van object'!D72)","v":""},{"$f":"IF('4. Analyseer opbouw van object'!E72=\"\",\"\",'4. Analyseer opbouw van object'!E72)","v":""},{"$f":"IF('4. Analyseer opbouw van object'!G72=\"\",\"\",'4. Analyseer opbouw van object'!G72)","v":""},{"$f":"IF('4. Analyseer opbouw van object'!H72=\"\",\"\",'4. Analyseer opbouw van object'!H72)","v":""},{"$f":"IF('4. Analyseer opbouw van object'!J72=\"\",\"\",'4. Analyseer opbouw van object'!J72)","v":""},null,null,null,"",null,{"$f":"IFERROR(INDEX(#REF!,MATCH(N73,#REF!,0)),\"\")","v":""},null,{"$f":"IFERROR(INDEX(#REF!,MATCH(P73,#REF!,0)),\"\")","v":""},null,{"$f":"IFERROR(INDEX(#REF!,MATCH(R73,#REF!,0)),\"\")","v":""},"","",""]
[null,61,{"$f":"IF('4. Analyseer opbouw van object'!B73=\"\",\"\",'4. Analyseer opbouw van object'!B73)","v":""},{"$f":"IF('4. Analyseer opbouw van object'!C73=\"\",\"\",'4. Analyseer opbouw van object'!C73)","v":""},{"$f":"IF('4. Analyseer opbouw van object'!D73=\"\",\"\",'4. Analyseer opbouw van object'!D73)","v":""},{"$f":"IF('4. Analyseer opbouw van object'!E73=\"\",\"\",'4. Analyseer opbouw van object'!E73)","v":""},{"$f":"IF('4. Analyseer opbouw van object'!G73=\"\",\"\",'4. Analyseer opbouw van object'!G73)","v":""},{"$f":"IF('4. Analyseer opbouw van object'!H73=\"\",\"\",'4. Analyseer opbouw van object'!H73)","v":""},{"$f":"IF('4. Analyseer opbouw van object'!J73=\"\",\"\",'4. Analyseer opbouw van object'!J73)","v":""},null,null,null,"",null,{"$f":"IFERROR(INDEX(#REF!,MATCH(N74,#REF!,0)),\"\")","v":""},null,{"$f":"IFERROR(INDEX(#REF!,MATCH(P74,#REF!,0)),\"\")","v":""},null,{"$f":"IFERROR(INDEX(#REF!,MATCH(R74,#REF!,0)),\"\")","v":""},"","",""]
[null,62,{"$f":"IF('4. Analyseer opbouw van object'!B74=\"\",\"\",'4. Analyseer opbouw van object'!B74)","v":""},{"$f":"IF('4. Analyseer opbouw van object'!C74=\"\",\"\",'4. Analyseer opbouw van object'!C74)","v":""},{"$f":"IF('4. Analyseer opbouw van object'!D74=\"\",\"\",'4. Analyseer opbouw van object'!D74)","v":""},{"$f":"IF('4. Analyseer opbouw van object'!E74=\"\",\"\",'4. Analyseer opbouw van object'!E74)","v":""},{"$f":"IF('4. Analyseer opbouw van object'!G74=\"\",\"\",'4. Analyseer opbouw van object'!G74)","v":""},{"$f":"IF('4. Analyseer opbouw van object'!H74=\"\",\"\",'4. Analyseer opbouw van object'!H74)","v":""},{"$f":"IF('4. Analyseer opbouw van object'!J74=\"\",\"\",'4. Analyseer opbouw van object'!J74)","v":""},null,null,null,"",null,{"$f":"IFERROR(INDEX(#REF!,MATCH(N75,#REF!,0)),\"\")","v":""},null,{"$f":"IFERROR(INDEX(#REF!,MATCH(P75,#REF!,0)),\"\")","v":""},null,{"$f":"IFERROR(INDEX(#REF!,MATCH(R75,#REF!,0)),\"\")","v":""},"","",""]
[null,63,{"$f":"IF('4. Analyseer opbouw van object'!B75=\"\",\"\",'4. Analyseer opbouw van object'!B75)","v":""},{"$f":"IF('4. Analyseer opbouw van object'!C75=\"\",\"\",'4. Analyseer opbouw van object'!C75)","v":""},{"$f":"IF('4. Analyseer opbouw van object'!D75=\"\",\"\",'4. Analyseer opbouw van object'!D75)","v":""},{"$f":"IF('4. Analyseer opbouw van object'!E75=\"\",\"\",'4. Analyseer opbouw van object'!E75)","v":""},{"$f":"IF('4. Analyseer opbouw van object'!G75=\"\",\"\",'4. Analyseer opbouw van object'!G75)","v":""},{"$f":"IF('4. Analyseer opbouw van object'!H75=\"\",\"\",'4. Analyseer opbouw van object'!H75)","v":""},{"$f":"IF('4. Analyseer opbouw van object'!J75=\"\",\"\",'4. Analyseer opbouw van object'!J75)","v":""},null,null,null,"",null,{"$f":"IFERROR(INDEX(#REF!,MATCH(N76,#REF!,0)),\"\")","v":""},null,{"$f":"IFERROR(INDEX(#REF!,MATCH(P76,#REF!,0)),\"\")","v":""},null,{"$f":"IFERROR(INDEX(#REF!,MATCH(R76,#REF!,0)),\"\")","v":""},"","",""]
[null,64,{"$f":"IF('4. Analyseer opbouw van object'!B76=\"\",\"\",'4. Analyseer opbouw van object'!B76)","v":""},{"$f":"IF('4. Analyseer opbouw van object'!C76=\"\",\"\",'4. Analyseer opbouw van object'!C76)","v":""},{"$f":"IF('4. Analyseer opbouw van object'!D76=\"\",\"\",'4. Analyseer opbouw van object'!D76)","v":""},{"$f":"IF('4. Analyseer opbouw van object'!E76=\"\",\"\",'4. Analyseer opbouw van object'!E76)","v":""},{"$f":"IF('4. Analyseer opbouw van object'!G76=\"\",\"\",'4. Analyseer opbouw van object'!G76)","v":""},{"$f":"IF('4. Analyseer opbouw van object'!H76=\"\",\"\",'4. Analyseer opbouw van object'!H76)","v":""},{"$f":"IF('4. Analyseer opbouw van object'!J76=\"\",\"\",'4. Analyseer opbouw van object'!J76)","v":""},null,null,null,"",null,{"$f":"IFERROR(INDEX(#REF!,MATCH(N77,#REF!,0)),\"\")","v":""},null,{"$f":"IFERROR(INDEX(#REF!,MATCH(P77,#REF!,0)),\"\")","v":""},null,{"$f":"IFERROR(INDEX(#REF!,MATCH(R77,#REF!,0)),\"\")","v":""},"","",""]
[null,65,{"$f":"IF('4. Analyseer opbouw van object'!B77=\"\",\"\",'4. Analyseer opbouw van object'!B77)","v":""},{"$f":"IF('4. Analyseer opbouw van object'!C77=\"\",\"\",'4. Analyseer opbouw van object'!C77)","v":""},{"$f":"IF('4. Analyseer opbouw van object'!D77=\"\",\"\",'4. Analyseer opbouw van object'!D77)","v":""},{"$f":"IF('4. Analyseer opbouw van object'!E77=\"\",\"\",'4. Analyseer opbouw van object'!E77)","v":""},{"$f":"IF('4. Analyseer opbouw van object'!G77=\"\",\"\",'4. Analyseer opbouw van object'!G77)","v":""},{"$f":"IF('4. Analyseer opbouw van object'!H77=\"\",\"\",'4. Analyseer opbouw van object'!H77)","v":""},{"$f":"IF('4. Analyseer opbouw van object'!J77=\"\",\"\",'4. Analyseer opbouw van object'!J77)","v":""},null,null,null,{"$f":"IFERROR(INDEX(Score_per_factor,MATCH(K78,Alle_factoren,0)),\"\" )","v":""},null,{"$f":"IFERROR(INDEX(#REF!,MATCH(N78,#REF!,0)),\"\")","v":""},null,{"$f":"IFERROR(INDEX(#REF!,MATCH(P78,#REF!,0)),\"\")","v":""},null,{"$f":"IFERROR(INDEX(#REF!,MATCH(R78,#REF!,0)),\"\")","v":""},"","",""]
[null,66,{"$f":"IF('4. Analyseer opbouw van object'!B78=\"\",\"\",'4. Analyseer opbouw van object'!B78)","v":""},{"$f":"IF('4. Analyseer opbouw van object'!C78=\"\",\"\",'4. Analyseer opbouw van object'!C78)","v":""},{"$f":"IF('4. Analyseer opbouw van object'!D78=\"\",\"\",'4. Analyseer opbouw van object'!D78)","v":""},{"$f":"IF('4. Analyseer opbouw van object'!E78=\"\",\"\",'4. Analyseer opbouw van object'!E78)","v":""},{"$f":"IF('4. Analyseer opbouw van object'!G78=\"\",\"\",'4. Analyseer opbouw van object'!G78)","v":""},{"$f":"IF('4. Analyseer opbouw van object'!H78=\"\",\"\",'4. Analyseer opbouw van object'!H78)","v":""},{"$f":"IF('4. Analyseer opbouw van object'!J78=\"\",\"\",'4. Analyseer opbouw van object'!J78)","v":""},null,null,null,"",null,{"$f":"IFERROR(INDEX(#REF!,MATCH(N79,#REF!,0)),\"\")","v":""},null,{"$f":"IFERROR(INDEX(#REF!,MATCH(P79,#REF!,0)),\"\")","v":""},null,{"$f":"IFERROR(INDEX(#REF!,MATCH(R79,#REF!,0)),\"\")","v":""},{"$f":"IFERROR((2/((1/M79)+(1/O79))),\"\")","v":""},{"$f":"IFERROR((2/((1/Q79)+(1/S79))),\"\")","v":""},{"$f":"IFERROR((2/((1/T79)+(1/U79))),\"\")","v":""}]
[null,67,{"$f":"IF('4. Analyseer opbouw van object'!B79=\"\",\"\",'4. Analyseer opbouw van object'!B79)","v":""},{"$f":"IF('4. Analyseer opbouw van object'!C79=\"\",\"\",'4. Analyseer opbouw van object'!C79)","v":""},{"$f":"IF('4. Analyseer opbouw van object'!D79=\"\",\"\",'4. Analyseer opbouw van object'!D79)","v":""},{"$f":"IF('4. Analyseer opbouw van object'!E79=\"\",\"\",'4. Analyseer opbouw van object'!E79)","v":""},{"$f":"IF('4. Analyseer opbouw van object'!G79=\"\",\"\",'4. Analyseer opbouw van object'!G79)","v":""},{"$f":"IF('4. Analyseer opbouw van object'!H79=\"\",\"\",'4. Analyseer opbouw van object'!H79)","v":""},{"$f":"IF('4. Analyseer opbouw van object'!J79=\"\",\"\",'4. Analyseer opbouw van object'!J79)","v":""},null,null,null,"",null,{"$f":"IFERROR(INDEX(#REF!,MATCH(N80,#REF!,0)),\"\")","v":""},null,{"$f":"IFERROR(INDEX(#REF!,MATCH(P80,#REF!,0)),\"\")","v":""},null,{"$f":"IFERROR(INDEX(#REF!,MATCH(R80,#REF!,0)),\"\")","v":""},"","",""]
[null,{"$f":"B80+1","v":68},{"$f":"IF('4. Analyseer opbouw van object'!B80=\"\",\"\",'4. Analyseer opbouw van object'!B80)","v":""},{"$f":"IF('4. Analyseer opbouw van object'!C80=\"\",\"\",'4. Analyseer opbouw van object'!C80)","v":""},{"$f":"IF('4. Analyseer opbouw van object'!D80=\"\",\"\",'4. Analyseer opbouw van object'!D80)","v":""},{"$f":"IF('4. Analyseer opbouw van object'!E80=\"\",\"\",'4. Analyseer opbouw van object'!E80)","v":""},{"$f":"IF('4. Analyseer opbouw van object'!G80=\"\",\"\",'4. Analyseer opbouw van object'!G80)","v":""},{"$f":"IF('4. Analyseer opbouw van object'!H80=\"\",\"\",'4. Analyseer opbouw van object'!H80)","v":""},{"$f":"IF('4. Analyseer opbouw van object'!J80=\"\",\"\",'4. Analyseer opbouw van object'!J80)","v":""},null,null,null,"",null,{"$f":"IFERROR(INDEX(#REF!,MATCH(N81,#REF!,0)),\"\")","v":""},null,{"$f":"IFERROR(INDEX(#REF!,MATCH(P81,#REF!,0)),\"\")","v":""},null,{"$f":"IFERROR(INDEX(#REF!,MATCH(R81,#REF!,0)),\"\")","v":""},"","",""]
[null,69,{"$f":"IF('4. Analyseer opbouw van object'!B81=\"\",\"\",'4. Analyseer opbouw van object'!B81)","v":""},{"$f":"IF('4. Analyseer opbouw van object'!C81=\"\",\"\",'4. Analyseer opbouw van object'!C81)","v":""},{"$f":"IF('4. Analyseer opbouw van object'!D81=\"\",\"\",'4. Analyseer opbouw van object'!D81)","v":""},{"$f":"IF('4. Analyseer opbouw van object'!E81=\"\",\"\",'4. Analyseer opbouw van object'!E81)","v":""},{"$f":"IF('4. Analyseer opbouw van object'!G81=\"\",\"\",'4. Analyseer opbouw van object'!G81)","v":""},{"$f":"IF('4. Analyseer opbouw van object'!H81=\"\",\"\",'4. Analyseer opbouw van object'!H81)","v":""},{"$f":"IF('4. Analyseer opbouw van object'!J81=\"\",\"\",'4. Analyseer opbouw van object'!J81)","v":""},null,null,null,"",null,{"$f":"IFERROR(INDEX(#REF!,MATCH(N82,#REF!,0)),\"\")","v":""},null,{"$f":"IFERROR(INDEX(#REF!,MATCH(P82,#REF!,0)),\"\")","v":""},null,{"$f":"IFERROR(INDEX(#REF!,MATCH(R82,#REF!,0)),\"\")","v":""},"","",""]
[null,70,{"$f":"IF('4. Analyseer opbouw van object'!B82=\"\",\"\",'4. Analyseer opbouw van object'!B82)","v":""},{"$f":"IF('4. Analyseer opbouw van object'!C82=\"\",\"\",'4. Analyseer opbouw van object'!C82)","v":""},{"$f":"IF('4. Analyseer opbouw van object'!D82=\"\",\"\",'4. Analyseer opbouw van object'!D82)","v":""},{"$f":"IF('4. Analyseer opbouw van object'!E82=\"\",\"\",'4. Analyseer opbouw van object'!E82)","v":""},{"$f":"IF('4. Analyseer opbouw van object'!G82=\"\",\"\",'4. Analyseer opbouw van object'!G82)","v":""},{"$f":"IF('4. Analyseer opbouw van object'!H82=\"\",\"\",'4. Analyseer opbouw van object'!H82)","v":""},{"$f":"IF('4. Analyseer opbouw van object'!J82=\"\",\"\",'4. Analyseer opbouw van object'!J82)","v":""},null,null,null,"",null,{"$f":"IFERROR(INDEX(#REF!,MATCH(N83,#REF!,0)),\"\")","v":""},null,{"$f":"IFERROR(INDEX(#REF!,MATCH(P83,#REF!,0)),\"\")","v":""},null,{"$f":"IFERROR(INDEX(#REF!,MATCH(R83,#REF!,0)),\"\")","v":""},"","",""]
[null,71,{"$f":"IF('4. Analyseer opbouw van object'!B83=\"\",\"\",'4. Analyseer opbouw van object'!B83)","v":""},{"$f":"IF('4. Analyseer opbouw van object'!C83=\"\",\"\",'4. Analyseer opbouw van object'!C83)","v":""},{"$f":"IF('4. Analyseer opbouw van object'!D83=\"\",\"\",'4. Analyseer opbouw van object'!D83)","v":""},{"$f":"IF('4. Analyseer opbouw van object'!E83=\"\",\"\",'4. Analyseer opbouw van object'!E83)","v":""},{"$f":"IF('4. Analyseer opbouw van object'!G83=\"\",\"\",'4. Analyseer opbouw van object'!G83)","v":""},{"$f":"IF('4. Analyseer opbouw van object'!H83=\"\",\"\",'4. Analyseer opbouw van object'!H83)","v":""},{"$f":"IF('4. Analyseer opbouw van object'!J83=\"\",\"\",'4. Analyseer opbouw van object'!J83)","v":""},null,null,null,"",null,{"$f":"IFERROR(INDEX(#REF!,MATCH(N84,#REF!,0)),\"\")","v":""},null,{"$f":"IFERROR(INDEX(#REF!,MATCH(P84,#REF!,0)),\"\")","v":""},null,{"$f":"IFERROR(INDEX(#REF!,MATCH(R84,#REF!,0)),\"\")","v":""},"","",""]
[null,72,{"$f":"IF('4. Analyseer opbouw van object'!B84=\"\",\"\",'4. Analyseer opbouw van object'!B84)","v":""},{"$f":"IF('4. Analyseer opbouw van object'!C84=\"\",\"\",'4. Analyseer opbouw van object'!C84)","v":""},{"$f":"IF('4. Analyseer opbouw van object'!D84=\"\",\"\",'4. Analyseer opbouw van object'!D84)","v":""},{"$f":"IF('4. Analyseer opbouw van object'!E84=\"\",\"\",'4. Analyseer opbouw van object'!E84)","v":""},{"$f":"IF('4. Analyseer opbouw van object'!G84=\"\",\"\",'4. Analyseer opbouw van object'!G84)","v":""},{"$f":"IF('4. Analyseer opbouw van object'!H84=\"\",\"\",'4. Analyseer opbouw van object'!H84)","v":""},{"$f":"IF('4. Analyseer opbouw van object'!J84=\"\",\"\",'4. Analyseer opbouw van object'!J84)","v":""},null,null,null,"",null,{"$f":"IFERROR(INDEX(#REF!,MATCH(N85,#REF!,0)),\"\")","v":""},null,{"$f":"IFERROR(INDEX(#REF!,MATCH(P85,#REF!,0)),\"\")","v":""},null,{"$f":"IFERROR(INDEX(#REF!,MATCH(R85,#REF!,0)),\"\")","v":""},"","",""]
[null,73,{"$f":"IF('4. Analyseer opbouw van object'!B85=\"\",\"\",'4. Analyseer opbouw van object'!B85)","v":""},{"$f":"IF('4. Analyseer opbouw van object'!C85=\"\",\"\",'4. Analyseer opbouw van object'!C85)","v":""},{"$f":"IF('4. Analyseer opbouw van object'!D85=\"\",\"\",'4. Analyseer opbouw van object'!D85)","v":""},{"$f":"IF('4. Analyseer opbouw van object'!E85=\"\",\"\",'4. Analyseer opbouw van object'!E85)","v":""},{"$f":"IF('4. Analyseer opbouw van object'!G85=\"\",\"\",'4. Analyseer opbouw van object'!G85)","v":""},{"$f":"IF('4. Analyseer opbouw van object'!H85=\"\",\"\",'4. Analyseer opbouw van object'!H85)","v":""},{"$f":"IF('4. Analyseer opbouw van object'!J85=\"\",\"\",'4. Analyseer opbouw van object'!J85)","v":""},null,null,null,"",null,{"$f":"IFERROR(INDEX(#REF!,MATCH(N86,#REF!,0)),\"\")","v":""},null,{"$f":"IFERROR(INDEX(#REF!,MATCH(P86,#REF!,0)),\"\")","v":""},null,{"$f":"IFERROR(INDEX(#REF!,MATCH(R86,#REF!,0)),\"\")","v":""},"","",""]
[null,74,{"$f":"IF('4. Analyseer opbouw van object'!B86=\"\",\"\",'4. Analyseer opbouw van object'!B86)","v":""},{"$f":"IF('4. Analyseer opbouw van object'!C86=\"\",\"\",'4. Analyseer opbouw van object'!C86)","v":""},{"$f":"IF('4. Analyseer opbouw van object'!D86=\"\",\"\",'4. Analyseer opbouw van object'!D86)","v":""},{"$f":"IF('4. Analyseer opbouw van object'!E86=\"\",\"\",'4. Analyseer opbouw van object'!E86)","v":""},{"$f":"IF('4. Analyseer opbouw van object'!G86=\"\",\"\",'4. Analyseer opbouw van object'!G86)","v":""},{"$f":"IF('4. Analyseer opbouw van object'!H86=\"\",\"\",'4. Analyseer opbouw van object'!H86)","v":""},{"$f":"IF('4. Analyseer opbouw van object'!J86=\"\",\"\",'4. Analyseer opbouw van object'!J86)","v":""},null,null,null,"",null,{"$f":"IFERROR(INDEX(#REF!,MATCH(N87,#REF!,0)),\"\")","v":""},null,{"$f":"IFERROR(INDEX(#REF!,MATCH(P87,#REF!,0)),\"\")","v":""},null,{"$f":"IFERROR(INDEX(#REF!,MATCH(R87,#REF!,0)),\"\")","v":""},"","",""]
[null,75,{"$f":"IF('4. Analyseer opbouw van object'!B87=\"\",\"\",'4. Analyseer opbouw van object'!B87)","v":""},{"$f":"IF('4. Analyseer opbouw van object'!C87=\"\",\"\",'4. Analyseer opbouw van object'!C87)","v":""},{"$f":"IF('4. Analyseer opbouw van object'!D87=\"\",\"\",'4. Analyseer opbouw van object'!D87)","v":""},{"$f":"IF('4. Analyseer opbouw van object'!E87=\"\",\"\",'4. Analyseer opbouw van object'!E87)","v":""},{"$f":"IF('4. Analyseer opbouw van object'!G87=\"\",\"\",'4. Analyseer opbouw van object'!G87)","v":""},{"$f":"IF('4. Analyseer opbouw van object'!H87=\"\",\"\",'4. Analyseer opbouw van object'!H87)","v":""},{"$f":"IF('4. Analyseer opbouw van object'!J87=\"\",\"\",'4. Analyseer opbouw van object'!J87)","v":""},null,null,null,"",null,{"$f":"IFERROR(INDEX(#REF!,MATCH(N88,#REF!,0)),\"\")","v":""},null,{"$f":"IFERROR(INDEX(#REF!,MATCH(P88,#REF!,0)),\"\")","v":""},null,{"$f":"IFERROR(INDEX(#REF!,MATCH(R88,#REF!,0)),\"\")","v":""},"","",""]
[null,76,{"$f":"IF('4. Analyseer opbouw van object'!B88=\"\",\"\",'4. Analyseer opbouw van object'!B88)","v":""},{"$f":"IF('4. Analyseer opbouw van object'!C88=\"\",\"\",'4. Analyseer opbouw van object'!C88)","v":""},{"$f":"IF('4. Analyseer opbouw van object'!D88=\"\",\"\",'4. Analyseer opbouw van object'!D88)","v":""},{"$f":"IF('4. Analyseer opbouw van object'!E88=\"\",\"\",'4. Analyseer opbouw van object'!E88)","v":""},{"$f":"IF('4. Analyseer opbouw van object'!G88=\"\",\"\",'4. Analyseer opbouw van object'!G88)","v":""},{"$f":"IF('4. Analyseer opbouw van object'!H88=\"\",\"\",'4. Analyseer opbouw van object'!H88)","v":""},{"$f":"IF('4. Analyseer opbouw van object'!J88=\"\",\"\",'4. Analyseer opbouw van object'!J88)","v":""},null,null,null,"",null,{"$f":"IFERROR(INDEX(#REF!,MATCH(N89,#REF!,0)),\"\")","v":""},null,{"$f":"IFERROR(INDEX(#REF!,MATCH(P89,#REF!,0)),\"\")","v":""},null,{"$f":"IFERROR(INDEX(#REF!,MATCH(R89,#REF!,0)),\"\")","v":""},"","",""]
[null,77,{"$f":"IF('4. Analyseer opbouw van object'!B89=\"\",\"\",'4. Analyseer opbouw van object'!B89)","v":""},{"$f":"IF('4. Analyseer opbouw van object'!C89=\"\",\"\",'4. Analyseer opbouw van object'!C89)","v":""},{"$f":"IF('4. Analyseer opbouw van object'!D89=\"\",\"\",'4. Analyseer opbouw van object'!D89)","v":""},{"$f":"IF('4. Analyseer opbouw van object'!E89=\"\",\"\",'4. Analyseer opbouw van object'!E89)","v":""},{"$f":"IF('4. Analyseer opbouw van object'!G89=\"\",\"\",'4. Analyseer opbouw van object'!G89)","v":""},{"$f":"IF('4. Analyseer opbouw van object'!H89=\"\",\"\",'4. Analyseer opbouw van object'!H89)","v":""},{"$f":"IF('4. Analyseer opbouw van object'!J89=\"\",\"\",'4. Analyseer opbouw van object'!J89)","v":""},null,null,null,"",null,{"$f":"IFERROR(INDEX(#REF!,MATCH(N90,#REF!,0)),\"\")","v":""},null,{"$f":"IFERROR(INDEX(#REF!,MATCH(P90,#REF!,0)),\"\")","v":""},null,{"$f":"IFERROR(INDEX(#REF!,MATCH(R90,#REF!,0)),\"\")","v":""},"","",""]
[null,78,{"$f":"IF('4. Analyseer opbouw van object'!B90=\"\",\"\",'4. Analyseer opbouw van object'!B90)","v":""},{"$f":"IF('4. Analyseer opbouw van object'!C90=\"\",\"\",'4. Analyseer opbouw van object'!C90)","v":""},{"$f":"IF('4. Analyseer opbouw van object'!D90=\"\",\"\",'4. Analyseer opbouw van object'!D90)","v":""},{"$f":"IF('4. Analyseer opbouw van object'!E90=\"\",\"\",'4. Analyseer opbouw van object'!E90)","v":""},{"$f":"IF('4. Analyseer opbouw van object'!G90=\"\",\"\",'4. Analyseer opbouw van object'!G90)","v":""},{"$f":"IF('4. Analyseer opbouw van object'!H90=\"\",\"\",'4. Analyseer opbouw van object'!H90)","v":""},{"$f":"IF('4. Analyseer opbouw van object'!J90=\"\",\"\",'4. Analyseer opbouw van object'!J90)","v":""},null,null,null,"",null,{"$f":"IFERROR(INDEX(#REF!,MATCH(N91,#REF!,0)),\"\")","v":""},null,{"$f":"IFERROR(INDEX(#REF!,MATCH(P91,#REF!,0)),\"\")","v":""},null,{"$f":"IFERROR(INDEX(#REF!,MATCH(R91,#REF!,0)),\"\")","v":""},"","",""]
[null,79,{"$f":"IF('4. Analyseer opbouw van object'!B91=\"\",\"\",'4. Analyseer opbouw van object'!B91)","v":""},{"$f":"IF('4. Analyseer opbouw van object'!C91=\"\",\"\",'4. Analyseer opbouw van object'!C91)","v":""},{"$f":"IF('4. Analyseer opbouw van object'!D91=\"\",\"\",'4. Analyseer opbouw van object'!D91)","v":""},{"$f":"IF('4. Analyseer opbouw van object'!E91=\"\",\"\",'4. Analyseer opbouw van object'!E91)","v":""},{"$f":"IF('4. Analyseer opbouw van object'!G91=\"\",\"\",'4. Analyseer opbouw van object'!G91)","v":""},{"$f":"IF('4. Analyseer opbouw van object'!H91=\"\",\"\",'4. Analyseer opbouw van object'!H91)","v":""},{"$f":"IF('4. Analyseer opbouw van object'!J91=\"\",\"\",'4. Analyseer opbouw van object'!J91)","v":""},null,null,null,"",null,{"$f":"IFERROR(INDEX(#REF!,MATCH(N92,#REF!,0)),\"\")","v":""},null,{"$f":"IFERROR(INDEX(#REF!,MATCH(P92,#REF!,0)),\"\")","v":""},null,{"$f":"IFERROR(INDEX(#REF!,MATCH(R92,#REF!,0)),\"\")","v":""},"","",""]
[null,80,{"$f":"IF('4. Analyseer opbouw van object'!B92=\"\",\"\",'4. Analyseer opbouw van object'!B92)","v":""},{"$f":"IF('4. Analyseer opbouw van object'!C92=\"\",\"\",'4. Analyseer opbouw van object'!C92)","v":""},{"$f":"IF('4. Analyseer opbouw van object'!D92=\"\",\"\",'4. Analyseer opbouw van object'!D92)","v":""},{"$f":"IF('4. Analyseer opbouw van object'!E92=\"\",\"\",'4. Analyseer opbouw van object'!E92)","v":""},{"$f":"IF('4. Analyseer opbouw van object'!G92=\"\",\"\",'4. Analyseer opbouw van object'!G92)","v":""},{"$f":"IF('4. Analyseer opbouw van object'!H92=\"\",\"\",'4. Analyseer opbouw van object'!H92)","v":""},{"$f":"IF('4. Analyseer opbouw van object'!J92=\"\",\"\",'4. Analyseer opbouw van object'!J92)","v":""},null,null,null,"",null,{"$f":"IFERROR(INDEX(#REF!,MATCH(N93,#REF!,0)),\"\")","v":""},null,{"$f":"IFERROR(INDEX(#REF!,MATCH(P93,#REF!,0)),\"\")","v":""},null,{"$f":"IFERROR(INDEX(#REF!,MATCH(R93,#REF!,0)),\"\")","v":""},"","",""]
[null,81,{"$f":"IF('4. Analyseer opbouw van object'!B93=\"\",\"\",'4. Analyseer opbouw van object'!B93)","v":""},{"$f":"IF('4. Analyseer opbouw van object'!C93=\"\",\"\",'4. Analyseer opbouw van object'!C93)","v":""},{"$f":"IF('4. Analyseer opbouw van object'!D93=\"\",\"\",'4. Analyseer opbouw van object'!D93)","v":""},{"$f":"IF('4. Analyseer opbouw van object'!E93=\"\",\"\",'4. Analyseer opbouw van object'!E93)","v":""},{"$f":"IF('4. Analyseer opbouw van object'!G93=\"\",\"\",'4. Analyseer opbouw van object'!G93)","v":""},{"$f":"IF('4. Analyseer opbouw van object'!H93=\"\",\"\",'4. Analyseer opbouw van object'!H93)","v":""},{"$f":"IF('4. Analyseer opbouw van object'!J93=\"\",\"\",'4. Analyseer opbouw van object'!J93)","v":""},null,null,null,"",null,{"$f":"IFERROR(INDEX(#REF!,MATCH(N94,#REF!,0)),\"\")","v":""},null,{"$f":"IFERROR(INDEX(#REF!,MATCH(P94,#REF!,0)),\"\")","v":""},null,{"$f":"IFERROR(INDEX(#REF!,MATCH(R94,#REF!,0)),\"\")","v":""},"","",""]
[null,82,{"$f":"IF('4. Analyseer opbouw van object'!B94=\"\",\"\",'4. Analyseer opbouw van object'!B94)","v":""},{"$f":"IF('4. Analyseer opbouw van object'!C94=\"\",\"\",'4. Analyseer opbouw van object'!C94)","v":""},{"$f":"IF('4. Analyseer opbouw van object'!D94=\"\",\"\",'4. Analyseer opbouw van object'!D94)","v":""},{"$f":"IF('4. Analyseer opbouw van object'!E94=\"\",\"\",'4. Analyseer opbouw van object'!E94)","v":""},{"$f":"IF('4. Analyseer opbouw van object'!G94=\"\",\"\",'4. Analyseer opbouw van object'!G94)","v":""},{"$f":"IF('4. Analyseer opbouw van object'!H94=\"\",\"\",'4. Analyseer opbouw van object'!H94)","v":""},{"$f":"IF('4. Analyseer opbouw van object'!J94=\"\",\"\",'4. Analyseer opbouw van object'!J94)","v":""},null,null,null,"",null,{"$f":"IFERROR(INDEX(#REF!,MATCH(N95,#REF!,0)),\"\")","v":""},null,{"$f":"IFERROR(INDEX(#REF!,MATCH(P95,#REF!,0)),\"\")","v":""},null,{"$f":"IFERROR(INDEX(#REF!,MATCH(R95,#REF!,0)),\"\")","v":""},"","",""]
[null,83,{"$f":"IF('4. Analyseer opbouw van object'!B95=\"\",\"\",'4. Analyseer opbouw van object'!B95)","v":""},{"$f":"IF('4. Analyseer opbouw van object'!C95=\"\",\"\",'4. Analyseer opbouw van object'!C95)","v":""},{"$f":"IF('4. Analyseer opbouw van object'!D95=\"\",\"\",'4. Analyseer opbouw van object'!D95)","v":""},{"$f":"IF('4. Analyseer opbouw van object'!E95=\"\",\"\",'4. Analyseer opbouw van object'!E95)","v":""},{"$f":"IF('4. Analyseer opbouw van object'!G95=\"\",\"\",'4. Analyseer opbouw van object'!G95)","v":""},{"$f":"IF('4. Analyseer opbouw van object'!H95=\"\",\"\",'4. Analyseer opbouw van object'!H95)","v":""},{"$f":"IF('4. Analyseer opbouw van object'!J95=\"\",\"\",'4. Analyseer opbouw van object'!J95)","v":""},null,null,null,"",null,{"$f":"IFERROR(INDEX(#REF!,MATCH(N96,#REF!,0)),\"\")","v":""},null,{"$f":"IFERROR(INDEX(#REF!,MATCH(P96,#REF!,0)),\"\")","v":""},null,{"$f":"IFERROR(INDEX(#REF!,MATCH(R96,#REF!,0)),\"\")","v":""},"","",""]
[null,84,{"$f":"IF('4. Analyseer opbouw van object'!B96=\"\",\"\",'4. Analyseer opbouw van object'!B96)","v":""},{"$f":"IF('4. Analyseer opbouw van object'!C96=\"\",\"\",'4. Analyseer opbouw van object'!C96)","v":""},{"$f":"IF('4. Analyseer opbouw van object'!D96=\"\",\"\",'4. Analyseer opbouw van object'!D96)","v":""},{"$f":"IF('4. Analyseer opbouw van object'!E96=\"\",\"\",'4. Analyseer opbouw van object'!E96)","v":""},{"$f":"IF('4. Analyseer opbouw van object'!G96=\"\",\"\",'4. Analyseer opbouw van object'!G96)","v":""},{"$f":"IF('4. Analyseer opbouw van object'!H96=\"\",\"\",'4. Analyseer opbouw van object'!H96)","v":""},{"$f":"IF('4. Analyseer opbouw van object'!J96=\"\",\"\",'4. Analyseer opbouw van object'!J96)","v":""},null,null,null,"",null,{"$f":"IFERROR(INDEX(#REF!,MATCH(N97,#REF!,0)),\"\")","v":""},null,{"$f":"IFERROR(INDEX(#REF!,MATCH(P97,#REF!,0)),\"\")","v":""},null,{"$f":"IFERROR(INDEX(#REF!,MATCH(R97,#REF!,0)),\"\")","v":""},"","",""]
[null,85,{"$f":"IF('4. Analyseer opbouw van object'!B97=\"\",\"\",'4. Analyseer opbouw van object'!B97)","v":""},{"$f":"IF('4. Analyseer opbouw van object'!C97=\"\",\"\",'4. Analyseer opbouw van object'!C97)","v":""},{"$f":"IF('4. Analyseer opbouw van object'!D97=\"\",\"\",'4. Analyseer opbouw van object'!D97)","v":""},{"$f":"IF('4. Analyseer opbouw van object'!E97=\"\",\"\",'4. Analyseer opbouw van object'!E97)","v":""},{"$f":"IF('4. Analyseer opbouw van object'!G97=\"\",\"\",'4. Analyseer opbouw van object'!G97)","v":""},{"$f":"IF('4. Analyseer opbouw van object'!H97=\"\",\"\",'4. Analyseer opbouw van object'!H97)","v":""},{"$f":"IF('4. Analyseer opbouw van object'!J97=\"\",\"\",'4. Analyseer opbouw van object'!J97)","v":""},null,null,null,"",null,{"$f":"IFERROR(INDEX(#REF!,MATCH(N98,#REF!,0)),\"\")","v":""},null,{"$f":"IFERROR(INDEX(#REF!,MATCH(P98,#REF!,0)),\"\")","v":""},null,{"$f":"IFERROR(INDEX(#REF!,MATCH(R98,#REF!,0)),\"\")","v":""},"","",""]
[null,86,{"$f":"IF('4. Analyseer opbouw van object'!B98=\"\",\"\",'4. Analyseer opbouw van object'!B98)","v":""},{"$f":"IF('4. Analyseer opbouw van object'!C98=\"\",\"\",'4. Analyseer opbouw van object'!C98)","v":""},{"$f":"IF('4. Analyseer opbouw van object'!D98=\"\",\"\",'4. Analyseer opbouw van object'!D98)","v":""},{"$f":"IF('4. Analyseer opbouw van object'!E98=\"\",\"\",'4. Analyseer opbouw van object'!E98)","v":""},{"$f":"IF('4. Analyseer opbouw van object'!G98=\"\",\"\",'4. Analyseer opbouw van object'!G98)","v":""},{"$f":"IF('4. Analyseer opbouw van object'!H98=\"\",\"\",'4. Analyseer opbouw van object'!H98)","v":""},{"$f":"IF('4. Analyseer opbouw van object'!J98=\"\",\"\",'4. Analyseer opbouw van object'!J98)","v":""},null,null,null,"",null,{"$f":"IFERROR(INDEX(#REF!,MATCH(N99,#REF!,0)),\"\")","v":""},null,{"$f":"IFERROR(INDEX(#REF!,MATCH(P99,#REF!,0)),\"\")","v":""},null,{"$f":"IFERROR(INDEX(#REF!,MATCH(R99,#REF!,0)),\"\")","v":""},"","",""]
[null,87,{"$f":"IF('4. Analyseer opbouw van object'!B99=\"\",\"\",'4. Analyseer opbouw van object'!B99)","v":""},{"$f":"IF('4. Analyseer opbouw van object'!C99=\"\",\"\",'4. Analyseer opbouw van object'!C99)","v":""},{"$f":"IF('4. Analyseer opbouw van object'!D99=\"\",\"\",'4. Analyseer opbouw van object'!D99)","v":""},{"$f":"IF('4. Analyseer opbouw van object'!E99=\"\",\"\",'4. Analyseer opbouw van object'!E99)","v":""},{"$f":"IF('4. Analyseer opbouw van object'!G99=\"\",\"\",'4. Analyseer opbouw van object'!G99)","v":""},{"$f":"IF('4. Analyseer opbouw van object'!H99=\"\",\"\",'4. Analyseer opbouw van object'!H99)","v":""},{"$f":"IF('4. Analyseer opbouw van object'!J99=\"\",\"\",'4. Analyseer opbouw van object'!J99)","v":""},null,null,null,"",null,{"$f":"IFERROR(INDEX(#REF!,MATCH(N100,#REF!,0)),\"\")","v":""},null,{"$f":"IFERROR(INDEX(#REF!,MATCH(P100,#REF!,0)),\"\")","v":""},null,{"$f":"IFERROR(INDEX(#REF!,MATCH(R100,#REF!,0)),\"\")","v":""},"","",""]
[null,88,{"$f":"IF('4. Analyseer opbouw van object'!B100=\"\",\"\",'4. Analyseer opbouw van object'!B100)","v":""},{"$f":"IF('4. Analyseer opbouw van object'!C100=\"\",\"\",'4. Analyseer opbouw van object'!C100)","v":""},{"$f":"IF('4. Analyseer opbouw van object'!D100=\"\",\"\",'4. Analyseer opbouw van object'!D100)","v":""},{"$f":"IF('4. Analyseer opbouw van object'!E100=\"\",\"\",'4. Analyseer opbouw van object'!E100)","v":""},{"$f":"IF('4. Analyseer opbouw van object'!G100=\"\",\"\",'4. Analyseer opbouw van object'!G100)","v":""},{"$f":"IF('4. Analyseer opbouw van object'!H100=\"\",\"\",'4. Analyseer opbouw van object'!H100)","v":""},{"$f":"IF('4. Analyseer opbouw van object'!J100=\"\",\"\",'4. Analyseer opbouw van object'!J100)","v":""},null,null,null,"",null,{"$f":"IFERROR(INDEX(#REF!,MATCH(N101,#REF!,0)),\"\")","v":""},null,{"$f":"IFERROR(INDEX(#REF!,MATCH(P101,#REF!,0)),\"\")","v":""},null,{"$f":"IFERROR(INDEX(#REF!,MATCH(R101,#REF!,0)),\"\")","v":""},"","",""]
[null,89,{"$f":"IF('4. Analyseer opbouw van object'!B101=\"\",\"\",'4. Analyseer opbouw van object'!B101)","v":""},{"$f":"IF('4. Analyseer opbouw van object'!C101=\"\",\"\",'4. Analyseer opbouw van object'!C101)","v":""},{"$f":"IF('4. Analyseer opbouw van object'!D101=\"\",\"\",'4. Analyseer opbouw van object'!D101)","v":""},{"$f":"IF('4. Analyseer opbouw van object'!E101=\"\",\"\",'4. Analyseer opbouw van object'!E101)","v":""},{"$f":"IF('4. Analyseer opbouw van object'!G101=\"\",\"\",'4. Analyseer opbouw van object'!G101)","v":""},{"$f":"IF('4. Analyseer opbouw van object'!H101=\"\",\"\",'4. Analyseer opbouw van object'!H101)","v":""},{"$f":"IF('4. Analyseer opbouw van object'!J101=\"\",\"\",'4. Analyseer opbouw van object'!J101)","v":""},null,null,null,"",null,{"$f":"IFERROR(INDEX(#REF!,MATCH(N102,#REF!,0)),\"\")","v":""},null,{"$f":"IFERROR(INDEX(#REF!,MATCH(P102,#REF!,0)),\"\")","v":""},null,{"$f":"IFERROR(INDEX(#REF!,MATCH(R102,#REF!,0)),\"\")","v":""},"","",""]
[null,90,{"$f":"IF('4. Analyseer opbouw van object'!B102=\"\",\"\",'4. Analyseer opbouw van object'!B102)","v":""},{"$f":"IF('4. Analyseer opbouw van object'!C102=\"\",\"\",'4. Analyseer opbouw van object'!C102)","v":""},{"$f":"IF('4. Analyseer opbouw van object'!D102=\"\",\"\",'4. Analyseer opbouw van object'!D102)","v":""},{"$f":"IF('4. Analyseer opbouw van object'!E102=\"\",\"\",'4. Analyseer opbouw van object'!E102)","v":""},{"$f":"IF('4. Analyseer opbouw van object'!G102=\"\",\"\",'4. Analyseer opbouw van object'!G102)","v":""},{"$f":"IF('4. Analyseer opbouw van object'!H102=\"\",\"\",'4. Analyseer opbouw van object'!H102)","v":""},{"$f":"IF('4. Analyseer opbouw van object'!J102=\"\",\"\",'4. Analyseer opbouw van object'!J102)","v":""},null,null,null,"",null,{"$f":"IFERROR(INDEX(#REF!,MATCH(N103,#REF!,0)),\"\")","v":""},null,{"$f":"IFERROR(INDEX(#REF!,MATCH(P103,#REF!,0)),\"\")","v":""},null,{"$f":"IFERROR(INDEX(#REF!,MATCH(R103,#REF!,0)),\"\")","v":""},"","",""]
[null,91,{"$f":"IF('4. Analyseer opbouw van object'!B103=\"\",\"\",'4. Analyseer opbouw van object'!B103)","v":""},{"$f":"IF('4. Analyseer opbouw van object'!C103=\"\",\"\",'4. Analyseer opbouw van object'!C103)","v":""},{"$f":"IF('4. Analyseer opbouw van object'!D103=\"\",\"\",'4. Analyseer opbouw van object'!D103)","v":""},{"$f":"IF('4. Analyseer opbouw van object'!E103=\"\",\"\",'4. Analyseer opbouw van object'!E103)","v":""},{"$f":"IF('4. Analyseer opbouw van object'!G103=\"\",\"\",'4. Analyseer opbouw van object'!G103)","v":""},{"$f":"IF('4. Analyseer opbouw van object'!H103=\"\",\"\",'4. Analyseer opbouw van object'!H103)","v":""},{"$f":"IF('4. Analyseer opbouw van object'!J103=\"\",\"\",'4. Analyseer opbouw van object'!J103)","v":""},null,null,null,"",null,{"$f":"IFERROR(INDEX(#REF!,MATCH(N104,#REF!,0)),\"\")","v":""},null,{"$f":"IFERROR(INDEX(#REF!,MATCH(P104,#REF!,0)),\"\")","v":""},null,{"$f":"IFERROR(INDEX(#REF!,MATCH(R104,#REF!,0)),\"\")","v":""},"","",""]
[null,92,{"$f":"IF('4. Analyseer opbouw van object'!B104=\"\",\"\",'4. Analyseer opbouw van object'!B104)","v":""},{"$f":"IF('4. Analyseer opbouw van object'!C104=\"\",\"\",'4. Analyseer opbouw van object'!C104)","v":""},{"$f":"IF('4. Analyseer opbouw van object'!D104=\"\",\"\",'4. Analyseer opbouw van object'!D104)","v":""},{"$f":"IF('4. Analyseer opbouw van object'!E104=\"\",\"\",'4. Analyseer opbouw van object'!E104)","v":""},{"$f":"IF('4. Analyseer opbouw van object'!G104=\"\",\"\",'4. Analyseer opbouw van object'!G104)","v":""},{"$f":"IF('4. Analyseer opbouw van object'!H104=\"\",\"\",'4. Analyseer opbouw van object'!H104)","v":""},{"$f":"IF('4. Analyseer opbouw van object'!J104=\"\",\"\",'4. Analyseer opbouw van object'!J104)","v":""},null,null,null,"",null,{"$f":"IFERROR(INDEX(#REF!,MATCH(N105,#REF!,0)),\"\")","v":""},null,{"$f":"IFERROR(INDEX(#REF!,MATCH(P105,#REF!,0)),\"\")","v":""},null,{"$f":"IFERROR(INDEX(#REF!,MATCH(R105,#REF!,0)),\"\")","v":""},"","",""]
[null,93,{"$f":"IF('4. Analyseer opbouw van object'!B105=\"\",\"\",'4. Analyseer opbouw van object'!B105)","v":""},{"$f":"IF('4. Analyseer opbouw van object'!C105=\"\",\"\",'4. Analyseer opbouw van object'!C105)","v":""},{"$f":"IF('4. Analyseer opbouw van object'!D105=\"\",\"\",'4. Analyseer opbouw van object'!D105)","v":""},{"$f":"IF('4. Analyseer opbouw van object'!E105=\"\",\"\",'4. Analyseer opbouw van object'!E105)","v":""},{"$f":"IF('4. Analyseer opbouw van object'!G105=\"\",\"\",'4. Analyseer opbouw van object'!G105)","v":""},{"$f":"IF('4. Analyseer opbouw van object'!H105=\"\",\"\",'4. Analyseer opbouw van object'!H105)","v":""},{"$f":"IF('4. Analyseer opbouw van object'!J105=\"\",\"\",'4. Analyseer opbouw van object'!J105)","v":""},null,null,null,"",null,{"$f":"IFERROR(INDEX(#REF!,MATCH(N106,#REF!,0)),\"\")","v":""},null,{"$f":"IFERROR(INDEX(#REF!,MATCH(P106,#REF!,0)),\"\")","v":""},null,{"$f":"IFERROR(INDEX(#REF!,MATCH(R106,#REF!,0)),\"\")","v":""},"","",""]
[null,94,{"$f":"IF('4. Analyseer opbouw van object'!B106=\"\",\"\",'4. Analyseer opbouw van object'!B106)","v":""},{"$f":"IF('4. Analyseer opbouw van object'!C106=\"\",\"\",'4. Analyseer opbouw van object'!C106)","v":""},{"$f":"IF('4. Analyseer opbouw van object'!D106=\"\",\"\",'4. Analyseer opbouw van object'!D106)","v":""},{"$f":"IF('4. Analyseer opbouw van object'!E106=\"\",\"\",'4. Analyseer opbouw van object'!E106)","v":""},{"$f":"IF('4. Analyseer opbouw van object'!G106=\"\",\"\",'4. Analyseer opbouw van object'!G106)","v":""},{"$f":"IF('4. Analyseer opbouw van object'!H106=\"\",\"\",'4. Analyseer opbouw van object'!H106)","v":""},{"$f":"IF('4. Analyseer opbouw van object'!J106=\"\",\"\",'4. Analyseer opbouw van object'!J106)","v":""},null,null,null,"",null,{"$f":"IFERROR(INDEX(#REF!,MATCH(N107,#REF!,0)),\"\")","v":""},null,{"$f":"IFERROR(INDEX(#REF!,MATCH(P107,#REF!,0)),\"\")","v":""},null,{"$f":"IFERROR(INDEX(#REF!,MATCH(R107,#REF!,0)),\"\")","v":""},"","",""]
[null,95,{"$f":"IF('4. Analyseer opbouw van object'!B107=\"\",\"\",'4. Analyseer opbouw van object'!B107)","v":""},{"$f":"IF('4. Analyseer opbouw van object'!C107=\"\",\"\",'4. Analyseer opbouw van object'!C107)","v":""},{"$f":"IF('4. Analyseer opbouw van object'!D107=\"\",\"\",'4. Analyseer opbouw van object'!D107)","v":""},{"$f":"IF('4. Analyseer opbouw van object'!E107=\"\",\"\",'4. Analyseer opbouw van object'!E107)","v":""},{"$f":"IF('4. Analyseer opbouw van object'!G107=\"\",\"\",'4. Analyseer opbouw van object'!G107)","v":""},{"$f":"IF('4. Analyseer opbouw van object'!H107=\"\",\"\",'4. Analyseer opbouw van object'!H107)","v":""},{"$f":"IF('4. Analyseer opbouw van object'!J107=\"\",\"\",'4. Analyseer opbouw van object'!J107)","v":""},null,null,null,"",null,{"$f":"IFERROR(INDEX(#REF!,MATCH(N108,#REF!,0)),\"\")","v":""},null,{"$f":"IFERROR(INDEX(#REF!,MATCH(P108,#REF!,0)),\"\")","v":""},null,{"$f":"IFERROR(INDEX(#REF!,MATCH(R108,#REF!,0)),\"\")","v":""},"","",""]
[null,96,{"$f":"IF('4. Analyseer opbouw van object'!B108=\"\",\"\",'4. Analyseer opbouw van object'!B108)","v":""},{"$f":"IF('4. Analyseer opbouw van object'!C108=\"\",\"\",'4. Analyseer opbouw van object'!C108)","v":""},{"$f":"IF('4. Analyseer opbouw van object'!D108=\"\",\"\",'4. Analyseer opbouw van object'!D108)","v":""},{"$f":"IF('4. Analyseer opbouw van object'!E108=\"\",\"\",'4. Analyseer opbouw van object'!E108)","v":""},{"$f":"IF('4. Analyseer opbouw van object'!G108=\"\",\"\",'4. Analyseer opbouw van object'!G108)","v":""},{"$f":"IF('4. Analyseer opbouw van object'!H108=\"\",\"\",'4. Analyseer opbouw van object'!H108)","v":""},{"$f":"IF('4. Analyseer opbouw van object'!J108=\"\",\"\",'4. Analyseer opbouw van object'!J108)","v":""},null,null,null,"",null,{"$f":"IFERROR(INDEX(#REF!,MATCH(N109,#REF!,0)),\"\")","v":""},null,{"$f":"IFERROR(INDEX(#REF!,MATCH(P109,#REF!,0)),\"\")","v":""},null,{"$f":"IFERROR(INDEX(#REF!,MATCH(R109,#REF!,0)),\"\")","v":""},"","",""]
[null,97,{"$f":"IF('4. Analyseer opbouw van object'!B109=\"\",\"\",'4. Analyseer opbouw van object'!B109)","v":""},{"$f":"IF('4. Analyseer opbouw van object'!C109=\"\",\"\",'4. Analyseer opbouw van object'!C109)","v":""},{"$f":"IF('4. Analyseer opbouw van object'!D109=\"\",\"\",'4. Analyseer opbouw van object'!D109)","v":""},{"$f":"IF('4. Analyseer opbouw van object'!E109=\"\",\"\",'4. Analyseer opbouw van object'!E109)","v":""},{"$f":"IF('4. Analyseer opbouw van object'!G109=\"\",\"\",'4. Analyseer opbouw van object'!G109)","v":""},{"$f":"IF('4. Analyseer opbouw van object'!H109=\"\",\"\",'4. Analyseer opbouw van object'!H109)","v":""},{"$f":"IF('4. Analyseer opbouw van object'!J109=\"\",\"\",'4. Analyseer opbouw van object'!J109)","v":""},null,null,null,"",null,{"$f":"IFERROR(INDEX(#REF!,MATCH(N110,#REF!,0)),\"\")","v":""},null,{"$f":"IFERROR(INDEX(#REF!,MATCH(P110,#REF!,0)),\"\")","v":""},null,{"$f":"IFERROR(INDEX(#REF!,MATCH(R110,#REF!,0)),\"\")","v":""},"","",""]
[null,98,{"$f":"IF('4. Analyseer opbouw van object'!B110=\"\",\"\",'4. Analyseer opbouw van object'!B110)","v":""},{"$f":"IF('4. Analyseer opbouw van object'!C110=\"\",\"\",'4. Analyseer opbouw van object'!C110)","v":""},{"$f":"IF('4. Analyseer opbouw van object'!D110=\"\",\"\",'4. Analyseer opbouw van object'!D110)","v":""},{"$f":"IF('4. Analyseer opbouw van object'!E110=\"\",\"\",'4. Analyseer opbouw van object'!E110)","v":""},{"$f":"IF('4. Analyseer opbouw van object'!G110=\"\",\"\",'4. Analyseer opbouw van object'!G110)","v":""},{"$f":"IF('4. Analyseer opbouw van object'!H110=\"\",\"\",'4. Analyseer opbouw van object'!H110)","v":""},{"$f":"IF('4. Analyseer opbouw van object'!J110=\"\",\"\",'4. Analyseer opbouw van object'!J110)","v":""},null,null,null,"",null,{"$f":"IFERROR(INDEX(#REF!,MATCH(N111,#REF!,0)),\"\")","v":""},null,{"$f":"IFERROR(INDEX(#REF!,MATCH(P111,#REF!,0)),\"\")","v":""},null,{"$f":"IFERROR(INDEX(#REF!,MATCH(R111,#REF!,0)),\"\")","v":""},"","",""]
[null,99,{"$f":"IF('4. Analyseer opbouw van object'!B111=\"\",\"\",'4. Analyseer opbouw van object'!B111)","v":""},{"$f":"IF('4. Analyseer opbouw van object'!C111=\"\",\"\",'4. Analyseer opbouw van object'!C111)","v":""},{"$f":"IF('4. Analyseer opbouw van object'!D111=\"\",\"\",'4. Analyseer opbouw van object'!D111)","v":""},{"$f":"IF('4. Analyseer opbouw van object'!E111=\"\",\"\",'4. Analyseer opbouw van object'!E111)","v":""},{"$f":"IF('4. Analyseer opbouw van object'!G111=\"\",\"\",'4. Analyseer opbouw van object'!G111)","v":""},{"$f":"IF('4. Analyseer opbouw van object'!H111=\"\",\"\",'4. Analyseer opbouw van object'!H111)","v":""},{"$f":"IF('4. Analyseer opbouw van object'!J111=\"\",\"\",'4. Analyseer opbouw van object'!J111)","v":""},null,null,null,"",null,{"$f":"IFERROR(INDEX(#REF!,MATCH(N112,#REF!,0)),\"\")","v":""},null,{"$f":"IFERROR(INDEX(#REF!,MATCH(P112,#REF!,0)),\"\")","v":""},null,{"$f":"IFERROR(INDEX(#REF!,MATCH(R112,#REF!,0)),\"\")","v":""},"","",""]
[null,100,{"$f":"IF('4. Analyseer opbouw van object'!B112=\"\",\"\",'4. Analyseer opbouw van object'!B112)","v":""},{"$f":"IF('4. Analyseer opbouw van object'!C112=\"\",\"\",'4. Analyseer opbouw van object'!C112)","v":""},{"$f":"IF('4. Analyseer opbouw van object'!D112=\"\",\"\",'4. Analyseer opbouw van object'!D112)","v":""},{"$f":"IF('4. Analyseer opbouw van object'!E112=\"\",\"\",'4. Analyseer opbouw van object'!E112)","v":""},{"$f":"IF('4. Analyseer opbouw van object'!G112=\"\",\"\",'4. Analyseer opbouw van object'!G112)","v":""},{"$f":"IF('4. Analyseer opbouw van object'!H112=\"\",\"\",'4. Analyseer opbouw van object'!H112)","v":""},{"$f":"IF('4. Analyseer opbouw van object'!J112=\"\",\"\",'4. Analyseer opbouw van object'!J112)","v":""},null,null,null,"",null,{"$f":"IFERROR(INDEX(#REF!,MATCH(N113,#REF!,0)),\"\")","v":""},null,{"$f":"IFERROR(INDEX(#REF!,MATCH(P113,#REF!,0)),\"\")","v":""},null,{"$f":"IFERROR(INDEX(#REF!,MATCH(R113,#REF!,0)),\"\")","v":""},"","",""]
[null,101,{"$f":"IF('4. Analyseer opbouw van object'!B113=\"\",\"\",'4. Analyseer opbouw van object'!B113)","v":""},{"$f":"IF('4. Analyseer opbouw van object'!C113=\"\",\"\",'4. Analyseer opbouw van object'!C113)","v":""},{"$f":"IF('4. Analyseer opbouw van object'!D113=\"\",\"\",'4. Analyseer opbouw van object'!D113)","v":""},{"$f":"IF('4. Analyseer opbouw van object'!E113=\"\",\"\",'4. Analyseer opbouw van object'!E113)","v":""},{"$f":"IF('4. Analyseer opbouw van object'!G113=\"\",\"\",'4. Analyseer opbouw van object'!G113)","v":""},{"$f":"IF('4. Analyseer opbouw van object'!H113=\"\",\"\",'4. Analyseer opbouw van object'!H113)","v":""},{"$f":"IF('4. Analyseer opbouw van object'!J113=\"\",\"\",'4. Analyseer opbouw van object'!J113)","v":""},null,null,null,"",null,{"$f":"IFERROR(INDEX(#REF!,MATCH(N114,#REF!,0)),\"\")","v":""},null,{"$f":"IFERROR(INDEX(#REF!,MATCH(P114,#REF!,0)),\"\")","v":""},null,{"$f":"IFERROR(INDEX(#REF!,MATCH(R114,#REF!,0)),\"\")","v":""},"","",""]
[null,102,{"$f":"IF('4. Analyseer opbouw van object'!B114=\"\",\"\",'4. Analyseer opbouw van object'!B114)","v":""},{"$f":"IF('4. Analyseer opbouw van object'!C114=\"\",\"\",'4. Analyseer opbouw van object'!C114)","v":""},{"$f":"IF('4. Analyseer opbouw van object'!D114=\"\",\"\",'4. Analyseer opbouw van object'!D114)","v":""},{"$f":"IF('4. Analyseer opbouw van object'!E114=\"\",\"\",'4. Analyseer opbouw van object'!E114)","v":""},{"$f":"IF('4. Analyseer opbouw van object'!G114=\"\",\"\",'4. Analyseer opbouw van object'!G114)","v":""},{"$f":"IF('4. Analyseer opbouw van object'!H114=\"\",\"\",'4. Analyseer opbouw van object'!H114)","v":""},{"$f":"IF('4. Analyseer opbouw van object'!J114=\"\",\"\",'4. Analyseer opbouw van object'!J114)","v":""},null,null,null,"",null,{"$f":"IFERROR(INDEX(#REF!,MATCH(N115,#REF!,0)),\"\")","v":""},null,{"$f":"IFERROR(INDEX(#REF!,MATCH(P115,#REF!,0)),\"\")","v":""},null,{"$f":"IFERROR(INDEX(#REF!,MATCH(R115,#REF!,0)),\"\")","v":""},"","",""]
[null,103,{"$f":"IF('4. Analyseer opbouw van object'!B115=\"\",\"\",'4. Analyseer opbouw van object'!B115)","v":""},{"$f":"IF('4. Analyseer opbouw van object'!C115=\"\",\"\",'4. Analyseer opbouw van object'!C115)","v":""},{"$f":"IF('4. Analyseer opbouw van object'!D115=\"\",\"\",'4. Analyseer opbouw van object'!D115)","v":""},{"$f":"IF('4. Analyseer opbouw van object'!E115=\"\",\"\",'4. Analyseer opbouw van object'!E115)","v":""},{"$f":"IF('4. Analyseer opbouw van object'!G115=\"\",\"\",'4. Analyseer opbouw van object'!G115)","v":""},{"$f":"IF('4. Analyseer opbouw van object'!H115=\"\",\"\",'4. Analyseer opbouw van object'!H115)","v":""},{"$f":"IF('4. Analyseer opbouw van object'!J115=\"\",\"\",'4. Analyseer opbouw van object'!J115)","v":""},null,null,null,"",null,{"$f":"IFERROR(INDEX(#REF!,MATCH(N116,#REF!,0)),\"\")","v":""},null,{"$f":"IFERROR(INDEX(#REF!,MATCH(P116,#REF!,0)),\"\")","v":""},null,{"$f":"IFERROR(INDEX(#REF!,MATCH(R116,#REF!,0)),\"\")","v":""},"","",""]
[null,104,{"$f":"IF('4. Analyseer opbouw van object'!B116=\"\",\"\",'4. Analyseer opbouw van object'!B116)","v":""},{"$f":"IF('4. Analyseer opbouw van object'!C116=\"\",\"\",'4. Analyseer opbouw van object'!C116)","v":""},{"$f":"IF('4. Analyseer opbouw van object'!D116=\"\",\"\",'4. Analyseer opbouw van object'!D116)","v":""},{"$f":"IF('4. Analyseer opbouw van object'!E116=\"\",\"\",'4. Analyseer opbouw van object'!E116)","v":""},{"$f":"IF('4. Analyseer opbouw van object'!G116=\"\",\"\",'4. Analyseer opbouw van object'!G116)","v":""},{"$f":"IF('4. Analyseer opbouw van object'!H116=\"\",\"\",'4. Analyseer opbouw van object'!H116)","v":""},{"$f":"IF('4. Analyseer opbouw van object'!J116=\"\",\"\",'4. Analyseer opbouw van object'!J116)","v":""},null,null,null,"",null,{"$f":"IFERROR(INDEX(#REF!,MATCH(N117,#REF!,0)),\"\")","v":""},null,{"$f":"IFERROR(INDEX(#REF!,MATCH(P117,#REF!,0)),\"\")","v":""},null,{"$f":"IFERROR(INDEX(#REF!,MATCH(R117,#REF!,0)),\"\")","v":""},"","",""]
[null,105,{"$f":"IF('4. Analyseer opbouw van object'!B117=\"\",\"\",'4. Analyseer opbouw van object'!B117)","v":""},{"$f":"IF('4. Analyseer opbouw van object'!C117=\"\",\"\",'4. Analyseer opbouw van object'!C117)","v":""},{"$f":"IF('4. Analyseer opbouw van object'!D117=\"\",\"\",'4. Analyseer opbouw van object'!D117)","v":""},{"$f":"IF('4. Analyseer opbouw van object'!E117=\"\",\"\",'4. Analyseer opbouw van object'!E117)","v":""},{"$f":"IF('4. Analyseer opbouw van object'!G117=\"\",\"\",'4. Analyseer opbouw van object'!G117)","v":""},{"$f":"IF('4. Analyseer opbouw van object'!H117=\"\",\"\",'4. Analyseer opbouw van object'!H117)","v":""},{"$f":"IF('4. Analyseer opbouw van object'!J117=\"\",\"\",'4. Analyseer opbouw van object'!J117)","v":""},null,null,null,"",null,{"$f":"IFERROR(INDEX(#REF!,MATCH(N118,#REF!,0)),\"\")","v":""},null,{"$f":"IFERROR(INDEX(#REF!,MATCH(P118,#REF!,0)),\"\")","v":""},null,{"$f":"IFERROR(INDEX(#REF!,MATCH(R118,#REF!,0)),\"\")","v":""},"","",""]
[null,106,{"$f":"IF('4. Analyseer opbouw van object'!B118=\"\",\"\",'4. Analyseer opbouw van object'!B118)","v":""},{"$f":"IF('4. Analyseer opbouw van object'!C118=\"\",\"\",'4. Analyseer opbouw van object'!C118)","v":""},{"$f":"IF('4. Analyseer opbouw van object'!D118=\"\",\"\",'4. Analyseer opbouw van object'!D118)","v":""},{"$f":"IF('4. Analyseer opbouw van object'!E118=\"\",\"\",'4. Analyseer opbouw van object'!E118)","v":""},{"$f":"IF('4. Analyseer opbouw van object'!G118=\"\",\"\",'4. Analyseer opbouw van object'!G118)","v":""},{"$f":"IF('4. Analyseer opbouw van object'!H118=\"\",\"\",'4. Analyseer opbouw van object'!H118)","v":""},{"$f":"IF('4. Analyseer opbouw van object'!J118=\"\",\"\",'4. Analyseer opbouw van object'!J118)","v":""},null,null,null,"",null,{"$f":"IFERROR(INDEX(#REF!,MATCH(N119,#REF!,0)),\"\")","v":""},null,{"$f":"IFERROR(INDEX(#REF!,MATCH(P119,#REF!,0)),\"\")","v":""},null,{"$f":"IFERROR(INDEX(#REF!,MATCH(R119,#REF!,0)),\"\")","v":""},"","",""]
[null,107,{"$f":"IF('4. Analyseer opbouw van object'!B119=\"\",\"\",'4. Analyseer opbouw van object'!B119)","v":""},{"$f":"IF('4. Analyseer opbouw van object'!C119=\"\",\"\",'4. Analyseer opbouw van object'!C119)","v":""},{"$f":"IF('4. Analyseer opbouw van object'!D119=\"\",\"\",'4. Analyseer opbouw van object'!D119)","v":""},{"$f":"IF('4. Analyseer opbouw van object'!E119=\"\",\"\",'4. Analyseer opbouw van object'!E119)","v":""},{"$f":"IF('4. Analyseer opbouw van object'!G119=\"\",\"\",'4. Analyseer opbouw van object'!G119)","v":""},{"$f":"IF('4. Analyseer opbouw van object'!H119=\"\",\"\",'4. Analyseer opbouw van object'!H119)","v":""},{"$f":"IF('4. Analyseer opbouw van object'!J119=\"\",\"\",'4. Analyseer opbouw van object'!J119)","v":""},null,null,null,"",null,{"$f":"IFERROR(INDEX(#REF!,MATCH(N120,#REF!,0)),\"\")","v":""},null,{"$f":"IFERROR(INDEX(#REF!,MATCH(P120,#REF!,0)),\"\")","v":""},null,{"$f":"IFERROR(INDEX(#REF!,MATCH(R120,#REF!,0)),\"\")","v":""},"","",""]
[null,108,{"$f":"IF('4. Analyseer opbouw van object'!B120=\"\",\"\",'4. Analyseer opbouw van object'!B120)","v":""},{"$f":"IF('4. Analyseer opbouw van object'!C120=\"\",\"\",'4. Analyseer opbouw van object'!C120)","v":""},{"$f":"IF('4. Analyseer opbouw van object'!D120=\"\",\"\",'4. Analyseer opbouw van object'!D120)","v":""},{"$f":"IF('4. Analyseer opbouw van object'!E120=\"\",\"\",'4. Analyseer opbouw van object'!E120)","v":""},{"$f":"IF('4. Analyseer opbouw van object'!G120=\"\",\"\",'4. Analyseer opbouw van object'!G120)","v":""},{"$f":"IF('4. Analyseer opbouw van object'!H120=\"\",\"\",'4. Analyseer opbouw van object'!H120)","v":""},{"$f":"IF('4. Analyseer opbouw van object'!J120=\"\",\"\",'4. Analyseer opbouw van object'!J120)","v":""},null,null,null,"",null,{"$f":"IFERROR(INDEX(#REF!,MATCH(N121,#REF!,0)),\"\")","v":""},null,{"$f":"IFERROR(INDEX(#REF!,MATCH(P121,#REF!,0)),\"\")","v":""},null,{"$f":"IFERROR(INDEX(#REF!,MATCH(R121,#REF!,0)),\"\")","v":""},"","",""]
[null,109,{"$f":"IF('4. Analyseer opbouw van object'!B121=\"\",\"\",'4. Analyseer opbouw van object'!B121)","v":""},{"$f":"IF('4. Analyseer opbouw van object'!C121=\"\",\"\",'4. Analyseer opbouw van object'!C121)","v":""},{"$f":"IF('4. Analyseer opbouw van object'!D121=\"\",\"\",'4. Analyseer opbouw van object'!D121)","v":""},{"$f":"IF('4. Analyseer opbouw van object'!E121=\"\",\"\",'4. Analyseer opbouw van object'!E121)","v":""},{"$f":"IF('4. Analyseer opbouw van object'!G121=\"\",\"\",'4. Analyseer opbouw van object'!G121)","v":""},{"$f":"IF('4. Analyseer opbouw van object'!H121=\"\",\"\",'4. Analyseer opbouw van object'!H121)","v":""},{"$f":"IF('4. Analyseer opbouw van object'!J121=\"\",\"\",'4. Analyseer opbouw van object'!J121)","v":""},null,null,null,"",null,{"$f":"IFERROR(INDEX(#REF!,MATCH(N122,#REF!,0)),\"\")","v":""},null,{"$f":"IFERROR(INDEX(#REF!,MATCH(P122,#REF!,0)),\"\")","v":""},null,{"$f":"IFERROR(INDEX(#REF!,MATCH(R122,#REF!,0)),\"\")","v":""},"","",""]
[null,110,{"$f":"IF('4. Analyseer opbouw van object'!B122=\"\",\"\",'4. Analyseer opbouw van object'!B122)","v":""},{"$f":"IF('4. Analyseer opbouw van object'!C122=\"\",\"\",'4. Analyseer opbouw van object'!C122)","v":""},{"$f":"IF('4. Analyseer opbouw van object'!D122=\"\",\"\",'4. Analyseer opbouw van object'!D122)","v":""},{"$f":"IF('4. Analyseer opbouw van object'!E122=\"\",\"\",'4. Analyseer opbouw van object'!E122)","v":""},{"$f":"IF('4. Analyseer opbouw van object'!G122=\"\",\"\",'4. Analyseer opbouw van object'!G122)","v":""},{"$f":"IF('4. Analyseer opbouw van object'!H122=\"\",\"\",'4. Analyseer opbouw van object'!H122)","v":""},{"$f":"IF('4. Analyseer opbouw van object'!J122=\"\",\"\",'4. Analyseer opbouw van object'!J122)","v":""},null,null,null,"",null,{"$f":"IFERROR(INDEX(#REF!,MATCH(N123,#REF!,0)),\"\")","v":""},null,{"$f":"IFERROR(INDEX(#REF!,MATCH(P123,#REF!,0)),\"\")","v":""},null,{"$f":"IFERROR(INDEX(#REF!,MATCH(R123,#REF!,0)),\"\")","v":""},"","",""]
[null,111,{"$f":"IF('4. Analyseer opbouw van object'!B123=\"\",\"\",'4. Analyseer opbouw van object'!B123)","v":""},{"$f":"IF('4. Analyseer opbouw van object'!C123=\"\",\"\",'4. Analyseer opbouw van object'!C123)","v":""},{"$f":"IF('4. Analyseer opbouw van object'!D123=\"\",\"\",'4. Analyseer opbouw van object'!D123)","v":""},{"$f":"IF('4. Analyseer opbouw van object'!E123=\"\",\"\",'4. Analyseer opbouw van object'!E123)","v":""},{"$f":"IF('4. Analyseer opbouw van object'!G123=\"\",\"\",'4. Analyseer opbouw van object'!G123)","v":""},{"$f":"IF('4. Analyseer opbouw van object'!H123=\"\",\"\",'4. Analyseer opbouw van object'!H123)","v":""},{"$f":"IF('4. Analyseer opbouw van object'!J123=\"\",\"\",'4. Analyseer opbouw van object'!J123)","v":""},null,null,null,"",null,{"$f":"IFERROR(INDEX(#REF!,MATCH(N124,#REF!,0)),\"\")","v":""},null,{"$f":"IFERROR(INDEX(#REF!,MATCH(P124,#REF!,0)),\"\")","v":""},null,{"$f":"IFERROR(INDEX(#REF!,MATCH(R124,#REF!,0)),\"\")","v":""},"","",""]
[null,112,{"$f":"IF('4. Analyseer opbouw van object'!B124=\"\",\"\",'4. Analyseer opbouw van object'!B124)","v":""},{"$f":"IF('4. Analyseer opbouw van object'!C124=\"\",\"\",'4. Analyseer opbouw van object'!C124)","v":""},{"$f":"IF('4. Analyseer opbouw van object'!D124=\"\",\"\",'4. Analyseer opbouw van object'!D124)","v":""},{"$f":"IF('4. Analyseer opbouw van object'!E124=\"\",\"\",'4. Analyseer opbouw van object'!E124)","v":""},{"$f":"IF('4. Analyseer opbouw van object'!G124=\"\",\"\",'4. Analyseer opbouw van object'!G124)","v":""},{"$f":"IF('4. Analyseer opbouw van object'!H124=\"\",\"\",'4. Analyseer opbouw van object'!H124)","v":""},{"$f":"IF('4. Analyseer opbouw van object'!J124=\"\",\"\",'4. Analyseer opbouw van object'!J124)","v":""},null,null,null,"",null,{"$f":"IFERROR(INDEX(#REF!,MATCH(N125,#REF!,0)),\"\")","v":""},null,{"$f":"IFERROR(INDEX(#REF!,MATCH(P125,#REF!,0)),\"\")","v":""},null,{"$f":"IFERROR(INDEX(#REF!,MATCH(R125,#REF!,0)),\"\")","v":""},"","",""]
[null,113,{"$f":"IF('4. Analyseer opbouw van object'!B125=\"\",\"\",'4. Analyseer opbouw van object'!B125)","v":""},{"$f":"IF('4. Analyseer opbouw van object'!C125=\"\",\"\",'4. Analyseer opbouw van object'!C125)","v":""},{"$f":"IF('4. Analyseer opbouw van object'!D125=\"\",\"\",'4. Analyseer opbouw van object'!D125)","v":""},{"$f":"IF('4. Analyseer opbouw van object'!E125=\"\",\"\",'4. Analyseer opbouw van object'!E125)","v":""},{"$f":"IF('4. Analyseer opbouw van object'!G125=\"\",\"\",'4. Analyseer opbouw van object'!G125)","v":""},{"$f":"IF('4. Analyseer opbouw van object'!H125=\"\",\"\",'4. Analyseer opbouw van object'!H125)","v":""},{"$f":"IF('4. Analyseer opbouw van object'!J125=\"\",\"\",'4. Analyseer opbouw van object'!J125)","v":""},null,null,null,"",null,{"$f":"IFERROR(INDEX(#REF!,MATCH(N126,#REF!,0)),\"\")","v":""},null,{"$f":"IFERROR(INDEX(#REF!,MATCH(P126,#REF!,0)),\"\")","v":""},null,{"$f":"IFERROR(INDEX(#REF!,MATCH(R126,#REF!,0)),\"\")","v":""},"","",""]
[null,114,{"$f":"IF('4. Analyseer opbouw van object'!B126=\"\",\"\",'4. Analyseer opbouw van object'!B126)","v":""},{"$f":"IF('4. Analyseer opbouw van object'!C126=\"\",\"\",'4. Analyseer opbouw van object'!C126)","v":""},{"$f":"IF('4. Analyseer opbouw van object'!D126=\"\",\"\",'4. Analyseer opbouw van object'!D126)","v":""},{"$f":"IF('4. Analyseer opbouw van object'!E126=\"\",\"\",'4. Analyseer opbouw van object'!E126)","v":""},{"$f":"IF('4. Analyseer opbouw van object'!G126=\"\",\"\",'4. Analyseer opbouw van object'!G126)","v":""},{"$f":"IF('4. Analyseer opbouw van object'!H126=\"\",\"\",'4. Analyseer opbouw van object'!H126)","v":""},{"$f":"IF('4. Analyseer opbouw van object'!J126=\"\",\"\",'4. Analyseer opbouw van object'!J126)","v":""},null,null,null,"",null,{"$f":"IFERROR(INDEX(#REF!,MATCH(N127,#REF!,0)),\"\")","v":""},null,{"$f":"IFERROR(INDEX(#REF!,MATCH(P127,#REF!,0)),\"\")","v":""},null,{"$f":"IFERROR(INDEX(#REF!,MATCH(R127,#REF!,0)),\"\")","v":""},"","",""]
[null,115,{"$f":"IF('4. Analyseer opbouw van object'!B127=\"\",\"\",'4. Analyseer opbouw van object'!B127)","v":""},{"$f":"IF('4. Analyseer opbouw van object'!C127=\"\",\"\",'4. Analyseer opbouw van object'!C127)","v":""},{"$f":"IF('4. Analyseer opbouw van object'!D127=\"\",\"\",'4. Analyseer opbouw van object'!D127)","v":""},{"$f":"IF('4. Analyseer opbouw van object'!E127=\"\",\"\",'4. Analyseer opbouw van object'!E127)","v":""},{"$f":"IF('4. Analyseer opbouw van object'!G127=\"\",\"\",'4. Analyseer opbouw van object'!G127)","v":""},{"$f":"IF('4. Analyseer opbouw van object'!H127=\"\",\"\",'4. Analyseer opbouw van object'!H127)","v":""},{"$f":"IF('4. Analyseer opbouw van object'!J127=\"\",\"\",'4. Analyseer opbouw van object'!J127)","v":""},null,null,null,"",null,{"$f":"IFERROR(INDEX(#REF!,MATCH(N128,#REF!,0)),\"\")","v":""},null,{"$f":"IFERROR(INDEX(#REF!,MATCH(P128,#REF!,0)),\"\")","v":""},null,{"$f":"IFERROR(INDEX(#REF!,MATCH(R128,#REF!,0)),\"\")","v":""},"","",""]
[null,116,{"$f":"IF('4. Analyseer opbouw van object'!B128=\"\",\"\",'4. Analyseer opbouw van object'!B128)","v":""},{"$f":"IF('4. Analyseer opbouw van object'!C128=\"\",\"\",'4. Analyseer opbouw van object'!C128)","v":""},{"$f":"IF('4. Analyseer opbouw van object'!D128=\"\",\"\",'4. Analyseer opbouw van object'!D128)","v":""},{"$f":"IF('4. Analyseer opbouw van object'!E128=\"\",\"\",'4. Analyseer opbouw van object'!E128)","v":""},{"$f":"IF('4. Analyseer opbouw van object'!G128=\"\",\"\",'4. Analyseer opbouw van object'!G128)","v":""},{"$f":"IF('4. Analyseer opbouw van object'!H128=\"\",\"\",'4. Analyseer opbouw van object'!H128)","v":""},{"$f":"IF('4. Analyseer opbouw van object'!J128=\"\",\"\",'4. Analyseer opbouw van object'!J128)","v":""},null,null,null,"",null,{"$f":"IFERROR(INDEX(#REF!,MATCH(N129,#REF!,0)),\"\")","v":""},null,{"$f":"IFERROR(INDEX(#REF!,MATCH(P129,#REF!,0)),\"\")","v":""},null,{"$f":"IFERROR(INDEX(#REF!,MATCH(R129,#REF!,0)),\"\")","v":""},"","",""]
[null,117,{"$f":"IF('4. Analyseer opbouw van object'!B129=\"\",\"\",'4. Analyseer opbouw van object'!B129)","v":""},{"$f":"IF('4. Analyseer opbouw van object'!C129=\"\",\"\",'4. Analyseer opbouw van object'!C129)","v":""},{"$f":"IF('4. Analyseer opbouw van object'!D129=\"\",\"\",'4. Analyseer opbouw van object'!D129)","v":""},{"$f":"IF('4. Analyseer opbouw van object'!E129=\"\",\"\",'4. Analyseer opbouw van object'!E129)","v":""},{"$f":"IF('4. Analyseer opbouw van object'!G129=\"\",\"\",'4. Analyseer opbouw van object'!G129)","v":""},{"$f":"IF('4. Analyseer opbouw van object'!H129=\"\",\"\",'4. Analyseer opbouw van object'!H129)","v":""},{"$f":"IF('4. Analyseer opbouw van object'!J129=\"\",\"\",'4. Analyseer opbouw van object'!J129)","v":""},null,null,null,"",null,{"$f":"IFERROR(INDEX(#REF!,MATCH(N130,#REF!,0)),\"\")","v":""},null,{"$f":"IFERROR(INDEX(#REF!,MATCH(P130,#REF!,0)),\"\")","v":""},null,{"$f":"IFERROR(INDEX(#REF!,MATCH(R130,#REF!,0)),\"\")","v":""},"","",""]
[null,118,{"$f":"IF('4. Analyseer opbouw van object'!B130=\"\",\"\",'4. Analyseer opbouw van object'!B130)","v":""},{"$f":"IF('4. Analyseer opbouw van object'!C130=\"\",\"\",'4. Analyseer opbouw van object'!C130)","v":""},{"$f":"IF('4. Analyseer opbouw van object'!D130=\"\",\"\",'4. Analyseer opbouw van object'!D130)","v":""},{"$f":"IF('4. Analyseer opbouw van object'!E130=\"\",\"\",'4. Analyseer opbouw van object'!E130)","v":""},{"$f":"IF('4. Analyseer opbouw van object'!G130=\"\",\"\",'4. Analyseer opbouw van object'!G130)","v":""},{"$f":"IF('4. Analyseer opbouw van object'!H130=\"\",\"\",'4. Analyseer opbouw van object'!H130)","v":""},{"$f":"IF('4. Analyseer opbouw van object'!J130=\"\",\"\",'4. Analyseer opbouw van object'!J130)","v":""},null,null,null,"",null,{"$f":"IFERROR(INDEX(#REF!,MATCH(N131,#REF!,0)),\"\")","v":""},null,{"$f":"IFERROR(INDEX(#REF!,MATCH(P131,#REF!,0)),\"\")","v":""},null,{"$f":"IFERROR(INDEX(#REF!,MATCH(R131,#REF!,0)),\"\")","v":""},"","",""]
[null,119,{"$f":"IF('4. Analyseer opbouw van object'!B131=\"\",\"\",'4. Analyseer opbouw van object'!B131)","v":""},{"$f":"IF('4. Analyseer opbouw van object'!C131=\"\",\"\",'4. Analyseer opbouw van object'!C131)","v":""},{"$f":"IF('4. Analyseer opbouw van object'!D131=\"\",\"\",'4. Analyseer opbouw van object'!D131)","v":""},{"$f":"IF('4. Analyseer opbouw van object'!E131=\"\",\"\",'4. Analyseer opbouw van object'!E131)","v":""},{"$f":"IF('4. Analyseer opbouw van object'!G131=\"\",\"\",'4. Analyseer opbouw van object'!G131)","v":""},{"$f":"IF('4. Analyseer opbouw van object'!H131=\"\",\"\",'4. Analyseer opbouw van object'!H131)","v":""},{"$f":"IF('4. Analyseer opbouw van object'!J131=\"\",\"\",'4. Analyseer opbouw van object'!J131)","v":""},null,null,null,"",null,{"$f":"IFERROR(INDEX(#REF!,MATCH(N132,#REF!,0)),\"\")","v":""},null,{"$f":"IFERROR(INDEX(#REF!,MATCH(P132,#REF!,0)),\"\")","v":""},null,{"$f":"IFERROR(INDEX(#REF!,MATCH(R132,#REF!,0)),\"\")","v":""},"","",""]
[null,120,{"$f":"IF('4. Analyseer opbouw van object'!B132=\"\",\"\",'4. Analyseer opbouw van object'!B132)","v":""},{"$f":"IF('4. Analyseer opbouw van object'!C132=\"\",\"\",'4. Analyseer opbouw van object'!C132)","v":""},{"$f":"IF('4. Analyseer opbouw van object'!D132=\"\",\"\",'4. Analyseer opbouw van object'!D132)","v":""},{"$f":"IF('4. Analyseer opbouw van object'!E132=\"\",\"\",'4. Analyseer opbouw van object'!E132)","v":""},{"$f":"IF('4. Analyseer opbouw van object'!G132=\"\",\"\",'4. Analyseer opbouw van object'!G132)","v":""},{"$f":"IF('4. Analyseer opbouw van object'!H132=\"\",\"\",'4. Analyseer opbouw van object'!H132)","v":""},{"$f":"IF('4. Analyseer opbouw van object'!J132=\"\",\"\",'4. Analyseer opbouw van object'!J132)","v":""},null,null,null,"",null,{"$f":"IFERROR(INDEX(#REF!,MATCH(N133,#REF!,0)),\"\")","v":""},null,{"$f":"IFERROR(INDEX(#REF!,MATCH(P133,#REF!,0)),\"\")","v":""},null,{"$f":"IFERROR(INDEX(#REF!,MATCH(R133,#REF!,0)),\"\")","v":""},"","",""]
[null,121,{"$f":"IF('4. Analyseer opbouw van object'!B133=\"\",\"\",'4. Analyseer opbouw van object'!B133)","v":""},{"$f":"IF('4. Analyseer opbouw van object'!C133=\"\",\"\",'4. Analyseer opbouw van object'!C133)","v":""},{"$f":"IF('4. Analyseer opbouw van object'!D133=\"\",\"\",'4. Analyseer opbouw van object'!D133)","v":""},{"$f":"IF('4. Analyseer opbouw van object'!E133=\"\",\"\",'4. Analyseer opbouw van object'!E133)","v":""},{"$f":"IF('4. Analyseer opbouw van object'!G133=\"\",\"\",'4. Analyseer opbouw van object'!G133)","v":""},{"$f":"IF('4. Analyseer opbouw van object'!H133=\"\",\"\",'4. Analyseer opbouw van object'!H133)","v":""},{"$f":"IF('4. Analyseer opbouw van object'!J133=\"\",\"\",'4. Analyseer opbouw van object'!J133)","v":""},null,null,null,"",null,{"$f":"IFERROR(INDEX(#REF!,MATCH(N134,#REF!,0)),\"\")","v":""},null,{"$f":"IFERROR(INDEX(#REF!,MATCH(P134,#REF!,0)),\"\")","v":""},null,{"$f":"IFERROR(INDEX(#REF!,MATCH(R134,#REF!,0)),\"\")","v":""},"","",""]
[null,122,{"$f":"IF('4. Analyseer opbouw van object'!B134=\"\",\"\",'4. Analyseer opbouw van object'!B134)","v":""},{"$f":"IF('4. Analyseer opbouw van object'!C134=\"\",\"\",'4. Analyseer opbouw van object'!C134)","v":""},{"$f":"IF('4. Analyseer opbouw van object'!D134=\"\",\"\",'4. Analyseer opbouw van object'!D134)","v":""},{"$f":"IF('4. Analyseer opbouw van object'!E134=\"\",\"\",'4. Analyseer opbouw van object'!E134)","v":""},{"$f":"IF('4. Analyseer opbouw van object'!G134=\"\",\"\",'4. Analyseer opbouw van object'!G134)","v":""},{"$f":"IF('4. Analyseer opbouw van object'!H134=\"\",\"\",'4. Analyseer opbouw van object'!H134)","v":""},{"$f":"IF('4. Analyseer opbouw van object'!J134=\"\",\"\",'4. Analyseer opbouw van object'!J134)","v":""},null,null,null,"",null,{"$f":"IFERROR(INDEX(#REF!,MATCH(N135,#REF!,0)),\"\")","v":""},null,{"$f":"IFERROR(INDEX(#REF!,MATCH(P135,#REF!,0)),\"\")","v":""},null,{"$f":"IFERROR(INDEX(#REF!,MATCH(R135,#REF!,0)),\"\")","v":""},"","",""]
[null,123,{"$f":"IF('4. Analyseer opbouw van object'!B135=\"\",\"\",'4. Analyseer opbouw van object'!B135)","v":""},{"$f":"IF('4. Analyseer opbouw van object'!C135=\"\",\"\",'4. Analyseer opbouw van object'!C135)","v":""},{"$f":"IF('4. Analyseer opbouw van object'!D135=\"\",\"\",'4. Analyseer opbouw van object'!D135)","v":""},{"$f":"IF('4. Analyseer opbouw van object'!E135=\"\",\"\",'4. Analyseer opbouw van object'!E135)","v":""},{"$f":"IF('4. Analyseer opbouw van object'!G135=\"\",\"\",'4. Analyseer opbouw van object'!G135)","v":""},{"$f":"IF('4. Analyseer opbouw van object'!H135=\"\",\"\",'4. Analyseer opbouw van object'!H135)","v":""},{"$f":"IF('4. Analyseer opbouw van object'!J135=\"\",\"\",'4. Analyseer opbouw van object'!J135)","v":""},null,null,null,"",null,{"$f":"IFERROR(INDEX(#REF!,MATCH(N136,#REF!,0)),\"\")","v":""},null,{"$f":"IFERROR(INDEX(#REF!,MATCH(P136,#REF!,0)),\"\")","v":""},null,{"$f":"IFERROR(INDEX(#REF!,MATCH(R136,#REF!,0)),\"\")","v":""},"","",""]
[null,124,{"$f":"IF('4. Analyseer opbouw van object'!B136=\"\",\"\",'4. Analyseer opbouw van object'!B136)","v":""},{"$f":"IF('4. Analyseer opbouw van object'!C136=\"\",\"\",'4. Analyseer opbouw van object'!C136)","v":""},{"$f":"IF('4. Analyseer opbouw van object'!D136=\"\",\"\",'4. Analyseer opbouw van object'!D136)","v":""},{"$f":"IF('4. Analyseer opbouw van object'!E136=\"\",\"\",'4. Analyseer opbouw van object'!E136)","v":""},{"$f":"IF('4. Analyseer opbouw van object'!G136=\"\",\"\",'4. Analyseer opbouw van object'!G136)","v":""},{"$f":"IF('4. Analyseer opbouw van object'!H136=\"\",\"\",'4. Analyseer opbouw van object'!H136)","v":""},{"$f":"IF('4. Analyseer opbouw van object'!J136=\"\",\"\",'4. Analyseer opbouw van object'!J136)","v":""},null,null,null,"",null,{"$f":"IFERROR(INDEX(#REF!,MATCH(N137,#REF!,0)),\"\")","v":""},null,{"$f":"IFERROR(INDEX(#REF!,MATCH(P137,#REF!,0)),\"\")","v":""},null,{"$f":"IFERROR(INDEX(#REF!,MATCH(R137,#REF!,0)),\"\")","v":""},"","",""]
[null,125,{"$f":"IF('4. Analyseer opbouw van object'!B137=\"\",\"\",'4. Analyseer opbouw van object'!B137)","v":""},{"$f":"IF('4. Analyseer opbouw van object'!C137=\"\",\"\",'4. Analyseer opbouw van object'!C137)","v":""},{"$f":"IF('4. Analyseer opbouw van object'!D137=\"\",\"\",'4. Analyseer opbouw van object'!D137)","v":""},{"$f":"IF('4. Analyseer opbouw van object'!E137=\"\",\"\",'4. Analyseer opbouw van object'!E137)","v":""},{"$f":"IF('4. Analyseer opbouw van object'!G137=\"\",\"\",'4. Analyseer opbouw van object'!G137)","v":""},{"$f":"IF('4. Analyseer opbouw van object'!H137=\"\",\"\",'4. Analyseer opbouw van object'!H137)","v":""},{"$f":"IF('4. Analyseer opbouw van object'!J137=\"\",\"\",'4. Analyseer opbouw van object'!J137)","v":""},null,null,null,"",null,{"$f":"IFERROR(INDEX(#REF!,MATCH(N138,#REF!,0)),\"\")","v":""},null,{"$f":"IFERROR(INDEX(#REF!,MATCH(P138,#REF!,0)),\"\")","v":""},null,{"$f":"IFERROR(INDEX(#REF!,MATCH(R138,#REF!,0)),\"\")","v":""},"","",""]
[null,126,{"$f":"IF('4. Analyseer opbouw van object'!B138=\"\",\"\",'4. Analyseer opbouw van object'!B138)","v":""},{"$f":"IF('4. Analyseer opbouw van object'!C138=\"\",\"\",'4. Analyseer opbouw van object'!C138)","v":""},{"$f":"IF('4. Analyseer opbouw van object'!D138=\"\",\"\",'4. Analyseer opbouw van object'!D138)","v":""},{"$f":"IF('4. Analyseer opbouw van object'!E138=\"\",\"\",'4. Analyseer opbouw van object'!E138)","v":""},{"$f":"IF('4. Analyseer opbouw van object'!G138=\"\",\"\",'4. Analyseer opbouw van object'!G138)","v":""},{"$f":"IF('4. Analyseer opbouw van object'!H138=\"\",\"\",'4. Analyseer opbouw van object'!H138)","v":""},{"$f":"IF('4. Analyseer opbouw van object'!J138=\"\",\"\",'4. Analyseer opbouw van object'!J138)","v":""},null,null,null,"",null,{"$f":"IFERROR(INDEX(#REF!,MATCH(N139,#REF!,0)),\"\")","v":""},null,{"$f":"IFERROR(INDEX(#REF!,MATCH(P139,#REF!,0)),\"\")","v":""},null,{"$f":"IFERROR(INDEX(#REF!,MATCH(R139,#REF!,0)),\"\")","v":""},"","",""]
[null,127,{"$f":"IF('4. Analyseer opbouw van object'!B139=\"\",\"\",'4. Analyseer opbouw van object'!B139)","v":""},{"$f":"IF('4. Analyseer opbouw van object'!C139=\"\",\"\",'4. Analyseer opbouw van object'!C139)","v":""},{"$f":"IF('4. Analyseer opbouw van object'!D139=\"\",\"\",'4. Analyseer opbouw van object'!D139)","v":""},{"$f":"IF('4. Analyseer opbouw van object'!E139=\"\",\"\",'4. Analyseer opbouw van object'!E139)","v":""},{"$f":"IF('4. Analyseer opbouw van object'!G139=\"\",\"\",'4. Analyseer opbouw van object'!G139)","v":""},{"$f":"IF('4. Analyseer opbouw van object'!H139=\"\",\"\",'4. Analyseer opbouw van object'!H139)","v":""},{"$f":"IF('4. Analyseer opbouw van object'!J139=\"\",\"\",'4. Analyseer opbouw van object'!J139)","v":""},null,null,null,"",null,{"$f":"IFERROR(INDEX(#REF!,MATCH(N140,#REF!,0)),\"\")","v":""},null,{"$f":"IFERROR(INDEX(#REF!,MATCH(P140,#REF!,0)),\"\")","v":""},null,{"$f":"IFERROR(INDEX(#REF!,MATCH(R140,#REF!,0)),\"\")","v":""},"","",""]
[null,128,{"$f":"IF('4. Analyseer opbouw van object'!B140=\"\",\"\",'4. Analyseer opbouw van object'!B140)","v":""},{"$f":"IF('4. Analyseer opbouw van object'!C140=\"\",\"\",'4. Analyseer opbouw van object'!C140)","v":""},{"$f":"IF('4. Analyseer opbouw van object'!D140=\"\",\"\",'4. Analyseer opbouw van object'!D140)","v":""},{"$f":"IF('4. Analyseer opbouw van object'!E140=\"\",\"\",'4. Analyseer opbouw van object'!E140)","v":""},{"$f":"IF('4. Analyseer opbouw van object'!G140=\"\",\"\",'4. Analyseer opbouw van object'!G140)","v":""},{"$f":"IF('4. Analyseer opbouw van object'!H140=\"\",\"\",'4. Analyseer opbouw van object'!H140)","v":""},{"$f":"IF('4. Analyseer opbouw van object'!J140=\"\",\"\",'4. Analyseer opbouw van object'!J140)","v":""},null,null,null,"",null,{"$f":"IFERROR(INDEX(#REF!,MATCH(N141,#REF!,0)),\"\")","v":""},null,{"$f":"IFERROR(INDEX(#REF!,MATCH(P141,#REF!,0)),\"\")","v":""},null,{"$f":"IFERROR(INDEX(#REF!,MATCH(R141,#REF!,0)),\"\")","v":""},"","",""]
[null,129,{"$f":"IF('4. Analyseer opbouw van object'!B141=\"\",\"\",'4. Analyseer opbouw van object'!B141)","v":""},{"$f":"IF('4. Analyseer opbouw van object'!C141=\"\",\"\",'4. Analyseer opbouw van object'!C141)","v":""},{"$f":"IF('4. Analyseer opbouw van object'!D141=\"\",\"\",'4. Analyseer opbouw van object'!D141)","v":""},{"$f":"IF('4. Analyseer opbouw van object'!E141=\"\",\"\",'4. Analyseer opbouw van object'!E141)","v":""},{"$f":"IF('4. Analyseer opbouw van object'!G141=\"\",\"\",'4. Analyseer opbouw van object'!G141)","v":""},{"$f":"IF('4. Analyseer opbouw van object'!H141=\"\",\"\",'4. Analyseer opbouw van object'!H141)","v":""},{"$f":"IF('4. Analyseer opbouw van object'!J141=\"\",\"\",'4. Analyseer opbouw van object'!J141)","v":""},null,null,null,{"$f":"IFERROR(INDEX(Score_per_factor,MATCH(K142,Alle_factoren,0)),\"\" )","v":""},null,{"$f":"IFERROR(INDEX(#REF!,MATCH(N142,#REF!,0)),\"\")","v":""},null,{"$f":"IFERROR(INDEX(#REF!,MATCH(P142,#REF!,0)),\"\")","v":""},null,{"$f":"IFERROR(INDEX(#REF!,MATCH(R142,#REF!,0)),\"\")","v":""},"","",""]
[null,130,{"$f":"IF('4. Analyseer opbouw van object'!B142=\"\",\"\",'4. Analyseer opbouw van object'!B142)","v":""},{"$f":"IF('4. Analyseer opbouw van object'!C142=\"\",\"\",'4. Analyseer opbouw van object'!C142)","v":""},{"$f":"IF('4. Analyseer opbouw van object'!D142=\"\",\"\",'4. Analyseer opbouw van object'!D142)","v":""},{"$f":"IF('4. Analyseer opbouw van object'!E142=\"\",\"\",'4. Analyseer opbouw van object'!E142)","v":""},{"$f":"IF('4. Analyseer opbouw van object'!G142=\"\",\"\",'4. Analyseer opbouw van object'!G142)","v":""},{"$f":"IF('4. Analyseer opbouw van object'!H142=\"\",\"\",'4. Analyseer opbouw van object'!H142)","v":""},{"$f":"IF('4. Analyseer opbouw van object'!J142=\"\",\"\",'4. Analyseer opbouw van object'!J142)","v":""},null,null,null,"",null,{"$f":"IFERROR(INDEX(#REF!,MATCH(N143,#REF!,0)),\"\")","v":""},null,{"$f":"IFERROR(INDEX(#REF!,MATCH(P143,#REF!,0)),\"\")","v":""},null,{"$f":"IFERROR(INDEX(#REF!,MATCH(R143,#REF!,0)),\"\")","v":""},{"$f":"IFERROR((2/((1/M143)+(1/O143))),\"\")","v":""},{"$f":"IFERROR((2/((1/Q143)+(1/S143))),\"\")","v":""},{"$f":"IFERROR((2/((1/T143)+(1/U143))),\"\")","v":""}]
[null,131,{"$f":"IF('4. Analyseer opbouw van object'!B143=\"\",\"\",'4. Analyseer opbouw van object'!B143)","v":""},{"$f":"IF('4. Analyseer opbouw van object'!C143=\"\",\"\",'4. Analyseer opbouw van object'!C143)","v":""},{"$f":"IF('4. Analyseer opbouw van object'!D143=\"\",\"\",'4. Analyseer opbouw van object'!D143)","v":""},{"$f":"IF('4. Analyseer opbouw van object'!E143=\"\",\"\",'4. Analyseer opbouw van object'!E143)","v":""},{"$f":"IF('4. Analyseer opbouw van object'!G143=\"\",\"\",'4. Analyseer opbouw van object'!G143)","v":""},{"$f":"IF('4. Analyseer opbouw van object'!H143=\"\",\"\",'4. Analyseer opbouw van object'!H143)","v":""},{"$f":"IF('4. Analyseer opbouw van object'!J143=\"\",\"\",'4. Analyseer opbouw van object'!J143)","v":""},null,null,null,"",null,{"$f":"IFERROR(INDEX(#REF!,MATCH(N144,#REF!,0)),\"\")","v":""},null,{"$f":"IFERROR(INDEX(#REF!,MATCH(P144,#REF!,0)),\"\")","v":""},null,{"$f":"IFERROR(INDEX(#REF!,MATCH(R144,#REF!,0)),\"\")","v":""},"","",""]
[null,{"$f":"B144+1","v":132},{"$f":"IF('4. Analyseer opbouw van object'!B144=\"\",\"\",'4. Analyseer opbouw van object'!B144)","v":""},{"$f":"IF('4. Analyseer opbouw van object'!C144=\"\",\"\",'4. Analyseer opbouw van object'!C144)","v":""},{"$f":"IF('4. Analyseer opbouw van object'!D144=\"\",\"\",'4. Analyseer opbouw van object'!D144)","v":""},{"$f":"IF('4. Analyseer opbouw van object'!E144=\"\",\"\",'4. Analyseer opbouw van object'!E144)","v":""},{"$f":"IF('4. Analyseer opbouw van object'!G144=\"\",\"\",'4. Analyseer opbouw van object'!G144)","v":""},{"$f":"IF('4. Analyseer opbouw van object'!H144=\"\",\"\",'4. Analyseer opbouw van object'!H144)","v":""},{"$f":"IF('4. Analyseer opbouw van object'!J144=\"\",\"\",'4. Analyseer opbouw van object'!J144)","v":""},null,null,null,"",null,{"$f":"IFERROR(INDEX(#REF!,MATCH(N145,#REF!,0)),\"\")","v":""},null,{"$f":"IFERROR(INDEX(#REF!,MATCH(P145,#REF!,0)),\"\")","v":""},null,{"$f":"IFERROR(INDEX(#REF!,MATCH(R145,#REF!,0)),\"\")","v":""},"","",""]
[null,133,{"$f":"IF('4. Analyseer opbouw van object'!B145=\"\",\"\",'4. Analyseer opbouw van object'!B145)","v":""},{"$f":"IF('4. Analyseer opbouw van object'!C145=\"\",\"\",'4. Analyseer opbouw van object'!C145)","v":""},{"$f":"IF('4. Analyseer opbouw van object'!D145=\"\",\"\",'4. Analyseer opbouw van object'!D145)","v":""},{"$f":"IF('4. Analyseer opbouw van object'!E145=\"\",\"\",'4. Analyseer opbouw van object'!E145)","v":""},{"$f":"IF('4. Analyseer opbouw van object'!G145=\"\",\"\",'4. Analyseer opbouw van object'!G145)","v":""},{"$f":"IF('4. Analyseer opbouw van object'!H145=\"\",\"\",'4. Analyseer opbouw van object'!H145)","v":""},{"$f":"IF('4. Analyseer opbouw van object'!J145=\"\",\"\",'4. Analyseer opbouw van object'!J145)","v":""},null,null,null,"",null,{"$f":"IFERROR(INDEX(#REF!,MATCH(N146,#REF!,0)),\"\")","v":""},null,{"$f":"IFERROR(INDEX(#REF!,MATCH(P146,#REF!,0)),\"\")","v":""},null,{"$f":"IFERROR(INDEX(#REF!,MATCH(R146,#REF!,0)),\"\")","v":""},"","",""]
[null,134,{"$f":"IF('4. Analyseer opbouw van object'!B146=\"\",\"\",'4. Analyseer opbouw van object'!B146)","v":""},{"$f":"IF('4. Analyseer opbouw van object'!C146=\"\",\"\",'4. Analyseer opbouw van object'!C146)","v":""},{"$f":"IF('4. Analyseer opbouw van object'!D146=\"\",\"\",'4. Analyseer opbouw van object'!D146)","v":""},{"$f":"IF('4. Analyseer opbouw van object'!E146=\"\",\"\",'4. Analyseer opbouw van object'!E146)","v":""},{"$f":"IF('4. Analyseer opbouw van object'!G146=\"\",\"\",'4. Analyseer opbouw van object'!G146)","v":""},{"$f":"IF('4. Analyseer opbouw van object'!H146=\"\",\"\",'4. Analyseer opbouw van object'!H146)","v":""},{"$f":"IF('4. Analyseer opbouw van object'!J146=\"\",\"\",'4. Analyseer opbouw van object'!J146)","v":""},null,null,null,"",null,{"$f":"IFERROR(INDEX(#REF!,MATCH(N147,#REF!,0)),\"\")","v":""},null,{"$f":"IFERROR(INDEX(#REF!,MATCH(P147,#REF!,0)),\"\")","v":""},null,{"$f":"IFERROR(INDEX(#REF!,MATCH(R147,#REF!,0)),\"\")","v":""},"","",""]
[null,135,{"$f":"IF('4. Analyseer opbouw van object'!B147=\"\",\"\",'4. Analyseer opbouw van object'!B147)","v":""},{"$f":"IF('4. Analyseer opbouw van object'!C147=\"\",\"\",'4. Analyseer opbouw van object'!C147)","v":""},{"$f":"IF('4. Analyseer opbouw van object'!D147=\"\",\"\",'4. Analyseer opbouw van object'!D147)","v":""},{"$f":"IF('4. Analyseer opbouw van object'!E147=\"\",\"\",'4. Analyseer opbouw van object'!E147)","v":""},{"$f":"IF('4. Analyseer opbouw van object'!G147=\"\",\"\",'4. Analyseer opbouw van object'!G147)","v":""},{"$f":"IF('4. Analyseer opbouw van object'!H147=\"\",\"\",'4. Analyseer opbouw van object'!H147)","v":""},{"$f":"IF('4. Analyseer opbouw van object'!J147=\"\",\"\",'4. Analyseer opbouw van object'!J147)","v":""},null,null,null,"",null,{"$f":"IFERROR(INDEX(#REF!,MATCH(N148,#REF!,0)),\"\")","v":""},null,{"$f":"IFERROR(INDEX(#REF!,MATCH(P148,#REF!,0)),\"\")","v":""},null,{"$f":"IFERROR(INDEX(#REF!,MATCH(R148,#REF!,0)),\"\")","v":""},"","",""]
[null,136,{"$f":"IF('4. Analyseer opbouw van object'!B148=\"\",\"\",'4. Analyseer opbouw van object'!B148)","v":""},{"$f":"IF('4. Analyseer opbouw van object'!C148=\"\",\"\",'4. Analyseer opbouw van object'!C148)","v":""},{"$f":"IF('4. Analyseer opbouw van object'!D148=\"\",\"\",'4. Analyseer opbouw van object'!D148)","v":""},{"$f":"IF('4. Analyseer opbouw van object'!E148=\"\",\"\",'4. Analyseer opbouw van object'!E148)","v":""},{"$f":"IF('4. Analyseer opbouw van object'!G148=\"\",\"\",'4. Analyseer opbouw van object'!G148)","v":""},{"$f":"IF('4. Analyseer opbouw van object'!H148=\"\",\"\",'4. Analyseer opbouw van object'!H148)","v":""},{"$f":"IF('4. Analyseer opbouw van object'!J148=\"\",\"\",'4. Analyseer opbouw van object'!J148)","v":""},null,null,null,"",null,{"$f":"IFERROR(INDEX(#REF!,MATCH(N149,#REF!,0)),\"\")","v":""},null,{"$f":"IFERROR(INDEX(#REF!,MATCH(P149,#REF!,0)),\"\")","v":""},null,{"$f":"IFERROR(INDEX(#REF!,MATCH(R149,#REF!,0)),\"\")","v":""},"","",""]
[null,137,{"$f":"IF('4. Analyseer opbouw van object'!B149=\"\",\"\",'4. Analyseer opbouw van object'!B149)","v":""},{"$f":"IF('4. Analyseer opbouw van object'!C149=\"\",\"\",'4. Analyseer opbouw van object'!C149)","v":""},{"$f":"IF('4. Analyseer opbouw van object'!D149=\"\",\"\",'4. Analyseer opbouw van object'!D149)","v":""},{"$f":"IF('4. Analyseer opbouw van object'!E149=\"\",\"\",'4. Analyseer opbouw van object'!E149)","v":""},{"$f":"IF('4. Analyseer opbouw van object'!G149=\"\",\"\",'4. Analyseer opbouw van object'!G149)","v":""},{"$f":"IF('4. Analyseer opbouw van object'!H149=\"\",\"\",'4. Analyseer opbouw van object'!H149)","v":""},{"$f":"IF('4. Analyseer opbouw van object'!J149=\"\",\"\",'4. Analyseer opbouw van object'!J149)","v":""},null,null,null,"",null,{"$f":"IFERROR(INDEX(#REF!,MATCH(N150,#REF!,0)),\"\")","v":""},null,{"$f":"IFERROR(INDEX(#REF!,MATCH(P150,#REF!,0)),\"\")","v":""},null,{"$f":"IFERROR(INDEX(#REF!,MATCH(R150,#REF!,0)),\"\")","v":""},"","",""]
[null,138,{"$f":"IF('4. Analyseer opbouw van object'!B150=\"\",\"\",'4. Analyseer opbouw van object'!B150)","v":""},{"$f":"IF('4. Analyseer opbouw van object'!C150=\"\",\"\",'4. Analyseer opbouw van object'!C150)","v":""},{"$f":"IF('4. Analyseer opbouw van object'!D150=\"\",\"\",'4. Analyseer opbouw van object'!D150)","v":""},{"$f":"IF('4. Analyseer opbouw van object'!E150=\"\",\"\",'4. Analyseer opbouw van object'!E150)","v":""},{"$f":"IF('4. Analyseer opbouw van object'!G150=\"\",\"\",'4. Analyseer opbouw van object'!G150)","v":""},{"$f":"IF('4. Analyseer opbouw van object'!H150=\"\",\"\",'4. Analyseer opbouw van object'!H150)","v":""},{"$f":"IF('4. Analyseer opbouw van object'!J150=\"\",\"\",'4. Analyseer opbouw van object'!J150)","v":""},null,null,null,"",null,{"$f":"IFERROR(INDEX(#REF!,MATCH(N151,#REF!,0)),\"\")","v":""},null,{"$f":"IFERROR(INDEX(#REF!,MATCH(P151,#REF!,0)),\"\")","v":""},null,{"$f":"IFERROR(INDEX(#REF!,MATCH(R151,#REF!,0)),\"\")","v":""},"","",""]
[null,139,{"$f":"IF('4. Analyseer opbouw van object'!B151=\"\",\"\",'4. Analyseer opbouw van object'!B151)","v":""},{"$f":"IF('4. Analyseer opbouw van object'!C151=\"\",\"\",'4. Analyseer opbouw van object'!C151)","v":""},{"$f":"IF('4. Analyseer opbouw van object'!D151=\"\",\"\",'4. Analyseer opbouw van object'!D151)","v":""},{"$f":"IF('4. Analyseer opbouw van object'!E151=\"\",\"\",'4. Analyseer opbouw van object'!E151)","v":""},{"$f":"IF('4. Analyseer opbouw van object'!G151=\"\",\"\",'4. Analyseer opbouw van object'!G151)","v":""},{"$f":"IF('4. Analyseer opbouw van object'!H151=\"\",\"\",'4. Analyseer opbouw van object'!H151)","v":""},{"$f":"IF('4. Analyseer opbouw van object'!J151=\"\",\"\",'4. Analyseer opbouw van object'!J151)","v":""},null,null,null,"",null,{"$f":"IFERROR(INDEX(#REF!,MATCH(N152,#REF!,0)),\"\")","v":""},null,{"$f":"IFERROR(INDEX(#REF!,MATCH(P152,#REF!,0)),\"\")","v":""},null,{"$f":"IFERROR(INDEX(#REF!,MATCH(R152,#REF!,0)),\"\")","v":""},"","",""]
[null,140,{"$f":"IF('4. Analyseer opbouw van object'!B152=\"\",\"\",'4. Analyseer opbouw van object'!B152)","v":""},{"$f":"IF('4. Analyseer opbouw van object'!C152=\"\",\"\",'4. Analyseer opbouw van object'!C152)","v":""},{"$f":"IF('4. Analyseer opbouw van object'!D152=\"\",\"\",'4. Analyseer opbouw van object'!D152)","v":""},{"$f":"IF('4. Analyseer opbouw van object'!E152=\"\",\"\",'4. Analyseer opbouw van object'!E152)","v":""},{"$f":"IF('4. Analyseer opbouw van object'!G152=\"\",\"\",'4. Analyseer opbouw van object'!G152)","v":""},{"$f":"IF('4. Analyseer opbouw van object'!H152=\"\",\"\",'4. Analyseer opbouw van object'!H152)","v":""},{"$f":"IF('4. Analyseer opbouw van object'!J152=\"\",\"\",'4. Analyseer opbouw van object'!J152)","v":""},null,null,null,"",null,{"$f":"IFERROR(INDEX(#REF!,MATCH(N153,#REF!,0)),\"\")","v":""},null,{"$f":"IFERROR(INDEX(#REF!,MATCH(P153,#REF!,0)),\"\")","v":""},null,{"$f":"IFERROR(INDEX(#REF!,MATCH(R153,#REF!,0)),\"\")","v":""},"","",""]
[null,141,{"$f":"IF('4. Analyseer opbouw van object'!B153=\"\",\"\",'4. Analyseer opbouw van object'!B153)","v":""},{"$f":"IF('4. Analyseer opbouw van object'!C153=\"\",\"\",'4. Analyseer opbouw van object'!C153)","v":""},{"$f":"IF('4. Analyseer opbouw van object'!D153=\"\",\"\",'4. Analyseer opbouw van object'!D153)","v":""},{"$f":"IF('4. Analyseer opbouw van object'!E153=\"\",\"\",'4. Analyseer opbouw van object'!E153)","v":""},{"$f":"IF('4. Analyseer opbouw van object'!G153=\"\",\"\",'4. Analyseer opbouw van object'!G153)","v":""},{"$f":"IF('4. Analyseer opbouw van object'!H153=\"\",\"\",'4. Analyseer opbouw van object'!H153)","v":""},{"$f":"IF('4. Analyseer opbouw van object'!J153=\"\",\"\",'4. Analyseer opbouw van object'!J153)","v":""},null,null,null,"",null,{"$f":"IFERROR(INDEX(#REF!,MATCH(N154,#REF!,0)),\"\")","v":""},null,{"$f":"IFERROR(INDEX(#REF!,MATCH(P154,#REF!,0)),\"\")","v":""},null,{"$f":"IFERROR(INDEX(#REF!,MATCH(R154,#REF!,0)),\"\")","v":""},"","",""]
[null,142,{"$f":"IF('4. Analyseer opbouw van object'!B154=\"\",\"\",'4. Analyseer opbouw van object'!B154)","v":""},{"$f":"IF('4. Analyseer opbouw van object'!C154=\"\",\"\",'4. Analyseer opbouw van object'!C154)","v":""},{"$f":"IF('4. Analyseer opbouw van object'!D154=\"\",\"\",'4. Analyseer opbouw van object'!D154)","v":""},{"$f":"IF('4. Analyseer opbouw van object'!E154=\"\",\"\",'4. Analyseer opbouw van object'!E154)","v":""},{"$f":"IF('4. Analyseer opbouw van object'!G154=\"\",\"\",'4. Analyseer opbouw van object'!G154)","v":""},{"$f":"IF('4. Analyseer opbouw van object'!H154=\"\",\"\",'4. Analyseer opbouw van object'!H154)","v":""},{"$f":"IF('4. Analyseer opbouw van object'!J154=\"\",\"\",'4. Analyseer opbouw van object'!J154)","v":""},null,null,null,"",null,{"$f":"IFERROR(INDEX(#REF!,MATCH(N155,#REF!,0)),\"\")","v":""},null,{"$f":"IFERROR(INDEX(#REF!,MATCH(P155,#REF!,0)),\"\")","v":""},null,{"$f":"IFERROR(INDEX(#REF!,MATCH(R155,#REF!,0)),\"\")","v":""},"","",""]
[null,143,{"$f":"IF('4. Analyseer opbouw van object'!B155=\"\",\"\",'4. Analyseer opbouw van object'!B155)","v":""},{"$f":"IF('4. Analyseer opbouw van object'!C155=\"\",\"\",'4. Analyseer opbouw van object'!C155)","v":""},{"$f":"IF('4. Analyseer opbouw van object'!D155=\"\",\"\",'4. Analyseer opbouw van object'!D155)","v":""},{"$f":"IF('4. Analyseer opbouw van object'!E155=\"\",\"\",'4. Analyseer opbouw van object'!E155)","v":""},{"$f":"IF('4. Analyseer opbouw van object'!G155=\"\",\"\",'4. Analyseer opbouw van object'!G155)","v":""},{"$f":"IF('4. Analyseer opbouw van object'!H155=\"\",\"\",'4. Analyseer opbouw van object'!H155)","v":""},{"$f":"IF('4. Analyseer opbouw van object'!J155=\"\",\"\",'4. Analyseer opbouw van object'!J155)","v":""},null,null,null,"",null,{"$f":"IFERROR(INDEX(#REF!,MATCH(N156,#REF!,0)),\"\")","v":""},null,{"$f":"IFERROR(INDEX(#REF!,MATCH(P156,#REF!,0)),\"\")","v":""},null,{"$f":"IFERROR(INDEX(#REF!,MATCH(R156,#REF!,0)),\"\")","v":""},"","",""]
[null,144,{"$f":"IF('4. Analyseer opbouw van object'!B156=\"\",\"\",'4. Analyseer opbouw van object'!B156)","v":""},{"$f":"IF('4. Analyseer opbouw van object'!C156=\"\",\"\",'4. Analyseer opbouw van object'!C156)","v":""},{"$f":"IF('4. Analyseer opbouw van object'!D156=\"\",\"\",'4. Analyseer opbouw van object'!D156)","v":""},{"$f":"IF('4. Analyseer opbouw van object'!E156=\"\",\"\",'4. Analyseer opbouw van object'!E156)","v":""},{"$f":"IF('4. Analyseer opbouw van object'!G156=\"\",\"\",'4. Analyseer opbouw van object'!G156)","v":""},{"$f":"IF('4. Analyseer opbouw van object'!H156=\"\",\"\",'4. Analyseer opbouw van object'!H156)","v":""},{"$f":"IF('4. Analyseer opbouw van object'!J156=\"\",\"\",'4. Analyseer opbouw van object'!J156)","v":""},null,null,null,"",null,{"$f":"IFERROR(INDEX(#REF!,MATCH(N157,#REF!,0)),\"\")","v":""},null,{"$f":"IFERROR(INDEX(#REF!,MATCH(P157,#REF!,0)),\"\")","v":""},null,{"$f":"IFERROR(INDEX(#REF!,MATCH(R157,#REF!,0)),\"\")","v":""},"","",""]
[null,145,{"$f":"IF('4. Analyseer opbouw van object'!B157=\"\",\"\",'4. Analyseer opbouw van object'!B157)","v":""},{"$f":"IF('4. Analyseer opbouw van object'!C157=\"\",\"\",'4. Analyseer opbouw van object'!C157)","v":""},{"$f":"IF('4. Analyseer opbouw van object'!D157=\"\",\"\",'4. Analyseer opbouw van object'!D157)","v":""},{"$f":"IF('4. Analyseer opbouw van object'!E157=\"\",\"\",'4. Analyseer opbouw van object'!E157)","v":""},{"$f":"IF('4. Analyseer opbouw van object'!G157=\"\",\"\",'4. Analyseer opbouw van object'!G157)","v":""},{"$f":"IF('4. Analyseer opbouw van object'!H157=\"\",\"\",'4. Analyseer opbouw van object'!H157)","v":""},{"$f":"IF('4. Analyseer opbouw van object'!J157=\"\",\"\",'4. Analyseer opbouw van object'!J157)","v":""},null,null,null,"",null,{"$f":"IFERROR(INDEX(#REF!,MATCH(N158,#REF!,0)),\"\")","v":""},null,{"$f":"IFERROR(INDEX(#REF!,MATCH(P158,#REF!,0)),\"\")","v":""},null,{"$f":"IFERROR(INDEX(#REF!,MATCH(R158,#REF!,0)),\"\")","v":""},"","",""]
[null,146,{"$f":"IF('4. Analyseer opbouw van object'!B158=\"\",\"\",'4. Analyseer opbouw van object'!B158)","v":""},{"$f":"IF('4. Analyseer opbouw van object'!C158=\"\",\"\",'4. Analyseer opbouw van object'!C158)","v":""},{"$f":"IF('4. Analyseer opbouw van object'!D158=\"\",\"\",'4. Analyseer opbouw van object'!D158)","v":""},{"$f":"IF('4. Analyseer opbouw van object'!E158=\"\",\"\",'4. Analyseer opbouw van object'!E158)","v":""},{"$f":"IF('4. Analyseer opbouw van object'!G158=\"\",\"\",'4. Analyseer opbouw van object'!G158)","v":""},{"$f":"IF('4. Analyseer opbouw van object'!H158=\"\",\"\",'4. Analyseer opbouw van object'!H158)","v":""},{"$f":"IF('4. Analyseer opbouw van object'!J158=\"\",\"\",'4. Analyseer opbouw van object'!J158)","v":""},null,null,null,"",null,{"$f":"IFERROR(INDEX(#REF!,MATCH(N159,#REF!,0)),\"\")","v":""},null,{"$f":"IFERROR(INDEX(#REF!,MATCH(P159,#REF!,0)),\"\")","v":""},null,{"$f":"IFERROR(INDEX(#REF!,MATCH(R159,#REF!,0)),\"\")","v":""},"","",""]
[null,147,{"$f":"IF('4. Analyseer opbouw van object'!B159=\"\",\"\",'4. Analyseer opbouw van object'!B159)","v":""},{"$f":"IF('4. Analyseer opbouw van object'!C159=\"\",\"\",'4. Analyseer opbouw van object'!C159)","v":""},{"$f":"IF('4. Analyseer opbouw van object'!D159=\"\",\"\",'4. Analyseer opbouw van object'!D159)","v":""},{"$f":"IF('4. Analyseer opbouw van object'!E159=\"\",\"\",'4. Analyseer opbouw van object'!E159)","v":""},{"$f":"IF('4. Analyseer opbouw van object'!G159=\"\",\"\",'4. Analyseer opbouw van object'!G159)","v":""},{"$f":"IF('4. Analyseer opbouw van object'!H159=\"\",\"\",'4. Analyseer opbouw van object'!H159)","v":""},{"$f":"IF('4. Analyseer opbouw van object'!J159=\"\",\"\",'4. Analyseer opbouw van object'!J159)","v":""},null,null,null,"",null,{"$f":"IFERROR(INDEX(#REF!,MATCH(N160,#REF!,0)),\"\")","v":""},null,{"$f":"IFERROR(INDEX(#REF!,MATCH(P160,#REF!,0)),\"\")","v":""},null,{"$f":"IFERROR(INDEX(#REF!,MATCH(R160,#REF!,0)),\"\")","v":""},"","",""]
[null,148,{"$f":"IF('4. Analyseer opbouw van object'!B160=\"\",\"\",'4. Analyseer opbouw van object'!B160)","v":""},{"$f":"IF('4. Analyseer opbouw van object'!C160=\"\",\"\",'4. Analyseer opbouw van object'!C160)","v":""},{"$f":"IF('4. Analyseer opbouw van object'!D160=\"\",\"\",'4. Analyseer opbouw van object'!D160)","v":""},{"$f":"IF('4. Analyseer opbouw van object'!E160=\"\",\"\",'4. Analyseer opbouw van object'!E160)","v":""},{"$f":"IF('4. Analyseer opbouw van object'!G160=\"\",\"\",'4. Analyseer opbouw van object'!G160)","v":""},{"$f":"IF('4. Analyseer opbouw van object'!H160=\"\",\"\",'4. Analyseer opbouw van object'!H160)","v":""},{"$f":"IF('4. Analyseer opbouw van object'!J160=\"\",\"\",'4. Analyseer opbouw van object'!J160)","v":""},null,null,null,"",null,{"$f":"IFERROR(INDEX(#REF!,MATCH(N161,#REF!,0)),\"\")","v":""},null,{"$f":"IFERROR(INDEX(#REF!,MATCH(P161,#REF!,0)),\"\")","v":""},null,{"$f":"IFERROR(INDEX(#REF!,MATCH(R161,#REF!,0)),\"\")","v":""},"","",""]
[null,149,{"$f":"IF('4. Analyseer opbouw van object'!B161=\"\",\"\",'4. Analyseer opbouw van object'!B161)","v":""},{"$f":"IF('4. Analyseer opbouw van object'!C161=\"\",\"\",'4. Analyseer opbouw van object'!C161)","v":""},{"$f":"IF('4. Analyseer opbouw van object'!D161=\"\",\"\",'4. Analyseer opbouw van object'!D161)","v":""},{"$f":"IF('4. Analyseer opbouw van object'!E161=\"\",\"\",'4. Analyseer opbouw van object'!E161)","v":""},{"$f":"IF('4. Analyseer opbouw van object'!G161=\"\",\"\",'4. Analyseer opbouw van object'!G161)","v":""},{"$f":"IF('4. Analyseer opbouw van object'!H161=\"\",\"\",'4. Analyseer opbouw van object'!H161)","v":""},{"$f":"IF('4. Analyseer opbouw van object'!J161=\"\",\"\",'4. Analyseer opbouw van object'!J161)","v":""},null,null,null,"",null,{"$f":"IFERROR(INDEX(#REF!,MATCH(N162,#REF!,0)),\"\")","v":""},null,{"$f":"IFERROR(INDEX(#REF!,MATCH(P162,#REF!,0)),\"\")","v":""},null,{"$f":"IFERROR(INDEX(#REF!,MATCH(R162,#REF!,0)),\"\")","v":""},"","",""]
[null,150,{"$f":"IF('4. Analyseer opbouw van object'!B162=\"\",\"\",'4. Analyseer opbouw van object'!B162)","v":""},{"$f":"IF('4. Analyseer opbouw van object'!C162=\"\",\"\",'4. Analyseer opbouw van object'!C162)","v":""},{"$f":"IF('4. Analyseer opbouw van object'!D162=\"\",\"\",'4. Analyseer opbouw van object'!D162)","v":""},{"$f":"IF('4. Analyseer opbouw van object'!E162=\"\",\"\",'4. Analyseer opbouw van object'!E162)","v":""},{"$f":"IF('4. Analyseer opbouw van object'!G162=\"\",\"\",'4. Analyseer opbouw van object'!G162)","v":""},{"$f":"IF('4. Analyseer opbouw van object'!H162=\"\",\"\",'4. Analyseer opbouw van object'!H162)","v":""},{"$f":"IF('4. Analyseer opbouw van object'!J162=\"\",\"\",'4. Analyseer opbouw van object'!J162)","v":""},null,null,null,"",null,{"$f":"IFERROR(INDEX(#REF!,MATCH(N163,#REF!,0)),\"\")","v":""},null,{"$f":"IFERROR(INDEX(#REF!,MATCH(P163,#REF!,0)),\"\")","v":""},null,{"$f":"IFERROR(INDEX(#REF!,MATCH(R163,#REF!,0)),\"\")","v":""},"","",""]
[null,151,{"$f":"IF('4. Analyseer opbouw van object'!B163=\"\",\"\",'4. Analyseer opbouw van object'!B163)","v":""},{"$f":"IF('4. Analyseer opbouw van object'!C163=\"\",\"\",'4. Analyseer opbouw van object'!C163)","v":""},{"$f":"IF('4. Analyseer opbouw van object'!D163=\"\",\"\",'4. Analyseer opbouw van object'!D163)","v":""},{"$f":"IF('4. Analyseer opbouw van object'!E163=\"\",\"\",'4. Analyseer opbouw van object'!E163)","v":""},{"$f":"IF('4. Analyseer opbouw van object'!G163=\"\",\"\",'4. Analyseer opbouw van object'!G163)","v":""},{"$f":"IF('4. Analyseer opbouw van object'!H163=\"\",\"\",'4. Analyseer opbouw van object'!H163)","v":""},{"$f":"IF('4. Analyseer opbouw van object'!J163=\"\",\"\",'4. Analyseer opbouw van object'!J163)","v":""},null,null,null,"",null,{"$f":"IFERROR(INDEX(#REF!,MATCH(N164,#REF!,0)),\"\")","v":""},null,{"$f":"IFERROR(INDEX(#REF!,MATCH(P164,#REF!,0)),\"\")","v":""},null,{"$f":"IFERROR(INDEX(#REF!,MATCH(R164,#REF!,0)),\"\")","v":""},"","",""]
[null,152,{"$f":"IF('4. Analyseer opbouw van object'!B164=\"\",\"\",'4. Analyseer opbouw van object'!B164)","v":""},{"$f":"IF('4. Analyseer opbouw van object'!C164=\"\",\"\",'4. Analyseer opbouw van object'!C164)","v":""},{"$f":"IF('4. Analyseer opbouw van object'!D164=\"\",\"\",'4. Analyseer opbouw van object'!D164)","v":""},{"$f":"IF('4. Analyseer opbouw van object'!E164=\"\",\"\",'4. Analyseer opbouw van object'!E164)","v":""},{"$f":"IF('4. Analyseer opbouw van object'!G164=\"\",\"\",'4. Analyseer opbouw van object'!G164)","v":""},{"$f":"IF('4. Analyseer opbouw van object'!H164=\"\",\"\",'4. Analyseer opbouw van object'!H164)","v":""},{"$f":"IF('4. Analyseer opbouw van object'!J164=\"\",\"\",'4. Analyseer opbouw van object'!J164)","v":""},null,null,null,"",null,{"$f":"IFERROR(INDEX(#REF!,MATCH(N165,#REF!,0)),\"\")","v":""},null,{"$f":"IFERROR(INDEX(#REF!,MATCH(P165,#REF!,0)),\"\")","v":""},null,{"$f":"IFERROR(INDEX(#REF!,MATCH(R165,#REF!,0)),\"\")","v":""},"","",""]
[null,153,{"$f":"IF('4. Analyseer opbouw van object'!B165=\"\",\"\",'4. Analyseer opbouw van object'!B165)","v":""},{"$f":"IF('4. Analyseer opbouw van object'!C165=\"\",\"\",'4. Analyseer opbouw van object'!C165)","v":""},{"$f":"IF('4. Analyseer opbouw van object'!D165=\"\",\"\",'4. Analyseer opbouw van object'!D165)","v":""},{"$f":"IF('4. Analyseer opbouw van object'!E165=\"\",\"\",'4. Analyseer opbouw van object'!E165)","v":""},{"$f":"IF('4. Analyseer opbouw van object'!G165=\"\",\"\",'4. Analyseer opbouw van object'!G165)","v":""},{"$f":"IF('4. Analyseer opbouw van object'!H165=\"\",\"\",'4. Analyseer opbouw van object'!H165)","v":""},{"$f":"IF('4. Analyseer opbouw van object'!J165=\"\",\"\",'4. Analyseer opbouw van object'!J165)","v":""},null,null,null,"",null,{"$f":"IFERROR(INDEX(#REF!,MATCH(N166,#REF!,0)),\"\")","v":""},null,{"$f":"IFERROR(INDEX(#REF!,MATCH(P166,#REF!,0)),\"\")","v":""},null,{"$f":"IFERROR(INDEX(#REF!,MATCH(R166,#REF!,0)),\"\")","v":""},"","",""]
[null,154,{"$f":"IF('4. Analyseer opbouw van object'!B166=\"\",\"\",'4. Analyseer opbouw van object'!B166)","v":""},{"$f":"IF('4. Analyseer opbouw van object'!C166=\"\",\"\",'4. Analyseer opbouw van object'!C166)","v":""},{"$f":"IF('4. Analyseer opbouw van object'!D166=\"\",\"\",'4. Analyseer opbouw van object'!D166)","v":""},{"$f":"IF('4. Analyseer opbouw van object'!E166=\"\",\"\",'4. Analyseer opbouw van object'!E166)","v":""},{"$f":"IF('4. Analyseer opbouw van object'!G166=\"\",\"\",'4. Analyseer opbouw van object'!G166)","v":""},{"$f":"IF('4. Analyseer opbouw van object'!H166=\"\",\"\",'4. Analyseer opbouw van object'!H166)","v":""},{"$f":"IF('4. Analyseer opbouw van object'!J166=\"\",\"\",'4. Analyseer opbouw van object'!J166)","v":""},null,null,null,"",null,{"$f":"IFERROR(INDEX(#REF!,MATCH(N167,#REF!,0)),\"\")","v":""},null,{"$f":"IFERROR(INDEX(#REF!,MATCH(P167,#REF!,0)),\"\")","v":""},null,{"$f":"IFERROR(INDEX(#REF!,MATCH(R167,#REF!,0)),\"\")","v":""},"","",""]
[null,155,{"$f":"IF('4. Analyseer opbouw van object'!B167=\"\",\"\",'4. Analyseer opbouw van object'!B167)","v":""},{"$f":"IF('4. Analyseer opbouw van object'!C167=\"\",\"\",'4. Analyseer opbouw van object'!C167)","v":""},{"$f":"IF('4. Analyseer opbouw van object'!D167=\"\",\"\",'4. Analyseer opbouw van object'!D167)","v":""},{"$f":"IF('4. Analyseer opbouw van object'!E167=\"\",\"\",'4. Analyseer opbouw van object'!E167)","v":""},{"$f":"IF('4. Analyseer opbouw van object'!G167=\"\",\"\",'4. Analyseer opbouw van object'!G167)","v":""},{"$f":"IF('4. Analyseer opbouw van object'!H167=\"\",\"\",'4. Analyseer opbouw van object'!H167)","v":""},{"$f":"IF('4. Analyseer opbouw van object'!J167=\"\",\"\",'4. Analyseer opbouw van object'!J167)","v":""},null,null,null,"",null,{"$f":"IFERROR(INDEX(#REF!,MATCH(N168,#REF!,0)),\"\")","v":""},null,{"$f":"IFERROR(INDEX(#REF!,MATCH(P168,#REF!,0)),\"\")","v":""},null,{"$f":"IFERROR(INDEX(#REF!,MATCH(R168,#REF!,0)),\"\")","v":""},"","",""]
[null,156,{"$f":"IF('4. Analyseer opbouw van object'!B168=\"\",\"\",'4. Analyseer opbouw van object'!B168)","v":""},{"$f":"IF('4. Analyseer opbouw van object'!C168=\"\",\"\",'4. Analyseer opbouw van object'!C168)","v":""},{"$f":"IF('4. Analyseer opbouw van object'!D168=\"\",\"\",'4. Analyseer opbouw van object'!D168)","v":""},{"$f":"IF('4. Analyseer opbouw van object'!E168=\"\",\"\",'4. Analyseer opbouw van object'!E168)","v":""},{"$f":"IF('4. Analyseer opbouw van object'!G168=\"\",\"\",'4. Analyseer opbouw van object'!G168)","v":""},{"$f":"IF('4. Analyseer opbouw van object'!H168=\"\",\"\",'4. Analyseer opbouw van object'!H168)","v":""},{"$f":"IF('4. Analyseer opbouw van object'!J168=\"\",\"\",'4. Analyseer opbouw van object'!J168)","v":""},null,null,null,"",null,{"$f":"IFERROR(INDEX(#REF!,MATCH(N169,#REF!,0)),\"\")","v":""},null,{"$f":"IFERROR(INDEX(#REF!,MATCH(P169,#REF!,0)),\"\")","v":""},null,{"$f":"IFERROR(INDEX(#REF!,MATCH(R169,#REF!,0)),\"\")","v":""},"","",""]
[null,157,{"$f":"IF('4. Analyseer opbouw van object'!B169=\"\",\"\",'4. Analyseer opbouw van object'!B169)","v":""},{"$f":"IF('4. Analyseer opbouw van object'!C169=\"\",\"\",'4. Analyseer opbouw van object'!C169)","v":""},{"$f":"IF('4. Analyseer opbouw van object'!D169=\"\",\"\",'4. Analyseer opbouw van object'!D169)","v":""},{"$f":"IF('4. Analyseer opbouw van object'!E169=\"\",\"\",'4. Analyseer opbouw van object'!E169)","v":""},{"$f":"IF('4. Analyseer opbouw van object'!G169=\"\",\"\",'4. Analyseer opbouw van object'!G169)","v":""},{"$f":"IF('4. Analyseer opbouw van object'!H169=\"\",\"\",'4. Analyseer opbouw van object'!H169)","v":""},{"$f":"IF('4. Analyseer opbouw van object'!J169=\"\",\"\",'4. Analyseer opbouw van object'!J169)","v":""},null,null,null,"",null,{"$f":"IFERROR(INDEX(#REF!,MATCH(N170,#REF!,0)),\"\")","v":""},null,{"$f":"IFERROR(INDEX(#REF!,MATCH(P170,#REF!,0)),\"\")","v":""},null,{"$f":"IFERROR(INDEX(#REF!,MATCH(R170,#REF!,0)),\"\")","v":""},"","",""]
[null,158,{"$f":"IF('4. Analyseer opbouw van object'!B170=\"\",\"\",'4. Analyseer opbouw van object'!B170)","v":""},{"$f":"IF('4. Analyseer opbouw van object'!C170=\"\",\"\",'4. Analyseer opbouw van object'!C170)","v":""},{"$f":"IF('4. Analyseer opbouw van object'!D170=\"\",\"\",'4. Analyseer opbouw van object'!D170)","v":""},{"$f":"IF('4. Analyseer opbouw van object'!E170=\"\",\"\",'4. Analyseer opbouw van object'!E170)","v":""},{"$f":"IF('4. Analyseer opbouw van object'!G170=\"\",\"\",'4. Analyseer opbouw van object'!G170)","v":""},{"$f":"IF('4. Analyseer opbouw van object'!H170=\"\",\"\",'4. Analyseer opbouw van object'!H170)","v":""},{"$f":"IF('4. Analyseer opbouw van object'!J170=\"\",\"\",'4. Analyseer opbouw van object'!J170)","v":""},null,null,null,"",null,{"$f":"IFERROR(INDEX(#REF!,MATCH(N171,#REF!,0)),\"\")","v":""},null,{"$f":"IFERROR(INDEX(#REF!,MATCH(P171,#REF!,0)),\"\")","v":""},null,{"$f":"IFERROR(INDEX(#REF!,MATCH(R171,#REF!,0)),\"\")","v":""},"","",""]
[null,159,{"$f":"IF('4. Analyseer opbouw van object'!B171=\"\",\"\",'4. Analyseer opbouw van object'!B171)","v":""},{"$f":"IF('4. Analyseer opbouw van object'!C171=\"\",\"\",'4. Analyseer opbouw van object'!C171)","v":""},{"$f":"IF('4. Analyseer opbouw van object'!D171=\"\",\"\",'4. Analyseer opbouw van object'!D171)","v":""},{"$f":"IF('4. Analyseer opbouw van object'!E171=\"\",\"\",'4. Analyseer opbouw van object'!E171)","v":""},{"$f":"IF('4. Analyseer opbouw van object'!G171=\"\",\"\",'4. Analyseer opbouw van object'!G171)","v":""},{"$f":"IF('4. Analyseer opbouw van object'!H171=\"\",\"\",'4. Analyseer opbouw van object'!H171)","v":""},{"$f":"IF('4. Analyseer opbouw van object'!J171=\"\",\"\",'4. Analyseer opbouw van object'!J171)","v":""},null,null,null,"",null,{"$f":"IFERROR(INDEX(#REF!,MATCH(N172,#REF!,0)),\"\")","v":""},null,{"$f":"IFERROR(INDEX(#REF!,MATCH(P172,#REF!,0)),\"\")","v":""},null,{"$f":"IFERROR(INDEX(#REF!,MATCH(R172,#REF!,0)),\"\")","v":""},"","",""]
[null,160,{"$f":"IF('4. Analyseer opbouw van object'!B172=\"\",\"\",'4. Analyseer opbouw van object'!B172)","v":""},{"$f":"IF('4. Analyseer opbouw van object'!C172=\"\",\"\",'4. Analyseer opbouw van object'!C172)","v":""},{"$f":"IF('4. Analyseer opbouw van object'!D172=\"\",\"\",'4. Analyseer opbouw van object'!D172)","v":""},{"$f":"IF('4. Analyseer opbouw van object'!E172=\"\",\"\",'4. Analyseer opbouw van object'!E172)","v":""},{"$f":"IF('4. Analyseer opbouw van object'!G172=\"\",\"\",'4. Analyseer opbouw van object'!G172)","v":""},{"$f":"IF('4. Analyseer opbouw van object'!H172=\"\",\"\",'4. Analyseer opbouw van object'!H172)","v":""},{"$f":"IF('4. Analyseer opbouw van object'!J172=\"\",\"\",'4. Analyseer opbouw van object'!J172)","v":""},null,null,null,"",null,{"$f":"IFERROR(INDEX(#REF!,MATCH(N173,#REF!,0)),\"\")","v":""},null,{"$f":"IFERROR(INDEX(#REF!,MATCH(P173,#REF!,0)),\"\")","v":""},null,{"$f":"IFERROR(INDEX(#REF!,MATCH(R173,#REF!,0)),\"\")","v":""},"","",""]
[null,161,{"$f":"IF('4. Analyseer opbouw van object'!B173=\"\",\"\",'4. Analyseer opbouw van object'!B173)","v":""},{"$f":"IF('4. Analyseer opbouw van object'!C173=\"\",\"\",'4. Analyseer opbouw van object'!C173)","v":""},{"$f":"IF('4. Analyseer opbouw van object'!D173=\"\",\"\",'4. Analyseer opbouw van object'!D173)","v":""},{"$f":"IF('4. Analyseer opbouw van object'!E173=\"\",\"\",'4. Analyseer opbouw van object'!E173)","v":""},{"$f":"IF('4. Analyseer opbouw van object'!G173=\"\",\"\",'4. Analyseer opbouw van object'!G173)","v":""},{"$f":"IF('4. Analyseer opbouw van object'!H173=\"\",\"\",'4. Analyseer opbouw van object'!H173)","v":""},{"$f":"IF('4. Analyseer opbouw van object'!J173=\"\",\"\",'4. Analyseer opbouw van object'!J173)","v":""},null,null,null,"",null,{"$f":"IFERROR(INDEX(#REF!,MATCH(N174,#REF!,0)),\"\")","v":""},null,{"$f":"IFERROR(INDEX(#REF!,MATCH(P174,#REF!,0)),\"\")","v":""},null,{"$f":"IFERROR(INDEX(#REF!,MATCH(R174,#REF!,0)),\"\")","v":""},"","",""]
[null,162,{"$f":"IF('4. Analyseer opbouw van object'!B174=\"\",\"\",'4. Analyseer opbouw van object'!B174)","v":""},{"$f":"IF('4. Analyseer opbouw van object'!C174=\"\",\"\",'4. Analyseer opbouw van object'!C174)","v":""},{"$f":"IF('4. Analyseer opbouw van object'!D174=\"\",\"\",'4. Analyseer opbouw van object'!D174)","v":""},{"$f":"IF('4. Analyseer opbouw van object'!E174=\"\",\"\",'4. Analyseer opbouw van object'!E174)","v":""},{"$f":"IF('4. Analyseer opbouw van object'!G174=\"\",\"\",'4. Analyseer opbouw van object'!G174)","v":""},{"$f":"IF('4. Analyseer opbouw van object'!H174=\"\",\"\",'4. Analyseer opbouw van object'!H174)","v":""},{"$f":"IF('4. Analyseer opbouw van object'!J174=\"\",\"\",'4. Analyseer opbouw van object'!J174)","v":""},null,null,null,"",null,{"$f":"IFERROR(INDEX(#REF!,MATCH(N175,#REF!,0)),\"\")","v":""},null,{"$f":"IFERROR(INDEX(#REF!,MATCH(P175,#REF!,0)),\"\")","v":""},null,{"$f":"IFERROR(INDEX(#REF!,MATCH(R175,#REF!,0)),\"\")","v":""},"","",""]
[null,163,{"$f":"IF('4. Analyseer opbouw van object'!B175=\"\",\"\",'4. Analyseer opbouw van object'!B175)","v":""},{"$f":"IF('4. Analyseer opbouw van object'!C175=\"\",\"\",'4. Analyseer opbouw van object'!C175)","v":""},{"$f":"IF('4. Analyseer opbouw van object'!D175=\"\",\"\",'4. Analyseer opbouw van object'!D175)","v":""},{"$f":"IF('4. Analyseer opbouw van object'!E175=\"\",\"\",'4. Analyseer opbouw van object'!E175)","v":""},{"$f":"IF('4. Analyseer opbouw van object'!G175=\"\",\"\",'4. Analyseer opbouw van object'!G175)","v":""},{"$f":"IF('4. Analyseer opbouw van object'!H175=\"\",\"\",'4. Analyseer opbouw van object'!H175)","v":""},{"$f":"IF('4. Analyseer opbouw van object'!J175=\"\",\"\",'4. Analyseer opbouw van object'!J175)","v":""},null,null,null,"",null,{"$f":"IFERROR(INDEX(#REF!,MATCH(N176,#REF!,0)),\"\")","v":""},null,{"$f":"IFERROR(INDEX(#REF!,MATCH(P176,#REF!,0)),\"\")","v":""},null,{"$f":"IFERROR(INDEX(#REF!,MATCH(R176,#REF!,0)),\"\")","v":""},"","",""]
[null,164,{"$f":"IF('4. Analyseer opbouw van object'!B176=\"\",\"\",'4. Analyseer opbouw van object'!B176)","v":""},{"$f":"IF('4. Analyseer opbouw van object'!C176=\"\",\"\",'4. Analyseer opbouw van object'!C176)","v":""},{"$f":"IF('4. Analyseer opbouw van object'!D176=\"\",\"\",'4. Analyseer opbouw van object'!D176)","v":""},{"$f":"IF('4. Analyseer opbouw van object'!E176=\"\",\"\",'4. Analyseer opbouw van object'!E176)","v":""},{"$f":"IF('4. Analyseer opbouw van object'!G176=\"\",\"\",'4. Analyseer opbouw van object'!G176)","v":""},{"$f":"IF('4. Analyseer opbouw van object'!H176=\"\",\"\",'4. Analyseer opbouw van object'!H176)","v":""},{"$f":"IF('4. Analyseer opbouw van object'!J176=\"\",\"\",'4. Analyseer opbouw van object'!J176)","v":""},null,null,null,"",null,{"$f":"IFERROR(INDEX(#REF!,MATCH(N177,#REF!,0)),\"\")","v":""},null,{"$f":"IFERROR(INDEX(#REF!,MATCH(P177,#REF!,0)),\"\")","v":""},null,{"$f":"IFERROR(INDEX(#REF!,MATCH(R177,#REF!,0)),\"\")","v":""},"","",""]
[null,165,{"$f":"IF('4. Analyseer opbouw van object'!B177=\"\",\"\",'4. Analyseer opbouw van object'!B177)","v":""},{"$f":"IF('4. Analyseer opbouw van object'!C177=\"\",\"\",'4. Analyseer opbouw van object'!C177)","v":""},{"$f":"IF('4. Analyseer opbouw van object'!D177=\"\",\"\",'4. Analyseer opbouw van object'!D177)","v":""},{"$f":"IF('4. Analyseer opbouw van object'!E177=\"\",\"\",'4. Analyseer opbouw van object'!E177)","v":""},{"$f":"IF('4. Analyseer opbouw van object'!G177=\"\",\"\",'4. Analyseer opbouw van object'!G177)","v":""},{"$f":"IF('4. Analyseer opbouw van object'!H177=\"\",\"\",'4. Analyseer opbouw van object'!H177)","v":""},{"$f":"IF('4. Analyseer opbouw van object'!J177=\"\",\"\",'4. Analyseer opbouw van object'!J177)","v":""},null,null,null,"",null,{"$f":"IFERROR(INDEX(#REF!,MATCH(N178,#REF!,0)),\"\")","v":""},null,{"$f":"IFERROR(INDEX(#REF!,MATCH(P178,#REF!,0)),\"\")","v":""},null,{"$f":"IFERROR(INDEX(#REF!,MATCH(R178,#REF!,0)),\"\")","v":""},"","",""]
[null,166,{"$f":"IF('4. Analyseer opbouw van object'!B178=\"\",\"\",'4. Analyseer opbouw van object'!B178)","v":""},{"$f":"IF('4. Analyseer opbouw van object'!C178=\"\",\"\",'4. Analyseer opbouw van object'!C178)","v":""},{"$f":"IF('4. Analyseer opbouw van object'!D178=\"\",\"\",'4. Analyseer opbouw van object'!D178)","v":""},{"$f":"IF('4. Analyseer opbouw van object'!E178=\"\",\"\",'4. Analyseer opbouw van object'!E178)","v":""},{"$f":"IF('4. Analyseer opbouw van object'!G178=\"\",\"\",'4. Analyseer opbouw van object'!G178)","v":""},{"$f":"IF('4. Analyseer opbouw van object'!H178=\"\",\"\",'4. Analyseer opbouw van object'!H178)","v":""},{"$f":"IF('4. Analyseer opbouw van object'!J178=\"\",\"\",'4. Analyseer opbouw van object'!J178)","v":""},null,null,null,"",null,{"$f":"IFERROR(INDEX(#REF!,MATCH(N179,#REF!,0)),\"\")","v":""},null,{"$f":"IFERROR(INDEX(#REF!,MATCH(P179,#REF!,0)),\"\")","v":""},null,{"$f":"IFERROR(INDEX(#REF!,MATCH(R179,#REF!,0)),\"\")","v":""},"","",""]
[null,167,{"$f":"IF('4. Analyseer opbouw van object'!B179=\"\",\"\",'4. Analyseer opbouw van object'!B179)","v":""},{"$f":"IF('4. Analyseer opbouw van object'!C179=\"\",\"\",'4. Analyseer opbouw van object'!C179)","v":""},{"$f":"IF('4. Analyseer opbouw van object'!D179=\"\",\"\",'4. Analyseer opbouw van object'!D179)","v":""},{"$f":"IF('4. Analyseer opbouw van object'!E179=\"\",\"\",'4. Analyseer opbouw van object'!E179)","v":""},{"$f":"IF('4. Analyseer opbouw van object'!G179=\"\",\"\",'4. Analyseer opbouw van object'!G179)","v":""},{"$f":"IF('4. Analyseer opbouw van object'!H179=\"\",\"\",'4. Analyseer opbouw van object'!H179)","v":""},{"$f":"IF('4. Analyseer opbouw van object'!J179=\"\",\"\",'4. Analyseer opbouw van object'!J179)","v":""},null,null,null,"",null,{"$f":"IFERROR(INDEX(#REF!,MATCH(N180,#REF!,0)),\"\")","v":""},null,{"$f":"IFERROR(INDEX(#REF!,MATCH(P180,#REF!,0)),\"\")","v":""},null,{"$f":"IFERROR(INDEX(#REF!,MATCH(R180,#REF!,0)),\"\")","v":""},"","",""]
[null,168,{"$f":"IF('4. Analyseer opbouw van object'!B180=\"\",\"\",'4. Analyseer opbouw van object'!B180)","v":""},{"$f":"IF('4. Analyseer opbouw van object'!C180=\"\",\"\",'4. Analyseer opbouw van object'!C180)","v":""},{"$f":"IF('4. Analyseer opbouw van object'!D180=\"\",\"\",'4. Analyseer opbouw van object'!D180)","v":""},{"$f":"IF('4. Analyseer opbouw van object'!E180=\"\",\"\",'4. Analyseer opbouw van object'!E180)","v":""},{"$f":"IF('4. Analyseer opbouw van object'!G180=\"\",\"\",'4. Analyseer opbouw van object'!G180)","v":""},{"$f":"IF('4. Analyseer opbouw van object'!H180=\"\",\"\",'4. Analyseer opbouw van object'!H180)","v":""},{"$f":"IF('4. Analyseer opbouw van object'!J180=\"\",\"\",'4. Analyseer opbouw van object'!J180)","v":""},null,null,null,"",null,{"$f":"IFERROR(INDEX(#REF!,MATCH(N181,#REF!,0)),\"\")","v":""},null,{"$f":"IFERROR(INDEX(#REF!,MATCH(P181,#REF!,0)),\"\")","v":""},null,{"$f":"IFERROR(INDEX(#REF!,MATCH(R181,#REF!,0)),\"\")","v":""},"","",""]
[null,169,{"$f":"IF('4. Analyseer opbouw van object'!B181=\"\",\"\",'4. Analyseer opbouw van object'!B181)","v":""},{"$f":"IF('4. Analyseer opbouw van object'!C181=\"\",\"\",'4. Analyseer opbouw van object'!C181)","v":""},{"$f":"IF('4. Analyseer opbouw van object'!D181=\"\",\"\",'4. Analyseer opbouw van object'!D181)","v":""},{"$f":"IF('4. Analyseer opbouw van object'!E181=\"\",\"\",'4. Analyseer opbouw van object'!E181)","v":""},{"$f":"IF('4. Analyseer opbouw van object'!G181=\"\",\"\",'4. Analyseer opbouw van object'!G181)","v":""},{"$f":"IF('4. Analyseer opbouw van object'!H181=\"\",\"\",'4. Analyseer opbouw van object'!H181)","v":""},{"$f":"IF('4. Analyseer opbouw van object'!J181=\"\",\"\",'4. Analyseer opbouw van object'!J181)","v":""},null,null,null,"",null,{"$f":"IFERROR(INDEX(#REF!,MATCH(N182,#REF!,0)),\"\")","v":""},null,{"$f":"IFERROR(INDEX(#REF!,MATCH(P182,#REF!,0)),\"\")","v":""},null,{"$f":"IFERROR(INDEX(#REF!,MATCH(R182,#REF!,0)),\"\")","v":""},"","",""]
[null,170,{"$f":"IF('4. Analyseer opbouw van object'!B182=\"\",\"\",'4. Analyseer opbouw van object'!B182)","v":""},{"$f":"IF('4. Analyseer opbouw van object'!C182=\"\",\"\",'4. Analyseer opbouw van object'!C182)","v":""},{"$f":"IF('4. Analyseer opbouw van object'!D182=\"\",\"\",'4. Analyseer opbouw van object'!D182)","v":""},{"$f":"IF('4. Analyseer opbouw van object'!E182=\"\",\"\",'4. Analyseer opbouw van object'!E182)","v":""},{"$f":"IF('4. Analyseer opbouw van object'!G182=\"\",\"\",'4. Analyseer opbouw van object'!G182)","v":""},{"$f":"IF('4. Analyseer opbouw van object'!H182=\"\",\"\",'4. Analyseer opbouw van object'!H182)","v":""},{"$f":"IF('4. Analyseer opbouw van object'!J182=\"\",\"\",'4. Analyseer opbouw van object'!J182)","v":""},null,null,null,"",null,{"$f":"IFERROR(INDEX(#REF!,MATCH(N183,#REF!,0)),\"\")","v":""},null,{"$f":"IFERROR(INDEX(#REF!,MATCH(P183,#REF!,0)),\"\")","v":""},null,{"$f":"IFERROR(INDEX(#REF!,MATCH(R183,#REF!,0)),\"\")","v":""},"","",""]
[null,171,{"$f":"IF('4. Analyseer opbouw van object'!B183=\"\",\"\",'4. Analyseer opbouw van object'!B183)","v":""},{"$f":"IF('4. Analyseer opbouw van object'!C183=\"\",\"\",'4. Analyseer opbouw van object'!C183)","v":""},{"$f":"IF('4. Analyseer opbouw van object'!D183=\"\",\"\",'4. Analyseer opbouw van object'!D183)","v":""},{"$f":"IF('4. Analyseer opbouw van object'!E183=\"\",\"\",'4. Analyseer opbouw van object'!E183)","v":""},{"$f":"IF('4. Analyseer opbouw van object'!G183=\"\",\"\",'4. Analyseer opbouw van object'!G183)","v":""},{"$f":"IF('4. Analyseer opbouw van object'!H183=\"\",\"\",'4. Analyseer opbouw van object'!H183)","v":""},{"$f":"IF('4. Analyseer opbouw van object'!J183=\"\",\"\",'4. Analyseer opbouw van object'!J183)","v":""},null,null,null,"",null,{"$f":"IFERROR(INDEX(#REF!,MATCH(N184,#REF!,0)),\"\")","v":""},null,{"$f":"IFERROR(INDEX(#REF!,MATCH(P184,#REF!,0)),\"\")","v":""},null,{"$f":"IFERROR(INDEX(#REF!,MATCH(R184,#REF!,0)),\"\")","v":""},"","",""]
[null,172,{"$f":"IF('4. Analyseer opbouw van object'!B184=\"\",\"\",'4. Analyseer opbouw van object'!B184)","v":""},{"$f":"IF('4. Analyseer opbouw van object'!C184=\"\",\"\",'4. Analyseer opbouw van object'!C184)","v":""},{"$f":"IF('4. Analyseer opbouw van object'!D184=\"\",\"\",'4. Analyseer opbouw van object'!D184)","v":""},{"$f":"IF('4. Analyseer opbouw van object'!E184=\"\",\"\",'4. Analyseer opbouw van object'!E184)","v":""},{"$f":"IF('4. Analyseer opbouw van object'!G184=\"\",\"\",'4. Analyseer opbouw van object'!G184)","v":""},{"$f":"IF('4. Analyseer opbouw van object'!H184=\"\",\"\",'4. Analyseer opbouw van object'!H184)","v":""},{"$f":"IF('4. Analyseer opbouw van object'!J184=\"\",\"\",'4. Analyseer opbouw van object'!J184)","v":""},null,null,null,"",null,{"$f":"IFERROR(INDEX(#REF!,MATCH(N185,#REF!,0)),\"\")","v":""},null,{"$f":"IFERROR(INDEX(#REF!,MATCH(P185,#REF!,0)),\"\")","v":""},null,{"$f":"IFERROR(INDEX(#REF!,MATCH(R185,#REF!,0)),\"\")","v":""},"","",""]
[null,173,{"$f":"IF('4. Analyseer opbouw van object'!B185=\"\",\"\",'4. Analyseer opbouw van object'!B185)","v":""},{"$f":"IF('4. Analyseer opbouw van object'!C185=\"\",\"\",'4. Analyseer opbouw van object'!C185)","v":""},{"$f":"IF('4. Analyseer opbouw van object'!D185=\"\",\"\",'4. Analyseer opbouw van object'!D185)","v":""},{"$f":"IF('4. Analyseer opbouw van object'!E185=\"\",\"\",'4. Analyseer opbouw van object'!E185)","v":""},{"$f":"IF('4. Analyseer opbouw van object'!G185=\"\",\"\",'4. Analyseer opbouw van object'!G185)","v":""},{"$f":"IF('4. Analyseer opbouw van object'!H185=\"\",\"\",'4. Analyseer opbouw van object'!H185)","v":""},{"$f":"IF('4. Analyseer opbouw van object'!J185=\"\",\"\",'4. Analyseer opbouw van object'!J185)","v":""},null,null,null,"",null,{"$f":"IFERROR(INDEX(#REF!,MATCH(N186,#REF!,0)),\"\")","v":""},null,{"$f":"IFERROR(INDEX(#REF!,MATCH(P186,#REF!,0)),\"\")","v":""},null,{"$f":"IFERROR(INDEX(#REF!,MATCH(R186,#REF!,0)),\"\")","v":""},"","",""]
[null,174,{"$f":"IF('4. Analyseer opbouw van object'!B186=\"\",\"\",'4. Analyseer opbouw van object'!B186)","v":""},{"$f":"IF('4. Analyseer opbouw van object'!C186=\"\",\"\",'4. Analyseer opbouw van object'!C186)","v":""},{"$f":"IF('4. Analyseer opbouw van object'!D186=\"\",\"\",'4. Analyseer opbouw van object'!D186)","v":""},{"$f":"IF('4. Analyseer opbouw van object'!E186=\"\",\"\",'4. Analyseer opbouw van object'!E186)","v":""},{"$f":"IF('4. Analyseer opbouw van object'!G186=\"\",\"\",'4. Analyseer opbouw van object'!G186)","v":""},{"$f":"IF('4. Analyseer opbouw van object'!H186=\"\",\"\",'4. Analyseer opbouw van object'!H186)","v":""},{"$f":"IF('4. Analyseer opbouw van object'!J186=\"\",\"\",'4. Analyseer opbouw van object'!J186)","v":""},null,null,null,"",null,{"$f":"IFERROR(INDEX(#REF!,MATCH(N187,#REF!,0)),\"\")","v":""},null,{"$f":"IFERROR(INDEX(#REF!,MATCH(P187,#REF!,0)),\"\")","v":""},null,{"$f":"IFERROR(INDEX(#REF!,MATCH(R187,#REF!,0)),\"\")","v":""},"","",""]
[null,175,{"$f":"IF('4. Analyseer opbouw van object'!B187=\"\",\"\",'4. Analyseer opbouw van object'!B187)","v":""},{"$f":"IF('4. Analyseer opbouw van object'!C187=\"\",\"\",'4. Analyseer opbouw van object'!C187)","v":""},{"$f":"IF('4. Analyseer opbouw van object'!D187=\"\",\"\",'4. Analyseer opbouw van object'!D187)","v":""},{"$f":"IF('4. Analyseer opbouw van object'!E187=\"\",\"\",'4. Analyseer opbouw van object'!E187)","v":""},{"$f":"IF('4. Analyseer opbouw van object'!G187=\"\",\"\",'4. Analyseer opbouw van object'!G187)","v":""},{"$f":"IF('4. Analyseer opbouw van object'!H187=\"\",\"\",'4. Analyseer opbouw van object'!H187)","v":""},{"$f":"IF('4. Analyseer opbouw van object'!J187=\"\",\"\",'4. Analyseer opbouw van object'!J187)","v":""},null,null,null,"",null,{"$f":"IFERROR(INDEX(#REF!,MATCH(N188,#REF!,0)),\"\")","v":""},null,{"$f":"IFERROR(INDEX(#REF!,MATCH(P188,#REF!,0)),\"\")","v":""},null,{"$f":"IFERROR(INDEX(#REF!,MATCH(R188,#REF!,0)),\"\")","v":""},"","",""]
[null,176,{"$f":"IF('4. Analyseer opbouw van object'!B188=\"\",\"\",'4. Analyseer opbouw van object'!B188)","v":""},{"$f":"IF('4. Analyseer opbouw van object'!C188=\"\",\"\",'4. Analyseer opbouw van object'!C188)","v":""},{"$f":"IF('4. Analyseer opbouw van object'!D188=\"\",\"\",'4. Analyseer opbouw van object'!D188)","v":""},{"$f":"IF('4. Analyseer opbouw van object'!E188=\"\",\"\",'4. Analyseer opbouw van object'!E188)","v":""},{"$f":"IF('4. Analyseer opbouw van object'!G188=\"\",\"\",'4. Analyseer opbouw van object'!G188)","v":""},{"$f":"IF('4. Analyseer opbouw van object'!H188=\"\",\"\",'4. Analyseer opbouw van object'!H188)","v":""},{"$f":"IF('4. Analyseer opbouw van object'!J188=\"\",\"\",'4. Analyseer opbouw van object'!J188)","v":""},null,null,null,"",null,{"$f":"IFERROR(INDEX(#REF!,MATCH(N189,#REF!,0)),\"\")","v":""},null,{"$f":"IFERROR(INDEX(#REF!,MATCH(P189,#REF!,0)),\"\")","v":""},null,{"$f":"IFERROR(INDEX(#REF!,MATCH(R189,#REF!,0)),\"\")","v":""},"","",""]
[null,177,{"$f":"IF('4. Analyseer opbouw van object'!B189=\"\",\"\",'4. Analyseer opbouw van object'!B189)","v":""},{"$f":"IF('4. Analyseer opbouw van object'!C189=\"\",\"\",'4. Analyseer opbouw van object'!C189)","v":""},{"$f":"IF('4. Analyseer opbouw van object'!D189=\"\",\"\",'4. Analyseer opbouw van object'!D189)","v":""},{"$f":"IF('4. Analyseer opbouw van object'!E189=\"\",\"\",'4. Analyseer opbouw van object'!E189)","v":""},{"$f":"IF('4. Analyseer opbouw van object'!G189=\"\",\"\",'4. Analyseer opbouw van object'!G189)","v":""},{"$f":"IF('4. Analyseer opbouw van object'!H189=\"\",\"\",'4. Analyseer opbouw van object'!H189)","v":""},{"$f":"IF('4. Analyseer opbouw van object'!J189=\"\",\"\",'4. Analyseer opbouw van object'!J189)","v":""},null,null,null,"",null,{"$f":"IFERROR(INDEX(#REF!,MATCH(N190,#REF!,0)),\"\")","v":""},null,{"$f":"IFERROR(INDEX(#REF!,MATCH(P190,#REF!,0)),\"\")","v":""},null,{"$f":"IFERROR(INDEX(#REF!,MATCH(R190,#REF!,0)),\"\")","v":""},"","",""]
[null,178,{"$f":"IF('4. Analyseer opbouw van object'!B190=\"\",\"\",'4. Analyseer opbouw van object'!B190)","v":""},{"$f":"IF('4. Analyseer opbouw van object'!C190=\"\",\"\",'4. Analyseer opbouw van object'!C190)","v":""},{"$f":"IF('4. Analyseer opbouw van object'!D190=\"\",\"\",'4. Analyseer opbouw van object'!D190)","v":""},{"$f":"IF('4. Analyseer opbouw van object'!E190=\"\",\"\",'4. Analyseer opbouw van object'!E190)","v":""},{"$f":"IF('4. Analyseer opbouw van object'!G190=\"\",\"\",'4. Analyseer opbouw van object'!G190)","v":""},{"$f":"IF('4. Analyseer opbouw van object'!H190=\"\",\"\",'4. Analyseer opbouw van object'!H190)","v":""},{"$f":"IF('4. Analyseer opbouw van object'!J190=\"\",\"\",'4. Analyseer opbouw van object'!J190)","v":""},null,null,null,"",null,{"$f":"IFERROR(INDEX(#REF!,MATCH(N191,#REF!,0)),\"\")","v":""},null,{"$f":"IFERROR(INDEX(#REF!,MATCH(P191,#REF!,0)),\"\")","v":""},null,{"$f":"IFERROR(INDEX(#REF!,MATCH(R191,#REF!,0)),\"\")","v":""},"","",""]
[null,179,{"$f":"IF('4. Analyseer opbouw van object'!B191=\"\",\"\",'4. Analyseer opbouw van object'!B191)","v":""},{"$f":"IF('4. Analyseer opbouw van object'!C191=\"\",\"\",'4. Analyseer opbouw van object'!C191)","v":""},{"$f":"IF('4. Analyseer opbouw van object'!D191=\"\",\"\",'4. Analyseer opbouw van object'!D191)","v":""},{"$f":"IF('4. Analyseer opbouw van object'!E191=\"\",\"\",'4. Analyseer opbouw van object'!E191)","v":""},{"$f":"IF('4. Analyseer opbouw van object'!G191=\"\",\"\",'4. Analyseer opbouw van object'!G191)","v":""},{"$f":"IF('4. Analyseer opbouw van object'!H191=\"\",\"\",'4. Analyseer opbouw van object'!H191)","v":""},{"$f":"IF('4. Analyseer opbouw van object'!J191=\"\",\"\",'4. Analyseer opbouw van object'!J191)","v":""},null,null,null,"",null,{"$f":"IFERROR(INDEX(#REF!,MATCH(N192,#REF!,0)),\"\")","v":""},null,{"$f":"IFERROR(INDEX(#REF!,MATCH(P192,#REF!,0)),\"\")","v":""},null,{"$f":"IFERROR(INDEX(#REF!,MATCH(R192,#REF!,0)),\"\")","v":""},"","",""]
[null,180,{"$f":"IF('4. Analyseer opbouw van object'!B192=\"\",\"\",'4. Analyseer opbouw van object'!B192)","v":""},{"$f":"IF('4. Analyseer opbouw van object'!C192=\"\",\"\",'4. Analyseer opbouw van object'!C192)","v":""},{"$f":"IF('4. Analyseer opbouw van object'!D192=\"\",\"\",'4. Analyseer opbouw van object'!D192)","v":""},{"$f":"IF('4. Analyseer opbouw van object'!E192=\"\",\"\",'4. Analyseer opbouw van object'!E192)","v":""},{"$f":"IF('4. Analyseer opbouw van object'!G192=\"\",\"\",'4. Analyseer opbouw van object'!G192)","v":""},{"$f":"IF('4. Analyseer opbouw van object'!H192=\"\",\"\",'4. Analyseer opbouw van object'!H192)","v":""},{"$f":"IF('4. Analyseer opbouw van object'!J192=\"\",\"\",'4. Analyseer opbouw van object'!J192)","v":""},null,null,null,"",null,{"$f":"IFERROR(INDEX(#REF!,MATCH(N193,#REF!,0)),\"\")","v":""},null,{"$f":"IFERROR(INDEX(#REF!,MATCH(P193,#REF!,0)),\"\")","v":""},null,{"$f":"IFERROR(INDEX(#REF!,MATCH(R193,#REF!,0)),\"\")","v":""},"","",""]
[null,181,{"$f":"IF('4. Analyseer opbouw van object'!B193=\"\",\"\",'4. Analyseer opbouw van object'!B193)","v":""},{"$f":"IF('4. Analyseer opbouw van object'!C193=\"\",\"\",'4. Analyseer opbouw van object'!C193)","v":""},{"$f":"IF('4. Analyseer opbouw van object'!D193=\"\",\"\",'4. Analyseer opbouw van object'!D193)","v":""},{"$f":"IF('4. Analyseer opbouw van object'!E193=\"\",\"\",'4. Analyseer opbouw van object'!E193)","v":""},{"$f":"IF('4. Analyseer opbouw van object'!G193=\"\",\"\",'4. Analyseer opbouw van object'!G193)","v":""},{"$f":"IF('4. Analyseer opbouw van object'!H193=\"\",\"\",'4. Analyseer opbouw van object'!H193)","v":""},{"$f":"IF('4. Analyseer opbouw van object'!J193=\"\",\"\",'4. Analyseer opbouw van object'!J193)","v":""},null,null,null,"",null,{"$f":"IFERROR(INDEX(#REF!,MATCH(N194,#REF!,0)),\"\")","v":""},null,{"$f":"IFERROR(INDEX(#REF!,MATCH(P194,#REF!,0)),\"\")","v":""},null,{"$f":"IFERROR(INDEX(#REF!,MATCH(R194,#REF!,0)),\"\")","v":""},"","",""]
[null,182,{"$f":"IF('4. Analyseer opbouw van object'!B194=\"\",\"\",'4. Analyseer opbouw van object'!B194)","v":""},{"$f":"IF('4. Analyseer opbouw van object'!C194=\"\",\"\",'4. Analyseer opbouw van object'!C194)","v":""},{"$f":"IF('4. Analyseer opbouw van object'!D194=\"\",\"\",'4. Analyseer opbouw van object'!D194)","v":""},{"$f":"IF('4. Analyseer opbouw van object'!E194=\"\",\"\",'4. Analyseer opbouw van object'!E194)","v":""},{"$f":"IF('4. Analyseer opbouw van object'!G194=\"\",\"\",'4. Analyseer opbouw van object'!G194)","v":""},{"$f":"IF('4. Analyseer opbouw van object'!H194=\"\",\"\",'4. Analyseer opbouw van object'!H194)","v":""},{"$f":"IF('4. Analyseer opbouw van object'!J194=\"\",\"\",'4. Analyseer opbouw van object'!J194)","v":""},null,null,null,"",null,{"$f":"IFERROR(INDEX(#REF!,MATCH(N195,#REF!,0)),\"\")","v":""},null,{"$f":"IFERROR(INDEX(#REF!,MATCH(P195,#REF!,0)),\"\")","v":""},null,{"$f":"IFERROR(INDEX(#REF!,MATCH(R195,#REF!,0)),\"\")","v":""},"","",""]
[null,183,{"$f":"IF('4. Analyseer opbouw van object'!B195=\"\",\"\",'4. Analyseer opbouw van object'!B195)","v":""},{"$f":"IF('4. Analyseer opbouw van object'!C195=\"\",\"\",'4. Analyseer opbouw van object'!C195)","v":""},{"$f":"IF('4. Analyseer opbouw van object'!D195=\"\",\"\",'4. Analyseer opbouw van object'!D195)","v":""},{"$f":"IF('4. Analyseer opbouw van object'!E195=\"\",\"\",'4. Analyseer opbouw van object'!E195)","v":""},{"$f":"IF('4. Analyseer opbouw van object'!G195=\"\",\"\",'4. Analyseer opbouw van object'!G195)","v":""},{"$f":"IF('4. Analyseer opbouw van object'!H195=\"\",\"\",'4. Analyseer opbouw van object'!H195)","v":""},{"$f":"IF('4. Analyseer opbouw van object'!J195=\"\",\"\",'4. Analyseer opbouw van object'!J195)","v":""},null,null,null,"",null,{"$f":"IFERROR(INDEX(#REF!,MATCH(N196,#REF!,0)),\"\")","v":""},null,{"$f":"IFERROR(INDEX(#REF!,MATCH(P196,#REF!,0)),\"\")","v":""},null,{"$f":"IFERROR(INDEX(#REF!,MATCH(R196,#REF!,0)),\"\")","v":""},"","",""]
[null,184,{"$f":"IF('4. Analyseer opbouw van object'!B196=\"\",\"\",'4. Analyseer opbouw van object'!B196)","v":""},{"$f":"IF('4. Analyseer opbouw van object'!C196=\"\",\"\",'4. Analyseer opbouw van object'!C196)","v":""},{"$f":"IF('4. Analyseer opbouw van object'!D196=\"\",\"\",'4. Analyseer opbouw van object'!D196)","v":""},{"$f":"IF('4. Analyseer opbouw van object'!E196=\"\",\"\",'4. Analyseer opbouw van object'!E196)","v":""},{"$f":"IF('4. Analyseer opbouw van object'!G196=\"\",\"\",'4. Analyseer opbouw van object'!G196)","v":""},{"$f":"IF('4. Analyseer opbouw van object'!H196=\"\",\"\",'4. Analyseer opbouw van object'!H196)","v":""},{"$f":"IF('4. Analyseer opbouw van object'!J196=\"\",\"\",'4. Analyseer opbouw van object'!J196)","v":""},null,null,null,"",null,{"$f":"IFERROR(INDEX(#REF!,MATCH(N197,#REF!,0)),\"\")","v":""},null,{"$f":"IFERROR(INDEX(#REF!,MATCH(P197,#REF!,0)),\"\")","v":""},null,{"$f":"IFERROR(INDEX(#REF!,MATCH(R197,#REF!,0)),\"\")","v":""},"","",""]
[null,185,{"$f":"IF('4. Analyseer opbouw van object'!B197=\"\",\"\",'4. Analyseer opbouw van object'!B197)","v":""},{"$f":"IF('4. Analyseer opbouw van object'!C197=\"\",\"\",'4. Analyseer opbouw van object'!C197)","v":""},{"$f":"IF('4. Analyseer opbouw van object'!D197=\"\",\"\",'4. Analyseer opbouw van object'!D197)","v":""},{"$f":"IF('4. Analyseer opbouw van object'!E197=\"\",\"\",'4. Analyseer opbouw van object'!E197)","v":""},{"$f":"IF('4. Analyseer opbouw van object'!G197=\"\",\"\",'4. Analyseer opbouw van object'!G197)","v":""},{"$f":"IF('4. Analyseer opbouw van object'!H197=\"\",\"\",'4. Analyseer opbouw van object'!H197)","v":""},{"$f":"IF('4. Analyseer opbouw van object'!J197=\"\",\"\",'4. Analyseer opbouw van object'!J197)","v":""},null,null,null,"",null,{"$f":"IFERROR(INDEX(#REF!,MATCH(N198,#REF!,0)),\"\")","v":""},null,{"$f":"IFERROR(INDEX(#REF!,MATCH(P198,#REF!,0)),\"\")","v":""},null,{"$f":"IFERROR(INDEX(#REF!,MATCH(R198,#REF!,0)),\"\")","v":""},"","",""]
[null,186,{"$f":"IF('4. Analyseer opbouw van object'!B198=\"\",\"\",'4. Analyseer opbouw van object'!B198)","v":""},{"$f":"IF('4. Analyseer opbouw van object'!C198=\"\",\"\",'4. Analyseer opbouw van object'!C198)","v":""},{"$f":"IF('4. Analyseer opbouw van object'!D198=\"\",\"\",'4. Analyseer opbouw van object'!D198)","v":""},{"$f":"IF('4. Analyseer opbouw van object'!E198=\"\",\"\",'4. Analyseer opbouw van object'!E198)","v":""},{"$f":"IF('4. Analyseer opbouw van object'!G198=\"\",\"\",'4. Analyseer opbouw van object'!G198)","v":""},{"$f":"IF('4. Analyseer opbouw van object'!H198=\"\",\"\",'4. Analyseer opbouw van object'!H198)","v":""},{"$f":"IF('4. Analyseer opbouw van object'!J198=\"\",\"\",'4. Analyseer opbouw van object'!J198)","v":""},null,null,null,"",null,{"$f":"IFERROR(INDEX(#REF!,MATCH(N199,#REF!,0)),\"\")","v":""},null,{"$f":"IFERROR(INDEX(#REF!,MATCH(P199,#REF!,0)),\"\")","v":""},null,{"$f":"IFERROR(INDEX(#REF!,MATCH(R199,#REF!,0)),\"\")","v":""},"","",""]
[null,187,{"$f":"IF('4. Analyseer opbouw van object'!B199=\"\",\"\",'4. Analyseer opbouw van object'!B199)","v":""},{"$f":"IF('4. Analyseer opbouw van object'!C199=\"\",\"\",'4. Analyseer opbouw van object'!C199)","v":""},{"$f":"IF('4. Analyseer opbouw van object'!D199=\"\",\"\",'4. Analyseer opbouw van object'!D199)","v":""},{"$f":"IF('4. Analyseer opbouw van object'!E199=\"\",\"\",'4. Analyseer opbouw van object'!E199)","v":""},{"$f":"IF('4. Analyseer opbouw van object'!G199=\"\",\"\",'4. Analyseer opbouw van object'!G199)","v":""},{"$f":"IF('4. Analyseer opbouw van object'!H199=\"\",\"\",'4. Analyseer opbouw van object'!H199)","v":""},{"$f":"IF('4. Analyseer opbouw van object'!J199=\"\",\"\",'4. Analyseer opbouw van object'!J199)","v":""},null,null,null,"",null,{"$f":"IFERROR(INDEX(#REF!,MATCH(N200,#REF!,0)),\"\")","v":""},null,{"$f":"IFERROR(INDEX(#REF!,MATCH(P200,#REF!,0)),\"\")","v":""},null,{"$f":"IFERROR(INDEX(#REF!,MATCH(R200,#REF!,0)),\"\")","v":""},"","",""]
[null,188,{"$f":"IF('4. Analyseer opbouw van object'!B200=\"\",\"\",'4. Analyseer opbouw van object'!B200)","v":""},{"$f":"IF('4. Analyseer opbouw van object'!C200=\"\",\"\",'4. Analyseer opbouw van object'!C200)","v":""},{"$f":"IF('4. Analyseer opbouw van object'!D200=\"\",\"\",'4. Analyseer opbouw van object'!D200)","v":""},{"$f":"IF('4. Analyseer opbouw van object'!E200=\"\",\"\",'4. Analyseer opbouw van object'!E200)","v":""},{"$f":"IF('4. Analyseer opbouw van object'!G200=\"\",\"\",'4. Analyseer opbouw van object'!G200)","v":""},{"$f":"IF('4. Analyseer opbouw van object'!H200=\"\",\"\",'4. Analyseer opbouw van object'!H200)","v":""},{"$f":"IF('4. Analyseer opbouw van object'!J200=\"\",\"\",'4. Analyseer opbouw van object'!J200)","v":""},null,null,null,"",null,{"$f":"IFERROR(INDEX(#REF!,MATCH(N201,#REF!,0)),\"\")","v":""},null,{"$f":"IFERROR(INDEX(#REF!,MATCH(P201,#REF!,0)),\"\")","v":""},null,{"$f":"IFERROR(INDEX(#REF!,MATCH(R201,#REF!,0)),\"\")","v":""},"","",""]
[null,189,{"$f":"IF('4. Analyseer opbouw van object'!B201=\"\",\"\",'4. Analyseer opbouw van object'!B201)","v":""},{"$f":"IF('4. Analyseer opbouw van object'!C201=\"\",\"\",'4. Analyseer opbouw van object'!C201)","v":""},{"$f":"IF('4. Analyseer opbouw van object'!D201=\"\",\"\",'4. Analyseer opbouw van object'!D201)","v":""},{"$f":"IF('4. Analyseer opbouw van object'!E201=\"\",\"\",'4. Analyseer opbouw van object'!E201)","v":""},{"$f":"IF('4. Analyseer opbouw van object'!G201=\"\",\"\",'4. Analyseer opbouw van object'!G201)","v":""},{"$f":"IF('4. Analyseer opbouw van object'!H201=\"\",\"\",'4. Analyseer opbouw van object'!H201)","v":""},{"$f":"IF('4. Analyseer opbouw van object'!J201=\"\",\"\",'4. Analyseer opbouw van object'!J201)","v":""},null,null,null,"",null,{"$f":"IFERROR(INDEX(#REF!,MATCH(N202,#REF!,0)),\"\")","v":""},null,{"$f":"IFERROR(INDEX(#REF!,MATCH(P202,#REF!,0)),\"\")","v":""},null,{"$f":"IFERROR(INDEX(#REF!,MATCH(R202,#REF!,0)),\"\")","v":""},"","",""]

{"sheet":"6. Bepaal randvoorwaarden","index":7,"n_rows":6,"n_cols":2,"rows_kept":6,"cut":false,"hidden":false,"merged":[[3,1,3,10],[5,1,5,10],[4,1,4,10]]}
[]
[null,"6. Bepaal randvoorwaarden"]
[]
[null,"Om aan de theoretische losmaakbaarheidsscore toch een praktische toevoeging te geven, zijn er twee randvoorwaarden opgenomen. Deze randvoorwaarden betreffen factoren die geen scoring krijgen, maar wel relevant zijn voor de praktsiche losmaakbaarheid van het ontwerp. Deze zijn:\n- Externe factoren; \n- Functiebehoud netwerk.\n\nDe ontwerper dient na de theoretische losmaakbaarheidsbepaling bij volgende vragen stil te staan:\n\nExterne invloeden\nZijn er verbindingen die bloot worden gesteld aan externe invloeden, die de kwaliteit van de verbindingselementen aantasten?\n- Ja:\n   · Voer waar mogelijk ontwerp- of conditioneringsaanpassingen door om de verbindingselementen te beschermen (waarbij maatregelen die op een andere manier de duurzaamheid slecht beïnvloeden dienen te worden voorkomen - zoals bijv. een chemische coating), of kies voor (zover mogelijk binnen de eisen) een type verbinding waar externe invloeden niet of minder voor aantasting zorgen;\n- Nee:\n   · Geen aanvullende aandachtspunten;\n- Weet ik niet:\n   · Voer aanvullend onderzoek uit om de externe invloeden te bepalen.\n\nFunctiebehoud netwerk\nZorgt het losmaken van producten of elementen met een kortere levensduur dan die van het bovenliggende element of object, voor een verhindering van de functie van het gehele object of het netwerk waar het onderdeel van is?\n- Ja:\n   · Ga na of het mogelijk is om het ontwerp op dusdanige wijze aan te passen, dat het losmaken van het element niet meer tot hinder leidt, bijvoorbeeld door de toegankelijkheid van de verbinding of het product anders te positioneren;\n- Nee:\n   · Geen aanvullende aandachtspunten;\n- Weet ik niet:\n   · Onderzoek de mate van functiebehoud door het demonteren van elementen met het projectteam."]
[null,"Voorbeeld: vervangingen van lampen in straatverlichting, kapotte of versleten verkeersborden, kleine delen van hekwerken langs wegen of bruggen, of defecte apparatuur in een verkeersregelinstallatie, kunnen meestal snel en efficiënt worden uitgevoerd en hoeft de weg niet voor te worden afgesloten. "]
[null,"[Noteer hier je analyse van de randvoorwaarden]"]

{"sheet":"7. Analyseer resultaten","index":8,"n_rows":203,"n_cols":23,"rows_kept":203,"cut":false,"hidden":false,"merged":[[8,1,8,22],[6,1,6,22],[2,1,2,22]]}
[]
[null,"7. Analyseer concluderende vragen"]
[null,"Tabel 4 toont een samenvattend overzicht van de aanwezige producten in het ontwerp en de losmaakbaarheidsscore voor de connectie (verbinding tussen product A en product B), de samenstelling (product A) en het onderdeel (product A en de verbinding naar product B) geldt."]
[null,"Een LI van 1,0 is het best mogelijke, een LI van 0,1 het slechtst. "]
[null,"De kolom met de losmaakbaarheidsindex van het onderdeel geeft een kleurenschaal aan van hoog tot laag. Dit zijn relatieve kleurschalen."]
[]
[null,"Onderstaande vragen dienen te worden nagelopen om een beeld te krijgen in welk opzicht de losmaakbaarheid van het object voor beperkingen zorgt:\n- zijn er lage scores op onderdelen met hoge MKI, hoge massa, waarin kritieke of schaarse materialen benodigd zijn, of die een hoge economische waarde hebben?\n- zijn er lage scores op onderdelen die mogelijk hergebruikt zouden kunnen worden na einde ontwerplevensduur (bijv. standaardproducten of -elementen)?\n- zijn er lage scores op onderdelen die mogelijk aangepast moeten worden ten behoeve van functie wijzigingen?\n- zijn er lage scores op onderdelen die onderhouden dienen te worden tijdens de ontwerplevensduur?\n- zijn er lage scores op onderdelen die mogelijk gerepareerd of vervangen dienen te worden tijdens de ontwerplevensduur?\n- zijn er lage scores tussen producten met onderling afwijkende levensduren? \n- komt het onderdeel waarbij een lage score is geconstateerd, vaak voor in het ontwerp?\n--> zo ja:\n1 kunnen er ontwerpmaatregelen genomen worden om de losmaakbaarheid te verbeteren?\n2 of is er een praktische manier voorzien waarmee de producten ondanks de lage (theoretische) score, alsnog goed, zonder schade, losmaakbaar en herbruikbaar zijn?\n- zijn er lage scores bij onderdelen, waarvoor wel een praktische manier wordt voorzien om te kunnen demonteren en hergebruiken? Dan hoeft de lage score niet een probleem te zijn. Is dit het geval, licht dit dan toe in de laatste kolom van tabel 4.\n\nVoorbeeld: \neen chemisch anker is in de beoordelingsmethode geclassificeerd als vaste verbinding met een lage losmaakbaarheidsindex, maar kan in de praktijk voor lage kosten worden losgeboord. Hierdoor kunnen de elementen waar het anker in vast zat weer worden hergebruikt. In de uitvoering is deze vaste verbinding dan toch (tegen kosten) als losmaakbaar te beschouwen. In dit geval kan de gebruiker zelf beoordelen of de lage theoretische score daadwerkelijk een probleem is."]
[]
[null,"[Noteer hier je concluderende analyse]"]
[]
[null,"Tabel 4: Overzicht losmaakbaarheidsindex per product en verbinding"]
[null,null,null,"Product…",null,null,null,null,null,null,null,"… is verbonden met…"]
[null,"Elem. ID","Element","Prod. ID (A)","Product (A)","Levensduur product (A)","MKI product (A)","Massa product (A)","Schaars? product (A)","Econ. waarde product (A)","Aantal keer product (A)","Prod. ID (B)","Product (B)","Levensduur product (B)","MKI product (B)","Massa product (B)","Schaars? product (B)","Econ. waarde product (B)","Aantal keer product (B)","LI connectie","LI samenstelling","LI onderdeel","Extra toelichting of disclaimer op eindscore"]
[null,{"$f":"'5. Bepaal factoren en bereken'!C14","v":"0."},{"$f":"IF('5. Bepaal factoren en bereken'!D14=\"\", \"\",'5. Bepaal factoren en bereken'!D14)","v":"Grond"},{"$f":"'5. Bepaal factoren en bereken'!E14","v":"0.0"},{"$f":"'5. Bepaal factoren en bereken'!F14","v":"Grond"},{"$f":"'4. Analyseer opbouw van object'!F12","v":"∞"},{"$f":"IFERROR((VLOOKUP(D14,Table2[[Prod.ID]:[MKI '[EUR MKI']]],3,FALSE)),\"\")","v":"∞"},{"$f":"IFERROR((VLOOKUP(D14,Table2[[Prod.ID]:[Massa '[kg']]],4,FALSE)),\"\")","v":150},{"$f":"IFERROR((VLOOKUP(D14,Table2[[Prod.ID]:[Kritieke/ schaarse materialen?]],6,FALSE)),\"\")","v":"Nee"},{"$f":"IFERROR((VLOOKUP(D14,Table2[[Prod.ID]:[Economische waarde '[EUR']]],7,FALSE)),\"\")","v":600},{"$f":"IFERROR((VLOOKUP(D14,Table2[[Prod.ID]:[Aantal keer]],8,FALSE)),\"\")","v":1},{"$f":"'5. Bepaal factoren en bereken'!G14","v":"0.0"},{"$f":"'5. Bepaal factoren en bereken'!H14","v":"Grond"},{"$f":"'4. Analyseer opbouw van object'!I12","v":"∞"},{"$f":"IFERROR((VLOOKUP(L14,Table2[[Prod.ID]:[MKI '[EUR MKI']]],3,FALSE)),\"\")","v":"∞"},{"$f":"IFERROR((VLOOKUP(L14,Table2[[Prod.ID]:[Massa '[kg']]],4,FALSE)),\"\")","v":150},{"$f":"IFERROR((VLOOKUP(L14,Table2[[Prod.ID]:[Kritieke/ schaarse materialen?]],6,FALSE)),\"\")","v":"Nee"},{"$f":"IFERROR((VLOOKUP(L14,Table2[[Prod.ID]:[Economische waarde '[EUR']]],7,FALSE)),\"\")","v":600},{"$f":"IFERROR((VLOOKUP(L14,Table2[[Prod.ID]:[Aantal keer]],8,FALSE)),\"\")","v":1},{"$f":"'5. Bepaal factoren en bereken'!T14","v":""},{"$f":"'5. Bepaal factoren en bereken'!U14","v":""},{"$f":"IF('5. Bepaal factoren en bereken'!V14>0,'5. Bepaal factoren en bereken'!V14,\"\")","v":""}]
[null,{"$f":"'5. Bepaal factoren en bereken'!C15","v":"1."},{"$f":"IF('5. Bepaal factoren en bereken'!D15=\"\", \"\",'5. Bepaal factoren en bereken'!D15)","v":"Element1"},{"$f":"'5. Bepaal factoren en bereken'!E15","v":"1.1"},{"$f":"'5. Bepaal factoren en bereken'!F15","v":"Product1"},{"$f":"'4. Analyseer opbouw van object'!F13","v":100},{"$f":"IFERROR((VLOOKUP(D15,Table2[[Prod.ID]:[MKI '[EUR MKI']]],3,FALSE)),\"\")","v":100},{"$f":"IFERROR((VLOOKUP(D15,Table2[[Prod.ID]:[Massa '[kg']]],4,FALSE)),\"\")","v":10},{"$f":"IFERROR((VLOOKUP(D15,Table2[[Prod.ID]:[Kritieke/ schaarse materialen?]],6,FALSE)),\"\")","v":"Ja"},{"$f":"IFERROR((VLOOKUP(D15,Table2[[Prod.ID]:[Economische waarde '[EUR']]],7,FALSE)),\"\")","v":200},{"$f":"IFERROR((VLOOKUP(D15,Table2[[Prod.ID]:[Aantal keer]],8,FALSE)),\"\")","v":20},{"$f":"'5. Bepaal factoren en bereken'!G15","v":"2.1"},{"$f":"'5. Bepaal factoren en bereken'!H15","v":"Product2"},{"$f":"'4. Analyseer opbouw van object'!I13","v":100},{"$f":"IFERROR((VLOOKUP(L15,Table2[[Prod.ID]:[MKI '[EUR MKI']]],3,FALSE)),\"\")","v":100},{"$f":"IFERROR((VLOOKUP(L15,Table2[[Prod.ID]:[Massa '[kg']]],4,FALSE)),\"\")","v":80},{"$f":"IFERROR((VLOOKUP(L15,Table2[[Prod.ID]:[Kritieke/ schaarse materialen?]],6,FALSE)),\"\")","v":"Nee"},{"$f":"IFERROR((VLOOKUP(L15,Table2[[Prod.ID]:[Economische waarde '[EUR']]],7,FALSE)),\"\")","v":810},{"$f":"IFERROR((VLOOKUP(L15,Table2[[Prod.ID]:[Aantal keer]],8,FALSE)),\"\")","v":10},{"$f":"'5. Bepaal factoren en bereken'!T15","v":""},{"$f":"'5. Bepaal factoren en bereken'!U15","v":""},{"$f":"IF('5. Bepaal factoren en bereken'!V15>0,'5. Bepaal factoren en bereken'!V15,\"\")","v":""}]
[null,{"$f":"'5. Bepaal factoren en bereken'!C16","v":"2."},{"$f":"IF('5. Bepaal factoren en bereken'!D16=\"\", \"\",'5. Bepaal factoren en bereken'!D16)","v":"Element2"},{"$f":"'5. Bepaal factoren en bereken'!E16","v":"2.2"},{"$f":"'5. Bepaal factoren en bereken'!F16","v":"Product3"},{"$f":"'4. Analyseer opbouw van object'!F14","v":50},{"$f":"IFERROR((VLOOKUP(D16,Table2[[Prod.ID]:[MKI '[EUR MKI']]],3,FALSE)),\"\")","v":50},{"$f":"IFERROR((VLOOKUP(D16,Table2[[Prod.ID]:[Massa '[kg']]],4,FALSE)),\"\")","v":4},{"$f":"IFERROR((VLOOKUP(D16,Table2[[Prod.ID]:[Kritieke/ schaarse materialen?]],6,FALSE)),\"\")","v":"Nee"},{"$f":"IFERROR((VLOOKUP(D16,Table2[[Prod.ID]:[Economische waarde '[EUR']]],7,FALSE)),\"\")","v":340},{"$f":"IFERROR((VLOOKUP(D16,Table2[[Prod.ID]:[Aantal keer]],8,FALSE)),\"\")","v":5},{"$f":"'5. Bepaal factoren en bereken'!G16","v":"2.3"},{"$f":"'5. Bepaal factoren en bereken'!H16","v":"Product4"},{"$f":"'4. Analyseer opbouw van object'!I14","v":50},{"$f":"IFERROR((VLOOKUP(L16,Table2[[Prod.ID]:[MKI '[EUR MKI']]],3,FALSE)),\"\")","v":50},{"$f":"IFERROR((VLOOKUP(L16,Table2[[Prod.ID]:[Massa '[kg']]],4,FALSE)),\"\")","v":8},{"$f":"IFERROR((VLOOKUP(L16,Table2[[Prod.ID]:[Kritieke/ schaarse materialen?]],6,FALSE)),\"\")","v":"Ja"},{"$f":"IFERROR((VLOOKUP(L16,Table2[[Prod.ID]:[Economische waarde '[EUR']]],7,FALSE)),\"\")","v":22},{"$f":"IFERROR((VLOOKUP(L16,Table2[[Prod.ID]:[Aantal keer]],8,FALSE)),\"\")","v":1},{"$f":"'5. Bepaal factoren en bereken'!T16","v":""},{"$f":"'5. Bepaal factoren en bereken'!U16","v":""},{"$f":"IF('5. Bepaal factoren en bereken'!V16>0,'5. Bepaal factoren en bereken'!V16,\"\")","v":""}]
[null,{"$f":"'5. Bepaal factoren en bereken'!C17","v":"2."},{"$f":"IF('5. Bepaal factoren en bereken'!D17=\"\", \"\",'5. Bepaal factoren en bereken'!D17)","v":"Element2"},{"$f":"'5. Bepaal factoren en bereken'!E17","v":"2.3"},{"$f":"'5. Bepaal factoren en bereken'!F17","v":"Product4"},{"$f":"'4. Analyseer opbouw van object'!F15","v":50},{"$f":"IFERROR((VLOOKUP(D17,Table2[[Prod.ID]:[MKI '[EUR MKI']]],3,FALSE)),\"\")","v":50},{"$f":"IFERROR((VLOOKUP(D17,Table2[[Prod.ID]:[Massa '[kg']]],4,FALSE)),\"\")","v":8},{"$f":"IFERROR((VLOOKUP(D17,Table2[[Prod.ID]:[Kritieke/ schaarse materialen?]],6,FALSE)),\"\")","v":"Ja"},{"$f":"IFERROR((VLOOKUP(D17,Table2[[Prod.ID]:[Economische waarde '[EUR']]],7,FALSE)),\"\")","v":22},{"$f":"IFERROR((VLOOKUP(D17,Table2[[Prod.ID]:[Aantal keer]],8,FALSE)),\"\")","v":1},{"$f":"'5. Bepaal factoren en bereken'!G17","v":"2.1"},{"$f":"'5. Bepaal factoren en bereken'!H17","v":"Product2"},{"$f":"'4. Analyseer opbouw van object'!I15","v":100},{"$f":"IFERROR((VLOOKUP(L17,Table2[[Prod.ID]:[MKI '[EUR MKI']]],3,FALSE)),\"\")","v":100},{"$f":"IFERROR((VLOOKUP(L17,Table2[[Prod.ID]:[Massa '[kg']]],4,FALSE)),\"\")","v":80},{"$f":"IFERROR((VLOOKUP(L17,Table2[[Prod.ID]:[Kritieke/ schaarse materialen?]],6,FALSE)),\"\")","v":"Nee"},{"$f":"IFERROR((VLOOKUP(L17,Table2[[Prod.ID]:[Economische waarde '[EUR']]],7,FALSE)),\"\")","v":810},{"$f":"IFERROR((VLOOKUP(L17,Table2[[Prod.ID]:[Aantal keer]],8,FALSE)),\"\")","v":10},{"$f":"'5. Bepaal factoren en bereken'!T17","v":""},{"$f":"'5. Bepaal factoren en bereken'!U17","v":""},{"$f":"IF('5. Bepaal factoren en bereken'!V17>0,'5. Bepaal factoren en bereken'!V17,\"\")","v":""}]
[null,{"$f":"'5. Bepaal factoren en bereken'!C18","v":"2."},{"$f":"IF('5. Bepaal factoren en bereken'!D18=\"\", \"\",'5. Bepaal factoren en bereken'!D18)","v":"Element2"},{"$f":"'5. Bepaal factoren en bereken'!E18","v":"2.3"},{"$f":"'5. Bepaal factoren en bereken'!F18","v":"Product4"},{"$f":"'4. Analyseer opbouw van object'!F16","v":50},{"$f":"IFERROR((VLOOKUP(D18,Table2[[Prod.ID]:[MKI '[EUR MKI']]],3,FALSE)),\"\")","v":50},{"$f":"IFERROR((VLOOKUP(D18,Table2[[Prod.ID]:[Massa '[kg']]],4,FALSE)),\"\")","v":8},{"$f":"IFERROR((VLOOKUP(D18,Table2[[Prod.ID]:[Kritieke/ schaarse materialen?]],6,FALSE)),\"\")","v":"Ja"},{"$f":"IFERROR((VLOOKUP(D18,Table2[[Prod.ID]:[Economische waarde '[EUR']]],7,FALSE)),\"\")","v":22},{"$f":"IFERROR((VLOOKUP(D18,Table2[[Prod.ID]:[Aantal keer]],8,FALSE)),\"\")","v":1},{"$f":"'5. Bepaal factoren en bereken'!G18","v":"2.2"},{"$f":"'5. Bepaal factoren en bereken'!H18","v":"Product3"},{"$f":"'4. Analyseer opbouw van object'!I16","v":50},{"$f":"IFERROR((VLOOKUP(L18,Table2[[Prod.ID]:[MKI '[EUR MKI']]],3,FALSE)),\"\")","v":50},{"$f":"IFERROR((VLOOKUP(L18,Table2[[Prod.ID]:[Massa '[kg']]],4,FALSE)),\"\")","v":4},{"$f":"IFERROR((VLOOKUP(L18,Table2[[Prod.ID]:[Kritieke/ schaarse materialen?]],6,FALSE)),\"\")","v":"Nee"},{"$f":"IFERROR((VLOOKUP(L18,Table2[[Prod.ID]:[Economische waarde '[EUR']]],7,FALSE)),\"\")","v":340},{"$f":"IFERROR((VLOOKUP(L18,Table2[[Prod.ID]:[Aantal keer]],8,FALSE)),\"\")","v":5},{"$f":"'5. Bepaal factoren en bereken'!T18","v":""},{"$f":"'5. Bepaal factoren en bereken'!U18","v":""},{"$f":"IF('5. Bepaal factoren en bereken'!V18>0,'5. Bepaal factoren en bereken'!V18,\"\")","v":""}]
[null,{"$f":"'5. Bepaal factoren en bereken'!C19","v":""},{"$f":"IF('5. Bepaal factoren en bereken'!D19=\"\", \"\",'5. Bepaal factoren en bereken'!D19)","v":""},{"$f":"'5. Bepaal factoren en bereken'!E19","v":""},{"$f":"'5. Bepaal factoren en bereken'!F19","v":""},{"$f":"'4. Analyseer opbouw van object'!F17","v":""},{"$f":"IFERROR((VLOOKUP(D19,Table2[[Prod.ID]:[MKI '[EUR MKI']]],3,FALSE)),\"\")","v":""},{"$f":"IFERROR((VLOOKUP(D19,Table2[[Prod.ID]:[Massa '[kg']]],4,FALSE)),\"\")","v":""},{"$f":"IFERROR((VLOOKUP(D19,Table2[[Prod.ID]:[Kritieke/ schaarse materialen?]],6,FALSE)),\"\")","v":""},{"$f":"IFERROR((VLOOKUP(D19,Table2[[Prod.ID]:[Economische waarde '[EUR']]],7,FALSE)),\"\")","v":""},{"$f":"IFERROR((VLOOKUP(D19,Table2[[Prod.ID]:[Aantal keer]],8,FALSE)),\"\")","v":""},{"$f":"'5. Bepaal factoren en bereken'!G19","v":""},{"$f":"'5. Bepaal factoren en bereken'!H19","v":""},{"$f":"'4. Analyseer opbouw van object'!I17","v":" "},{"$f":"IFERROR((VLOOKUP(L19,Table2[[Prod.ID]:[MKI '[EUR MKI']]],3,FALSE)),\"\")","v":""},{"$f":"IFERROR((VLOOKUP(L19,Table2[[Prod.ID]:[Massa '[kg']]],4,FALSE)),\"\")","v":""},{"$f":"IFERROR((VLOOKUP(L19,Table2[[Prod.ID]:[Kritieke/ schaarse materialen?]],6,FALSE)),\"\")","v":""},{"$f":"IFERROR((VLOOKUP(L19,Table2[[Prod.ID]:[Economische waarde '[EUR']]],7,FALSE)),\"\")","v":""},{"$f":"IFERROR((VLOOKUP(L19,Table2[[Prod.ID]:[Aantal keer]],8,FALSE)),\"\")","v":""},{"$f":"'5. Bepaal factoren en bereken'!T19","v":""},{"$f":"'5. Bepaal factoren en bereken'!U19","v":""},{"$f":"IF('5. Bepaal factoren en bereken'!V19>0,'5. Bepaal factoren en bereken'!V19,\"\")","v":""}]
[null,{"$f":"'5. Bepaal factoren en bereken'!C20","v":""},{"$f":"IF('5. Bepaal factoren en bereken'!D20=\"\", \"\",'5. Bepaal factoren en bereken'!D20)","v":""},{"$f":"'5. Bepaal factoren en bereken'!E20","v":""},{"$f":"'5. Bepaal factoren en bereken'!F20","v":""},{"$f":"'4. Analyseer opbouw van object'!F18","v":""},{"$f":"IFERROR((VLOOKUP(D20,Table2[[Prod.ID]:[MKI '[EUR MKI']]],3,FALSE)),\"\")","v":""},{"$f":"IFERROR((VLOOKUP(D20,Table2[[Prod.ID]:[Massa '[kg']]],4,FALSE)),\"\")","v":""},{"$f":"IFERROR((VLOOKUP(D20,Table2[[Prod.ID]:[Kritieke/ schaarse materialen?]],6,FALSE)),\"\")","v":""},{"$f":"IFERROR((VLOOKUP(D20,Table2[[Prod.ID]:[Economische waarde '[EUR']]],7,FALSE)),\"\")","v":""},{"$f":"IFERROR((VLOOKUP(D20,Table2[[Prod.ID]:[Aantal keer]],8,FALSE)),\"\")","v":""},{"$f":"'5. Bepaal factoren en bereken'!G20","v":""},{"$f":"'5. Bepaal factoren en bereken'!H20","v":""},{"$f":"'4. Analyseer opbouw van object'!I18","v":" "},{"$f":"IFERROR((VLOOKUP(L20,Table2[[Prod.ID]:[MKI '[EUR MKI']]],3,FALSE)),\"\")","v":""},{"$f":"IFERROR((VLOOKUP(L20,Table2[[Prod.ID]:[Massa '[kg']]],4,FALSE)),\"\")","v":""},{"$f":"IFERROR((VLOOKUP(L20,Table2[[Prod.ID]:[Kritieke/ schaarse materialen?]],6,FALSE)),\"\")","v":""},{"$f":"IFERROR((VLOOKUP(L20,Table2[[Prod.ID]:[Economische waarde '[EUR']]],7,FALSE)),\"\")","v":""},{"$f":"IFERROR((VLOOKUP(L20,Table2[[Prod.ID]:[Aantal keer]],8,FALSE)),\"\")","v":""},{"$f":"'5. Bepaal factoren en bereken'!T20","v":""},{"$f":"'5. Bepaal factoren en bereken'!U20","v":""},{"$f":"IF('5. Bepaal factoren en bereken'!V20>0,'5. Bepaal factoren en bereken'!V20,\"\")","v":""}]
[null,{"$f":"'5. Bepaal factoren en bereken'!C21","v":""},{"$f":"IF('5. Bepaal factoren en bereken'!D21=\"\", \"\",'5. Bepaal factoren en bereken'!D21)","v":""},{"$f":"'5. Bepaal factoren en bereken'!E21","v":""},{"$f":"'5. Bepaal factoren en bereken'!F21","v":""},{"$f":"'4. Analyseer opbouw van object'!F19","v":""},{"$f":"IFERROR((VLOOKUP(D21,Table2[[Prod.ID]:[MKI '[EUR MKI']]],3,FALSE)),\"\")","v":""},{"$f":"IFERROR((VLOOKUP(D21,Table2[[Prod.ID]:[Massa '[kg']]],4,FALSE)),\"\")","v":""},{"$f":"IFERROR((VLOOKUP(D21,Table2[[Prod.ID]:[Kritieke/ schaarse materialen?]],6,FALSE)),\"\")","v":""},{"$f":"IFERROR((VLOOKUP(D21,Table2[[Prod.ID]:[Economische waarde '[EUR']]],7,FALSE)),\"\")","v":""},{"$f":"IFERROR((VLOOKUP(D21,Table2[[Prod.ID]:[Aantal keer]],8,FALSE)),\"\")","v":""},{"$f":"'5. Bepaal factoren en bereken'!G21","v":""},{"$f":"'5. Bepaal factoren en bereken'!H21","v":""},{"$f":"'4. Analyseer opbouw van object'!I19","v":" "},{"$f":"IFERROR((VLOOKUP(L21,Table2[[Prod.ID]:[MKI '[EUR MKI']]],3,FALSE)),\"\")","v":""},{"$f":"IFERROR((VLOOKUP(L21,Table2[[Prod.ID]:[Massa '[kg']]],4,FALSE)),\"\")","v":""},{"$f":"IFERROR((VLOOKUP(L21,Table2[[Prod.ID]:[Kritieke/ schaarse materialen?]],6,FALSE)),\"\")","v":""},{"$f":"IFERROR((VLOOKUP(L21,Table2[[Prod.ID]:[Economische waarde '[EUR']]],7,FALSE)),\"\")","v":""},{"$f":"IFERROR((VLOOKUP(L21,Table2[[Prod.ID]:[Aantal keer]],8,FALSE)),\"\")","v":""},{"$f":"'5. Bepaal factoren en bereken'!T21","v":""},{"$f":"'5. Bepaal factoren en bereken'!U21","v":""},{"$f":"IF('5. Bepaal factoren en bereken'!V21>0,'5. Bepaal factoren en bereken'!V21,\"\")","v":""}]
[null,{"$f":"'5. Bepaal factoren en bereken'!C22","v":""},{"$f":"IF('5. Bepaal factoren en bereken'!D22=\"\", \"\",'5. Bepaal factoren en bereken'!D22)","v":""},{"$f":"'5. Bepaal factoren en bereken'!E22","v":""},{"$f":"'5. Bepaal factoren en bereken'!F22","v":""},{"$f":"'4. Analyseer opbouw van object'!F20","v":""},{"$f":"IFERROR((VLOOKUP(D22,Table2[[Prod.ID]:[MKI '[EUR MKI']]],3,FALSE)),\"\")","v":""},{"$f":"IFERROR((VLOOKUP(D22,Table2[[Prod.ID]:[Massa '[kg']]],4,FALSE)),\"\")","v":""},{"$f":"IFERROR((VLOOKUP(D22,Table2[[Prod.ID]:[Kritieke/ schaarse materialen?]],6,FALSE)),\"\")","v":""},{"$f":"IFERROR((VLOOKUP(D22,Table2[[Prod.ID]:[Economische waarde '[EUR']]],7,FALSE)),\"\")","v":""},{"$f":"IFERROR((VLOOKUP(D22,Table2[[Prod.ID]:[Aantal keer]],8,FALSE)),\"\")","v":""},{"$f":"'5. Bepaal factoren en bereken'!G22","v":""},{"$f":"'5. Bepaal factoren en bereken'!H22","v":""},{"$f":"'4. Analyseer opbouw van object'!I20","v":" "},{"$f":"IFERROR((VLOOKUP(L22,Table2[[Prod.ID]:[MKI '[EUR MKI']]],3,FALSE)),\"\")","v":""},{"$f":"IFERROR((VLOOKUP(L22,Table2[[Prod.ID]:[Massa '[kg']]],4,FALSE)),\"\")","v":""},{"$f":"IFERROR((VLOOKUP(L22,Table2[[Prod.ID]:[Kritieke/ schaarse materialen?]],6,FALSE)),\"\")","v":""},{"$f":"IFERROR((VLOOKUP(L22,Table2[[Prod.ID]:[Economische waarde '[EUR']]],7,FALSE)),\"\")","v":""},{"$f":"IFERROR((VLOOKUP(L22,Table2[[Prod.ID]:[Aantal keer]],8,FALSE)),\"\")","v":""},{"$f":"'5. Bepaal factoren en bereken'!T22","v":""},{"$f":"'5. Bepaal factoren en bereken'!U22","v":""},{"$f":"IF('5. Bepaal factoren en bereken'!V22>0,'5. Bepaal factoren en bereken'!V22,\"\")","v":""}]
[null,{"$f":"'5. Bepaal factoren en bereken'!C23","v":""},{"$f":"IF('5. Bepaal factoren en bereken'!D23=\"\", \"\",'5. Bepaal factoren en bereken'!D23)","v":""},{"$f":"'5. Bepaal factoren en bereken'!E23","v":""},{"$f":"'5. Bepaal factoren en bereken'!F23","v":""},{"$f":"'4. Analyseer opbouw van object'!F21","v":""},{"$f":"IFERROR((VLOOKUP(D23,Table2[[Prod.ID]:[MKI '[EUR MKI']]],3,FALSE)),\"\")","v":""},{"$f":"IFERROR((VLOOKUP(D23,Table2[[Prod.ID]:[Massa '[kg']]],4,FALSE)),\"\")","v":""},{"$f":"IFERROR((VLOOKUP(D23,Table2[[Prod.ID]:[Kritieke/ schaarse materialen?]],6,FALSE)),\"\")","v":""},{"$f":"IFERROR((VLOOKUP(D23,Table2[[Prod.ID]:[Economische waarde '[EUR']]],7,FALSE)),\"\")","v":""},{"$f":"IFERROR((VLOOKUP(D23,Table2[[Prod.ID]:[Aantal keer]],8,FALSE)),\"\")","v":""},{"$f":"'5. Bepaal factoren en bereken'!G23","v":""},{"$f":"'5. Bepaal factoren en bereken'!H23","v":""},{"$f":"'4. Analyseer opbouw van object'!I21","v":" "},{"$f":"IFERROR((VLOOKUP(L23,Table2[[Prod.ID]:[MKI '[EUR MKI']]],3,FALSE)),\"\")","v":""},{"$f":"IFERROR((VLOOKUP(L23,Table2[[Prod.ID]:[Massa '[kg']]],4,FALSE)),\"\")","v":""},{"$f":"IFERROR((VLOOKUP(L23,Table2[[Prod.ID]:[Kritieke/ schaarse materialen?]],6,FALSE)),\"\")","v":""},{"$f":"IFERROR((VLOOKUP(L23,Table2[[Prod.ID]:[Economische waarde '[EUR']]],7,FALSE)),\"\")","v":""},{"$f":"IFERROR((VLOOKUP(L23,Table2[[Prod.ID]:[Aantal keer]],8,FALSE)),\"\")","v":""},{"$f":"'5. Bepaal factoren en bereken'!T23","v":""},{"$f":"'5. Bepaal factoren en bereken'!U23","v":""},{"$f":"IF('5. Bepaal factoren en bereken'!V23>0,'5. Bepaal factoren en bereken'!V23,\"\")","v":""}]
[null,{"$f":"'5. Bepaal factoren en bereken'!C24","v":""},{"$f":"IF('5. Bepaal factoren en bereken'!D24=\"\", \"\",'5. Bepaal factoren en bereken'!D24)","v":""},{"$f":"'5. Bepaal factoren en bereken'!E24","v":""},{"$f":"'5. Bepaal factoren en bereken'!F24","v":""},{"$f":"'4. Analyseer opbouw van object'!F22","v":""},{"$f":"IFERROR((VLOOKUP(D24,Table2[[Prod.ID]:[MKI '[EUR MKI']]],3,FALSE)),\"\")","v":""},{"$f":"IFERROR((VLOOKUP(D24,Table2[[Prod.ID]:[Massa '[kg']]],4,FALSE)),\"\")","v":""},{"$f":"IFERROR((VLOOKUP(D24,Table2[[Prod.ID]:[Kritieke/ schaarse materialen?]],6,FALSE)),\"\")","v":""},{"$f":"IFERROR((VLOOKUP(D24,Table2[[Prod.ID]:[Economische waarde '[EUR']]],7,FALSE)),\"\")","v":""},{"$f":"IFERROR((VLOOKUP(D24,Table2[[Prod.ID]:[Aantal keer]],8,FALSE)),\"\")","v":""},{"$f":"'5. Bepaal factoren en bereken'!G24","v":""},{"$f":"'5. Bepaal factoren en bereken'!H24","v":""},{"$f":"'4. Analyseer opbouw van object'!I22","v":" "},{"$f":"IFERROR((VLOOKUP(L24,Table2[[Prod.ID]:[MKI '[EUR MKI']]],3,FALSE)),\"\")","v":""},{"$f":"IFERROR((VLOOKUP(L24,Table2[[Prod.ID]:[Massa '[kg']]],4,FALSE)),\"\")","v":""},{"$f":"IFERROR((VLOOKUP(L24,Table2[[Prod.ID]:[Kritieke/ schaarse materialen?]],6,FALSE)),\"\")","v":""},{"$f":"IFERROR((VLOOKUP(L24,Table2[[Prod.ID]:[Economische waarde '[EUR']]],7,FALSE)),\"\")","v":""},{"$f":"IFERROR((VLOOKUP(L24,Table2[[Prod.ID]:[Aantal keer]],8,FALSE)),\"\")","v":""},{"$f":"'5. Bepaal factoren en bereken'!T24","v":""},{"$f":"'5. Bepaal factoren en bereken'!U24","v":""},{"$f":"IF('5. Bepaal factoren en bereken'!V24>0,'5. Bepaal factoren en bereken'!V24,\"\")","v":""}]
[null,{"$f":"'5. Bepaal factoren en bereken'!C25","v":""},{"$f":"IF('5. Bepaal factoren en bereken'!D25=\"\", \"\",'5. Bepaal factoren en bereken'!D25)","v":""},{"$f":"'5. Bepaal factoren en bereken'!E25","v":""},{"$f":"'5. Bepaal factoren en bereken'!F25","v":""},{"$f":"'4. Analyseer opbouw van object'!F23","v":""},{"$f":"IFERROR((VLOOKUP(D25,Table2[[Prod.ID]:[MKI '[EUR MKI']]],3,FALSE)),\"\")","v":""},{"$f":"IFERROR((VLOOKUP(D25,Table2[[Prod.ID]:[Massa '[kg']]],4,FALSE)),\"\")","v":""},{"$f":"IFERROR((VLOOKUP(D25,Table2[[Prod.ID]:[Kritieke/ schaarse materialen?]],6,FALSE)),\"\")","v":""},{"$f":"IFERROR((VLOOKUP(D25,Table2[[Prod.ID]:[Economische waarde '[EUR']]],7,FALSE)),\"\")","v":""},{"$f":"IFERROR((VLOOKUP(D25,Table2[[Prod.ID]:[Aantal keer]],8,FALSE)),\"\")","v":""},{"$f":"'5. Bepaal factoren en bereken'!G25","v":""},{"$f":"'5. Bepaal factoren en bereken'!H25","v":""},{"$f":"'4. Analyseer opbouw van object'!I23","v":" "},{"$f":"IFERROR((VLOOKUP(L25,Table2[[Prod.ID]:[MKI '[EUR MKI']]],3,FALSE)),\"\")","v":""},{"$f":"IFERROR((VLOOKUP(L25,Table2[[Prod.ID]:[Massa '[kg']]],4,FALSE)),\"\")","v":""},{"$f":"IFERROR((VLOOKUP(L25,Table2[[Prod.ID]:[Kritieke/ schaarse materialen?]],6,FALSE)),\"\")","v":""},{"$f":"IFERROR((VLOOKUP(L25,Table2[[Prod.ID]:[Economische waarde '[EUR']]],7,FALSE)),\"\")","v":""},{"$f":"IFERROR((VLOOKUP(L25,Table2[[Prod.ID]:[Aantal keer]],8,FALSE)),\"\")","v":""},{"$f":"'5. Bepaal factoren en bereken'!T25","v":""},{"$f":"'5. Bepaal factoren en bereken'!U25","v":""},{"$f":"IF('5. Bepaal factoren en bereken'!V25>0,'5. Bepaal factoren en bereken'!V25,\"\")","v":""}]
[null,{"$f":"'5. Bepaal factoren en bereken'!C26","v":""},{"$f":"IF('5. Bepaal factoren en bereken'!D26=\"\", \"\",'5. Bepaal factoren en bereken'!D26)","v":""},{"$f":"'5. Bepaal factoren en bereken'!E26","v":""},{"$f":"'5. Bepaal factoren en bereken'!F26","v":""},{"$f":"'4. Analyseer opbouw van object'!F24","v":""},{"$f":"IFERROR((VLOOKUP(D26,Table2[[Prod.ID]:[MKI '[EUR MKI']]],3,FALSE)),\"\")","v":""},{"$f":"IFERROR((VLOOKUP(D26,Table2[[Prod.ID]:[Massa '[kg']]],4,FALSE)),\"\")","v":""},{"$f":"IFERROR((VLOOKUP(D26,Table2[[Prod.ID]:[Kritieke/ schaarse materialen?]],6,FALSE)),\"\")","v":""},{"$f":"IFERROR((VLOOKUP(D26,Table2[[Prod.ID]:[Economische waarde '[EUR']]],7,FALSE)),\"\")","v":""},{"$f":"IFERROR((VLOOKUP(D26,Table2[[Prod.ID]:[Aantal keer]],8,FALSE)),\"\")","v":""},{"$f":"'5. Bepaal factoren en bereken'!G26","v":""},{"$f":"'5. Bepaal factoren en bereken'!H26","v":""},{"$f":"'4. Analyseer opbouw van object'!I24","v":" "},{"$f":"IFERROR((VLOOKUP(L26,Table2[[Prod.ID]:[MKI '[EUR MKI']]],3,FALSE)),\"\")","v":""},{"$f":"IFERROR((VLOOKUP(L26,Table2[[Prod.ID]:[Massa '[kg']]],4,FALSE)),\"\")","v":""},{"$f":"IFERROR((VLOOKUP(L26,Table2[[Prod.ID]:[Kritieke/ schaarse materialen?]],6,FALSE)),\"\")","v":""},{"$f":"IFERROR((VLOOKUP(L26,Table2[[Prod.ID]:[Economische waarde '[EUR']]],7,FALSE)),\"\")","v":""},{"$f":"IFERROR((VLOOKUP(L26,Table2[[Prod.ID]:[Aantal keer]],8,FALSE)),\"\")","v":""},{"$f":"'5. Bepaal factoren en bereken'!T26","v":""},{"$f":"'5. Bepaal factoren en bereken'!U26","v":""},{"$f":"IF('5. Bepaal factoren en bereken'!V26>0,'5. Bepaal factoren en bereken'!V26,\"\")","v":""}]
[null,{"$f":"'5. Bepaal factoren en bereken'!C27","v":""},{"$f":"IF('5. Bepaal factoren en bereken'!D27=\"\", \"\",'5. Bepaal factoren en bereken'!D27)","v":""},{"$f":"'5. Bepaal factoren en bereken'!E27","v":""},{"$f":"'5. Bepaal factoren en bereken'!F27","v":""},{"$f":"'4. Analyseer opbouw van object'!F25","v":""},{"$f":"IFERROR((VLOOKUP(D27,Table2[[Prod.ID]:[MKI '[EUR MKI']]],3,FALSE)),\"\")","v":""},{"$f":"IFERROR((VLOOKUP(D27,Table2[[Prod.ID]:[Massa '[kg']]],4,FALSE)),\"\")","v":""},{"$f":"IFERROR((VLOOKUP(D27,Table2[[Prod.ID]:[Kritieke/ schaarse materialen?]],6,FALSE)),\"\")","v":""},{"$f":"IFERROR((VLOOKUP(D27,Table2[[Prod.ID]:[Economische waarde '[EUR']]],7,FALSE)),\"\")","v":""},{"$f":"IFERROR((VLOOKUP(D27,Table2[[Prod.ID]:[Aantal keer]],8,FALSE)),\"\")","v":""},{"$f":"'5. Bepaal factoren en bereken'!G27","v":""},{"$f":"'5. Bepaal factoren en bereken'!H27","v":""},{"$f":"'4. Analyseer opbouw van object'!I25","v":" "},{"$f":"IFERROR((VLOOKUP(L27,Table2[[Prod.ID]:[MKI '[EUR MKI']]],3,FALSE)),\"\")","v":""},{"$f":"IFERROR((VLOOKUP(L27,Table2[[Prod.ID]:[Massa '[kg']]],4,FALSE)),\"\")","v":""},{"$f":"IFERROR((VLOOKUP(L27,Table2[[Prod.ID]:[Kritieke/ schaarse materialen?]],6,FALSE)),\"\")","v":""},{"$f":"IFERROR((VLOOKUP(L27,Table2[[Prod.ID]:[Economische waarde '[EUR']]],7,FALSE)),\"\")","v":""},{"$f":"IFERROR((VLOOKUP(L27,Table2[[Prod.ID]:[Aantal keer]],8,FALSE)),\"\")","v":""},{"$f":"'5. Bepaal factoren en bereken'!T27","v":""},{"$f":"'5. Bepaal factoren en bereken'!U27","v":""},{"$f":"IF('5. Bepaal factoren en bereken'!V27>0,'5. Bepaal factoren en bereken'!V27,\"\")","v":""}]
[null,{"$f":"'5. Bepaal factoren en bereken'!C28","v":""},{"$f":"IF('5. Bepaal factoren en bereken'!D28=\"\", \"\",'5. Bepaal factoren en bereken'!D28)","v":""},{"$f":"'5. Bepaal factoren en bereken'!E28","v":""},{"$f":"'5. Bepaal factoren en bereken'!F28","v":""},{"$f":"'4. Analyseer opbouw van object'!F26","v":""},{"$f":"IFERROR((VLOOKUP(D28,Table2[[Prod.ID]:[MKI '[EUR MKI']]],3,FALSE)),\"\")","v":""},{"$f":"IFERROR((VLOOKUP(D28,Table2[[Prod.ID]:[Massa '[kg']]],4,FALSE)),\"\")","v":""},{"$f":"IFERROR((VLOOKUP(D28,Table2[[Prod.ID]:[Kritieke/ schaarse materialen?]],6,FALSE)),\"\")","v":""},{"$f":"IFERROR((VLOOKUP(D28,Table2[[Prod.ID]:[Economische waarde '[EUR']]],7,FALSE)),\"\")","v":""},{"$f":"IFERROR((VLOOKUP(D28,Table2[[Prod.ID]:[Aantal keer]],8,FALSE)),\"\")","v":""},{"$f":"'5. Bepaal factoren en bereken'!G28","v":""},{"$f":"'5. Bepaal factoren en bereken'!H28","v":""},{"$f":"'4. Analyseer opbouw van object'!I26","v":" "},{"$f":"IFERROR((VLOOKUP(L28,Table2[[Prod.ID]:[MKI '[EUR MKI']]],3,FALSE)),\"\")","v":""},{"$f":"IFERROR((VLOOKUP(L28,Table2[[Prod.ID]:[Massa '[kg']]],4,FALSE)),\"\")","v":""},{"$f":"IFERROR((VLOOKUP(L28,Table2[[Prod.ID]:[Kritieke/ schaarse materialen?]],6,FALSE)),\"\")","v":""},{"$f":"IFERROR((VLOOKUP(L28,Table2[[Prod.ID]:[Economische waarde '[EUR']]],7,FALSE)),\"\")","v":""},{"$f":"IFERROR((VLOOKUP(L28,Table2[[Prod.ID]:[Aantal keer]],8,FALSE)),\"\")","v":""},{"$f":"'5. Bepaal factoren en bereken'!T28","v":""},{"$f":"'5. Bepaal factoren en bereken'!U28","v":""},{"$f":"IF('5. Bepaal factoren en bereken'!V28>0,'5. Bepaal factoren en bereken'!V28,\"\")","v":""}]
[null,{"$f":"'5. Bepaal factoren en bereken'!C29","v":""},{"$f":"IF('5. Bepaal factoren en bereken'!D29=\"\", \"\",'5. Bepaal factoren en bereken'!D29)","v":""},{"$f":"'5. Bepaal factoren en bereken'!E29","v":""},{"$f":"'5. Bepaal factoren en bereken'!F29","v":""},{"$f":"'4. Analyseer opbouw van object'!F27","v":""},{"$f":"IFERROR((VLOOKUP(D29,Table2[[Prod.ID]:[MKI '[EUR MKI']]],3,FALSE)),\"\")","v":""},{"$f":"IFERROR((VLOOKUP(D29,Table2[[Prod.ID]:[Massa '[kg']]],4,FALSE)),\"\")","v":""},{"$f":"IFERROR((VLOOKUP(D29,Table2[[Prod.ID]:[Kritieke/ schaarse materialen?]],6,FALSE)),\"\")","v":""},{"$f":"IFERROR((VLOOKUP(D29,Table2[[Prod.ID]:[Economische waarde '[EUR']]],7,FALSE)),\"\")","v":""},{"$f":"IFERROR((VLOOKUP(D29,Table2[[Prod.ID]:[Aantal keer]],8,FALSE)),\"\")","v":""},{"$f":"'5. Bepaal factoren en bereken'!G29","v":""},{"$f":"'5. Bepaal factoren en bereken'!H29","v":""},{"$f":"'4. Analyseer opbouw van object'!I28","v":" "},{"$f":"IFERROR((VLOOKUP(L29,Table2[[Prod.ID]:[MKI '[EUR MKI']]],3,FALSE)),\"\")","v":""},{"$f":"IFERROR((VLOOKUP(L29,Table2[[Prod.ID]:[Massa '[kg']]],4,FALSE)),\"\")","v":""},{"$f":"IFERROR((VLOOKUP(L29,Table2[[Prod.ID]:[Kritieke/ schaarse materialen?]],6,FALSE)),\"\")","v":""},{"$f":"IFERROR((VLOOKUP(L29,Table2[[Prod.ID]:[Economische waarde '[EUR']]],7,FALSE)),\"\")","v":""},{"$f":"IFERROR((VLOOKUP(L29,Table2[[Prod.ID]:[Aantal keer]],8,FALSE)),\"\")","v":""},{"$f":"'5. Bepaal factoren en bereken'!T29","v":""},{"$f":"'5. Bepaal factoren en bereken'!U29","v":""},{"$f":"IF('5. Bepaal factoren en bereken'!V29>0,'5. Bepaal factoren en bereken'!V29,\"\")","v":""}]
[null,{"$f":"'5. Bepaal factoren en bereken'!C30","v":""},{"$f":"IF('5. Bepaal factoren en bereken'!D30=\"\", \"\",'5. Bepaal factoren en bereken'!D30)","v":""},{"$f":"'5. Bepaal factoren en bereken'!E30","v":""},{"$f":"'5. Bepaal factoren en bereken'!F30","v":""},{"$f":"'4. Analyseer opbouw van object'!F28","v":""},{"$f":"IFERROR((VLOOKUP(D30,Table2[[Prod.ID]:[MKI '[EUR MKI']]],3,FALSE)),\"\")","v":""},{"$f":"IFERROR((VLOOKUP(D30,Table2[[Prod.ID]:[Massa '[kg']]],4,FALSE)),\"\")","v":""},{"$f":"IFERROR((VLOOKUP(D30,Table2[[Prod.ID]:[Kritieke/ schaarse materialen?]],6,FALSE)),\"\")","v":""},{"$f":"IFERROR((VLOOKUP(D30,Table2[[Prod.ID]:[Economische waarde '[EUR']]],7,FALSE)),\"\")","v":""},{"$f":"IFERROR((VLOOKUP(D30,Table2[[Prod.ID]:[Aantal keer]],8,FALSE)),\"\")","v":""},{"$f":"'5. Bepaal factoren en bereken'!G30","v":""},{"$f":"'5. Bepaal factoren en bereken'!H30","v":""},{"$f":"'4. Analyseer opbouw van object'!I29","v":" "},{"$f":"IFERROR((VLOOKUP(L30,Table2[[Prod.ID]:[MKI '[EUR MKI']]],3,FALSE)),\"\")","v":""},{"$f":"IFERROR((VLOOKUP(L30,Table2[[Prod.ID]:[Massa '[kg']]],4,FALSE)),\"\")","v":""},{"$f":"IFERROR((VLOOKUP(L30,Table2[[Prod.ID]:[Kritieke/ schaarse materialen?]],6,FALSE)),\"\")","v":""},{"$f":"IFERROR((VLOOKUP(L30,Table2[[Prod.ID]:[Economische waarde '[EUR']]],7,FALSE)),\"\")","v":""},{"$f":"IFERROR((VLOOKUP(L30,Table2[[Prod.ID]:[Aantal keer]],8,FALSE)),\"\")","v":""},{"$f":"'5. Bepaal factoren en bereken'!T30","v":""},{"$f":"'5. Bepaal factoren en bereken'!U30","v":""},{"$f":"IF('5. Bepaal factoren en bereken'!V30>0,'5. Bepaal factoren en bereken'!V30,\"\")","v":""}]
[null,{"$f":"'5. Bepaal factoren en bereken'!C31","v":""},{"$f":"IF('5. Bepaal factoren en bereken'!D31=\"\", \"\",'5. Bepaal factoren en bereken'!D31)","v":""},{"$f":"'5. Bepaal factoren en bereken'!E31","v":""},{"$f":"'5. Bepaal factoren en bereken'!F31","v":""},{"$f":"'4. Analyseer opbouw van object'!F29","v":""},{"$f":"IFERROR((VLOOKUP(D31,Table2[[Prod.ID]:[MKI '[EUR MKI']]],3,FALSE)),\"\")","v":""},{"$f":"IFERROR((VLOOKUP(D31,Table2[[Prod.ID]:[Massa '[kg']]],4,FALSE)),\"\")","v":""},{"$f":"IFERROR((VLOOKUP(D31,Table2[[Prod.ID]:[Kritieke/ schaarse materialen?]],6,FALSE)),\"\")","v":""},{"$f":"IFERROR((VLOOKUP(D31,Table2[[Prod.ID]:[Economische waarde '[EUR']]],7,FALSE)),\"\")","v":""},{"$f":"IFERROR((VLOOKUP(D31,Table2[[Prod.ID]:[Aantal keer]],8,FALSE)),\"\")","v":""},{"$f":"'5. Bepaal factoren en bereken'!G31","v":""},{"$f":"'5. Bepaal factoren en bereken'!H31","v":""},{"$f":"'4. Analyseer opbouw van object'!I30","v":" "},{"$f":"IFERROR((VLOOKUP(L31,Table2[[Prod.ID]:[MKI '[EUR MKI']]],3,FALSE)),\"\")","v":""},{"$f":"IFERROR((VLOOKUP(L31,Table2[[Prod.ID]:[Massa '[kg']]],4,FALSE)),\"\")","v":""},{"$f":"IFERROR((VLOOKUP(L31,Table2[[Prod.ID]:[Kritieke/ schaarse materialen?]],6,FALSE)),\"\")","v":""},{"$f":"IFERROR((VLOOKUP(L31,Table2[[Prod.ID]:[Economische waarde '[EUR']]],7,FALSE)),\"\")","v":""},{"$f":"IFERROR((VLOOKUP(L31,Table2[[Prod.ID]:[Aantal keer]],8,FALSE)),\"\")","v":""},{"$f":"'5. Bepaal factoren en bereken'!T31","v":""},{"$f":"'5. Bepaal factoren en bereken'!U31","v":""},{"$f":"IF('5. Bepaal factoren en bereken'!V31>0,'5. Bepaal factoren en bereken'!V31,\"\")","v":""}]
[null,{"$f":"'5. Bepaal factoren en bereken'!C32","v":""},{"$f":"IF('5. Bepaal factoren en bereken'!D32=\"\", \"\",'5. Bepaal factoren en bereken'!D32)","v":""},{"$f":"'5. Bepaal factoren en bereken'!E32","v":""},{"$f":"'5. Bepaal factoren en bereken'!F32","v":""},{"$f":"'4. Analyseer opbouw van object'!F30","v":""},{"$f":"IFERROR((VLOOKUP(D32,Table2[[Prod.ID]:[MKI '[EUR MKI']]],3,FALSE)),\"\")","v":""},{"$f":"IFERROR((VLOOKUP(D32,Table2[[Prod.ID]:[Massa '[kg']]],4,FALSE)),\"\")","v":""},{"$f":"IFERROR((VLOOKUP(D32,Table2[[Prod.ID]:[Kritieke/ schaarse materialen?]],6,FALSE)),\"\")","v":""},{"$f":"IFERROR((VLOOKUP(D32,Table2[[Prod.ID]:[Economische waarde '[EUR']]],7,FALSE)),\"\")","v":""},{"$f":"IFERROR((VLOOKUP(D32,Table2[[Prod.ID]:[Aantal keer]],8,FALSE)),\"\")","v":""},{"$f":"'5. Bepaal factoren en bereken'!G32","v":""},{"$f":"'5. Bepaal factoren en bereken'!H32","v":""},{"$f":"'4. Analyseer opbouw van object'!I31","v":" "},{"$f":"IFERROR((VLOOKUP(L32,Table2[[Prod.ID]:[MKI '[EUR MKI']]],3,FALSE)),\"\")","v":""},{"$f":"IFERROR((VLOOKUP(L32,Table2[[Prod.ID]:[Massa '[kg']]],4,FALSE)),\"\")","v":""},{"$f":"IFERROR((VLOOKUP(L32,Table2[[Prod.ID]:[Kritieke/ schaarse materialen?]],6,FALSE)),\"\")","v":""},{"$f":"IFERROR((VLOOKUP(L32,Table2[[Prod.ID]:[Economische waarde '[EUR']]],7,FALSE)),\"\")","v":""},{"$f":"IFERROR((VLOOKUP(L32,Table2[[Prod.ID]:[Aantal keer]],8,FALSE)),\"\")","v":""},{"$f":"'5. Bepaal factoren en bereken'!T32","v":""},{"$f":"'5. Bepaal factoren en bereken'!U32","v":""},{"$f":"IF('5. Bepaal factoren en bereken'!V32>0,'5. Bepaal factoren en bereken'!V32,\"\")","v":""}]
[null,{"$f":"'5. Bepaal factoren en bereken'!C33","v":""},{"$f":"IF('5. Bepaal factoren en bereken'!D33=\"\", \"\",'5. Bepaal factoren en bereken'!D33)","v":""},{"$f":"'5. Bepaal factoren en bereken'!E33","v":""},{"$f":"'5. Bepaal factoren en bereken'!F33","v":""},{"$f":"'4. Analyseer opbouw van object'!F31","v":""},{"$f":"IFERROR((VLOOKUP(D33,Table2[[Prod.ID]:[MKI '[EUR MKI']]],3,FALSE)),\"\")","v":""},{"$f":"IFERROR((VLOOKUP(D33,Table2[[Prod.ID]:[Massa '[kg']]],4,FALSE)),\"\")","v":""},{"$f":"IFERROR((VLOOKUP(D33,Table2[[Prod.ID]:[Kritieke/ schaarse materialen?]],6,FALSE)),\"\")","v":""},{"$f":"IFERROR((VLOOKUP(D33,Table2[[Prod.ID]:[Economische waarde '[EUR']]],7,FALSE)),\"\")","v":""},{"$f":"IFERROR((VLOOKUP(D33,Table2[[Prod.ID]:[Aantal keer]],8,FALSE)),\"\")","v":""},{"$f":"'5. Bepaal factoren en bereken'!G33","v":""},{"$f":"'5. Bepaal factoren en bereken'!H33","v":""},{"$f":"'4. Analyseer opbouw van object'!I32","v":" "},{"$f":"IFERROR((VLOOKUP(L33,Table2[[Prod.ID]:[MKI '[EUR MKI']]],3,FALSE)),\"\")","v":""},{"$f":"IFERROR((VLOOKUP(L33,Table2[[Prod.ID]:[Massa '[kg']]],4,FALSE)),\"\")","v":""},{"$f":"IFERROR((VLOOKUP(L33,Table2[[Prod.ID]:[Kritieke/ schaarse materialen?]],6,FALSE)),\"\")","v":""},{"$f":"IFERROR((VLOOKUP(L33,Table2[[Prod.ID]:[Economische waarde '[EUR']]],7,FALSE)),\"\")","v":""},{"$f":"IFERROR((VLOOKUP(L33,Table2[[Prod.ID]:[Aantal keer]],8,FALSE)),\"\")","v":""},{"$f":"'5. Bepaal factoren en bereken'!T33","v":""},{"$f":"'5. Bepaal factoren en bereken'!U33","v":""},{"$f":"IF('5. Bepaal factoren en bereken'!V33>0,'5. Bepaal factoren en bereken'!V33,\"\")","v":""}]
[null,{"$f":"'5. Bepaal factoren en bereken'!C34","v":""},{"$f":"IF('5. Bepaal factoren en bereken'!D34=\"\", \"\",'5. Bepaal factoren en bereken'!D34)","v":""},{"$f":"'5. Bepaal factoren en bereken'!E34","v":""},{"$f":"'5. Bepaal factoren en bereken'!F34","v":""},{"$f":"'4. Analyseer opbouw van object'!F32","v":""},{"$f":"IFERROR((VLOOKUP(D34,Table2[[Prod.ID]:[MKI '[EUR MKI']]],3,FALSE)),\"\")","v":""},{"$f":"IFERROR((VLOOKUP(D34,Table2[[Prod.ID]:[Massa '[kg']]],4,FALSE)),\"\")","v":""},{"$f":"IFERROR((VLOOKUP(D34,Table2[[Prod.ID]:[Kritieke/ schaarse materialen?]],6,FALSE)),\"\")","v":""},{"$f":"IFERROR((VLOOKUP(D34,Table2[[Prod.ID]:[Economische waarde '[EUR']]],7,FALSE)),\"\")","v":""},{"$f":"IFERROR((VLOOKUP(D34,Table2[[Prod.ID]:[Aantal keer]],8,FALSE)),\"\")","v":""},{"$f":"'5. Bepaal factoren en bereken'!G34","v":""},{"$f":"'5. Bepaal factoren en bereken'!H34","v":""},{"$f":"'4. Analyseer opbouw van object'!I33","v":" "},{"$f":"IFERROR((VLOOKUP(L34,Table2[[Prod.ID]:[MKI '[EUR MKI']]],3,FALSE)),\"\")","v":""},{"$f":"IFERROR((VLOOKUP(L34,Table2[[Prod.ID]:[Massa '[kg']]],4,FALSE)),\"\")","v":""},{"$f":"IFERROR((VLOOKUP(L34,Table2[[Prod.ID]:[Kritieke/ schaarse materialen?]],6,FALSE)),\"\")","v":""},{"$f":"IFERROR((VLOOKUP(L34,Table2[[Prod.ID]:[Economische waarde '[EUR']]],7,FALSE)),\"\")","v":""},{"$f":"IFERROR((VLOOKUP(L34,Table2[[Prod.ID]:[Aantal keer]],8,FALSE)),\"\")","v":""},{"$f":"'5. Bepaal factoren en bereken'!T34","v":""},{"$f":"'5. Bepaal factoren en bereken'!U34","v":""},{"$f":"IF('5. Bepaal factoren en bereken'!V34>0,'5. Bepaal factoren en bereken'!V34,\"\")","v":""}]
[null,{"$f":"'5. Bepaal factoren en bereken'!C35","v":""},{"$f":"IF('5. Bepaal factoren en bereken'!D35=\"\", \"\",'5. Bepaal factoren en bereken'!D35)","v":""},{"$f":"'5. Bepaal factoren en bereken'!E35","v":""},{"$f":"'5. Bepaal factoren en bereken'!F35","v":""},{"$f":"'4. Analyseer opbouw van object'!F33","v":""},{"$f":"IFERROR((VLOOKUP(D35,Table2[[Prod.ID]:[MKI '[EUR MKI']]],3,FALSE)),\"\")","v":""},{"$f":"IFERROR((VLOOKUP(D35,Table2[[Prod.ID]:[Massa '[kg']]],4,FALSE)),\"\")","v":""},{"$f":"IFERROR((VLOOKUP(D35,Table2[[Prod.ID]:[Kritieke/ schaarse materialen?]],6,FALSE)),\"\")","v":""},{"$f":"IFERROR((VLOOKUP(D35,Table2[[Prod.ID]:[Economische waarde '[EUR']]],7,FALSE)),\"\")","v":""},{"$f":"IFERROR((VLOOKUP(D35,Table2[[Prod.ID]:[Aantal keer]],8,FALSE)),\"\")","v":""},{"$f":"'5. Bepaal factoren en bereken'!G35","v":""},{"$f":"'5. Bepaal factoren en bereken'!H35","v":""},{"$f":"'4. Analyseer opbouw van object'!I34","v":" "},{"$f":"IFERROR((VLOOKUP(L35,Table2[[Prod.ID]:[MKI '[EUR MKI']]],3,FALSE)),\"\")","v":""},{"$f":"IFERROR((VLOOKUP(L35,Table2[[Prod.ID]:[Massa '[kg']]],4,FALSE)),\"\")","v":""},{"$f":"IFERROR((VLOOKUP(L35,Table2[[Prod.ID]:[Kritieke/ schaarse materialen?]],6,FALSE)),\"\")","v":""},{"$f":"IFERROR((VLOOKUP(L35,Table2[[Prod.ID]:[Economische waarde '[EUR']]],7,FALSE)),\"\")","v":""},{"$f":"IFERROR((VLOOKUP(L35,Table2[[Prod.ID]:[Aantal keer]],8,FALSE)),\"\")","v":""},{"$f":"'5. Bepaal factoren en bereken'!T35","v":""},{"$f":"'5. Bepaal factoren en bereken'!U35","v":""},{"$f":"IF('5. Bepaal factoren en bereken'!V35>0,'5. Bepaal factoren en bereken'!V35,\"\")","v":""}]
[null,{"$f":"'5. Bepaal factoren en bereken'!C36","v":""},{"$f":"IF('5. Bepaal factoren en bereken'!D36=\"\", \"\",'5. Bepaal factoren en bereken'!D36)","v":""},{"$f":"'5. Bepaal factoren en bereken'!E36","v":""},{"$f":"'5. Bepaal factoren en bereken'!F36","v":""},{"$f":"'4. Analyseer opbouw van object'!F34","v":""},{"$f":"IFERROR((VLOOKUP(D36,Table2[[Prod.ID]:[MKI '[EUR MKI']]],3,FALSE)),\"\")","v":""},{"$f":"IFERROR((VLOOKUP(D36,Table2[[Prod.ID]:[Massa '[kg']]],4,FALSE)),\"\")","v":""},{"$f":"IFERROR((VLOOKUP(D36,Table2[[Prod.ID]:[Kritieke/ schaarse materialen?]],6,FALSE)),\"\")","v":""},{"$f":"IFERROR((VLOOKUP(D36,Table2[[Prod.ID]:[Economische waarde '[EUR']]],7,FALSE)),\"\")","v":""},{"$f":"IFERROR((VLOOKUP(D36,Table2[[Prod.ID]:[Aantal keer]],8,FALSE)),\"\")","v":""},{"$f":"'5. Bepaal factoren en bereken'!G36","v":""},{"$f":"'5. Bepaal factoren en bereken'!H36","v":""},{"$f":"'4. Analyseer opbouw van object'!I35","v":" "},{"$f":"IFERROR((VLOOKUP(L36,Table2[[Prod.ID]:[MKI '[EUR MKI']]],3,FALSE)),\"\")","v":""},{"$f":"IFERROR((VLOOKUP(L36,Table2[[Prod.ID]:[Massa '[kg']]],4,FALSE)),\"\")","v":""},{"$f":"IFERROR((VLOOKUP(L36,Table2[[Prod.ID]:[Kritieke/ schaarse materialen?]],6,FALSE)),\"\")","v":""},{"$f":"IFERROR((VLOOKUP(L36,Table2[[Prod.ID]:[Economische waarde '[EUR']]],7,FALSE)),\"\")","v":""},{"$f":"IFERROR((VLOOKUP(L36,Table2[[Prod.ID]:[Aantal keer]],8,FALSE)),\"\")","v":""},{"$f":"'5. Bepaal factoren en bereken'!T36","v":""},{"$f":"'5. Bepaal factoren en bereken'!U36","v":""},{"$f":"IF('5. Bepaal factoren en bereken'!V36>0,'5. Bepaal factoren en bereken'!V36,\"\")","v":""}]
[null,{"$f":"'5. Bepaal factoren en bereken'!C37","v":""},{"$f":"IF('5. Bepaal factoren en bereken'!D37=\"\", \"\",'5. Bepaal factoren en bereken'!D37)","v":""},{"$f":"'5. Bepaal factoren en bereken'!E37","v":""},{"$f":"'5. Bepaal factoren en bereken'!F37","v":""},{"$f":"'4. Analyseer opbouw van object'!F35","v":""},{"$f":"IFERROR((VLOOKUP(D37,Table2[[Prod.ID]:[MKI '[EUR MKI']]],3,FALSE)),\"\")","v":""},{"$f":"IFERROR((VLOOKUP(D37,Table2[[Prod.ID]:[Massa '[kg']]],4,FALSE)),\"\")","v":""},{"$f":"IFERROR((VLOOKUP(D37,Table2[[Prod.ID]:[Kritieke/ schaarse materialen?]],6,FALSE)),\"\")","v":""},{"$f":"IFERROR((VLOOKUP(D37,Table2[[Prod.ID]:[Economische waarde '[EUR']]],7,FALSE)),\"\")","v":""},{"$f":"IFERROR((VLOOKUP(D37,Table2[[Prod.ID]:[Aantal keer]],8,FALSE)),\"\")","v":""},{"$f":"'5. Bepaal factoren en bereken'!G37","v":""},{"$f":"'5. Bepaal factoren en bereken'!H37","v":""},{"$f":"'4. Analyseer opbouw van object'!I36","v":" "},{"$f":"IFERROR((VLOOKUP(L37,Table2[[Prod.ID]:[MKI '[EUR MKI']]],3,FALSE)),\"\")","v":""},{"$f":"IFERROR((VLOOKUP(L37,Table2[[Prod.ID]:[Massa '[kg']]],4,FALSE)),\"\")","v":""},{"$f":"IFERROR((VLOOKUP(L37,Table2[[Prod.ID]:[Kritieke/ schaarse materialen?]],6,FALSE)),\"\")","v":""},{"$f":"IFERROR((VLOOKUP(L37,Table2[[Prod.ID]:[Economische waarde '[EUR']]],7,FALSE)),\"\")","v":""},{"$f":"IFERROR((VLOOKUP(L37,Table2[[Prod.ID]:[Aantal keer]],8,FALSE)),\"\")","v":""},{"$f":"'5. Bepaal factoren en bereken'!T37","v":""},{"$f":"'5. Bepaal factoren en bereken'!U37","v":""},{"$f":"IF('5. Bepaal factoren en bereken'!V37>0,'5. Bepaal factoren en bereken'!V37,\"\")","v":""}]
[null,{"$f":"'5. Bepaal factoren en bereken'!C38","v":""},{"$f":"IF('5. Bepaal factoren en bereken'!D38=\"\", \"\",'5. Bepaal factoren en bereken'!D38)","v":""},{"$f":"'5. Bepaal factoren en bereken'!E38","v":""},{"$f":"'5. Bepaal factoren en bereken'!F38","v":""},{"$f":"'4. Analyseer opbouw van object'!F36","v":""},{"$f":"IFERROR((VLOOKUP(D38,Table2[[Prod.ID]:[MKI '[EUR MKI']]],3,FALSE)),\"\")","v":""},{"$f":"IFERROR((VLOOKUP(D38,Table2[[Prod.ID]:[Massa '[kg']]],4,FALSE)),\"\")","v":""},{"$f":"IFERROR((VLOOKUP(D38,Table2[[Prod.ID]:[Kritieke/ schaarse materialen?]],6,FALSE)),\"\")","v":""},{"$f":"IFERROR((VLOOKUP(D38,Table2[[Prod.ID]:[Economische waarde '[EUR']]],7,FALSE)),\"\")","v":""},{"$f":"IFERROR((VLOOKUP(D38,Table2[[Prod.ID]:[Aantal keer]],8,FALSE)),\"\")","v":""},{"$f":"'5. Bepaal factoren en bereken'!G38","v":""},{"$f":"'5. Bepaal factoren en bereken'!H38","v":""},{"$f":"'4. Analyseer opbouw van object'!I37","v":" "},{"$f":"IFERROR((VLOOKUP(L38,Table2[[Prod.ID]:[MKI '[EUR MKI']]],3,FALSE)),\"\")","v":""},{"$f":"IFERROR((VLOOKUP(L38,Table2[[Prod.ID]:[Massa '[kg']]],4,FALSE)),\"\")","v":""},{"$f":"IFERROR((VLOOKUP(L38,Table2[[Prod.ID]:[Kritieke/ schaarse materialen?]],6,FALSE)),\"\")","v":""},{"$f":"IFERROR((VLOOKUP(L38,Table2[[Prod.ID]:[Economische waarde '[EUR']]],7,FALSE)),\"\")","v":""},{"$f":"IFERROR((VLOOKUP(L38,Table2[[Prod.ID]:[Aantal keer]],8,FALSE)),\"\")","v":""},{"$f":"'5. Bepaal factoren en bereken'!T38","v":""},{"$f":"'5. Bepaal factoren en bereken'!U38","v":""},{"$f":"IF('5. Bepaal factoren en bereken'!V38>0,'5. Bepaal factoren en bereken'!V38,\"\")","v":""}]
[null,{"$f":"'5. Bepaal factoren en bereken'!C39","v":""},{"$f":"IF('5. Bepaal factoren en bereken'!D39=\"\", \"\",'5. Bepaal factoren en bereken'!D39)","v":""},{"$f":"'5. Bepaal factoren en bereken'!E39","v":""},{"$f":"'5. Bepaal factoren en bereken'!F39","v":""},{"$f":"'4. Analyseer opbouw van object'!F37","v":""},{"$f":"IFERROR((VLOOKUP(D39,Table2[[Prod.ID]:[MKI '[EUR MKI']]],3,FALSE)),\"\")","v":""},{"$f":"IFERROR((VLOOKUP(D39,Table2[[Prod.ID]:[Massa '[kg']]],4,FALSE)),\"\")","v":""},{"$f":"IFERROR((VLOOKUP(D39,Table2[[Prod.ID]:[Kritieke/ schaarse materialen?]],6,FALSE)),\"\")","v":""},{"$f":"IFERROR((VLOOKUP(D39,Table2[[Prod.ID]:[Economische waarde '[EUR']]],7,FALSE)),\"\")","v":""},{"$f":"IFERROR((VLOOKUP(D39,Table2[[Prod.ID]:[Aantal keer]],8,FALSE)),\"\")","v":""},{"$f":"'5. Bepaal factoren en bereken'!G39","v":""},{"$f":"'5. Bepaal factoren en bereken'!H39","v":""},{"$f":"'4. Analyseer opbouw van object'!I38","v":" "},{"$f":"IFERROR((VLOOKUP(L39,Table2[[Prod.ID]:[MKI '[EUR MKI']]],3,FALSE)),\"\")","v":""},{"$f":"IFERROR((VLOOKUP(L39,Table2[[Prod.ID]:[Massa '[kg']]],4,FALSE)),\"\")","v":""},{"$f":"IFERROR((VLOOKUP(L39,Table2[[Prod.ID]:[Kritieke/ schaarse materialen?]],6,FALSE)),\"\")","v":""},{"$f":"IFERROR((VLOOKUP(L39,Table2[[Prod.ID]:[Economische waarde '[EUR']]],7,FALSE)),\"\")","v":""},{"$f":"IFERROR((VLOOKUP(L39,Table2[[Prod.ID]:[Aantal keer]],8,FALSE)),\"\")","v":""},{"$f":"'5. Bepaal factoren en bereken'!T39","v":""},{"$f":"'5. Bepaal factoren en bereken'!U39","v":""},{"$f":"IF('5. Bepaal factoren en bereken'!V39>0,'5. Bepaal factoren en bereken'!V39,\"\")","v":""}]
[null,{"$f":"'5. Bepaal factoren en bereken'!C40","v":""},{"$f":"IF('5. Bepaal factoren en bereken'!D40=\"\", \"\",'5. Bepaal factoren en bereken'!D40)","v":""},{"$f":"'5. Bepaal factoren en bereken'!E40","v":""},{"$f":"'5. Bepaal factoren en bereken'!F40","v":""},{"$f":"'4. Analyseer opbouw van object'!F38","v":""},{"$f":"IFERROR((VLOOKUP(D40,Table2[[Prod.ID]:[MKI '[EUR MKI']]],3,FALSE)),\"\")","v":""},{"$f":"IFERROR((VLOOKUP(D40,Table2[[Prod.ID]:[Massa '[kg']]],4,FALSE)),\"\")","v":""},{"$f":"IFERROR((VLOOKUP(D40,Table2[[Prod.ID]:[Kritieke/ schaarse materialen?]],6,FALSE)),\"\")","v":""},{"$f":"IFERROR((VLOOKUP(D40,Table2[[Prod.ID]:[Economische waarde '[EUR']]],7,FALSE)),\"\")","v":""},{"$f":"IFERROR((VLOOKUP(D40,Table2[[Prod.ID]:[Aantal keer]],8,FALSE)),\"\")","v":""},{"$f":"'5. Bepaal factoren en bereken'!G40","v":""},{"$f":"'5. Bepaal factoren en bereken'!H40","v":""},{"$f":"'4. Analyseer opbouw van object'!I39","v":" "},{"$f":"IFERROR((VLOOKUP(L40,Table2[[Prod.ID]:[MKI '[EUR MKI']]],3,FALSE)),\"\")","v":""},{"$f":"IFERROR((VLOOKUP(L40,Table2[[Prod.ID]:[Massa '[kg']]],4,FALSE)),\"\")","v":""},{"$f":"IFERROR((VLOOKUP(L40,Table2[[Prod.ID]:[Kritieke/ schaarse materialen?]],6,FALSE)),\"\")","v":""},{"$f":"IFERROR((VLOOKUP(L40,Table2[[Prod.ID]:[Economische waarde '[EUR']]],7,FALSE)),\"\")","v":""},{"$f":"IFERROR((VLOOKUP(L40,Table2[[Prod.ID]:[Aantal keer]],8,FALSE)),\"\")","v":""},{"$f":"'5. Bepaal factoren en bereken'!T40","v":""},{"$f":"'5. Bepaal factoren en bereken'!U40","v":""},{"$f":"IF('5. Bepaal factoren en bereken'!V40>0,'5. Bepaal factoren en bereken'!V40,\"\")","v":""}]
[null,{"$f":"'5. Bepaal factoren en bereken'!C41","v":""},{"$f":"IF('5. Bepaal factoren en bereken'!D41=\"\", \"\",'5. Bepaal factoren en bereken'!D41)","v":""},{"$f":"'5. Bepaal factoren en bereken'!E41","v":""},{"$f":"'5. Bepaal factoren en bereken'!F41","v":""},{"$f":"'4. Analyseer opbouw van object'!F39","v":""},{"$f":"IFERROR((VLOOKUP(D41,Table2[[Prod.ID]:[MKI '[EUR MKI']]],3,FALSE)),\"\")","v":""},{"$f":"IFERROR((VLOOKUP(D41,Table2[[Prod.ID]:[Massa '[kg']]],4,FALSE)),\"\")","v":""},{"$f":"IFERROR((VLOOKUP(D41,Table2[[Prod.ID]:[Kritieke/ schaarse materialen?]],6,FALSE)),\"\")","v":""},{"$f":"IFERROR((VLOOKUP(D41,Table2[[Prod.ID]:[Economische waarde '[EUR']]],7,FALSE)),\"\")","v":""},{"$f":"IFERROR((VLOOKUP(D41,Table2[[Prod.ID]:[Aantal keer]],8,FALSE)),\"\")","v":""},{"$f":"'5. Bepaal factoren en bereken'!G41","v":""},{"$f":"'5. Bepaal factoren en bereken'!H41","v":""},{"$f":"'4. Analyseer opbouw van object'!I40","v":" "},{"$f":"IFERROR((VLOOKUP(L41,Table2[[Prod.ID]:[MKI '[EUR MKI']]],3,FALSE)),\"\")","v":""},{"$f":"IFERROR((VLOOKUP(L41,Table2[[Prod.ID]:[Massa '[kg']]],4,FALSE)),\"\")","v":""},{"$f":"IFERROR((VLOOKUP(L41,Table2[[Prod.ID]:[Kritieke/ schaarse materialen?]],6,FALSE)),\"\")","v":""},{"$f":"IFERROR((VLOOKUP(L41,Table2[[Prod.ID]:[Economische waarde '[EUR']]],7,FALSE)),\"\")","v":""},{"$f":"IFERROR((VLOOKUP(L41,Table2[[Prod.ID]:[Aantal keer]],8,FALSE)),\"\")","v":""},{"$f":"'5. Bepaal factoren en bereken'!T41","v":""},{"$f":"'5. Bepaal factoren en bereken'!U41","v":""},{"$f":"IF('5. Bepaal factoren en bereken'!V41>0,'5. Bepaal factoren en bereken'!V41,\"\")","v":""}]
[null,{"$f":"'5. Bepaal factoren en bereken'!C42","v":""},{"$f":"IF('5. Bepaal factoren en bereken'!D42=\"\", \"\",'5. Bepaal factoren en bereken'!D42)","v":""},{"$f":"'5. Bepaal factoren en bereken'!E42","v":""},{"$f":"'5. Bepaal factoren en bereken'!F42","v":""},{"$f":"'4. Analyseer opbouw van object'!F40","v":""},{"$f":"IFERROR((VLOOKUP(D42,Table2[[Prod.ID]:[MKI '[EUR MKI']]],3,FALSE)),\"\")","v":""},{"$f":"IFERROR((VLOOKUP(D42,Table2[[Prod.ID]:[Massa '[kg']]],4,FALSE)),\"\")","v":""},{"$f":"IFERROR((VLOOKUP(D42,Table2[[Prod.ID]:[Kritieke/ schaarse materialen?]],6,FALSE)),\"\")","v":""},{"$f":"IFERROR((VLOOKUP(D42,Table2[[Prod.ID]:[Economische waarde '[EUR']]],7,FALSE)),\"\")","v":""},{"$f":"IFERROR((VLOOKUP(D42,Table2[[Prod.ID]:[Aantal keer]],8,FALSE)),\"\")","v":""},{"$f":"'5. Bepaal factoren en bereken'!G42","v":""},{"$f":"'5. Bepaal factoren en bereken'!H42","v":""},{"$f":"'4. Analyseer opbouw van object'!I41","v":" "},{"$f":"IFERROR((VLOOKUP(L42,Table2[[Prod.ID]:[MKI '[EUR MKI']]],3,FALSE)),\"\")","v":""},{"$f":"IFERROR((VLOOKUP(L42,Table2[[Prod.ID]:[Massa '[kg']]],4,FALSE)),\"\")","v":""},{"$f":"IFERROR((VLOOKUP(L42,Table2[[Prod.ID]:[Kritieke/ schaarse materialen?]],6,FALSE)),\"\")","v":""},{"$f":"IFERROR((VLOOKUP(L42,Table2[[Prod.ID]:[Economische waarde '[EUR']]],7,FALSE)),\"\")","v":""},{"$f":"IFERROR((VLOOKUP(L42,Table2[[Prod.ID]:[Aantal keer]],8,FALSE)),\"\")","v":""},{"$f":"'5. Bepaal factoren en bereken'!T42","v":""},{"$f":"'5. Bepaal factoren en bereken'!U42","v":""},{"$f":"IF('5. Bepaal factoren en bereken'!V42>0,'5. Bepaal factoren en bereken'!V42,\"\")","v":""}]
[null,{"$f":"'5. Bepaal factoren en bereken'!C43","v":""},{"$f":"IF('5. Bepaal factoren en bereken'!D43=\"\", \"\",'5. Bepaal factoren en bereken'!D43)","v":""},{"$f":"'5. Bepaal factoren en bereken'!E43","v":""},{"$f":"'5. Bepaal factoren en bereken'!F43","v":""},{"$f":"'4. Analyseer opbouw van object'!F41","v":""},{"$f":"IFERROR((VLOOKUP(D43,Table2[[Prod.ID]:[MKI '[EUR MKI']]],3,FALSE)),\"\")","v":""},{"$f":"IFERROR((VLOOKUP(D43,Table2[[Prod.ID]:[Massa '[kg']]],4,FALSE)),\"\")","v":""},{"$f":"IFERROR((VLOOKUP(D43,Table2[[Prod.ID]:[Kritieke/ schaarse materialen?]],6,FALSE)),\"\")","v":""},{"$f":"IFERROR((VLOOKUP(D43,Table2[[Prod.ID]:[Economische waarde '[EUR']]],7,FALSE)),\"\")","v":""},{"$f":"IFERROR((VLOOKUP(D43,Table2[[Prod.ID]:[Aantal keer]],8,FALSE)),\"\")","v":""},{"$f":"'5. Bepaal factoren en bereken'!G43","v":""},{"$f":"'5. Bepaal factoren en bereken'!H43","v":""},{"$f":"'4. Analyseer opbouw van object'!I42","v":" "},{"$f":"IFERROR((VLOOKUP(L43,Table2[[Prod.ID]:[MKI '[EUR MKI']]],3,FALSE)),\"\")","v":""},{"$f":"IFERROR((VLOOKUP(L43,Table2[[Prod.ID]:[Massa '[kg']]],4,FALSE)),\"\")","v":""},{"$f":"IFERROR((VLOOKUP(L43,Table2[[Prod.ID]:[Kritieke/ schaarse materialen?]],6,FALSE)),\"\")","v":""},{"$f":"IFERROR((VLOOKUP(L43,Table2[[Prod.ID]:[Economische waarde '[EUR']]],7,FALSE)),\"\")","v":""},{"$f":"IFERROR((VLOOKUP(L43,Table2[[Prod.ID]:[Aantal keer]],8,FALSE)),\"\")","v":""},{"$f":"'5. Bepaal factoren en bereken'!T43","v":""},{"$f":"'5. Bepaal factoren en bereken'!U43","v":""},{"$f":"IF('5. Bepaal factoren en bereken'!V43>0,'5. Bepaal factoren en bereken'!V43,\"\")","v":""}]
[null,{"$f":"'5. Bepaal factoren en bereken'!C44","v":""},{"$f":"IF('5. Bepaal factoren en bereken'!D44=\"\", \"\",'5. Bepaal factoren en bereken'!D44)","v":""},{"$f":"'5. Bepaal factoren en bereken'!E44","v":""},{"$f":"'5. Bepaal factoren en bereken'!F44","v":""},{"$f":"'4. Analyseer opbouw van object'!F42","v":""},{"$f":"IFERROR((VLOOKUP(D44,Table2[[Prod.ID]:[MKI '[EUR MKI']]],3,FALSE)),\"\")","v":""},{"$f":"IFERROR((VLOOKUP(D44,Table2[[Prod.ID]:[Massa '[kg']]],4,FALSE)),\"\")","v":""},{"$f":"IFERROR((VLOOKUP(D44,Table2[[Prod.ID]:[Kritieke/ schaarse materialen?]],6,FALSE)),\"\")","v":""},{"$f":"IFERROR((VLOOKUP(D44,Table2[[Prod.ID]:[Economische waarde '[EUR']]],7,FALSE)),\"\")","v":""},{"$f":"IFERROR((VLOOKUP(D44,Table2[[Prod.ID]:[Aantal keer]],8,FALSE)),\"\")","v":""},{"$f":"'5. Bepaal factoren en bereken'!G44","v":""},{"$f":"'5. Bepaal factoren en bereken'!H44","v":""},{"$f":"'4. Analyseer opbouw van object'!I43","v":" "},{"$f":"IFERROR((VLOOKUP(L44,Table2[[Prod.ID]:[MKI '[EUR MKI']]],3,FALSE)),\"\")","v":""},{"$f":"IFERROR((VLOOKUP(L44,Table2[[Prod.ID]:[Massa '[kg']]],4,FALSE)),\"\")","v":""},{"$f":"IFERROR((VLOOKUP(L44,Table2[[Prod.ID]:[Kritieke/ schaarse materialen?]],6,FALSE)),\"\")","v":""},{"$f":"IFERROR((VLOOKUP(L44,Table2[[Prod.ID]:[Economische waarde '[EUR']]],7,FALSE)),\"\")","v":""},{"$f":"IFERROR((VLOOKUP(L44,Table2[[Prod.ID]:[Aantal keer]],8,FALSE)),\"\")","v":""},{"$f":"'5. Bepaal factoren en bereken'!T44","v":""},{"$f":"'5. Bepaal factoren en bereken'!U44","v":""},{"$f":"IF('5. Bepaal factoren en bereken'!V44>0,'5. Bepaal factoren en bereken'!V44,\"\")","v":""}]
[null,{"$f":"'5. Bepaal factoren en bereken'!C45","v":""},{"$f":"IF('5. Bepaal factoren en bereken'!D45=\"\", \"\",'5. Bepaal factoren en bereken'!D45)","v":""},{"$f":"'5. Bepaal factoren en bereken'!E45","v":""},{"$f":"'5. Bepaal factoren en bereken'!F45","v":""},{"$f":"'4. Analyseer opbouw van object'!F43","v":""},{"$f":"IFERROR((VLOOKUP(D45,Table2[[Prod.ID]:[MKI '[EUR MKI']]],3,FALSE)),\"\")","v":""},{"$f":"IFERROR((VLOOKUP(D45,Table2[[Prod.ID]:[Massa '[kg']]],4,FALSE)),\"\")","v":""},{"$f":"IFERROR((VLOOKUP(D45,Table2[[Prod.ID]:[Kritieke/ schaarse materialen?]],6,FALSE)),\"\")","v":""},{"$f":"IFERROR((VLOOKUP(D45,Table2[[Prod.ID]:[Economische waarde '[EUR']]],7,FALSE)),\"\")","v":""},{"$f":"IFERROR((VLOOKUP(D45,Table2[[Prod.ID]:[Aantal keer]],8,FALSE)),\"\")","v":""},{"$f":"'5. Bepaal factoren en bereken'!G45","v":""},{"$f":"'5. Bepaal factoren en bereken'!H45","v":""},{"$f":"'4. Analyseer opbouw van object'!I44","v":" "},{"$f":"IFERROR((VLOOKUP(L45,Table2[[Prod.ID]:[MKI '[EUR MKI']]],3,FALSE)),\"\")","v":""},{"$f":"IFERROR((VLOOKUP(L45,Table2[[Prod.ID]:[Massa '[kg']]],4,FALSE)),\"\")","v":""},{"$f":"IFERROR((VLOOKUP(L45,Table2[[Prod.ID]:[Kritieke/ schaarse materialen?]],6,FALSE)),\"\")","v":""},{"$f":"IFERROR((VLOOKUP(L45,Table2[[Prod.ID]:[Economische waarde '[EUR']]],7,FALSE)),\"\")","v":""},{"$f":"IFERROR((VLOOKUP(L45,Table2[[Prod.ID]:[Aantal keer]],8,FALSE)),\"\")","v":""},{"$f":"'5. Bepaal factoren en bereken'!T45","v":""},{"$f":"'5. Bepaal factoren en bereken'!U45","v":""},{"$f":"IF('5. Bepaal factoren en bereken'!V45>0,'5. Bepaal factoren en bereken'!V45,\"\")","v":""}]
[null,{"$f":"'5. Bepaal factoren en bereken'!C46","v":""},{"$f":"IF('5. Bepaal factoren en bereken'!D46=\"\", \"\",'5. Bepaal factoren en bereken'!D46)","v":""},{"$f":"'5. Bepaal factoren en bereken'!E46","v":""},{"$f":"'5. Bepaal factoren en bereken'!F46","v":""},{"$f":"'4. Analyseer opbouw van object'!F44","v":""},{"$f":"IFERROR((VLOOKUP(D46,Table2[[Prod.ID]:[MKI '[EUR MKI']]],3,FALSE)),\"\")","v":""},{"$f":"IFERROR((VLOOKUP(D46,Table2[[Prod.ID]:[Massa '[kg']]],4,FALSE)),\"\")","v":""},{"$f":"IFERROR((VLOOKUP(D46,Table2[[Prod.ID]:[Kritieke/ schaarse materialen?]],6,FALSE)),\"\")","v":""},{"$f":"IFERROR((VLOOKUP(D46,Table2[[Prod.ID]:[Economische waarde '[EUR']]],7,FALSE)),\"\")","v":""},{"$f":"IFERROR((VLOOKUP(D46,Table2[[Prod.ID]:[Aantal keer]],8,FALSE)),\"\")","v":""},{"$f":"'5. Bepaal factoren en bereken'!G46","v":""},{"$f":"'5. Bepaal factoren en bereken'!H46","v":""},{"$f":"'4. Analyseer opbouw van object'!I45","v":" "},{"$f":"IFERROR((VLOOKUP(L46,Table2[[Prod.ID]:[MKI '[EUR MKI']]],3,FALSE)),\"\")","v":""},{"$f":"IFERROR((VLOOKUP(L46,Table2[[Prod.ID]:[Massa '[kg']]],4,FALSE)),\"\")","v":""},{"$f":"IFERROR((VLOOKUP(L46,Table2[[Prod.ID]:[Kritieke/ schaarse materialen?]],6,FALSE)),\"\")","v":""},{"$f":"IFERROR((VLOOKUP(L46,Table2[[Prod.ID]:[Economische waarde '[EUR']]],7,FALSE)),\"\")","v":""},{"$f":"IFERROR((VLOOKUP(L46,Table2[[Prod.ID]:[Aantal keer]],8,FALSE)),\"\")","v":""},{"$f":"'5. Bepaal factoren en bereken'!T46","v":""},{"$f":"'5. Bepaal factoren en bereken'!U46","v":""},{"$f":"IF('5. Bepaal factoren en bereken'!V46>0,'5. Bepaal factoren en bereken'!V46,\"\")","v":""}]
[null,{"$f":"'5. Bepaal factoren en bereken'!C47","v":""},{"$f":"IF('5. Bepaal factoren en bereken'!D47=\"\", \"\",'5. Bepaal factoren en bereken'!D47)","v":""},{"$f":"'5. Bepaal factoren en bereken'!E47","v":""},{"$f":"'5. Bepaal factoren en bereken'!F47","v":""},{"$f":"'4. Analyseer opbouw van object'!F45","v":""},{"$f":"IFERROR((VLOOKUP(D47,Table2[[Prod.ID]:[MKI '[EUR MKI']]],3,FALSE)),\"\")","v":""},{"$f":"IFERROR((VLOOKUP(D47,Table2[[Prod.ID]:[Massa '[kg']]],4,FALSE)),\"\")","v":""},{"$f":"IFERROR((VLOOKUP(D47,Table2[[Prod.ID]:[Kritieke/ schaarse materialen?]],6,FALSE)),\"\")","v":""},{"$f":"IFERROR((VLOOKUP(D47,Table2[[Prod.ID]:[Economische waarde '[EUR']]],7,FALSE)),\"\")","v":""},{"$f":"IFERROR((VLOOKUP(D47,Table2[[Prod.ID]:[Aantal keer]],8,FALSE)),\"\")","v":""},{"$f":"'5. Bepaal factoren en bereken'!G47","v":""},{"$f":"'5. Bepaal factoren en bereken'!H47","v":""},{"$f":"'4. Analyseer opbouw van object'!I46","v":" "},{"$f":"IFERROR((VLOOKUP(L47,Table2[[Prod.ID]:[MKI '[EUR MKI']]],3,FALSE)),\"\")","v":""},{"$f":"IFERROR((VLOOKUP(L47,Table2[[Prod.ID]:[Massa '[kg']]],4,FALSE)),\"\")","v":""},{"$f":"IFERROR((VLOOKUP(L47,Table2[[Prod.ID]:[Kritieke/ schaarse materialen?]],6,FALSE)),\"\")","v":""},{"$f":"IFERROR((VLOOKUP(L47,Table2[[Prod.ID]:[Economische waarde '[EUR']]],7,FALSE)),\"\")","v":""},{"$f":"IFERROR((VLOOKUP(L47,Table2[[Prod.ID]:[Aantal keer]],8,FALSE)),\"\")","v":""},{"$f":"'5. Bepaal factoren en bereken'!T47","v":""},{"$f":"'5. Bepaal factoren en bereken'!U47","v":""},{"$f":"IF('5. Bepaal factoren en bereken'!V47>0,'5. Bepaal factoren en bereken'!V47,\"\")","v":""}]
[null,{"$f":"'5. Bepaal factoren en bereken'!C48","v":""},{"$f":"IF('5. Bepaal factoren en bereken'!D48=\"\", \"\",'5. Bepaal factoren en bereken'!D48)","v":""},{"$f":"'5. Bepaal factoren en bereken'!E48","v":""},{"$f":"'5. Bepaal factoren en bereken'!F48","v":""},{"$f":"'4. Analyseer opbouw van object'!F46","v":""},{"$f":"IFERROR((VLOOKUP(D48,Table2[[Prod.ID]:[MKI '[EUR MKI']]],3,FALSE)),\"\")","v":""},{"$f":"IFERROR((VLOOKUP(D48,Table2[[Prod.ID]:[Massa '[kg']]],4,FALSE)),\"\")","v":""},{"$f":"IFERROR((VLOOKUP(D48,Table2[[Prod.ID]:[Kritieke/ schaarse materialen?]],6,FALSE)),\"\")","v":""},{"$f":"IFERROR((VLOOKUP(D48,Table2[[Prod.ID]:[Economische waarde '[EUR']]],7,FALSE)),\"\")","v":""},{"$f":"IFERROR((VLOOKUP(D48,Table2[[Prod.ID]:[Aantal keer]],8,FALSE)),\"\")","v":""},{"$f":"'5. Bepaal factoren en bereken'!G48","v":""},{"$f":"'5. Bepaal factoren en bereken'!H48","v":""},{"$f":"'4. Analyseer opbouw van object'!I47","v":" "},{"$f":"IFERROR((VLOOKUP(L48,Table2[[Prod.ID]:[MKI '[EUR MKI']]],3,FALSE)),\"\")","v":""},{"$f":"IFERROR((VLOOKUP(L48,Table2[[Prod.ID]:[Massa '[kg']]],4,FALSE)),\"\")","v":""},{"$f":"IFERROR((VLOOKUP(L48,Table2[[Prod.ID]:[Kritieke/ schaarse materialen?]],6,FALSE)),\"\")","v":""},{"$f":"IFERROR((VLOOKUP(L48,Table2[[Prod.ID]:[Economische waarde '[EUR']]],7,FALSE)),\"\")","v":""},{"$f":"IFERROR((VLOOKUP(L48,Table2[[Prod.ID]:[Aantal keer]],8,FALSE)),\"\")","v":""},{"$f":"'5. Bepaal factoren en bereken'!T48","v":""},{"$f":"'5. Bepaal factoren en bereken'!U48","v":""},{"$f":"IF('5. Bepaal factoren en bereken'!V48>0,'5. Bepaal factoren en bereken'!V48,\"\")","v":""}]
[null,{"$f":"'5. Bepaal factoren en bereken'!C49","v":""},{"$f":"IF('5. Bepaal factoren en bereken'!D49=\"\", \"\",'5. Bepaal factoren en bereken'!D49)","v":""},{"$f":"'5. Bepaal factoren en bereken'!E49","v":""},{"$f":"'5. Bepaal factoren en bereken'!F49","v":""},{"$f":"'4. Analyseer opbouw van object'!F47","v":""},{"$f":"IFERROR((VLOOKUP(D49,Table2[[Prod.ID]:[MKI '[EUR MKI']]],3,FALSE)),\"\")","v":""},{"$f":"IFERROR((VLOOKUP(D49,Table2[[Prod.ID]:[Massa '[kg']]],4,FALSE)),\"\")","v":""},{"$f":"IFERROR((VLOOKUP(D49,Table2[[Prod.ID]:[Kritieke/ schaarse materialen?]],6,FALSE)),\"\")","v":""},{"$f":"IFERROR((VLOOKUP(D49,Table2[[Prod.ID]:[Economische waarde '[EUR']]],7,FALSE)),\"\")","v":""},{"$f":"IFERROR((VLOOKUP(D49,Table2[[Prod.ID]:[Aantal keer]],8,FALSE)),\"\")","v":""},{"$f":"'5. Bepaal factoren en bereken'!G49","v":""},{"$f":"'5. Bepaal factoren en bereken'!H49","v":""},{"$f":"'4. Analyseer opbouw van object'!I48","v":" "},{"$f":"IFERROR((VLOOKUP(L49,Table2[[Prod.ID]:[MKI '[EUR MKI']]],3,FALSE)),\"\")","v":""},{"$f":"IFERROR((VLOOKUP(L49,Table2[[Prod.ID]:[Massa '[kg']]],4,FALSE)),\"\")","v":""},{"$f":"IFERROR((VLOOKUP(L49,Table2[[Prod.ID]:[Kritieke/ schaarse materialen?]],6,FALSE)),\"\")","v":""},{"$f":"IFERROR((VLOOKUP(L49,Table2[[Prod.ID]:[Economische waarde '[EUR']]],7,FALSE)),\"\")","v":""},{"$f":"IFERROR((VLOOKUP(L49,Table2[[Prod.ID]:[Aantal keer]],8,FALSE)),\"\")","v":""},{"$f":"'5. Bepaal factoren en bereken'!T49","v":""},{"$f":"'5. Bepaal factoren en bereken'!U49","v":""},{"$f":"IF('5. Bepaal factoren en bereken'!V49>0,'5. Bepaal factoren en bereken'!V49,\"\")","v":""}]
[null,{"$f":"'5. Bepaal factoren en bereken'!C50","v":""},{"$f":"IF('5. Bepaal factoren en bereken'!D50=\"\", \"\",'5. Bepaal factoren en bereken'!D50)","v":""},{"$f":"'5. Bepaal factoren en bereken'!E50","v":""},{"$f":"'5. Bepaal factoren en bereken'!F50","v":""},{"$f":"'4. Analyseer opbouw van object'!F48","v":""},{"$f":"IFERROR((VLOOKUP(D50,Table2[[Prod.ID]:[MKI '[EUR MKI']]],3,FALSE)),\"\")","v":""},{"$f":"IFERROR((VLOOKUP(D50,Table2[[Prod.ID]:[Massa '[kg']]],4,FALSE)),\"\")","v":""},{"$f":"IFERROR((VLOOKUP(D50,Table2[[Prod.ID]:[Kritieke/ schaarse materialen?]],6,FALSE)),\"\")","v":""},{"$f":"IFERROR((VLOOKUP(D50,Table2[[Prod.ID]:[Economische waarde '[EUR']]],7,FALSE)),\"\")","v":""},{"$f":"IFERROR((VLOOKUP(D50,Table2[[Prod.ID]:[Aantal keer]],8,FALSE)),\"\")","v":""},{"$f":"'5. Bepaal factoren en bereken'!G50","v":""},{"$f":"'5. Bepaal factoren en bereken'!H50","v":""},{"$f":"'4. Analyseer opbouw van object'!I49","v":" "},{"$f":"IFERROR((VLOOKUP(L50,Table2[[Prod.ID]:[MKI '[EUR MKI']]],3,FALSE)),\"\")","v":""},{"$f":"IFERROR((VLOOKUP(L50,Table2[[Prod.ID]:[Massa '[kg']]],4,FALSE)),\"\")","v":""},{"$f":"IFERROR((VLOOKUP(L50,Table2[[Prod.ID]:[Kritieke/ schaarse materialen?]],6,FALSE)),\"\")","v":""},{"$f":"IFERROR((VLOOKUP(L50,Table2[[Prod.ID]:[Economische waarde '[EUR']]],7,FALSE)),\"\")","v":""},{"$f":"IFERROR((VLOOKUP(L50,Table2[[Prod.ID]:[Aantal keer]],8,FALSE)),\"\")","v":""},{"$f":"'5. Bepaal factoren en bereken'!T50","v":""},{"$f":"'5. Bepaal factoren en bereken'!U50","v":""},{"$f":"IF('5. Bepaal factoren en bereken'!V50>0,'5. Bepaal factoren en bereken'!V50,\"\")","v":""}]
[null,{"$f":"'5. Bepaal factoren en bereken'!C51","v":""},{"$f":"IF('5. Bepaal factoren en bereken'!D51=\"\", \"\",'5. Bepaal factoren en bereken'!D51)","v":""},{"$f":"'5. Bepaal factoren en bereken'!E51","v":""},{"$f":"'5. Bepaal factoren en bereken'!F51","v":""},{"$f":"'4. Analyseer opbouw van object'!F49","v":""},{"$f":"IFERROR((VLOOKUP(D51,Table2[[Prod.ID]:[MKI '[EUR MKI']]],3,FALSE)),\"\")","v":""},{"$f":"IFERROR((VLOOKUP(D51,Table2[[Prod.ID]:[Massa '[kg']]],4,FALSE)),\"\")","v":""},{"$f":"IFERROR((VLOOKUP(D51,Table2[[Prod.ID]:[Kritieke/ schaarse materialen?]],6,FALSE)),\"\")","v":""},{"$f":"IFERROR((VLOOKUP(D51,Table2[[Prod.ID]:[Economische waarde '[EUR']]],7,FALSE)),\"\")","v":""},{"$f":"IFERROR((VLOOKUP(D51,Table2[[Prod.ID]:[Aantal keer]],8,FALSE)),\"\")","v":""},{"$f":"'5. Bepaal factoren en bereken'!G51","v":""},{"$f":"'5. Bepaal factoren en bereken'!H51","v":""},{"$f":"'4. Analyseer opbouw van object'!I50","v":" "},{"$f":"IFERROR((VLOOKUP(L51,Table2[[Prod.ID]:[MKI '[EUR MKI']]],3,FALSE)),\"\")","v":""},{"$f":"IFERROR((VLOOKUP(L51,Table2[[Prod.ID]:[Massa '[kg']]],4,FALSE)),\"\")","v":""},{"$f":"IFERROR((VLOOKUP(L51,Table2[[Prod.ID]:[Kritieke/ schaarse materialen?]],6,FALSE)),\"\")","v":""},{"$f":"IFERROR((VLOOKUP(L51,Table2[[Prod.ID]:[Economische waarde '[EUR']]],7,FALSE)),\"\")","v":""},{"$f":"IFERROR((VLOOKUP(L51,Table2[[Prod.ID]:[Aantal keer]],8,FALSE)),\"\")","v":""},{"$f":"'5. Bepaal factoren en bereken'!T51","v":""},{"$f":"'5. Bepaal factoren en bereken'!U51","v":""},{"$f":"IF('5. Bepaal factoren en bereken'!V51>0,'5. Bepaal factoren en bereken'!V51,\"\")","v":""}]
[null,{"$f":"'5. Bepaal factoren en bereken'!C52","v":""},{"$f":"IF('5. Bepaal factoren en bereken'!D52=\"\", \"\",'5. Bepaal factoren en bereken'!D52)","v":""},{"$f":"'5. Bepaal factoren en bereken'!E52","v":""},{"$f":"'5. Bepaal factoren en bereken'!F52","v":""},{"$f":"'4. Analyseer opbouw van object'!F50","v":""},{"$f":"IFERROR((VLOOKUP(D52,Table2[[Prod.ID]:[MKI '[EUR MKI']]],3,FALSE)),\"\")","v":""},{"$f":"IFERROR((VLOOKUP(D52,Table2[[Prod.ID]:[Massa '[kg']]],4,FALSE)),\"\")","v":""},{"$f":"IFERROR((VLOOKUP(D52,Table2[[Prod.ID]:[Kritieke/ schaarse materialen?]],6,FALSE)),\"\")","v":""},{"$f":"IFERROR((VLOOKUP(D52,Table2[[Prod.ID]:[Economische waarde '[EUR']]],7,FALSE)),\"\")","v":""},{"$f":"IFERROR((VLOOKUP(D52,Table2[[Prod.ID]:[Aantal keer]],8,FALSE)),\"\")","v":""},{"$f":"'5. Bepaal factoren en bereken'!G52","v":""},{"$f":"'5. Bepaal factoren en bereken'!H52","v":""},{"$f":"'4. Analyseer opbouw van object'!I51","v":" "},{"$f":"IFERROR((VLOOKUP(L52,Table2[[Prod.ID]:[MKI '[EUR MKI']]],3,FALSE)),\"\")","v":""},{"$f":"IFERROR((VLOOKUP(L52,Table2[[Prod.ID]:[Massa '[kg']]],4,FALSE)),\"\")","v":""},{"$f":"IFERROR((VLOOKUP(L52,Table2[[Prod.ID]:[Kritieke/ schaarse materialen?]],6,FALSE)),\"\")","v":""},{"$f":"IFERROR((VLOOKUP(L52,Table2[[Prod.ID]:[Economische waarde '[EUR']]],7,FALSE)),\"\")","v":""},{"$f":"IFERROR((VLOOKUP(L52,Table2[[Prod.ID]:[Aantal keer]],8,FALSE)),\"\")","v":""},{"$f":"'5. Bepaal factoren en bereken'!T52","v":""},{"$f":"'5. Bepaal factoren en bereken'!U52","v":""},{"$f":"IF('5. Bepaal factoren en bereken'!V52>0,'5. Bepaal factoren en bereken'!V52,\"\")","v":""}]
[null,{"$f":"'5. Bepaal factoren en bereken'!C53","v":""},{"$f":"IF('5. Bepaal factoren en bereken'!D53=\"\", \"\",'5. Bepaal factoren en bereken'!D53)","v":""},{"$f":"'5. Bepaal factoren en bereken'!E53","v":""},{"$f":"'5. Bepaal factoren en bereken'!F53","v":""},{"$f":"'4. Analyseer opbouw van object'!F51","v":""},{"$f":"IFERROR((VLOOKUP(D53,Table2[[Prod.ID]:[MKI '[EUR MKI']]],3,FALSE)),\"\")","v":""},{"$f":"IFERROR((VLOOKUP(D53,Table2[[Prod.ID]:[Massa '[kg']]],4,FALSE)),\"\")","v":""},{"$f":"IFERROR((VLOOKUP(D53,Table2[[Prod.ID]:[Kritieke/ schaarse materialen?]],6,FALSE)),\"\")","v":""},{"$f":"IFERROR((VLOOKUP(D53,Table2[[Prod.ID]:[Economische waarde '[EUR']]],7,FALSE)),\"\")","v":""},{"$f":"IFERROR((VLOOKUP(D53,Table2[[Prod.ID]:[Aantal keer]],8,FALSE)),\"\")","v":""},{"$f":"'5. Bepaal factoren en bereken'!G53","v":""},{"$f":"'5. Bepaal factoren en bereken'!H53","v":""},{"$f":"'4. Analyseer opbouw van object'!I52","v":" "},{"$f":"IFERROR((VLOOKUP(L53,Table2[[Prod.ID]:[MKI '[EUR MKI']]],3,FALSE)),\"\")","v":""},{"$f":"IFERROR((VLOOKUP(L53,Table2[[Prod.ID]:[Massa '[kg']]],4,FALSE)),\"\")","v":""},{"$f":"IFERROR((VLOOKUP(L53,Table2[[Prod.ID]:[Kritieke/ schaarse materialen?]],6,FALSE)),\"\")","v":""},{"$f":"IFERROR((VLOOKUP(L53,Table2[[Prod.ID]:[Economische waarde '[EUR']]],7,FALSE)),\"\")","v":""},{"$f":"IFERROR((VLOOKUP(L53,Table2[[Prod.ID]:[Aantal keer]],8,FALSE)),\"\")","v":""},{"$f":"'5. Bepaal factoren en bereken'!T53","v":""},{"$f":"'5. Bepaal factoren en bereken'!U53","v":""},{"$f":"IF('5. Bepaal factoren en bereken'!V53>0,'5. Bepaal factoren en bereken'!V53,\"\")","v":""}]
[null,{"$f":"'5. Bepaal factoren en bereken'!C54","v":""},{"$f":"IF('5. Bepaal factoren en bereken'!D54=\"\", \"\",'5. Bepaal factoren en bereken'!D54)","v":""},{"$f":"'5. Bepaal factoren en bereken'!E54","v":""},{"$f":"'5. Bepaal factoren en bereken'!F54","v":""},{"$f":"'4. Analyseer opbouw van object'!F52","v":""},{"$f":"IFERROR((VLOOKUP(D54,Table2[[Prod.ID]:[MKI '[EUR MKI']]],3,FALSE)),\"\")","v":""},{"$f":"IFERROR((VLOOKUP(D54,Table2[[Prod.ID]:[Massa '[kg']]],4,FALSE)),\"\")","v":""},{"$f":"IFERROR((VLOOKUP(D54,Table2[[Prod.ID]:[Kritieke/ schaarse materialen?]],6,FALSE)),\"\")","v":""},{"$f":"IFERROR((VLOOKUP(D54,Table2[[Prod.ID]:[Economische waarde '[EUR']]],7,FALSE)),\"\")","v":""},{"$f":"IFERROR((VLOOKUP(D54,Table2[[Prod.ID]:[Aantal keer]],8,FALSE)),\"\")","v":""},{"$f":"'5. Bepaal factoren en bereken'!G54","v":""},{"$f":"'5. Bepaal factoren en bereken'!H54","v":""},{"$f":"'4. Analyseer opbouw van object'!I53","v":" "},{"$f":"IFERROR((VLOOKUP(L54,Table2[[Prod.ID]:[MKI '[EUR MKI']]],3,FALSE)),\"\")","v":""},{"$f":"IFERROR((VLOOKUP(L54,Table2[[Prod.ID]:[Massa '[kg']]],4,FALSE)),\"\")","v":""},{"$f":"IFERROR((VLOOKUP(L54,Table2[[Prod.ID]:[Kritieke/ schaarse materialen?]],6,FALSE)),\"\")","v":""},{"$f":"IFERROR((VLOOKUP(L54,Table2[[Prod.ID]:[Economische waarde '[EUR']]],7,FALSE)),\"\")","v":""},{"$f":"IFERROR((VLOOKUP(L54,Table2[[Prod.ID]:[Aantal keer]],8,FALSE)),\"\")","v":""},{"$f":"'5. Bepaal factoren en bereken'!T54","v":""},{"$f":"'5. Bepaal factoren en bereken'!U54","v":""},{"$f":"IF('5. Bepaal factoren en bereken'!V54>0,'5. Bepaal factoren en bereken'!V54,\"\")","v":""}]
[null,{"$f":"'5. Bepaal factoren en bereken'!C55","v":""},{"$f":"IF('5. Bepaal factoren en bereken'!D55=\"\", \"\",'5. Bepaal factoren en bereken'!D55)","v":""},{"$f":"'5. Bepaal factoren en bereken'!E55","v":""},{"$f":"'5. Bepaal factoren en bereken'!F55","v":""},{"$f":"'4. Analyseer opbouw van object'!F53","v":""},{"$f":"IFERROR((VLOOKUP(D55,Table2[[Prod.ID]:[MKI '[EUR MKI']]],3,FALSE)),\"\")","v":""},{"$f":"IFERROR((VLOOKUP(D55,Table2[[Prod.ID]:[Massa '[kg']]],4,FALSE)),\"\")","v":""},{"$f":"IFERROR((VLOOKUP(D55,Table2[[Prod.ID]:[Kritieke/ schaarse materialen?]],6,FALSE)),\"\")","v":""},{"$f":"IFERROR((VLOOKUP(D55,Table2[[Prod.ID]:[Economische waarde '[EUR']]],7,FALSE)),\"\")","v":""},{"$f":"IFERROR((VLOOKUP(D55,Table2[[Prod.ID]:[Aantal keer]],8,FALSE)),\"\")","v":""},{"$f":"'5. Bepaal factoren en bereken'!G55","v":""},{"$f":"'5. Bepaal factoren en bereken'!H55","v":""},{"$f":"'4. Analyseer opbouw van object'!I54","v":" "},{"$f":"IFERROR((VLOOKUP(L55,Table2[[Prod.ID]:[MKI '[EUR MKI']]],3,FALSE)),\"\")","v":""},{"$f":"IFERROR((VLOOKUP(L55,Table2[[Prod.ID]:[Massa '[kg']]],4,FALSE)),\"\")","v":""},{"$f":"IFERROR((VLOOKUP(L55,Table2[[Prod.ID]:[Kritieke/ schaarse materialen?]],6,FALSE)),\"\")","v":""},{"$f":"IFERROR((VLOOKUP(L55,Table2[[Prod.ID]:[Economische waarde '[EUR']]],7,FALSE)),\"\")","v":""},{"$f":"IFERROR((VLOOKUP(L55,Table2[[Prod.ID]:[Aantal keer]],8,FALSE)),\"\")","v":""},{"$f":"'5. Bepaal factoren en bereken'!T55","v":""},{"$f":"'5. Bepaal factoren en bereken'!U55","v":""},{"$f":"IF('5. Bepaal factoren en bereken'!V55>0,'5. Bepaal factoren en bereken'!V55,\"\")","v":""}]
[null,{"$f":"'5. Bepaal factoren en bereken'!C56","v":""},{"$f":"IF('5. Bepaal factoren en bereken'!D56=\"\", \"\",'5. Bepaal factoren en bereken'!D56)","v":""},{"$f":"'5. Bepaal factoren en bereken'!E56","v":""},{"$f":"'5. Bepaal factoren en bereken'!F56","v":""},{"$f":"'4. Analyseer opbouw van object'!F54","v":""},{"$f":"IFERROR((VLOOKUP(D56,Table2[[Prod.ID]:[MKI '[EUR MKI']]],3,FALSE)),\"\")","v":""},{"$f":"IFERROR((VLOOKUP(D56,Table2[[Prod.ID]:[Massa '[kg']]],4,FALSE)),\"\")","v":""},{"$f":"IFERROR((VLOOKUP(D56,Table2[[Prod.ID]:[Kritieke/ schaarse materialen?]],6,FALSE)),\"\")","v":""},{"$f":"IFERROR((VLOOKUP(D56,Table2[[Prod.ID]:[Economische waarde '[EUR']]],7,FALSE)),\"\")","v":""},{"$f":"IFERROR((VLOOKUP(D56,Table2[[Prod.ID]:[Aantal keer]],8,FALSE)),\"\")","v":""},{"$f":"'5. Bepaal factoren en bereken'!G56","v":""},{"$f":"'5. Bepaal factoren en bereken'!H56","v":""},{"$f":"'4. Analyseer opbouw van object'!I55","v":" "},{"$f":"IFERROR((VLOOKUP(L56,Table2[[Prod.ID]:[MKI '[EUR MKI']]],3,FALSE)),\"\")","v":""},{"$f":"IFERROR((VLOOKUP(L56,Table2[[Prod.ID]:[Massa '[kg']]],4,FALSE)),\"\")","v":""},{"$f":"IFERROR((VLOOKUP(L56,Table2[[Prod.ID]:[Kritieke/ schaarse materialen?]],6,FALSE)),\"\")","v":""},{"$f":"IFERROR((VLOOKUP(L56,Table2[[Prod.ID]:[Economische waarde '[EUR']]],7,FALSE)),\"\")","v":""},{"$f":"IFERROR((VLOOKUP(L56,Table2[[Prod.ID]:[Aantal keer]],8,FALSE)),\"\")","v":""},{"$f":"'5. Bepaal factoren en bereken'!T56","v":""},{"$f":"'5. Bepaal factoren en bereken'!U56","v":""},{"$f":"IF('5. Bepaal factoren en bereken'!V56>0,'5. Bepaal factoren en bereken'!V56,\"\")","v":""}]
[null,{"$f":"'5. Bepaal factoren en bereken'!C57","v":""},{"$f":"IF('5. Bepaal factoren en bereken'!D57=\"\", \"\",'5. Bepaal factoren en bereken'!D57)","v":""},{"$f":"'5. Bepaal factoren en bereken'!E57","v":""},{"$f":"'5. Bepaal factoren en bereken'!F57","v":""},{"$f":"'4. Analyseer opbouw van object'!F55","v":""},{"$f":"IFERROR((VLOOKUP(D57,Table2[[Prod.ID]:[MKI '[EUR MKI']]],3,FALSE)),\"\")","v":""},{"$f":"IFERROR((VLOOKUP(D57,Table2[[Prod.ID]:[Massa '[kg']]],4,FALSE)),\"\")","v":""},{"$f":"IFERROR((VLOOKUP(D57,Table2[[Prod.ID]:[Kritieke/ schaarse materialen?]],6,FALSE)),\"\")","v":""},{"$f":"IFERROR((VLOOKUP(D57,Table2[[Prod.ID]:[Economische waarde '[EUR']]],7,FALSE)),\"\")","v":""},{"$f":"IFERROR((VLOOKUP(D57,Table2[[Prod.ID]:[Aantal keer]],8,FALSE)),\"\")","v":""},{"$f":"'5. Bepaal factoren en bereken'!G57","v":""},{"$f":"'5. Bepaal factoren en bereken'!H57","v":""},{"$f":"'4. Analyseer opbouw van object'!I56","v":" "},{"$f":"IFERROR((VLOOKUP(L57,Table2[[Prod.ID]:[MKI '[EUR MKI']]],3,FALSE)),\"\")","v":""},{"$f":"IFERROR((VLOOKUP(L57,Table2[[Prod.ID]:[Massa '[kg']]],4,FALSE)),\"\")","v":""},{"$f":"IFERROR((VLOOKUP(L57,Table2[[Prod.ID]:[Kritieke/ schaarse materialen?]],6,FALSE)),\"\")","v":""},{"$f":"IFERROR((VLOOKUP(L57,Table2[[Prod.ID]:[Economische waarde '[EUR']]],7,FALSE)),\"\")","v":""},{"$f":"IFERROR((VLOOKUP(L57,Table2[[Prod.ID]:[Aantal keer]],8,FALSE)),\"\")","v":""},{"$f":"'5. Bepaal factoren en bereken'!T57","v":""},{"$f":"'5. Bepaal factoren en bereken'!U57","v":""},{"$f":"IF('5. Bepaal factoren en bereken'!V57>0,'5. Bepaal factoren en bereken'!V57,\"\")","v":""}]
[null,{"$f":"'5. Bepaal factoren en bereken'!C58","v":""},{"$f":"IF('5. Bepaal factoren en bereken'!D58=\"\", \"\",'5. Bepaal factoren en bereken'!D58)","v":""},{"$f":"'5. Bepaal factoren en bereken'!E58","v":""},{"$f":"'5. Bepaal factoren en bereken'!F58","v":""},{"$f":"'4. Analyseer opbouw van object'!F56","v":""},{"$f":"IFERROR((VLOOKUP(D58,Table2[[Prod.ID]:[MKI '[EUR MKI']]],3,FALSE)),\"\")","v":""},{"$f":"IFERROR((VLOOKUP(D58,Table2[[Prod.ID]:[Massa '[kg']]],4,FALSE)),\"\")","v":""},{"$f":"IFERROR((VLOOKUP(D58,Table2[[Prod.ID]:[Kritieke/ schaarse materialen?]],6,FALSE)),\"\")","v":""},{"$f":"IFERROR((VLOOKUP(D58,Table2[[Prod.ID]:[Economische waarde '[EUR']]],7,FALSE)),\"\")","v":""},{"$f":"IFERROR((VLOOKUP(D58,Table2[[Prod.ID]:[Aantal keer]],8,FALSE)),\"\")","v":""},{"$f":"'5. Bepaal factoren en bereken'!G58","v":""},{"$f":"'5. Bepaal factoren en bereken'!H58","v":""},{"$f":"'4. Analyseer opbouw van object'!I57","v":" "},{"$f":"IFERROR((VLOOKUP(L58,Table2[[Prod.ID]:[MKI '[EUR MKI']]],3,FALSE)),\"\")","v":""},{"$f":"IFERROR((VLOOKUP(L58,Table2[[Prod.ID]:[Massa '[kg']]],4,FALSE)),\"\")","v":""},{"$f":"IFERROR((VLOOKUP(L58,Table2[[Prod.ID]:[Kritieke/ schaarse materialen?]],6,FALSE)),\"\")","v":""},{"$f":"IFERROR((VLOOKUP(L58,Table2[[Prod.ID]:[Economische waarde '[EUR']]],7,FALSE)),\"\")","v":""},{"$f":"IFERROR((VLOOKUP(L58,Table2[[Prod.ID]:[Aantal keer]],8,FALSE)),\"\")","v":""},{"$f":"'5. Bepaal factoren en bereken'!T58","v":""},{"$f":"'5. Bepaal factoren en bereken'!U58","v":""},{"$f":"IF('5. Bepaal factoren en bereken'!V58>0,'5. Bepaal factoren en bereken'!V58,\"\")","v":""}]
[null,{"$f":"'5. Bepaal factoren en bereken'!C59","v":""},{"$f":"IF('5. Bepaal factoren en bereken'!D59=\"\", \"\",'5. Bepaal factoren en bereken'!D59)","v":""},{"$f":"'5. Bepaal factoren en bereken'!E59","v":""},{"$f":"'5. Bepaal factoren en bereken'!F59","v":""},{"$f":"'4. Analyseer opbouw van object'!F57","v":""},{"$f":"IFERROR((VLOOKUP(D59,Table2[[Prod.ID]:[MKI '[EUR MKI']]],3,FALSE)),\"\")","v":""},{"$f":"IFERROR((VLOOKUP(D59,Table2[[Prod.ID]:[Massa '[kg']]],4,FALSE)),\"\")","v":""},{"$f":"IFERROR((VLOOKUP(D59,Table2[[Prod.ID]:[Kritieke/ schaarse materialen?]],6,FALSE)),\"\")","v":""},{"$f":"IFERROR((VLOOKUP(D59,Table2[[Prod.ID]:[Economische waarde '[EUR']]],7,FALSE)),\"\")","v":""},{"$f":"IFERROR((VLOOKUP(D59,Table2[[Prod.ID]:[Aantal keer]],8,FALSE)),\"\")","v":""},{"$f":"'5. Bepaal factoren en bereken'!G59","v":""},{"$f":"'5. Bepaal factoren en bereken'!H59","v":""},{"$f":"'4. Analyseer opbouw van object'!I58","v":" "},{"$f":"IFERROR((VLOOKUP(L59,Table2[[Prod.ID]:[MKI '[EUR MKI']]],3,FALSE)),\"\")","v":""},{"$f":"IFERROR((VLOOKUP(L59,Table2[[Prod.ID]:[Massa '[kg']]],4,FALSE)),\"\")","v":""},{"$f":"IFERROR((VLOOKUP(L59,Table2[[Prod.ID]:[Kritieke/ schaarse materialen?]],6,FALSE)),\"\")","v":""},{"$f":"IFERROR((VLOOKUP(L59,Table2[[Prod.ID]:[Economische waarde '[EUR']]],7,FALSE)),\"\")","v":""},{"$f":"IFERROR((VLOOKUP(L59,Table2[[Prod.ID]:[Aantal keer]],8,FALSE)),\"\")","v":""},{"$f":"'5. Bepaal factoren en bereken'!T59","v":""},{"$f":"'5. Bepaal factoren en bereken'!U59","v":""},{"$f":"IF('5. Bepaal factoren en bereken'!V59>0,'5. Bepaal factoren en bereken'!V59,\"\")","v":""}]
[null,{"$f":"'5. Bepaal factoren en bereken'!C60","v":""},{"$f":"IF('5. Bepaal factoren en bereken'!D60=\"\", \"\",'5. Bepaal factoren en bereken'!D60)","v":""},{"$f":"'5. Bepaal factoren en bereken'!E60","v":""},{"$f":"'5. Bepaal factoren en bereken'!F60","v":""},{"$f":"'4. Analyseer opbouw van object'!F58","v":""},{"$f":"IFERROR((VLOOKUP(D60,Table2[[Prod.ID]:[MKI '[EUR MKI']]],3,FALSE)),\"\")","v":""},{"$f":"IFERROR((VLOOKUP(D60,Table2[[Prod.ID]:[Massa '[kg']]],4,FALSE)),\"\")","v":""},{"$f":"IFERROR((VLOOKUP(D60,Table2[[Prod.ID]:[Kritieke/ schaarse materialen?]],6,FALSE)),\"\")","v":""},{"$f":"IFERROR((VLOOKUP(D60,Table2[[Prod.ID]:[Economische waarde '[EUR']]],7,FALSE)),\"\")","v":""},{"$f":"IFERROR((VLOOKUP(D60,Table2[[Prod.ID]:[Aantal keer]],8,FALSE)),\"\")","v":""},{"$f":"'5. Bepaal factoren en bereken'!G60","v":""},{"$f":"'5. Bepaal factoren en bereken'!H60","v":""},{"$f":"'4. Analyseer opbouw van object'!I59","v":" "},{"$f":"IFERROR((VLOOKUP(L60,Table2[[Prod.ID]:[MKI '[EUR MKI']]],3,FALSE)),\"\")","v":""},{"$f":"IFERROR((VLOOKUP(L60,Table2[[Prod.ID]:[Massa '[kg']]],4,FALSE)),\"\")","v":""},{"$f":"IFERROR((VLOOKUP(L60,Table2[[Prod.ID]:[Kritieke/ schaarse materialen?]],6,FALSE)),\"\")","v":""},{"$f":"IFERROR((VLOOKUP(L60,Table2[[Prod.ID]:[Economische waarde '[EUR']]],7,FALSE)),\"\")","v":""},{"$f":"IFERROR((VLOOKUP(L60,Table2[[Prod.ID]:[Aantal keer]],8,FALSE)),\"\")","v":""},{"$f":"'5. Bepaal factoren en bereken'!T60","v":""},{"$f":"'5. Bepaal factoren en bereken'!U60","v":""},{"$f":"IF('5. Bepaal factoren en bereken'!V60>0,'5. Bepaal factoren en bereken'!V60,\"\")","v":""}]
[null,{"$f":"'5. Bepaal factoren en bereken'!C61","v":""},{"$f":"IF('5. Bepaal factoren en bereken'!D61=\"\", \"\",'5. Bepaal factoren en bereken'!D61)","v":""},{"$f":"'5. Bepaal factoren en bereken'!E61","v":""},{"$f":"'5. Bepaal factoren en bereken'!F61","v":""},{"$f":"'4. Analyseer opbouw van object'!F59","v":""},{"$f":"IFERROR((VLOOKUP(D61,Table2[[Prod.ID]:[MKI '[EUR MKI']]],3,FALSE)),\"\")","v":""},{"$f":"IFERROR((VLOOKUP(D61,Table2[[Prod.ID]:[Massa '[kg']]],4,FALSE)),\"\")","v":""},{"$f":"IFERROR((VLOOKUP(D61,Table2[[Prod.ID]:[Kritieke/ schaarse materialen?]],6,FALSE)),\"\")","v":""},{"$f":"IFERROR((VLOOKUP(D61,Table2[[Prod.ID]:[Economische waarde '[EUR']]],7,FALSE)),\"\")","v":""},{"$f":"IFERROR((VLOOKUP(D61,Table2[[Prod.ID]:[Aantal keer]],8,FALSE)),\"\")","v":""},{"$f":"'5. Bepaal factoren en bereken'!G61","v":""},{"$f":"'5. Bepaal factoren en bereken'!H61","v":""},{"$f":"'4. Analyseer opbouw van object'!I60","v":" "},{"$f":"IFERROR((VLOOKUP(L61,Table2[[Prod.ID]:[MKI '[EUR MKI']]],3,FALSE)),\"\")","v":""},{"$f":"IFERROR((VLOOKUP(L61,Table2[[Prod.ID]:[Massa '[kg']]],4,FALSE)),\"\")","v":""},{"$f":"IFERROR((VLOOKUP(L61,Table2[[Prod.ID]:[Kritieke/ schaarse materialen?]],6,FALSE)),\"\")","v":""},{"$f":"IFERROR((VLOOKUP(L61,Table2[[Prod.ID]:[Economische waarde '[EUR']]],7,FALSE)),\"\")","v":""},{"$f":"IFERROR((VLOOKUP(L61,Table2[[Prod.ID]:[Aantal keer]],8,FALSE)),\"\")","v":""},{"$f":"'5. Bepaal factoren en bereken'!T61","v":""},{"$f":"'5. Bepaal factoren en bereken'!U61","v":""},{"$f":"IF('5. Bepaal factoren en bereken'!V61>0,'5. Bepaal factoren en bereken'!V61,\"\")","v":""}]
[null,{"$f":"'5. Bepaal factoren en bereken'!C62","v":""},{"$f":"IF('5. Bepaal factoren en bereken'!D62=\"\", \"\",'5. Bepaal factoren en bereken'!D62)","v":""},{"$f":"'5. Bepaal factoren en bereken'!E62","v":""},{"$f":"'5. Bepaal factoren en bereken'!F62","v":""},{"$f":"'4. Analyseer opbouw van object'!F60","v":""},{"$f":"IFERROR((VLOOKUP(D62,Table2[[Prod.ID]:[MKI '[EUR MKI']]],3,FALSE)),\"\")","v":""},{"$f":"IFERROR((VLOOKUP(D62,Table2[[Prod.ID]:[Massa '[kg']]],4,FALSE)),\"\")","v":""},{"$f":"IFERROR((VLOOKUP(D62,Table2[[Prod.ID]:[Kritieke/ schaarse materialen?]],6,FALSE)),\"\")","v":""},{"$f":"IFERROR((VLOOKUP(D62,Table2[[Prod.ID]:[Economische waarde '[EUR']]],7,FALSE)),\"\")","v":""},{"$f":"IFERROR((VLOOKUP(D62,Table2[[Prod.ID]:[Aantal keer]],8,FALSE)),\"\")","v":""},{"$f":"'5. Bepaal factoren en bereken'!G62","v":""},{"$f":"'5. Bepaal factoren en bereken'!H62","v":""},{"$f":"'4. Analyseer opbouw van object'!I61","v":" "},{"$f":"IFERROR((VLOOKUP(L62,Table2[[Prod.ID]:[MKI '[EUR MKI']]],3,FALSE)),\"\")","v":""},{"$f":"IFERROR((VLOOKUP(L62,Table2[[Prod.ID]:[Massa '[kg']]],4,FALSE)),\"\")","v":""},{"$f":"IFERROR((VLOOKUP(L62,Table2[[Prod.ID]:[Kritieke/ schaarse materialen?]],6,FALSE)),\"\")","v":""},{"$f":"IFERROR((VLOOKUP(L62,Table2[[Prod.ID]:[Economische waarde '[EUR']]],7,FALSE)),\"\")","v":""},{"$f":"IFERROR((VLOOKUP(L62,Table2[[Prod.ID]:[Aantal keer]],8,FALSE)),\"\")","v":""},{"$f":"'5. Bepaal factoren en bereken'!T62","v":""},{"$f":"'5. Bepaal factoren en bereken'!U62","v":""},{"$f":"IF('5. Bepaal factoren en bereken'!V62>0,'5. Bepaal factoren en bereken'!V62,\"\")","v":""}]
[null,{"$f":"'5. Bepaal factoren en bereken'!C63","v":""},{"$f":"IF('5. Bepaal factoren en bereken'!D63=\"\", \"\",'5. Bepaal factoren en bereken'!D63)","v":""},{"$f":"'5. Bepaal factoren en bereken'!E63","v":""},{"$f":"'5. Bepaal factoren en bereken'!F63","v":""},{"$f":"'4. Analyseer opbouw van object'!F61","v":""},{"$f":"IFERROR((VLOOKUP(D63,Table2[[Prod.ID]:[MKI '[EUR MKI']]],3,FALSE)),\"\")","v":""},{"$f":"IFERROR((VLOOKUP(D63,Table2[[Prod.ID]:[Massa '[kg']]],4,FALSE)),\"\")","v":""},{"$f":"IFERROR((VLOOKUP(D63,Table2[[Prod.ID]:[Kritieke/ schaarse materialen?]],6,FALSE)),\"\")","v":""},{"$f":"IFERROR((VLOOKUP(D63,Table2[[Prod.ID]:[Economische waarde '[EUR']]],7,FALSE)),\"\")","v":""},{"$f":"IFERROR((VLOOKUP(D63,Table2[[Prod.ID]:[Aantal keer]],8,FALSE)),\"\")","v":""},{"$f":"'5. Bepaal factoren en bereken'!G63","v":""},{"$f":"'5. Bepaal factoren en bereken'!H63","v":""},{"$f":"'4. Analyseer opbouw van object'!I62","v":" "},{"$f":"IFERROR((VLOOKUP(L63,Table2[[Prod.ID]:[MKI '[EUR MKI']]],3,FALSE)),\"\")","v":""},{"$f":"IFERROR((VLOOKUP(L63,Table2[[Prod.ID]:[Massa '[kg']]],4,FALSE)),\"\")","v":""},{"$f":"IFERROR((VLOOKUP(L63,Table2[[Prod.ID]:[Kritieke/ schaarse materialen?]],6,FALSE)),\"\")","v":""},{"$f":"IFERROR((VLOOKUP(L63,Table2[[Prod.ID]:[Economische waarde '[EUR']]],7,FALSE)),\"\")","v":""},{"$f":"IFERROR((VLOOKUP(L63,Table2[[Prod.ID]:[Aantal keer]],8,FALSE)),\"\")","v":""},{"$f":"'5. Bepaal factoren en bereken'!T63","v":""},{"$f":"'5. Bepaal factoren en bereken'!U63","v":""},{"$f":"IF('5. Bepaal factoren en bereken'!V63>0,'5. Bepaal factoren en bereken'!V63,\"\")","v":""}]
[null,{"$f":"'5. Bepaal factoren en bereken'!C64","v":""},{"$f":"IF('5. Bepaal factoren en bereken'!D64=\"\", \"\",'5. Bepaal factoren en bereken'!D64)","v":""},{"$f":"'5. Bepaal factoren en bereken'!E64","v":""},{"$f":"'5. Bepaal factoren en bereken'!F64","v":""},{"$f":"'4. Analyseer opbouw van object'!F62","v":""},{"$f":"IFERROR((VLOOKUP(D64,Table2[[Prod.ID]:[MKI '[EUR MKI']]],3,FALSE)),\"\")","v":""},{"$f":"IFERROR((VLOOKUP(D64,Table2[[Prod.ID]:[Massa '[kg']]],4,FALSE)),\"\")","v":""},{"$f":"IFERROR((VLOOKUP(D64,Table2[[Prod.ID]:[Kritieke/ schaarse materialen?]],6,FALSE)),\"\")","v":""},{"$f":"IFERROR((VLOOKUP(D64,Table2[[Prod.ID]:[Economische waarde '[EUR']]],7,FALSE)),\"\")","v":""},{"$f":"IFERROR((VLOOKUP(D64,Table2[[Prod.ID]:[Aantal keer]],8,FALSE)),\"\")","v":""},{"$f":"'5. Bepaal factoren en bereken'!G64","v":""},{"$f":"'5. Bepaal factoren en bereken'!H64","v":""},{"$f":"'4. Analyseer opbouw van object'!I63","v":" "},{"$f":"IFERROR((VLOOKUP(L64,Table2[[Prod.ID]:[MKI '[EUR MKI']]],3,FALSE)),\"\")","v":""},{"$f":"IFERROR((VLOOKUP(L64,Table2[[Prod.ID]:[Massa '[kg']]],4,FALSE)),\"\")","v":""},{"$f":"IFERROR((VLOOKUP(L64,Table2[[Prod.ID]:[Kritieke/ schaarse materialen?]],6,FALSE)),\"\")","v":""},{"$f":"IFERROR((VLOOKUP(L64,Table2[[Prod.ID]:[Economische waarde '[EUR']]],7,FALSE)),\"\")","v":""},{"$f":"IFERROR((VLOOKUP(L64,Table2[[Prod.ID]:[Aantal keer]],8,FALSE)),\"\")","v":""},{"$f":"'5. Bepaal factoren en bereken'!T64","v":""},{"$f":"'5. Bepaal factoren en bereken'!U64","v":""},{"$f":"IF('5. Bepaal factoren en bereken'!V64>0,'5. Bepaal factoren en bereken'!V64,\"\")","v":""}]
[null,{"$f":"'5. Bepaal factoren en bereken'!C65","v":""},{"$f":"IF('5. Bepaal factoren en bereken'!D65=\"\", \"\",'5. Bepaal factoren en bereken'!D65)","v":""},{"$f":"'5. Bepaal factoren en bereken'!E65","v":""},{"$f":"'5. Bepaal factoren en bereken'!F65","v":""},{"$f":"'4. Analyseer opbouw van object'!F63","v":""},{"$f":"IFERROR((VLOOKUP(D65,Table2[[Prod.ID]:[MKI '[EUR MKI']]],3,FALSE)),\"\")","v":""},{"$f":"IFERROR((VLOOKUP(D65,Table2[[Prod.ID]:[Massa '[kg']]],4,FALSE)),\"\")","v":""},{"$f":"IFERROR((VLOOKUP(D65,Table2[[Prod.ID]:[Kritieke/ schaarse materialen?]],6,FALSE)),\"\")","v":""},{"$f":"IFERROR((VLOOKUP(D65,Table2[[Prod.ID]:[Economische waarde '[EUR']]],7,FALSE)),\"\")","v":""},{"$f":"IFERROR((VLOOKUP(D65,Table2[[Prod.ID]:[Aantal keer]],8,FALSE)),\"\")","v":""},{"$f":"'5. Bepaal factoren en bereken'!G65","v":""},{"$f":"'5. Bepaal factoren en bereken'!H65","v":""},{"$f":"'4. Analyseer opbouw van object'!I64","v":" "},{"$f":"IFERROR((VLOOKUP(L65,Table2[[Prod.ID]:[MKI '[EUR MKI']]],3,FALSE)),\"\")","v":""},{"$f":"IFERROR((VLOOKUP(L65,Table2[[Prod.ID]:[Massa '[kg']]],4,FALSE)),\"\")","v":""},{"$f":"IFERROR((VLOOKUP(L65,Table2[[Prod.ID]:[Kritieke/ schaarse materialen?]],6,FALSE)),\"\")","v":""},{"$f":"IFERROR((VLOOKUP(L65,Table2[[Prod.ID]:[Economische waarde '[EUR']]],7,FALSE)),\"\")","v":""},{"$f":"IFERROR((VLOOKUP(L65,Table2[[Prod.ID]:[Aantal keer]],8,FALSE)),\"\")","v":""},{"$f":"'5. Bepaal factoren en bereken'!T65","v":""},{"$f":"'5. Bepaal factoren en bereken'!U65","v":""},{"$f":"IF('5. Bepaal factoren en bereken'!V65>0,'5. Bepaal factoren en bereken'!V65,\"\")","v":""}]
[null,{"$f":"'5. Bepaal factoren en bereken'!C66","v":""},{"$f":"IF('5. Bepaal factoren en bereken'!D66=\"\", \"\",'5. Bepaal factoren en bereken'!D66)","v":""},{"$f":"'5. Bepaal factoren en bereken'!E66","v":""},{"$f":"'5. Bepaal factoren en bereken'!F66","v":""},{"$f":"'4. Analyseer opbouw van object'!F64","v":""},{"$f":"IFERROR((VLOOKUP(D66,Table2[[Prod.ID]:[MKI '[EUR MKI']]],3,FALSE)),\"\")","v":""},{"$f":"IFERROR((VLOOKUP(D66,Table2[[Prod.ID]:[Massa '[kg']]],4,FALSE)),\"\")","v":""},{"$f":"IFERROR((VLOOKUP(D66,Table2[[Prod.ID]:[Kritieke/ schaarse materialen?]],6,FALSE)),\"\")","v":""},{"$f":"IFERROR((VLOOKUP(D66,Table2[[Prod.ID]:[Economische waarde '[EUR']]],7,FALSE)),\"\")","v":""},{"$f":"IFERROR((VLOOKUP(D66,Table2[[Prod.ID]:[Aantal keer]],8,FALSE)),\"\")","v":""},{"$f":"'5. Bepaal factoren en bereken'!G66","v":""},{"$f":"'5. Bepaal factoren en bereken'!H66","v":""},{"$f":"'4. Analyseer opbouw van object'!I65","v":" "},{"$f":"IFERROR((VLOOKUP(L66,Table2[[Prod.ID]:[MKI '[EUR MKI']]],3,FALSE)),\"\")","v":""},{"$f":"IFERROR((VLOOKUP(L66,Table2[[Prod.ID]:[Massa '[kg']]],4,FALSE)),\"\")","v":""},{"$f":"IFERROR((VLOOKUP(L66,Table2[[Prod.ID]:[Kritieke/ schaarse materialen?]],6,FALSE)),\"\")","v":""},{"$f":"IFERROR((VLOOKUP(L66,Table2[[Prod.ID]:[Economische waarde '[EUR']]],7,FALSE)),\"\")","v":""},{"$f":"IFERROR((VLOOKUP(L66,Table2[[Prod.ID]:[Aantal keer]],8,FALSE)),\"\")","v":""},{"$f":"'5. Bepaal factoren en bereken'!T66","v":""},{"$f":"'5. Bepaal factoren en bereken'!U66","v":""},{"$f":"IF('5. Bepaal factoren en bereken'!V66>0,'5. Bepaal factoren en bereken'!V66,\"\")","v":""}]
[null,{"$f":"'5. Bepaal factoren en bereken'!C67","v":""},{"$f":"IF('5. Bepaal factoren en bereken'!D67=\"\", \"\",'5. Bepaal factoren en bereken'!D67)","v":""},{"$f":"'5. Bepaal factoren en bereken'!E67","v":""},{"$f":"'5. Bepaal factoren en bereken'!F67","v":""},{"$f":"'4. Analyseer opbouw van object'!F65","v":""},{"$f":"IFERROR((VLOOKUP(D67,Table2[[Prod.ID]:[MKI '[EUR MKI']]],3,FALSE)),\"\")","v":""},{"$f":"IFERROR((VLOOKUP(D67,Table2[[Prod.ID]:[Massa '[kg']]],4,FALSE)),\"\")","v":""},{"$f":"IFERROR((VLOOKUP(D67,Table2[[Prod.ID]:[Kritieke/ schaarse materialen?]],6,FALSE)),\"\")","v":""},{"$f":"IFERROR((VLOOKUP(D67,Table2[[Prod.ID]:[Economische waarde '[EUR']]],7,FALSE)),\"\")","v":""},{"$f":"IFERROR((VLOOKUP(D67,Table2[[Prod.ID]:[Aantal keer]],8,FALSE)),\"\")","v":""},{"$f":"'5. Bepaal factoren en bereken'!G67","v":""},{"$f":"'5. Bepaal factoren en bereken'!H67","v":""},{"$f":"'4. Analyseer opbouw van object'!I66","v":" "},{"$f":"IFERROR((VLOOKUP(L67,Table2[[Prod.ID]:[MKI '[EUR MKI']]],3,FALSE)),\"\")","v":""},{"$f":"IFERROR((VLOOKUP(L67,Table2[[Prod.ID]:[Massa '[kg']]],4,FALSE)),\"\")","v":""},{"$f":"IFERROR((VLOOKUP(L67,Table2[[Prod.ID]:[Kritieke/ schaarse materialen?]],6,FALSE)),\"\")","v":""},{"$f":"IFERROR((VLOOKUP(L67,Table2[[Prod.ID]:[Economische waarde '[EUR']]],7,FALSE)),\"\")","v":""},{"$f":"IFERROR((VLOOKUP(L67,Table2[[Prod.ID]:[Aantal keer]],8,FALSE)),\"\")","v":""},{"$f":"'5. Bepaal factoren en bereken'!T67","v":""},{"$f":"'5. Bepaal factoren en bereken'!U67","v":""},{"$f":"IF('5. Bepaal factoren en bereken'!V67>0,'5. Bepaal factoren en bereken'!V67,\"\")","v":""}]
[null,{"$f":"'5. Bepaal factoren en bereken'!C68","v":""},{"$f":"IF('5. Bepaal factoren en bereken'!D68=\"\", \"\",'5. Bepaal factoren en bereken'!D68)","v":""},{"$f":"'5. Bepaal factoren en bereken'!E68","v":""},{"$f":"'5. Bepaal factoren en bereken'!F68","v":""},{"$f":"'4. Analyseer opbouw van object'!F66","v":""},{"$f":"IFERROR((VLOOKUP(D68,Table2[[Prod.ID]:[MKI '[EUR MKI']]],3,FALSE)),\"\")","v":""},{"$f":"IFERROR((VLOOKUP(D68,Table2[[Prod.ID]:[Massa '[kg']]],4,FALSE)),\"\")","v":""},{"$f":"IFERROR((VLOOKUP(D68,Table2[[Prod.ID]:[Kritieke/ schaarse materialen?]],6,FALSE)),\"\")","v":""},{"$f":"IFERROR((VLOOKUP(D68,Table2[[Prod.ID]:[Economische waarde '[EUR']]],7,FALSE)),\"\")","v":""},{"$f":"IFERROR((VLOOKUP(D68,Table2[[Prod.ID]:[Aantal keer]],8,FALSE)),\"\")","v":""},{"$f":"'5. Bepaal factoren en bereken'!G68","v":""},{"$f":"'5. Bepaal factoren en bereken'!H68","v":""},{"$f":"'4. Analyseer opbouw van object'!I67","v":" "},{"$f":"IFERROR((VLOOKUP(L68,Table2[[Prod.ID]:[MKI '[EUR MKI']]],3,FALSE)),\"\")","v":""},{"$f":"IFERROR((VLOOKUP(L68,Table2[[Prod.ID]:[Massa '[kg']]],4,FALSE)),\"\")","v":""},{"$f":"IFERROR((VLOOKUP(L68,Table2[[Prod.ID]:[Kritieke/ schaarse materialen?]],6,FALSE)),\"\")","v":""},{"$f":"IFERROR((VLOOKUP(L68,Table2[[Prod.ID]:[Economische waarde '[EUR']]],7,FALSE)),\"\")","v":""},{"$f":"IFERROR((VLOOKUP(L68,Table2[[Prod.ID]:[Aantal keer]],8,FALSE)),\"\")","v":""},{"$f":"'5. Bepaal factoren en bereken'!T68","v":""},{"$f":"'5. Bepaal factoren en bereken'!U68","v":""},{"$f":"IF('5. Bepaal factoren en bereken'!V68>0,'5. Bepaal factoren en bereken'!V68,\"\")","v":""}]
[null,{"$f":"'5. Bepaal factoren en bereken'!C69","v":""},{"$f":"IF('5. Bepaal factoren en bereken'!D69=\"\", \"\",'5. Bepaal factoren en bereken'!D69)","v":""},{"$f":"'5. Bepaal factoren en bereken'!E69","v":""},{"$f":"'5. Bepaal factoren en bereken'!F69","v":""},{"$f":"'4. Analyseer opbouw van object'!F67","v":""},{"$f":"IFERROR((VLOOKUP(D69,Table2[[Prod.ID]:[MKI '[EUR MKI']]],3,FALSE)),\"\")","v":""},{"$f":"IFERROR((VLOOKUP(D69,Table2[[Prod.ID]:[Massa '[kg']]],4,FALSE)),\"\")","v":""},{"$f":"IFERROR((VLOOKUP(D69,Table2[[Prod.ID]:[Kritieke/ schaarse materialen?]],6,FALSE)),\"\")","v":""},{"$f":"IFERROR((VLOOKUP(D69,Table2[[Prod.ID]:[Economische waarde '[EUR']]],7,FALSE)),\"\")","v":""},{"$f":"IFERROR((VLOOKUP(D69,Table2[[Prod.ID]:[Aantal keer]],8,FALSE)),\"\")","v":""},{"$f":"'5. Bepaal factoren en bereken'!G69","v":""},{"$f":"'5. Bepaal factoren en bereken'!H69","v":""},{"$f":"'4. Analyseer opbouw van object'!I68","v":" "},{"$f":"IFERROR((VLOOKUP(L69,Table2[[Prod.ID]:[MKI '[EUR MKI']]],3,FALSE)),\"\")","v":""},{"$f":"IFERROR((VLOOKUP(L69,Table2[[Prod.ID]:[Massa '[kg']]],4,FALSE)),\"\")","v":""},{"$f":"IFERROR((VLOOKUP(L69,Table2[[Prod.ID]:[Kritieke/ schaarse materialen?]],6,FALSE)),\"\")","v":""},{"$f":"IFERROR((VLOOKUP(L69,Table2[[Prod.ID]:[Economische waarde '[EUR']]],7,FALSE)),\"\")","v":""},{"$f":"IFERROR((VLOOKUP(L69,Table2[[Prod.ID]:[Aantal keer]],8,FALSE)),\"\")","v":""},{"$f":"'5. Bepaal factoren en bereken'!T69","v":""},{"$f":"'5. Bepaal factoren en bereken'!U69","v":""},{"$f":"IF('5. Bepaal factoren en bereken'!V69>0,'5. Bepaal factoren en bereken'!V69,\"\")","v":""}]
[null,{"$f":"'5. Bepaal factoren en bereken'!C70","v":""},{"$f":"IF('5. Bepaal factoren en bereken'!D70=\"\", \"\",'5. Bepaal factoren en bereken'!D70)","v":""},{"$f":"'5. Bepaal factoren en bereken'!E70","v":""},{"$f":"'5. Bepaal factoren en bereken'!F70","v":""},{"$f":"'4. Analyseer opbouw van object'!F68","v":""},{"$f":"IFERROR((VLOOKUP(D70,Table2[[Prod.ID]:[MKI '[EUR MKI']]],3,FALSE)),\"\")","v":""},{"$f":"IFERROR((VLOOKUP(D70,Table2[[Prod.ID]:[Massa '[kg']]],4,FALSE)),\"\")","v":""},{"$f":"IFERROR((VLOOKUP(D70,Table2[[Prod.ID]:[Kritieke/ schaarse materialen?]],6,FALSE)),\"\")","v":""},{"$f":"IFERROR((VLOOKUP(D70,Table2[[Prod.ID]:[Economische waarde '[EUR']]],7,FALSE)),\"\")","v":""},{"$f":"IFERROR((VLOOKUP(D70,Table2[[Prod.ID]:[Aantal keer]],8,FALSE)),\"\")","v":""},{"$f":"'5. Bepaal factoren en bereken'!G70","v":""},{"$f":"'5. Bepaal factoren en bereken'!H70","v":""},{"$f":"'4. Analyseer opbouw van object'!I69","v":" "},{"$f":"IFERROR((VLOOKUP(L70,Table2[[Prod.ID]:[MKI '[EUR MKI']]],3,FALSE)),\"\")","v":""},{"$f":"IFERROR((VLOOKUP(L70,Table2[[Prod.ID]:[Massa '[kg']]],4,FALSE)),\"\")","v":""},{"$f":"IFERROR((VLOOKUP(L70,Table2[[Prod.ID]:[Kritieke/ schaarse materialen?]],6,FALSE)),\"\")","v":""},{"$f":"IFERROR((VLOOKUP(L70,Table2[[Prod.ID]:[Economische waarde '[EUR']]],7,FALSE)),\"\")","v":""},{"$f":"IFERROR((VLOOKUP(L70,Table2[[Prod.ID]:[Aantal keer]],8,FALSE)),\"\")","v":""},{"$f":"'5. Bepaal factoren en bereken'!T70","v":""},{"$f":"'5. Bepaal factoren en bereken'!U70","v":""},{"$f":"IF('5. Bepaal factoren en bereken'!V70>0,'5. Bepaal factoren en bereken'!V70,\"\")","v":""}]
[null,{"$f":"'5. Bepaal factoren en bereken'!C71","v":""},{"$f":"IF('5. Bepaal factoren en bereken'!D71=\"\", \"\",'5. Bepaal factoren en bereken'!D71)","v":""},{"$f":"'5. Bepaal factoren en bereken'!E71","v":""},{"$f":"'5. Bepaal factoren en bereken'!F71","v":""},{"$f":"'4. Analyseer opbouw van object'!F69","v":""},{"$f":"IFERROR((VLOOKUP(D71,Table2[[Prod.ID]:[MKI '[EUR MKI']]],3,FALSE)),\"\")","v":""},{"$f":"IFERROR((VLOOKUP(D71,Table2[[Prod.ID]:[Massa '[kg']]],4,FALSE)),\"\")","v":""},{"$f":"IFERROR((VLOOKUP(D71,Table2[[Prod.ID]:[Kritieke/ schaarse materialen?]],6,FALSE)),\"\")","v":""},{"$f":"IFERROR((VLOOKUP(D71,Table2[[Prod.ID]:[Economische waarde '[EUR']]],7,FALSE)),\"\")","v":""},{"$f":"IFERROR((VLOOKUP(D71,Table2[[Prod.ID]:[Aantal keer]],8,FALSE)),\"\")","v":""},{"$f":"'5. Bepaal factoren en bereken'!G71","v":""},{"$f":"'5. Bepaal factoren en bereken'!H71","v":""},{"$f":"'4. Analyseer opbouw van object'!I70","v":" "},{"$f":"IFERROR((VLOOKUP(L71,Table2[[Prod.ID]:[MKI '[EUR MKI']]],3,FALSE)),\"\")","v":""},{"$f":"IFERROR((VLOOKUP(L71,Table2[[Prod.ID]:[Massa '[kg']]],4,FALSE)),\"\")","v":""},{"$f":"IFERROR((VLOOKUP(L71,Table2[[Prod.ID]:[Kritieke/ schaarse materialen?]],6,FALSE)),\"\")","v":""},{"$f":"IFERROR((VLOOKUP(L71,Table2[[Prod.ID]:[Economische waarde '[EUR']]],7,FALSE)),\"\")","v":""},{"$f":"IFERROR((VLOOKUP(L71,Table2[[Prod.ID]:[Aantal keer]],8,FALSE)),\"\")","v":""},{"$f":"'5. Bepaal factoren en bereken'!T71","v":""},{"$f":"'5. Bepaal factoren en bereken'!U71","v":""},{"$f":"IF('5. Bepaal factoren en bereken'!V71>0,'5. Bepaal factoren en bereken'!V71,\"\")","v":""}]
[null,{"$f":"'5. Bepaal factoren en bereken'!C72","v":""},{"$f":"IF('5. Bepaal factoren en bereken'!D72=\"\", \"\",'5. Bepaal factoren en bereken'!D72)","v":""},{"$f":"'5. Bepaal factoren en bereken'!E72","v":""},{"$f":"'5. Bepaal factoren en bereken'!F72","v":""},{"$f":"'4. Analyseer opbouw van object'!F70","v":""},{"$f":"IFERROR((VLOOKUP(D72,Table2[[Prod.ID]:[MKI '[EUR MKI']]],3,FALSE)),\"\")","v":""},{"$f":"IFERROR((VLOOKUP(D72,Table2[[Prod.ID]:[Massa '[kg']]],4,FALSE)),\"\")","v":""},{"$f":"IFERROR((VLOOKUP(D72,Table2[[Prod.ID]:[Kritieke/ schaarse materialen?]],6,FALSE)),\"\")","v":""},{"$f":"IFERROR((VLOOKUP(D72,Table2[[Prod.ID]:[Economische waarde '[EUR']]],7,FALSE)),\"\")","v":""},{"$f":"IFERROR((VLOOKUP(D72,Table2[[Prod.ID]:[Aantal keer]],8,FALSE)),\"\")","v":""},{"$f":"'5. Bepaal factoren en bereken'!G72","v":""},{"$f":"'5. Bepaal factoren en bereken'!H72","v":""},{"$f":"'4. Analyseer opbouw van object'!I71","v":" "},{"$f":"IFERROR((VLOOKUP(L72,Table2[[Prod.ID]:[MKI '[EUR MKI']]],3,FALSE)),\"\")","v":""},{"$f":"IFERROR((VLOOKUP(L72,Table2[[Prod.ID]:[Massa '[kg']]],4,FALSE)),\"\")","v":""},{"$f":"IFERROR((VLOOKUP(L72,Table2[[Prod.ID]:[Kritieke/ schaarse materialen?]],6,FALSE)),\"\")","v":""},{"$f":"IFERROR((VLOOKUP(L72,Table2[[Prod.ID]:[Economische waarde '[EUR']]],7,FALSE)),\"\")","v":""},{"$f":"IFERROR((VLOOKUP(L72,Table2[[Prod.ID]:[Aantal keer]],8,FALSE)),\"\")","v":""},{"$f":"'5. Bepaal factoren en bereken'!T72","v":""},{"$f":"'5. Bepaal factoren en bereken'!U72","v":""},{"$f":"IF('5. Bepaal factoren en bereken'!V72>0,'5. Bepaal factoren en bereken'!V72,\"\")","v":""}]
[null,{"$f":"'5. Bepaal factoren en bereken'!C73","v":""},{"$f":"IF('5. Bepaal factoren en bereken'!D73=\"\", \"\",'5. Bepaal factoren en bereken'!D73)","v":""},{"$f":"'5. Bepaal factoren en bereken'!E73","v":""},{"$f":"'5. Bepaal factoren en bereken'!F73","v":""},{"$f":"'4. Analyseer opbouw van object'!F71","v":""},{"$f":"IFERROR((VLOOKUP(D73,Table2[[Prod.ID]:[MKI '[EUR MKI']]],3,FALSE)),\"\")","v":""},{"$f":"IFERROR((VLOOKUP(D73,Table2[[Prod.ID]:[Massa '[kg']]],4,FALSE)),\"\")","v":""},{"$f":"IFERROR((VLOOKUP(D73,Table2[[Prod.ID]:[Kritieke/ schaarse materialen?]],6,FALSE)),\"\")","v":""},{"$f":"IFERROR((VLOOKUP(D73,Table2[[Prod.ID]:[Economische waarde '[EUR']]],7,FALSE)),\"\")","v":""},{"$f":"IFERROR((VLOOKUP(D73,Table2[[Prod.ID]:[Aantal keer]],8,FALSE)),\"\")","v":""},{"$f":"'5. Bepaal factoren en bereken'!G73","v":""},{"$f":"'5. Bepaal factoren en bereken'!H73","v":""},{"$f":"'4. Analyseer opbouw van object'!I72","v":" "},{"$f":"IFERROR((VLOOKUP(L73,Table2[[Prod.ID]:[MKI '[EUR MKI']]],3,FALSE)),\"\")","v":""},{"$f":"IFERROR((VLOOKUP(L73,Table2[[Prod.ID]:[Massa '[kg']]],4,FALSE)),\"\")","v":""},{"$f":"IFERROR((VLOOKUP(L73,Table2[[Prod.ID]:[Kritieke/ schaarse materialen?]],6,FALSE)),\"\")","v":""},{"$f":"IFERROR((VLOOKUP(L73,Table2[[Prod.ID]:[Economische waarde '[EUR']]],7,FALSE)),\"\")","v":""},{"$f":"IFERROR((VLOOKUP(L73,Table2[[Prod.ID]:[Aantal keer]],8,FALSE)),\"\")","v":""},{"$f":"'5. Bepaal factoren en bereken'!T73","v":""},{"$f":"'5. Bepaal factoren en bereken'!U73","v":""},{"$f":"IF('5. Bepaal factoren en bereken'!V73>0,'5. Bepaal factoren en bereken'!V73,\"\")","v":""}]
[null,{"$f":"'5. Bepaal factoren en bereken'!C74","v":""},{"$f":"IF('5. Bepaal factoren en bereken'!D74=\"\", \"\",'5. Bepaal factoren en bereken'!D74)","v":""},{"$f":"'5. Bepaal factoren en bereken'!E74","v":""},{"$f":"'5. Bepaal factoren en bereken'!F74","v":""},{"$f":"'4. Analyseer opbouw van object'!F72","v":""},{"$f":"IFERROR((VLOOKUP(D74,Table2[[Prod.ID]:[MKI '[EUR MKI']]],3,FALSE)),\"\")","v":""},{"$f":"IFERROR((VLOOKUP(D74,Table2[[Prod.ID]:[Massa '[kg']]],4,FALSE)),\"\")","v":""},{"$f":"IFERROR((VLOOKUP(D74,Table2[[Prod.ID]:[Kritieke/ schaarse materialen?]],6,FALSE)),\"\")","v":""},{"$f":"IFERROR((VLOOKUP(D74,Table2[[Prod.ID]:[Economische waarde '[EUR']]],7,FALSE)),\"\")","v":""},{"$f":"IFERROR((VLOOKUP(D74,Table2[[Prod.ID]:[Aantal keer]],8,FALSE)),\"\")","v":""},{"$f":"'5. Bepaal factoren en bereken'!G74","v":""},{"$f":"'5. Bepaal factoren en bereken'!H74","v":""},{"$f":"'4. Analyseer opbouw van object'!I73","v":" "},{"$f":"IFERROR((VLOOKUP(L74,Table2[[Prod.ID]:[MKI '[EUR MKI']]],3,FALSE)),\"\")","v":""},{"$f":"IFERROR((VLOOKUP(L74,Table2[[Prod.ID]:[Massa '[kg']]],4,FALSE)),\"\")","v":""},{"$f":"IFERROR((VLOOKUP(L74,Table2[[Prod.ID]:[Kritieke/ schaarse materialen?]],6,FALSE)),\"\")","v":""},{"$f":"IFERROR((VLOOKUP(L74,Table2[[Prod.ID]:[Economische waarde '[EUR']]],7,FALSE)),\"\")","v":""},{"$f":"IFERROR((VLOOKUP(L74,Table2[[Prod.ID]:[Aantal keer]],8,FALSE)),\"\")","v":""},{"$f":"'5. Bepaal factoren en bereken'!T74","v":""},{"$f":"'5. Bepaal factoren en bereken'!U74","v":""},{"$f":"IF('5. Bepaal factoren en bereken'!V74>0,'5. Bepaal factoren en bereken'!V74,\"\")","v":""}]
[null,{"$f":"'5. Bepaal factoren en bereken'!C75","v":""},{"$f":"IF('5. Bepaal factoren en bereken'!D75=\"\", \"\",'5. Bepaal factoren en bereken'!D75)","v":""},{"$f":"'5. Bepaal factoren en bereken'!E75","v":""},{"$f":"'5. Bepaal factoren en bereken'!F75","v":""},{"$f":"'4. Analyseer opbouw van object'!F73","v":""},{"$f":"IFERROR((VLOOKUP(D75,Table2[[Prod.ID]:[MKI '[EUR MKI']]],3,FALSE)),\"\")","v":""},{"$f":"IFERROR((VLOOKUP(D75,Table2[[Prod.ID]:[Massa '[kg']]],4,FALSE)),\"\")","v":""},{"$f":"IFERROR((VLOOKUP(D75,Table2[[Prod.ID]:[Kritieke/ schaarse materialen?]],6,FALSE)),\"\")","v":""},{"$f":"IFERROR((VLOOKUP(D75,Table2[[Prod.ID]:[Economische waarde '[EUR']]],7,FALSE)),\"\")","v":""},{"$f":"IFERROR((VLOOKUP(D75,Table2[[Prod.ID]:[Aantal keer]],8,FALSE)),\"\")","v":""},{"$f":"'5. Bepaal factoren en bereken'!G75","v":""},{"$f":"'5. Bepaal factoren en bereken'!H75","v":""},{"$f":"'4. Analyseer opbouw van object'!I74","v":" "},{"$f":"IFERROR((VLOOKUP(L75,Table2[[Prod.ID]:[MKI '[EUR MKI']]],3,FALSE)),\"\")","v":""},{"$f":"IFERROR((VLOOKUP(L75,Table2[[Prod.ID]:[Massa '[kg']]],4,FALSE)),\"\")","v":""},{"$f":"IFERROR((VLOOKUP(L75,Table2[[Prod.ID]:[Kritieke/ schaarse materialen?]],6,FALSE)),\"\")","v":""},{"$f":"IFERROR((VLOOKUP(L75,Table2[[Prod.ID]:[Economische waarde '[EUR']]],7,FALSE)),\"\")","v":""},{"$f":"IFERROR((VLOOKUP(L75,Table2[[Prod.ID]:[Aantal keer]],8,FALSE)),\"\")","v":""},{"$f":"'5. Bepaal factoren en bereken'!T75","v":""},{"$f":"'5. Bepaal factoren en bereken'!U75","v":""},{"$f":"IF('5. Bepaal factoren en bereken'!V75>0,'5. Bepaal factoren en bereken'!V75,\"\")","v":""}]
[null,{"$f":"'5. Bepaal factoren en bereken'!C76","v":""},{"$f":"IF('5. Bepaal factoren en bereken'!D76=\"\", \"\",'5. Bepaal factoren en bereken'!D76)","v":""},{"$f":"'5. Bepaal factoren en bereken'!E76","v":""},{"$f":"'5. Bepaal factoren en bereken'!F76","v":""},{"$f":"'4. Analyseer opbouw van object'!F74","v":""},{"$f":"IFERROR((VLOOKUP(D76,Table2[[Prod.ID]:[MKI '[EUR MKI']]],3,FALSE)),\"\")","v":""},{"$f":"IFERROR((VLOOKUP(D76,Table2[[Prod.ID]:[Massa '[kg']]],4,FALSE)),\"\")","v":""},{"$f":"IFERROR((VLOOKUP(D76,Table2[[Prod.ID]:[Kritieke/ schaarse materialen?]],6,FALSE)),\"\")","v":""},{"$f":"IFERROR((VLOOKUP(D76,Table2[[Prod.ID]:[Economische waarde '[EUR']]],7,FALSE)),\"\")","v":""},{"$f":"IFERROR((VLOOKUP(D76,Table2[[Prod.ID]:[Aantal keer]],8,FALSE)),\"\")","v":""},{"$f":"'5. Bepaal factoren en bereken'!G76","v":""},{"$f":"'5. Bepaal factoren en bereken'!H76","v":""},{"$f":"'4. Analyseer opbouw van object'!I75","v":" "},{"$f":"IFERROR((VLOOKUP(L76,Table2[[Prod.ID]:[MKI '[EUR MKI']]],3,FALSE)),\"\")","v":""},{"$f":"IFERROR((VLOOKUP(L76,Table2[[Prod.ID]:[Massa '[kg']]],4,FALSE)),\"\")","v":""},{"$f":"IFERROR((VLOOKUP(L76,Table2[[Prod.ID]:[Kritieke/ schaarse materialen?]],6,FALSE)),\"\")","v":""},{"$f":"IFERROR((VLOOKUP(L76,Table2[[Prod.ID]:[Economische waarde '[EUR']]],7,FALSE)),\"\")","v":""},{"$f":"IFERROR((VLOOKUP(L76,Table2[[Prod.ID]:[Aantal keer]],8,FALSE)),\"\")","v":""},{"$f":"'5. Bepaal factoren en bereken'!T76","v":""},{"$f":"'5. Bepaal factoren en bereken'!U76","v":""},{"$f":"IF('5. Bepaal factoren en bereken'!V76>0,'5. Bepaal factoren en bereken'!V76,\"\")","v":""}]
[null,{"$f":"'5. Bepaal factoren en bereken'!C77","v":""},{"$f":"IF('5. Bepaal factoren en bereken'!D77=\"\", \"\",'5. Bepaal factoren en bereken'!D77)","v":""},{"$f":"'5. Bepaal factoren en bereken'!E77","v":""},{"$f":"'5. Bepaal factoren en bereken'!F77","v":""},{"$f":"'4. Analyseer opbouw van object'!F75","v":""},{"$f":"IFERROR((VLOOKUP(D77,Table2[[Prod.ID]:[MKI '[EUR MKI']]],3,FALSE)),\"\")","v":""},{"$f":"IFERROR((VLOOKUP(D77,Table2[[Prod.ID]:[Massa '[kg']]],4,FALSE)),\"\")","v":""},{"$f":"IFERROR((VLOOKUP(D77,Table2[[Prod.ID]:[Kritieke/ schaarse materialen?]],6,FALSE)),\"\")","v":""},{"$f":"IFERROR((VLOOKUP(D77,Table2[[Prod.ID]:[Economische waarde '[EUR']]],7,FALSE)),\"\")","v":""},{"$f":"IFERROR((VLOOKUP(D77,Table2[[Prod.ID]:[Aantal keer]],8,FALSE)),\"\")","v":""},{"$f":"'5. Bepaal factoren en bereken'!G77","v":""},{"$f":"'5. Bepaal factoren en bereken'!H77","v":""},{"$f":"'4. Analyseer opbouw van object'!I76","v":" "},{"$f":"IFERROR((VLOOKUP(L77,Table2[[Prod.ID]:[MKI '[EUR MKI']]],3,FALSE)),\"\")","v":""},{"$f":"IFERROR((VLOOKUP(L77,Table2[[Prod.ID]:[Massa '[kg']]],4,FALSE)),\"\")","v":""},{"$f":"IFERROR((VLOOKUP(L77,Table2[[Prod.ID]:[Kritieke/ schaarse materialen?]],6,FALSE)),\"\")","v":""},{"$f":"IFERROR((VLOOKUP(L77,Table2[[Prod.ID]:[Economische waarde '[EUR']]],7,FALSE)),\"\")","v":""},{"$f":"IFERROR((VLOOKUP(L77,Table2[[Prod.ID]:[Aantal keer]],8,FALSE)),\"\")","v":""},{"$f":"'5. Bepaal factoren en bereken'!T77","v":""},{"$f":"'5. Bepaal factoren en bereken'!U77","v":""},{"$f":"IF('5. Bepaal factoren en bereken'!V77>0,'5. Bepaal factoren en bereken'!V77,\"\")","v":""}]
[null,{"$f":"'5. Bepaal factoren en bereken'!C78","v":""},{"$f":"IF('5. Bepaal factoren en bereken'!D78=\"\", \"\",'5. Bepaal factoren en bereken'!D78)","v":""},{"$f":"'5. Bepaal factoren en bereken'!E78","v":""},{"$f":"'5. Bepaal factoren en bereken'!F78","v":""},{"$f":"'4. Analyseer opbouw van object'!F76","v":""},{"$f":"IFERROR((VLOOKUP(D78,Table2[[Prod.ID]:[MKI '[EUR MKI']]],3,FALSE)),\"\")","v":""},{"$f":"IFERROR((VLOOKUP(D78,Table2[[Prod.ID]:[Massa '[kg']]],4,FALSE)),\"\")","v":""},{"$f":"IFERROR((VLOOKUP(D78,Table2[[Prod.ID]:[Kritieke/ schaarse materialen?]],6,FALSE)),\"\")","v":""},{"$f":"IFERROR((VLOOKUP(D78,Table2[[Prod.ID]:[Economische waarde '[EUR']]],7,FALSE)),\"\")","v":""},{"$f":"IFERROR((VLOOKUP(D78,Table2[[Prod.ID]:[Aantal keer]],8,FALSE)),\"\")","v":""},{"$f":"'5. Bepaal factoren en bereken'!G78","v":""},{"$f":"'5. Bepaal factoren en bereken'!H78","v":""},{"$f":"'4. Analyseer opbouw van object'!I77","v":" "},{"$f":"IFERROR((VLOOKUP(L78,Table2[[Prod.ID]:[MKI '[EUR MKI']]],3,FALSE)),\"\")","v":""},{"$f":"IFERROR((VLOOKUP(L78,Table2[[Prod.ID]:[Massa '[kg']]],4,FALSE)),\"\")","v":""},{"$f":"IFERROR((VLOOKUP(L78,Table2[[Prod.ID]:[Kritieke/ schaarse materialen?]],6,FALSE)),\"\")","v":""},{"$f":"IFERROR((VLOOKUP(L78,Table2[[Prod.ID]:[Economische waarde '[EUR']]],7,FALSE)),\"\")","v":""},{"$f":"IFERROR((VLOOKUP(L78,Table2[[Prod.ID]:[Aantal keer]],8,FALSE)),\"\")","v":""},{"$f":"'5. Bepaal factoren en bereken'!T78","v":""},{"$f":"'5. Bepaal factoren en bereken'!U78","v":""},{"$f":"IF('5. Bepaal factoren en bereken'!V78>0,'5. Bepaal factoren en bereken'!V78,\"\")","v":""}]
[null,{"$f":"'5. Bepaal factoren en bereken'!C79","v":""},{"$f":"IF('5. Bepaal factoren en bereken'!D79=\"\", \"\",'5. Bepaal factoren en bereken'!D79)","v":""},{"$f":"'5. Bepaal factoren en bereken'!E79","v":""},{"$f":"'5. Bepaal factoren en bereken'!F79","v":""},{"$f":"'4. Analyseer opbouw van object'!F77","v":""},{"$f":"IFERROR((VLOOKUP(D79,Table2[[Prod.ID]:[MKI '[EUR MKI']]],3,FALSE)),\"\")","v":""},{"$f":"IFERROR((VLOOKUP(D79,Table2[[Prod.ID]:[Massa '[kg']]],4,FALSE)),\"\")","v":""},{"$f":"IFERROR((VLOOKUP(D79,Table2[[Prod.ID]:[Kritieke/ schaarse materialen?]],6,FALSE)),\"\")","v":""},{"$f":"IFERROR((VLOOKUP(D79,Table2[[Prod.ID]:[Economische waarde '[EUR']]],7,FALSE)),\"\")","v":""},{"$f":"IFERROR((VLOOKUP(D79,Table2[[Prod.ID]:[Aantal keer]],8,FALSE)),\"\")","v":""},{"$f":"'5. Bepaal factoren en bereken'!G79","v":""},{"$f":"'5. Bepaal factoren en bereken'!H79","v":""},{"$f":"'4. Analyseer opbouw van object'!I78","v":" "},{"$f":"IFERROR((VLOOKUP(L79,Table2[[Prod.ID]:[MKI '[EUR MKI']]],3,FALSE)),\"\")","v":""},{"$f":"IFERROR((VLOOKUP(L79,Table2[[Prod.ID]:[Massa '[kg']]],4,FALSE)),\"\")","v":""},{"$f":"IFERROR((VLOOKUP(L79,Table2[[Prod.ID]:[Kritieke/ schaarse materialen?]],6,FALSE)),\"\")","v":""},{"$f":"IFERROR((VLOOKUP(L79,Table2[[Prod.ID]:[Economische waarde '[EUR']]],7,FALSE)),\"\")","v":""},{"$f":"IFERROR((VLOOKUP(L79,Table2[[Prod.ID]:[Aantal keer]],8,FALSE)),\"\")","v":""},{"$f":"'5. Bepaal factoren en bereken'!T79","v":""},{"$f":"'5. Bepaal factoren en bereken'!U79","v":""},{"$f":"IF('5. Bepaal factoren en bereken'!V79>0,'5. Bepaal factoren en bereken'!V79,\"\")","v":""}]
[null,{"$f":"'5. Bepaal factoren en bereken'!C80","v":""},{"$f":"IF('5. Bepaal factoren en bereken'!D80=\"\", \"\",'5. Bepaal factoren en bereken'!D80)","v":""},{"$f":"'5. Bepaal factoren en bereken'!E80","v":""},{"$f":"'5. Bepaal factoren en bereken'!F80","v":""},{"$f":"'4. Analyseer opbouw van object'!F78","v":""},{"$f":"IFERROR((VLOOKUP(D80,Table2[[Prod.ID]:[MKI '[EUR MKI']]],3,FALSE)),\"\")","v":""},{"$f":"IFERROR((VLOOKUP(D80,Table2[[Prod.ID]:[Massa '[kg']]],4,FALSE)),\"\")","v":""},{"$f":"IFERROR((VLOOKUP(D80,Table2[[Prod.ID]:[Kritieke/ schaarse materialen?]],6,FALSE)),\"\")","v":""},{"$f":"IFERROR((VLOOKUP(D80,Table2[[Prod.ID]:[Economische waarde '[EUR']]],7,FALSE)),\"\")","v":""},{"$f":"IFERROR((VLOOKUP(D80,Table2[[Prod.ID]:[Aantal keer]],8,FALSE)),\"\")","v":""},{"$f":"'5. Bepaal factoren en bereken'!G80","v":""},{"$f":"'5. Bepaal factoren en bereken'!H80","v":""},{"$f":"'4. Analyseer opbouw van object'!I79","v":" "},{"$f":"IFERROR((VLOOKUP(L80,Table2[[Prod.ID]:[MKI '[EUR MKI']]],3,FALSE)),\"\")","v":""},{"$f":"IFERROR((VLOOKUP(L80,Table2[[Prod.ID]:[Massa '[kg']]],4,FALSE)),\"\")","v":""},{"$f":"IFERROR((VLOOKUP(L80,Table2[[Prod.ID]:[Kritieke/ schaarse materialen?]],6,FALSE)),\"\")","v":""},{"$f":"IFERROR((VLOOKUP(L80,Table2[[Prod.ID]:[Economische waarde '[EUR']]],7,FALSE)),\"\")","v":""},{"$f":"IFERROR((VLOOKUP(L80,Table2[[Prod.ID]:[Aantal keer]],8,FALSE)),\"\")","v":""},{"$f":"'5. Bepaal factoren en bereken'!T80","v":""},{"$f":"'5. Bepaal factoren en bereken'!U80","v":""},{"$f":"IF('5. Bepaal factoren en bereken'!V80>0,'5. Bepaal factoren en bereken'!V80,\"\")","v":""}]
[null,{"$f":"'5. Bepaal factoren en bereken'!C81","v":""},{"$f":"IF('5. Bepaal factoren en bereken'!D81=\"\", \"\",'5. Bepaal factoren en bereken'!D81)","v":""},{"$f":"'5. Bepaal factoren en bereken'!E81","v":""},{"$f":"'5. Bepaal factoren en bereken'!F81","v":""},{"$f":"'4. Analyseer opbouw van object'!F79","v":""},{"$f":"IFERROR((VLOOKUP(D81,Table2[[Prod.ID]:[MKI '[EUR MKI']]],3,FALSE)),\"\")","v":""},{"$f":"IFERROR((VLOOKUP(D81,Table2[[Prod.ID]:[Massa '[kg']]],4,FALSE)),\"\")","v":""},{"$f":"IFERROR((VLOOKUP(D81,Table2[[Prod.ID]:[Kritieke/ schaarse materialen?]],6,FALSE)),\"\")","v":""},{"$f":"IFERROR((VLOOKUP(D81,Table2[[Prod.ID]:[Economische waarde '[EUR']]],7,FALSE)),\"\")","v":""},{"$f":"IFERROR((VLOOKUP(D81,Table2[[Prod.ID]:[Aantal keer]],8,FALSE)),\"\")","v":""},{"$f":"'5. Bepaal factoren en bereken'!G81","v":""},{"$f":"'5. Bepaal factoren en bereken'!H81","v":""},{"$f":"'4. Analyseer opbouw van object'!I80","v":" "},{"$f":"IFERROR((VLOOKUP(L81,Table2[[Prod.ID]:[MKI '[EUR MKI']]],3,FALSE)),\"\")","v":""},{"$f":"IFERROR((VLOOKUP(L81,Table2[[Prod.ID]:[Massa '[kg']]],4,FALSE)),\"\")","v":""},{"$f":"IFERROR((VLOOKUP(L81,Table2[[Prod.ID]:[Kritieke/ schaarse materialen?]],6,FALSE)),\"\")","v":""},{"$f":"IFERROR((VLOOKUP(L81,Table2[[Prod.ID]:[Economische waarde '[EUR']]],7,FALSE)),\"\")","v":""},{"$f":"IFERROR((VLOOKUP(L81,Table2[[Prod.ID]:[Aantal keer]],8,FALSE)),\"\")","v":""},{"$f":"'5. Bepaal factoren en bereken'!T81","v":""},{"$f":"'5. Bepaal factoren en bereken'!U81","v":""},{"$f":"IF('5. Bepaal factoren en bereken'!V81>0,'5. Bepaal factoren en bereken'!V81,\"\")","v":""}]
[null,{"$f":"'5. Bepaal factoren en bereken'!C82","v":""},{"$f":"IF('5. Bepaal factoren en bereken'!D82=\"\", \"\",'5. Bepaal factoren en bereken'!D82)","v":""},{"$f":"'5. Bepaal factoren en bereken'!E82","v":""},{"$f":"'5. Bepaal factoren en bereken'!F82","v":""},{"$f":"'4. Analyseer opbouw van object'!F80","v":""},{"$f":"IFERROR((VLOOKUP(D82,Table2[[Prod.ID]:[MKI '[EUR MKI']]],3,FALSE)),\"\")","v":""},{"$f":"IFERROR((VLOOKUP(D82,Table2[[Prod.ID]:[Massa '[kg']]],4,FALSE)),\"\")","v":""},{"$f":"IFERROR((VLOOKUP(D82,Table2[[Prod.ID]:[Kritieke/ schaarse materialen?]],6,FALSE)),\"\")","v":""},{"$f":"IFERROR((VLOOKUP(D82,Table2[[Prod.ID]:[Economische waarde '[EUR']]],7,FALSE)),\"\")","v":""},{"$f":"IFERROR((VLOOKUP(D82,Table2[[Prod.ID]:[Aantal keer]],8,FALSE)),\"\")","v":""},{"$f":"'5. Bepaal factoren en bereken'!G82","v":""},{"$f":"'5. Bepaal factoren en bereken'!H82","v":""},{"$f":"'4. Analyseer opbouw van object'!I81","v":" "},{"$f":"IFERROR((VLOOKUP(L82,Table2[[Prod.ID]:[MKI '[EUR MKI']]],3,FALSE)),\"\")","v":""},{"$f":"IFERROR((VLOOKUP(L82,Table2[[Prod.ID]:[Massa '[kg']]],4,FALSE)),\"\")","v":""},{"$f":"IFERROR((VLOOKUP(L82,Table2[[Prod.ID]:[Kritieke/ schaarse materialen?]],6,FALSE)),\"\")","v":""},{"$f":"IFERROR((VLOOKUP(L82,Table2[[Prod.ID]:[Economische waarde '[EUR']]],7,FALSE)),\"\")","v":""},{"$f":"IFERROR((VLOOKUP(L82,Table2[[Prod.ID]:[Aantal keer]],8,FALSE)),\"\")","v":""},{"$f":"'5. Bepaal factoren en bereken'!T82","v":""},{"$f":"'5. Bepaal factoren en bereken'!U82","v":""},{"$f":"IF('5. Bepaal factoren en bereken'!V82>0,'5. Bepaal factoren en bereken'!V82,\"\")","v":""}]
[null,{"$f":"'5. Bepaal factoren en bereken'!C83","v":""},{"$f":"IF('5. Bepaal factoren en bereken'!D83=\"\", \"\",'5. Bepaal factoren en bereken'!D83)","v":""},{"$f":"'5. Bepaal factoren en bereken'!E83","v":""},{"$f":"'5. Bepaal factoren en bereken'!F83","v":""},{"$f":"'4. Analyseer opbouw van object'!F81","v":""},{"$f":"IFERROR((VLOOKUP(D83,Table2[[Prod.ID]:[MKI '[EUR MKI']]],3,FALSE)),\"\")","v":""},{"$f":"IFERROR((VLOOKUP(D83,Table2[[Prod.ID]:[Massa '[kg']]],4,FALSE)),\"\")","v":""},{"$f":"IFERROR((VLOOKUP(D83,Table2[[Prod.ID]:[Kritieke/ schaarse materialen?]],6,FALSE)),\"\")","v":""},{"$f":"IFERROR((VLOOKUP(D83,Table2[[Prod.ID]:[Economische waarde '[EUR']]],7,FALSE)),\"\")","v":""},{"$f":"IFERROR((VLOOKUP(D83,Table2[[Prod.ID]:[Aantal keer]],8,FALSE)),\"\")","v":""},{"$f":"'5. Bepaal factoren en bereken'!G83","v":""},{"$f":"'5. Bepaal factoren en bereken'!H83","v":""},{"$f":"'4. Analyseer opbouw van object'!I82","v":" "},{"$f":"IFERROR((VLOOKUP(L83,Table2[[Prod.ID]:[MKI '[EUR MKI']]],3,FALSE)),\"\")","v":""},{"$f":"IFERROR((VLOOKUP(L83,Table2[[Prod.ID]:[Massa '[kg']]],4,FALSE)),\"\")","v":""},{"$f":"IFERROR((VLOOKUP(L83,Table2[[Prod.ID]:[Kritieke/ schaarse materialen?]],6,FALSE)),\"\")","v":""},{"$f":"IFERROR((VLOOKUP(L83,Table2[[Prod.ID]:[Economische waarde '[EUR']]],7,FALSE)),\"\")","v":""},{"$f":"IFERROR((VLOOKUP(L83,Table2[[Prod.ID]:[Aantal keer]],8,FALSE)),\"\")","v":""},{"$f":"'5. Bepaal factoren en bereken'!T83","v":""},{"$f":"'5. Bepaal factoren en bereken'!U83","v":""},{"$f":"IF('5. Bepaal factoren en bereken'!V83>0,'5. Bepaal factoren en bereken'!V83,\"\")","v":""}]
[null,{"$f":"'5. Bepaal factoren en bereken'!C84","v":""},{"$f":"IF('5. Bepaal factoren en bereken'!D84=\"\", \"\",'5. Bepaal factoren en bereken'!D84)","v":""},{"$f":"'5. Bepaal factoren en bereken'!E84","v":""},{"$f":"'5. Bepaal factoren en bereken'!F84","v":""},{"$f":"'4. Analyseer opbouw van object'!F82","v":""},{"$f":"IFERROR((VLOOKUP(D84,Table2[[Prod.ID]:[MKI '[EUR MKI']]],3,FALSE)),\"\")","v":""},{"$f":"IFERROR((VLOOKUP(D84,Table2[[Prod.ID]:[Massa '[kg']]],4,FALSE)),\"\")","v":""},{"$f":"IFERROR((VLOOKUP(D84,Table2[[Prod.ID]:[Kritieke/ schaarse materialen?]],6,FALSE)),\"\")","v":""},{"$f":"IFERROR((VLOOKUP(D84,Table2[[Prod.ID]:[Economische waarde '[EUR']]],7,FALSE)),\"\")","v":""},{"$f":"IFERROR((VLOOKUP(D84,Table2[[Prod.ID]:[Aantal keer]],8,FALSE)),\"\")","v":""},{"$f":"'5. Bepaal factoren en bereken'!G84","v":""},{"$f":"'5. Bepaal factoren en bereken'!H84","v":""},{"$f":"'4. Analyseer opbouw van object'!I83","v":" "},{"$f":"IFERROR((VLOOKUP(L84,Table2[[Prod.ID]:[MKI '[EUR MKI']]],3,FALSE)),\"\")","v":""},{"$f":"IFERROR((VLOOKUP(L84,Table2[[Prod.ID]:[Massa '[kg']]],4,FALSE)),\"\")","v":""},{"$f":"IFERROR((VLOOKUP(L84,Table2[[Prod.ID]:[Kritieke/ schaarse materialen?]],6,FALSE)),\"\")","v":""},{"$f":"IFERROR((VLOOKUP(L84,Table2[[Prod.ID]:[Economische waarde '[EUR']]],7,FALSE)),\"\")","v":""},{"$f":"IFERROR((VLOOKUP(L84,Table2[[Prod.ID]:[Aantal keer]],8,FALSE)),\"\")","v":""},{"$f":"'5. Bepaal factoren en bereken'!T84","v":""},{"$f":"'5. Bepaal factoren en bereken'!U84","v":""},{"$f":"IF('5. Bepaal factoren en bereken'!V84>0,'5. Bepaal factoren en bereken'!V84,\"\")","v":""}]
[null,{"$f":"'5. Bepaal factoren en bereken'!C85","v":""},{"$f":"IF('5. Bepaal factoren en bereken'!D85=\"\", \"\",'5. Bepaal factoren en bereken'!D85)","v":""},{"$f":"'5. Bepaal factoren en bereken'!E85","v":""},{"$f":"'5. Bepaal factoren en bereken'!F85","v":""},{"$f":"'4. Analyseer opbouw van object'!F83","v":""},{"$f":"IFERROR((VLOOKUP(D85,Table2[[Prod.ID]:[MKI '[EUR MKI']]],3,FALSE)),\"\")","v":""},{"$f":"IFERROR((VLOOKUP(D85,Table2[[Prod.ID]:[Massa '[kg']]],4,FALSE)),\"\")","v":""},{"$f":"IFERROR((VLOOKUP(D85,Table2[[Prod.ID]:[Kritieke/ schaarse materialen?]],6,FALSE)),\"\")","v":""},{"$f":"IFERROR((VLOOKUP(D85,Table2[[Prod.ID]:[Economische waarde '[EUR']]],7,FALSE)),\"\")","v":""},{"$f":"IFERROR((VLOOKUP(D85,Table2[[Prod.ID]:[Aantal keer]],8,FALSE)),\"\")","v":""},{"$f":"'5. Bepaal factoren en bereken'!G85","v":""},{"$f":"'5. Bepaal factoren en bereken'!H85","v":""},{"$f":"'4. Analyseer opbouw van object'!I84","v":" "},{"$f":"IFERROR((VLOOKUP(L85,Table2[[Prod.ID]:[MKI '[EUR MKI']]],3,FALSE)),\"\")","v":""},{"$f":"IFERROR((VLOOKUP(L85,Table2[[Prod.ID]:[Massa '[kg']]],4,FALSE)),\"\")","v":""},{"$f":"IFERROR((VLOOKUP(L85,Table2[[Prod.ID]:[Kritieke/ schaarse materialen?]],6,FALSE)),\"\")","v":""},{"$f":"IFERROR((VLOOKUP(L85,Table2[[Prod.ID]:[Economische waarde '[EUR']]],7,FALSE)),\"\")","v":""},{"$f":"IFERROR((VLOOKUP(L85,Table2[[Prod.ID]:[Aantal keer]],8,FALSE)),\"\")","v":""},{"$f":"'5. Bepaal factoren en bereken'!T85","v":""},{"$f":"'5. Bepaal factoren en bereken'!U85","v":""},{"$f":"IF('5. Bepaal factoren en bereken'!V85>0,'5. Bepaal factoren en bereken'!V85,\"\")","v":""}]
[null,{"$f":"'5. Bepaal factoren en bereken'!C86","v":""},{"$f":"IF('5. Bepaal factoren en bereken'!D86=\"\", \"\",'5. Bepaal factoren en bereken'!D86)","v":""},{"$f":"'5. Bepaal factoren en bereken'!E86","v":""},{"$f":"'5. Bepaal factoren en bereken'!F86","v":""},{"$f":"'4. Analyseer opbouw van object'!F84","v":""},{"$f":"IFERROR((VLOOKUP(D86,Table2[[Prod.ID]:[MKI '[EUR MKI']]],3,FALSE)),\"\")","v":""},{"$f":"IFERROR((VLOOKUP(D86,Table2[[Prod.ID]:[Massa '[kg']]],4,FALSE)),\"\")","v":""},{"$f":"IFERROR((VLOOKUP(D86,Table2[[Prod.ID]:[Kritieke/ schaarse materialen?]],6,FALSE)),\"\")","v":""},{"$f":"IFERROR((VLOOKUP(D86,Table2[[Prod.ID]:[Economische waarde '[EUR']]],7,FALSE)),\"\")","v":""},{"$f":"IFERROR((VLOOKUP(D86,Table2[[Prod.ID]:[Aantal keer]],8,FALSE)),\"\")","v":""},{"$f":"'5. Bepaal factoren en bereken'!G86","v":""},{"$f":"'5. Bepaal factoren en bereken'!H86","v":""},{"$f":"'4. Analyseer opbouw van object'!I85","v":" "},{"$f":"IFERROR((VLOOKUP(L86,Table2[[Prod.ID]:[MKI '[EUR MKI']]],3,FALSE)),\"\")","v":""},{"$f":"IFERROR((VLOOKUP(L86,Table2[[Prod.ID]:[Massa '[kg']]],4,FALSE)),\"\")","v":""},{"$f":"IFERROR((VLOOKUP(L86,Table2[[Prod.ID]:[Kritieke/ schaarse materialen?]],6,FALSE)),\"\")","v":""},{"$f":"IFERROR((VLOOKUP(L86,Table2[[Prod.ID]:[Economische waarde '[EUR']]],7,FALSE)),\"\")","v":""},{"$f":"IFERROR((VLOOKUP(L86,Table2[[Prod.ID]:[Aantal keer]],8,FALSE)),\"\")","v":""},{"$f":"'5. Bepaal factoren en bereken'!T86","v":""},{"$f":"'5. Bepaal factoren en bereken'!U86","v":""},{"$f":"IF('5. Bepaal factoren en bereken'!V86>0,'5. Bepaal factoren en bereken'!V86,\"\")","v":""}]
[null,{"$f":"'5. Bepaal factoren en bereken'!C87","v":""},{"$f":"IF('5. Bepaal factoren en bereken'!D87=\"\", \"\",'5. Bepaal factoren en bereken'!D87)","v":""},{"$f":"'5. Bepaal factoren en bereken'!E87","v":""},{"$f":"'5. Bepaal factoren en bereken'!F87","v":""},{"$f":"'4. Analyseer opbouw van object'!F85","v":""},{"$f":"IFERROR((VLOOKUP(D87,Table2[[Prod.ID]:[MKI '[EUR MKI']]],3,FALSE)),\"\")","v":""},{"$f":"IFERROR((VLOOKUP(D87,Table2[[Prod.ID]:[Massa '[kg']]],4,FALSE)),\"\")","v":""},{"$f":"IFERROR((VLOOKUP(D87,Table2[[Prod.ID]:[Kritieke/ schaarse materialen?]],6,FALSE)),\"\")","v":""},{"$f":"IFERROR((VLOOKUP(D87,Table2[[Prod.ID]:[Economische waarde '[EUR']]],7,FALSE)),\"\")","v":""},{"$f":"IFERROR((VLOOKUP(D87,Table2[[Prod.ID]:[Aantal keer]],8,FALSE)),\"\")","v":""},{"$f":"'5. Bepaal factoren en bereken'!G87","v":""},{"$f":"'5. Bepaal factoren en bereken'!H87","v":""},{"$f":"'4. Analyseer opbouw van object'!I86","v":" "},{"$f":"IFERROR((VLOOKUP(L87,Table2[[Prod.ID]:[MKI '[EUR MKI']]],3,FALSE)),\"\")","v":""},{"$f":"IFERROR((VLOOKUP(L87,Table2[[Prod.ID]:[Massa '[kg']]],4,FALSE)),\"\")","v":""},{"$f":"IFERROR((VLOOKUP(L87,Table2[[Prod.ID]:[Kritieke/ schaarse materialen?]],6,FALSE)),\"\")","v":""},{"$f":"IFERROR((VLOOKUP(L87,Table2[[Prod.ID]:[Economische waarde '[EUR']]],7,FALSE)),\"\")","v":""},{"$f":"IFERROR((VLOOKUP(L87,Table2[[Prod.ID]:[Aantal keer]],8,FALSE)),\"\")","v":""},{"$f":"'5. Bepaal factoren en bereken'!T87","v":""},{"$f":"'5. Bepaal factoren en bereken'!U87","v":""},{"$f":"IF('5. Bepaal factoren en bereken'!V87>0,'5. Bepaal factoren en bereken'!V87,\"\")","v":""}]
[null,{"$f":"'5. Bepaal factoren en bereken'!C88","v":""},{"$f":"IF('5. Bepaal factoren en bereken'!D88=\"\", \"\",'5. Bepaal factoren en bereken'!D88)","v":""},{"$f":"'5. Bepaal factoren en bereken'!E88","v":""},{"$f":"'5. Bepaal factoren en bereken'!F88","v":""},{"$f":"'4. Analyseer opbouw van object'!F86","v":""},{"$f":"IFERROR((VLOOKUP(D88,Table2[[Prod.ID]:[MKI '[EUR MKI']]],3,FALSE)),\"\")","v":""},{"$f":"IFERROR((VLOOKUP(D88,Table2[[Prod.ID]:[Massa '[kg']]],4,FALSE)),\"\")","v":""},{"$f":"IFERROR((VLOOKUP(D88,Table2[[Prod.ID]:[Kritieke/ schaarse materialen?]],6,FALSE)),\"\")","v":""},{"$f":"IFERROR((VLOOKUP(D88,Table2[[Prod.ID]:[Economische waarde '[EUR']]],7,FALSE)),\"\")","v":""},{"$f":"IFERROR((VLOOKUP(D88,Table2[[Prod.ID]:[Aantal keer]],8,FALSE)),\"\")","v":""},{"$f":"'5. Bepaal factoren en bereken'!G88","v":""},{"$f":"'5. Bepaal factoren en bereken'!H88","v":""},{"$f":"'4. Analyseer opbouw van object'!I87","v":" "},{"$f":"IFERROR((VLOOKUP(L88,Table2[[Prod.ID]:[MKI '[EUR MKI']]],3,FALSE)),\"\")","v":""},{"$f":"IFERROR((VLOOKUP(L88,Table2[[Prod.ID]:[Massa '[kg']]],4,FALSE)),\"\")","v":""},{"$f":"IFERROR((VLOOKUP(L88,Table2[[Prod.ID]:[Kritieke/ schaarse materialen?]],6,FALSE)),\"\")","v":""},{"$f":"IFERROR((VLOOKUP(L88,Table2[[Prod.ID]:[Economische waarde '[EUR']]],7,FALSE)),\"\")","v":""},{"$f":"IFERROR((VLOOKUP(L88,Table2[[Prod.ID]:[Aantal keer]],8,FALSE)),\"\")","v":""},{"$f":"'5. Bepaal factoren en bereken'!T88","v":""},{"$f":"'5. Bepaal factoren en bereken'!U88","v":""},{"$f":"IF('5. Bepaal factoren en bereken'!V88>0,'5. Bepaal factoren en bereken'!V88,\"\")","v":""}]
[null,{"$f":"'5. Bepaal factoren en bereken'!C89","v":""},{"$f":"IF('5. Bepaal factoren en bereken'!D89=\"\", \"\",'5. Bepaal factoren en bereken'!D89)","v":""},{"$f":"'5. Bepaal factoren en bereken'!E89","v":""},{"$f":"'5. Bepaal factoren en bereken'!F89","v":""},{"$f":"'4. Analyseer opbouw van object'!F87","v":""},{"$f":"IFERROR((VLOOKUP(D89,Table2[[Prod.ID]:[MKI '[EUR MKI']]],3,FALSE)),\"\")","v":""},{"$f":"IFERROR((VLOOKUP(D89,Table2[[Prod.ID]:[Massa '[kg']]],4,FALSE)),\"\")","v":""},{"$f":"IFERROR((VLOOKUP(D89,Table2[[Prod.ID]:[Kritieke/ schaarse materialen?]],6,FALSE)),\"\")","v":""},{"$f":"IFERROR((VLOOKUP(D89,Table2[[Prod.ID]:[Economische waarde '[EUR']]],7,FALSE)),\"\")","v":""},{"$f":"IFERROR((VLOOKUP(D89,Table2[[Prod.ID]:[Aantal keer]],8,FALSE)),\"\")","v":""},{"$f":"'5. Bepaal factoren en bereken'!G89","v":""},{"$f":"'5. Bepaal factoren en bereken'!H89","v":""},{"$f":"'4. Analyseer opbouw van object'!I88","v":" "},{"$f":"IFERROR((VLOOKUP(L89,Table2[[Prod.ID]:[MKI '[EUR MKI']]],3,FALSE)),\"\")","v":""},{"$f":"IFERROR((VLOOKUP(L89,Table2[[Prod.ID]:[Massa '[kg']]],4,FALSE)),\"\")","v":""},{"$f":"IFERROR((VLOOKUP(L89,Table2[[Prod.ID]:[Kritieke/ schaarse materialen?]],6,FALSE)),\"\")","v":""},{"$f":"IFERROR((VLOOKUP(L89,Table2[[Prod.ID]:[Economische waarde '[EUR']]],7,FALSE)),\"\")","v":""},{"$f":"IFERROR((VLOOKUP(L89,Table2[[Prod.ID]:[Aantal keer]],8,FALSE)),\"\")","v":""},{"$f":"'5. Bepaal factoren en bereken'!T89","v":""},{"$f":"'5. Bepaal factoren en bereken'!U89","v":""},{"$f":"IF('5. Bepaal factoren en bereken'!V89>0,'5. Bepaal factoren en bereken'!V89,\"\")","v":""}]
[null,{"$f":"'5. Bepaal factoren en bereken'!C90","v":""},{"$f":"IF('5. Bepaal factoren en bereken'!D90=\"\", \"\",'5. Bepaal factoren en bereken'!D90)","v":""},{"$f":"'5. Bepaal factoren en bereken'!E90","v":""},{"$f":"'5. Bepaal factoren en bereken'!F90","v":""},{"$f":"'4. Analyseer opbouw van object'!F88","v":""},{"$f":"IFERROR((VLOOKUP(D90,Table2[[Prod.ID]:[MKI '[EUR MKI']]],3,FALSE)),\"\")","v":""},{"$f":"IFERROR((VLOOKUP(D90,Table2[[Prod.ID]:[Massa '[kg']]],4,FALSE)),\"\")","v":""},{"$f":"IFERROR((VLOOKUP(D90,Table2[[Prod.ID]:[Kritieke/ schaarse materialen?]],6,FALSE)),\"\")","v":""},{"$f":"IFERROR((VLOOKUP(D90,Table2[[Prod.ID]:[Economische waarde '[EUR']]],7,FALSE)),\"\")","v":""},{"$f":"IFERROR((VLOOKUP(D90,Table2[[Prod.ID]:[Aantal keer]],8,FALSE)),\"\")","v":""},{"$f":"'5. Bepaal factoren en bereken'!G90","v":""},{"$f":"'5. Bepaal factoren en bereken'!H90","v":""},{"$f":"'4. Analyseer opbouw van object'!I89","v":" "},{"$f":"IFERROR((VLOOKUP(L90,Table2[[Prod.ID]:[MKI '[EUR MKI']]],3,FALSE)),\"\")","v":""},{"$f":"IFERROR((VLOOKUP(L90,Table2[[Prod.ID]:[Massa '[kg']]],4,FALSE)),\"\")","v":""},{"$f":"IFERROR((VLOOKUP(L90,Table2[[Prod.ID]:[Kritieke/ schaarse materialen?]],6,FALSE)),\"\")","v":""},{"$f":"IFERROR((VLOOKUP(L90,Table2[[Prod.ID]:[Economische waarde '[EUR']]],7,FALSE)),\"\")","v":""},{"$f":"IFERROR((VLOOKUP(L90,Table2[[Prod.ID]:[Aantal keer]],8,FALSE)),\"\")","v":""},{"$f":"'5. Bepaal factoren en bereken'!T90","v":""},{"$f":"'5. Bepaal factoren en bereken'!U90","v":""},{"$f":"IF('5. Bepaal factoren en bereken'!V90>0,'5. Bepaal factoren en bereken'!V90,\"\")","v":""}]
[null,{"$f":"'5. Bepaal factoren en bereken'!C91","v":""},{"$f":"IF('5. Bepaal factoren en bereken'!D91=\"\", \"\",'5. Bepaal factoren en bereken'!D91)","v":""},{"$f":"'5. Bepaal factoren en bereken'!E91","v":""},{"$f":"'5. Bepaal factoren en bereken'!F91","v":""},{"$f":"'4. Analyseer opbouw van object'!F89","v":""},{"$f":"IFERROR((VLOOKUP(D91,Table2[[Prod.ID]:[MKI '[EUR MKI']]],3,FALSE)),\"\")","v":""},{"$f":"IFERROR((VLOOKUP(D91,Table2[[Prod.ID]:[Massa '[kg']]],4,FALSE)),\"\")","v":""},{"$f":"IFERROR((VLOOKUP(D91,Table2[[Prod.ID]:[Kritieke/ schaarse materialen?]],6,FALSE)),\"\")","v":""},{"$f":"IFERROR((VLOOKUP(D91,Table2[[Prod.ID]:[Economische waarde '[EUR']]],7,FALSE)),\"\")","v":""},{"$f":"IFERROR((VLOOKUP(D91,Table2[[Prod.ID]:[Aantal keer]],8,FALSE)),\"\")","v":""},{"$f":"'5. Bepaal factoren en bereken'!G91","v":""},{"$f":"'5. Bepaal factoren en bereken'!H91","v":""},{"$f":"'4. Analyseer opbouw van object'!I90","v":" "},{"$f":"IFERROR((VLOOKUP(L91,Table2[[Prod.ID]:[MKI '[EUR MKI']]],3,FALSE)),\"\")","v":""},{"$f":"IFERROR((VLOOKUP(L91,Table2[[Prod.ID]:[Massa '[kg']]],4,FALSE)),\"\")","v":""},{"$f":"IFERROR((VLOOKUP(L91,Table2[[Prod.ID]:[Kritieke/ schaarse materialen?]],6,FALSE)),\"\")","v":""},{"$f":"IFERROR((VLOOKUP(L91,Table2[[Prod.ID]:[Economische waarde '[EUR']]],7,FALSE)),\"\")","v":""},{"$f":"IFERROR((VLOOKUP(L91,Table2[[Prod.ID]:[Aantal keer]],8,FALSE)),\"\")","v":""},{"$f":"'5. Bepaal factoren en bereken'!T91","v":""},{"$f":"'5. Bepaal factoren en bereken'!U91","v":""},{"$f":"IF('5. Bepaal factoren en bereken'!V91>0,'5. Bepaal factoren en bereken'!V91,\"\")","v":""}]
[null,{"$f":"'5. Bepaal factoren en bereken'!C92","v":""},{"$f":"IF('5. Bepaal factoren en bereken'!D92=\"\", \"\",'5. Bepaal factoren en bereken'!D92)","v":""},{"$f":"'5. Bepaal factoren en bereken'!E92","v":""},{"$f":"'5. Bepaal factoren en bereken'!F92","v":""},{"$f":"'4. Analyseer opbouw van object'!F90","v":""},{"$f":"IFERROR((VLOOKUP(D92,Table2[[Prod.ID]:[MKI '[EUR MKI']]],3,FALSE)),\"\")","v":""},{"$f":"IFERROR((VLOOKUP(D92,Table2[[Prod.ID]:[Massa '[kg']]],4,FALSE)),\"\")","v":""},{"$f":"IFERROR((VLOOKUP(D92,Table2[[Prod.ID]:[Kritieke/ schaarse materialen?]],6,FALSE)),\"\")","v":""},{"$f":"IFERROR((VLOOKUP(D92,Table2[[Prod.ID]:[Economische waarde '[EUR']]],7,FALSE)),\"\")","v":""},{"$f":"IFERROR((VLOOKUP(D92,Table2[[Prod.ID]:[Aantal keer]],8,FALSE)),\"\")","v":""},{"$f":"'5. Bepaal factoren en bereken'!G92","v":""},{"$f":"'5. Bepaal factoren en bereken'!H92","v":""},{"$f":"'4. Analyseer opbouw van object'!I91","v":" "},{"$f":"IFERROR((VLOOKUP(L92,Table2[[Prod.ID]:[MKI '[EUR MKI']]],3,FALSE)),\"\")","v":""},{"$f":"IFERROR((VLOOKUP(L92,Table2[[Prod.ID]:[Massa '[kg']]],4,FALSE)),\"\")","v":""},{"$f":"IFERROR((VLOOKUP(L92,Table2[[Prod.ID]:[Kritieke/ schaarse materialen?]],6,FALSE)),\"\")","v":""},{"$f":"IFERROR((VLOOKUP(L92,Table2[[Prod.ID]:[Economische waarde '[EUR']]],7,FALSE)),\"\")","v":""},{"$f":"IFERROR((VLOOKUP(L92,Table2[[Prod.ID]:[Aantal keer]],8,FALSE)),\"\")","v":""},{"$f":"'5. Bepaal factoren en bereken'!T92","v":""},{"$f":"'5. Bepaal factoren en bereken'!U92","v":""},{"$f":"IF('5. Bepaal factoren en bereken'!V92>0,'5. Bepaal factoren en bereken'!V92,\"\")","v":""}]
[null,{"$f":"'5. Bepaal factoren en bereken'!C93","v":""},{"$f":"IF('5. Bepaal factoren en bereken'!D93=\"\", \"\",'5. Bepaal factoren en bereken'!D93)","v":""},{"$f":"'5. Bepaal factoren en bereken'!E93","v":""},{"$f":"'5. Bepaal factoren en bereken'!F93","v":""},{"$f":"'4. Analyseer opbouw van object'!F91","v":""},{"$f":"IFERROR((VLOOKUP(D93,Table2[[Prod.ID]:[MKI '[EUR MKI']]],3,FALSE)),\"\")","v":""},{"$f":"IFERROR((VLOOKUP(D93,Table2[[Prod.ID]:[Massa '[kg']]],4,FALSE)),\"\")","v":""},{"$f":"IFERROR((VLOOKUP(D93,Table2[[Prod.ID]:[Kritieke/ schaarse materialen?]],6,FALSE)),\"\")","v":""},{"$f":"IFERROR((VLOOKUP(D93,Table2[[Prod.ID]:[Economische waarde '[EUR']]],7,FALSE)),\"\")","v":""},{"$f":"IFERROR((VLOOKUP(D93,Table2[[Prod.ID]:[Aantal keer]],8,FALSE)),\"\")","v":""},{"$f":"'5. Bepaal factoren en bereken'!G93","v":""},{"$f":"'5. Bepaal factoren en bereken'!H93","v":""},{"$f":"'4. Analyseer opbouw van object'!I92","v":" "},{"$f":"IFERROR((VLOOKUP(L93,Table2[[Prod.ID]:[MKI '[EUR MKI']]],3,FALSE)),\"\")","v":""},{"$f":"IFERROR((VLOOKUP(L93,Table2[[Prod.ID]:[Massa '[kg']]],4,FALSE)),\"\")","v":""},{"$f":"IFERROR((VLOOKUP(L93,Table2[[Prod.ID]:[Kritieke/ schaarse materialen?]],6,FALSE)),\"\")","v":""},{"$f":"IFERROR((VLOOKUP(L93,Table2[[Prod.ID]:[Economische waarde '[EUR']]],7,FALSE)),\"\")","v":""},{"$f":"IFERROR((VLOOKUP(L93,Table2[[Prod.ID]:[Aantal keer]],8,FALSE)),\"\")","v":""},{"$f":"'5. Bepaal factoren en bereken'!T93","v":""},{"$f":"'5. Bepaal factoren en bereken'!U93","v":""},{"$f":"IF('5. Bepaal factoren en bereken'!V93>0,'5. Bepaal factoren en bereken'!V93,\"\")","v":""}]
[null,{"$f":"'5. Bepaal factoren en bereken'!C94","v":""},{"$f":"IF('5. Bepaal factoren en bereken'!D94=\"\", \"\",'5. Bepaal factoren en bereken'!D94)","v":""},{"$f":"'5. Bepaal factoren en bereken'!E94","v":""},{"$f":"'5. Bepaal factoren en bereken'!F94","v":""},{"$f":"'4. Analyseer opbouw van object'!F92","v":""},{"$f":"IFERROR((VLOOKUP(D94,Table2[[Prod.ID]:[MKI '[EUR MKI']]],3,FALSE)),\"\")","v":""},{"$f":"IFERROR((VLOOKUP(D94,Table2[[Prod.ID]:[Massa '[kg']]],4,FALSE)),\"\")","v":""},{"$f":"IFERROR((VLOOKUP(D94,Table2[[Prod.ID]:[Kritieke/ schaarse materialen?]],6,FALSE)),\"\")","v":""},{"$f":"IFERROR((VLOOKUP(D94,Table2[[Prod.ID]:[Economische waarde '[EUR']]],7,FALSE)),\"\")","v":""},{"$f":"IFERROR((VLOOKUP(D94,Table2[[Prod.ID]:[Aantal keer]],8,FALSE)),\"\")","v":""},{"$f":"'5. Bepaal factoren en bereken'!G94","v":""},{"$f":"'5. Bepaal factoren en bereken'!H94","v":""},{"$f":"'4. Analyseer opbouw van object'!I93","v":" "},{"$f":"IFERROR((VLOOKUP(L94,Table2[[Prod.ID]:[MKI '[EUR MKI']]],3,FALSE)),\"\")","v":""},{"$f":"IFERROR((VLOOKUP(L94,Table2[[Prod.ID]:[Massa '[kg']]],4,FALSE)),\"\")","v":""},{"$f":"IFERROR((VLOOKUP(L94,Table2[[Prod.ID]:[Kritieke/ schaarse materialen?]],6,FALSE)),\"\")","v":""},{"$f":"IFERROR((VLOOKUP(L94,Table2[[Prod.ID]:[Economische waarde '[EUR']]],7,FALSE)),\"\")","v":""},{"$f":"IFERROR((VLOOKUP(L94,Table2[[Prod.ID]:[Aantal keer]],8,FALSE)),\"\")","v":""},{"$f":"'5. Bepaal factoren en bereken'!T94","v":""},{"$f":"'5. Bepaal factoren en bereken'!U94","v":""},{"$f":"IF('5. Bepaal factoren en bereken'!V94>0,'5. Bepaal factoren en bereken'!V94,\"\")","v":""}]
[null,{"$f":"'5. Bepaal factoren en bereken'!C95","v":""},{"$f":"IF('5. Bepaal factoren en bereken'!D95=\"\", \"\",'5. Bepaal factoren en bereken'!D95)","v":""},{"$f":"'5. Bepaal factoren en bereken'!E95","v":""},{"$f":"'5. Bepaal factoren en bereken'!F95","v":""},{"$f":"'4. Analyseer opbouw van object'!F93","v":""},{"$f":"IFERROR((VLOOKUP(D95,Table2[[Prod.ID]:[MKI '[EUR MKI']]],3,FALSE)),\"\")","v":""},{"$f":"IFERROR((VLOOKUP(D95,Table2[[Prod.ID]:[Massa '[kg']]],4,FALSE)),\"\")","v":""},{"$f":"IFERROR((VLOOKUP(D95,Table2[[Prod.ID]:[Kritieke/ schaarse materialen?]],6,FALSE)),\"\")","v":""},{"$f":"IFERROR((VLOOKUP(D95,Table2[[Prod.ID]:[Economische waarde '[EUR']]],7,FALSE)),\"\")","v":""},{"$f":"IFERROR((VLOOKUP(D95,Table2[[Prod.ID]:[Aantal keer]],8,FALSE)),\"\")","v":""},{"$f":"'5. Bepaal factoren en bereken'!G95","v":""},{"$f":"'5. Bepaal factoren en bereken'!H95","v":""},{"$f":"'4. Analyseer opbouw van object'!I94","v":" "},{"$f":"IFERROR((VLOOKUP(L95,Table2[[Prod.ID]:[MKI '[EUR MKI']]],3,FALSE)),\"\")","v":""},{"$f":"IFERROR((VLOOKUP(L95,Table2[[Prod.ID]:[Massa '[kg']]],4,FALSE)),\"\")","v":""},{"$f":"IFERROR((VLOOKUP(L95,Table2[[Prod.ID]:[Kritieke/ schaarse materialen?]],6,FALSE)),\"\")","v":""},{"$f":"IFERROR((VLOOKUP(L95,Table2[[Prod.ID]:[Economische waarde '[EUR']]],7,FALSE)),\"\")","v":""},{"$f":"IFERROR((VLOOKUP(L95,Table2[[Prod.ID]:[Aantal keer]],8,FALSE)),\"\")","v":""},{"$f":"'5. Bepaal factoren en bereken'!T95","v":""},{"$f":"'5. Bepaal factoren en bereken'!U95","v":""},{"$f":"IF('5. Bepaal factoren en bereken'!V95>0,'5. Bepaal factoren en bereken'!V95,\"\")","v":""}]
[null,{"$f":"'5. Bepaal factoren en bereken'!C96","v":""},{"$f":"IF('5. Bepaal factoren en bereken'!D96=\"\", \"\",'5. Bepaal factoren en bereken'!D96)","v":""},{"$f":"'5. Bepaal factoren en bereken'!E96","v":""},{"$f":"'5. Bepaal factoren en bereken'!F96","v":""},{"$f":"'4. Analyseer opbouw van object'!F94","v":""},{"$f":"IFERROR((VLOOKUP(D96,Table2[[Prod.ID]:[MKI '[EUR MKI']]],3,FALSE)),\"\")","v":""},{"$f":"IFERROR((VLOOKUP(D96,Table2[[Prod.ID]:[Massa '[kg']]],4,FALSE)),\"\")","v":""},{"$f":"IFERROR((VLOOKUP(D96,Table2[[Prod.ID]:[Kritieke/ schaarse materialen?]],6,FALSE)),\"\")","v":""},{"$f":"IFERROR((VLOOKUP(D96,Table2[[Prod.ID]:[Economische waarde '[EUR']]],7,FALSE)),\"\")","v":""},{"$f":"IFERROR((VLOOKUP(D96,Table2[[Prod.ID]:[Aantal keer]],8,FALSE)),\"\")","v":""},{"$f":"'5. Bepaal factoren en bereken'!G96","v":""},{"$f":"'5. Bepaal factoren en bereken'!H96","v":""},{"$f":"'4. Analyseer opbouw van object'!I95","v":" "},{"$f":"IFERROR((VLOOKUP(L96,Table2[[Prod.ID]:[MKI '[EUR MKI']]],3,FALSE)),\"\")","v":""},{"$f":"IFERROR((VLOOKUP(L96,Table2[[Prod.ID]:[Massa '[kg']]],4,FALSE)),\"\")","v":""},{"$f":"IFERROR((VLOOKUP(L96,Table2[[Prod.ID]:[Kritieke/ schaarse materialen?]],6,FALSE)),\"\")","v":""},{"$f":"IFERROR((VLOOKUP(L96,Table2[[Prod.ID]:[Economische waarde '[EUR']]],7,FALSE)),\"\")","v":""},{"$f":"IFERROR((VLOOKUP(L96,Table2[[Prod.ID]:[Aantal keer]],8,FALSE)),\"\")","v":""},{"$f":"'5. Bepaal factoren en bereken'!T96","v":""},{"$f":"'5. Bepaal factoren en bereken'!U96","v":""},{"$f":"IF('5. Bepaal factoren en bereken'!V96>0,'5. Bepaal factoren en bereken'!V96,\"\")","v":""}]
[null,{"$f":"'5. Bepaal factoren en bereken'!C97","v":""},{"$f":"IF('5. Bepaal factoren en bereken'!D97=\"\", \"\",'5. Bepaal factoren en bereken'!D97)","v":""},{"$f":"'5. Bepaal factoren en bereken'!E97","v":""},{"$f":"'5. Bepaal factoren en bereken'!F97","v":""},{"$f":"'4. Analyseer opbouw van object'!F95","v":""},{"$f":"IFERROR((VLOOKUP(D97,Table2[[Prod.ID]:[MKI '[EUR MKI']]],3,FALSE)),\"\")","v":""},{"$f":"IFERROR((VLOOKUP(D97,Table2[[Prod.ID]:[Massa '[kg']]],4,FALSE)),\"\")","v":""},{"$f":"IFERROR((VLOOKUP(D97,Table2[[Prod.ID]:[Kritieke/ schaarse materialen?]],6,FALSE)),\"\")","v":""},{"$f":"IFERROR((VLOOKUP(D97,Table2[[Prod.ID]:[Economische waarde '[EUR']]],7,FALSE)),\"\")","v":""},{"$f":"IFERROR((VLOOKUP(D97,Table2[[Prod.ID]:[Aantal keer]],8,FALSE)),\"\")","v":""},{"$f":"'5. Bepaal factoren en bereken'!G97","v":""},{"$f":"'5. Bepaal factoren en bereken'!H97","v":""},{"$f":"'4. Analyseer opbouw van object'!I96","v":" "},{"$f":"IFERROR((VLOOKUP(L97,Table2[[Prod.ID]:[MKI '[EUR MKI']]],3,FALSE)),\"\")","v":""},{"$f":"IFERROR((VLOOKUP(L97,Table2[[Prod.ID]:[Massa '[kg']]],4,FALSE)),\"\")","v":""},{"$f":"IFERROR((VLOOKUP(L97,Table2[[Prod.ID]:[Kritieke/ schaarse materialen?]],6,FALSE)),\"\")","v":""},{"$f":"IFERROR((VLOOKUP(L97,Table2[[Prod.ID]:[Economische waarde '[EUR']]],7,FALSE)),\"\")","v":""},{"$f":"IFERROR((VLOOKUP(L97,Table2[[Prod.ID]:[Aantal keer]],8,FALSE)),\"\")","v":""},{"$f":"'5. Bepaal factoren en bereken'!T97","v":""},{"$f":"'5. Bepaal factoren en bereken'!U97","v":""},{"$f":"IF('5. Bepaal factoren en bereken'!V97>0,'5. Bepaal factoren en bereken'!V97,\"\")","v":""}]
[null,{"$f":"'5. Bepaal factoren en bereken'!C98","v":""},{"$f":"IF('5. Bepaal factoren en bereken'!D98=\"\", \"\",'5. Bepaal factoren en bereken'!D98)","v":""},{"$f":"'5. Bepaal factoren en bereken'!E98","v":""},{"$f":"'5. Bepaal factoren en bereken'!F98","v":""},{"$f":"'4. Analyseer opbouw van object'!F96","v":""},{"$f":"IFERROR((VLOOKUP(D98,Table2[[Prod.ID]:[MKI '[EUR MKI']]],3,FALSE)),\"\")","v":""},{"$f":"IFERROR((VLOOKUP(D98,Table2[[Prod.ID]:[Massa '[kg']]],4,FALSE)),\"\")","v":""},{"$f":"IFERROR((VLOOKUP(D98,Table2[[Prod.ID]:[Kritieke/ schaarse materialen?]],6,FALSE)),\"\")","v":""},{"$f":"IFERROR((VLOOKUP(D98,Table2[[Prod.ID]:[Economische waarde '[EUR']]],7,FALSE)),\"\")","v":""},{"$f":"IFERROR((VLOOKUP(D98,Table2[[Prod.ID]:[Aantal keer]],8,FALSE)),\"\")","v":""},{"$f":"'5. Bepaal factoren en bereken'!G98","v":""},{"$f":"'5. Bepaal factoren en bereken'!H98","v":""},{"$f":"'4. Analyseer opbouw van object'!I97","v":" "},{"$f":"IFERROR((VLOOKUP(L98,Table2[[Prod.ID]:[MKI '[EUR MKI']]],3,FALSE)),\"\")","v":""},{"$f":"IFERROR((VLOOKUP(L98,Table2[[Prod.ID]:[Massa '[kg']]],4,FALSE)),\"\")","v":""},{"$f":"IFERROR((VLOOKUP(L98,Table2[[Prod.ID]:[Kritieke/ schaarse materialen?]],6,FALSE)),\"\")","v":""},{"$f":"IFERROR((VLOOKUP(L98,Table2[[Prod.ID]:[Economische waarde '[EUR']]],7,FALSE)),\"\")","v":""},{"$f":"IFERROR((VLOOKUP(L98,Table2[[Prod.ID]:[Aantal keer]],8,FALSE)),\"\")","v":""},{"$f":"'5. Bepaal factoren en bereken'!T98","v":""},{"$f":"'5. Bepaal factoren en bereken'!U98","v":""},{"$f":"IF('5. Bepaal factoren en bereken'!V98>0,'5. Bepaal factoren en bereken'!V98,\"\")","v":""}]
[null,{"$f":"'5. Bepaal factoren en bereken'!C99","v":""},{"$f":"IF('5. Bepaal factoren en bereken'!D99=\"\", \"\",'5. Bepaal factoren en bereken'!D99)","v":""},{"$f":"'5. Bepaal factoren en bereken'!E99","v":""},{"$f":"'5. Bepaal factoren en bereken'!F99","v":""},{"$f":"'4. Analyseer opbouw van object'!F97","v":""},{"$f":"IFERROR((VLOOKUP(D99,Table2[[Prod.ID]:[MKI '[EUR MKI']]],3,FALSE)),\"\")","v":""},{"$f":"IFERROR((VLOOKUP(D99,Table2[[Prod.ID]:[Massa '[kg']]],4,FALSE)),\"\")","v":""},{"$f":"IFERROR((VLOOKUP(D99,Table2[[Prod.ID]:[Kritieke/ schaarse materialen?]],6,FALSE)),\"\")","v":""},{"$f":"IFERROR((VLOOKUP(D99,Table2[[Prod.ID]:[Economische waarde '[EUR']]],7,FALSE)),\"\")","v":""},{"$f":"IFERROR((VLOOKUP(D99,Table2[[Prod.ID]:[Aantal keer]],8,FALSE)),\"\")","v":""},{"$f":"'5. Bepaal factoren en bereken'!G99","v":""},{"$f":"'5. Bepaal factoren en bereken'!H99","v":""},{"$f":"'4. Analyseer opbouw van object'!I98","v":" "},{"$f":"IFERROR((VLOOKUP(L99,Table2[[Prod.ID]:[MKI '[EUR MKI']]],3,FALSE)),\"\")","v":""},{"$f":"IFERROR((VLOOKUP(L99,Table2[[Prod.ID]:[Massa '[kg']]],4,FALSE)),\"\")","v":""},{"$f":"IFERROR((VLOOKUP(L99,Table2[[Prod.ID]:[Kritieke/ schaarse materialen?]],6,FALSE)),\"\")","v":""},{"$f":"IFERROR((VLOOKUP(L99,Table2[[Prod.ID]:[Economische waarde '[EUR']]],7,FALSE)),\"\")","v":""},{"$f":"IFERROR((VLOOKUP(L99,Table2[[Prod.ID]:[Aantal keer]],8,FALSE)),\"\")","v":""},{"$f":"'5. Bepaal factoren en bereken'!T99","v":""},{"$f":"'5. Bepaal factoren en bereken'!U99","v":""},{"$f":"IF('5. Bepaal factoren en bereken'!V99>0,'5. Bepaal factoren en bereken'!V99,\"\")","v":""}]
[null,{"$f":"'5. Bepaal factoren en bereken'!C100","v":""},{"$f":"IF('5. Bepaal factoren en bereken'!D100=\"\", \"\",'5. Bepaal factoren en bereken'!D100)","v":""},{"$f":"'5. Bepaal factoren en bereken'!E100","v":""},{"$f":"'5. Bepaal factoren en bereken'!F100","v":""},{"$f":"'4. Analyseer opbouw van object'!F98","v":""},{"$f":"IFERROR((VLOOKUP(D100,Table2[[Prod.ID]:[MKI '[EUR MKI']]],3,FALSE)),\"\")","v":""},{"$f":"IFERROR((VLOOKUP(D100,Table2[[Prod.ID]:[Massa '[kg']]],4,FALSE)),\"\")","v":""},{"$f":"IFERROR((VLOOKUP(D100,Table2[[Prod.ID]:[Kritieke/ schaarse materialen?]],6,FALSE)),\"\")","v":""},{"$f":"IFERROR((VLOOKUP(D100,Table2[[Prod.ID]:[Economische waarde '[EUR']]],7,FALSE)),\"\")","v":""},{"$f":"IFERROR((VLOOKUP(D100,Table2[[Prod.ID]:[Aantal keer]],8,FALSE)),\"\")","v":""},{"$f":"'5. Bepaal factoren en bereken'!G100","v":""},{"$f":"'5. Bepaal factoren en bereken'!H100","v":""},{"$f":"'4. Analyseer opbouw van object'!I99","v":" "},{"$f":"IFERROR((VLOOKUP(L100,Table2[[Prod.ID]:[MKI '[EUR MKI']]],3,FALSE)),\"\")","v":""},{"$f":"IFERROR((VLOOKUP(L100,Table2[[Prod.ID]:[Massa '[kg']]],4,FALSE)),\"\")","v":""},{"$f":"IFERROR((VLOOKUP(L100,Table2[[Prod.ID]:[Kritieke/ schaarse materialen?]],6,FALSE)),\"\")","v":""},{"$f":"IFERROR((VLOOKUP(L100,Table2[[Prod.ID]:[Economische waarde '[EUR']]],7,FALSE)),\"\")","v":""},{"$f":"IFERROR((VLOOKUP(L100,Table2[[Prod.ID]:[Aantal keer]],8,FALSE)),\"\")","v":""},{"$f":"'5. Bepaal factoren en bereken'!T100","v":""},{"$f":"'5. Bepaal factoren en bereken'!U100","v":""},{"$f":"IF('5. Bepaal factoren en bereken'!V100>0,'5. Bepaal factoren en bereken'!V100,\"\")","v":""}]
[null,{"$f":"'5. Bepaal factoren en bereken'!C101","v":""},{"$f":"IF('5. Bepaal factoren en bereken'!D101=\"\", \"\",'5. Bepaal factoren en bereken'!D101)","v":""},{"$f":"'5. Bepaal factoren en bereken'!E101","v":""},{"$f":"'5. Bepaal factoren en bereken'!F101","v":""},{"$f":"'4. Analyseer opbouw van object'!F99","v":""},{"$f":"IFERROR((VLOOKUP(D101,Table2[[Prod.ID]:[MKI '[EUR MKI']]],3,FALSE)),\"\")","v":""},{"$f":"IFERROR((VLOOKUP(D101,Table2[[Prod.ID]:[Massa '[kg']]],4,FALSE)),\"\")","v":""},{"$f":"IFERROR((VLOOKUP(D101,Table2[[Prod.ID]:[Kritieke/ schaarse materialen?]],6,FALSE)),\"\")","v":""},{"$f":"IFERROR((VLOOKUP(D101,Table2[[Prod.ID]:[Economische waarde '[EUR']]],7,FALSE)),\"\")","v":""},{"$f":"IFERROR((VLOOKUP(D101,Table2[[Prod.ID]:[Aantal keer]],8,FALSE)),\"\")","v":""},{"$f":"'5. Bepaal factoren en bereken'!G101","v":""},{"$f":"'5. Bepaal factoren en bereken'!H101","v":""},{"$f":"'4. Analyseer opbouw van object'!I100","v":" "},{"$f":"IFERROR((VLOOKUP(L101,Table2[[Prod.ID]:[MKI '[EUR MKI']]],3,FALSE)),\"\")","v":""},{"$f":"IFERROR((VLOOKUP(L101,Table2[[Prod.ID]:[Massa '[kg']]],4,FALSE)),\"\")","v":""},{"$f":"IFERROR((VLOOKUP(L101,Table2[[Prod.ID]:[Kritieke/ schaarse materialen?]],6,FALSE)),\"\")","v":""},{"$f":"IFERROR((VLOOKUP(L101,Table2[[Prod.ID]:[Economische waarde '[EUR']]],7,FALSE)),\"\")","v":""},{"$f":"IFERROR((VLOOKUP(L101,Table2[[Prod.ID]:[Aantal keer]],8,FALSE)),\"\")","v":""},{"$f":"'5. Bepaal factoren en bereken'!T101","v":""},{"$f":"'5. Bepaal factoren en bereken'!U101","v":""},{"$f":"IF('5. Bepaal factoren en bereken'!V101>0,'5. Bepaal factoren en bereken'!V101,\"\")","v":""}]
[null,{"$f":"'5. Bepaal factoren en bereken'!C102","v":""},{"$f":"IF('5. Bepaal factoren en bereken'!D102=\"\", \"\",'5. Bepaal factoren en bereken'!D102)","v":""},{"$f":"'5. Bepaal factoren en bereken'!E102","v":""},{"$f":"'5. Bepaal factoren en bereken'!F102","v":""},{"$f":"'4. Analyseer opbouw van object'!F100","v":""},{"$f":"IFERROR((VLOOKUP(D102,Table2[[Prod.ID]:[MKI '[EUR MKI']]],3,FALSE)),\"\")","v":""},{"$f":"IFERROR((VLOOKUP(D102,Table2[[Prod.ID]:[Massa '[kg']]],4,FALSE)),\"\")","v":""},{"$f":"IFERROR((VLOOKUP(D102,Table2[[Prod.ID]:[Kritieke/ schaarse materialen?]],6,FALSE)),\"\")","v":""},{"$f":"IFERROR((VLOOKUP(D102,Table2[[Prod.ID]:[Economische waarde '[EUR']]],7,FALSE)),\"\")","v":""},{"$f":"IFERROR((VLOOKUP(D102,Table2[[Prod.ID]:[Aantal keer]],8,FALSE)),\"\")","v":""},{"$f":"'5. Bepaal factoren en bereken'!G102","v":""},{"$f":"'5. Bepaal factoren en bereken'!H102","v":""},{"$f":"'4. Analyseer opbouw van object'!I101","v":" "},{"$f":"IFERROR((VLOOKUP(L102,Table2[[Prod.ID]:[MKI '[EUR MKI']]],3,FALSE)),\"\")","v":""},{"$f":"IFERROR((VLOOKUP(L102,Table2[[Prod.ID]:[Massa '[kg']]],4,FALSE)),\"\")","v":""},{"$f":"IFERROR((VLOOKUP(L102,Table2[[Prod.ID]:[Kritieke/ schaarse materialen?]],6,FALSE)),\"\")","v":""},{"$f":"IFERROR((VLOOKUP(L102,Table2[[Prod.ID]:[Economische waarde '[EUR']]],7,FALSE)),\"\")","v":""},{"$f":"IFERROR((VLOOKUP(L102,Table2[[Prod.ID]:[Aantal keer]],8,FALSE)),\"\")","v":""},{"$f":"'5. Bepaal factoren en bereken'!T102","v":""},{"$f":"'5. Bepaal factoren en bereken'!U102","v":""},{"$f":"IF('5. Bepaal factoren en bereken'!V102>0,'5. Bepaal factoren en bereken'!V102,\"\")","v":""}]
[null,{"$f":"'5. Bepaal factoren en bereken'!C103","v":""},{"$f":"IF('5. Bepaal factoren en bereken'!D103=\"\", \"\",'5. Bepaal factoren en bereken'!D103)","v":""},{"$f":"'5. Bepaal factoren en bereken'!E103","v":""},{"$f":"'5. Bepaal factoren en bereken'!F103","v":""},{"$f":"'4. Analyseer opbouw van object'!F101","v":""},{"$f":"IFERROR((VLOOKUP(D103,Table2[[Prod.ID]:[MKI '[EUR MKI']]],3,FALSE)),\"\")","v":""},{"$f":"IFERROR((VLOOKUP(D103,Table2[[Prod.ID]:[Massa '[kg']]],4,FALSE)),\"\")","v":""},{"$f":"IFERROR((VLOOKUP(D103,Table2[[Prod.ID]:[Kritieke/ schaarse materialen?]],6,FALSE)),\"\")","v":""},{"$f":"IFERROR((VLOOKUP(D103,Table2[[Prod.ID]:[Economische waarde '[EUR']]],7,FALSE)),\"\")","v":""},{"$f":"IFERROR((VLOOKUP(D103,Table2[[Prod.ID]:[Aantal keer]],8,FALSE)),\"\")","v":""},{"$f":"'5. Bepaal factoren en bereken'!G103","v":""},{"$f":"'5. Bepaal factoren en bereken'!H103","v":""},{"$f":"'4. Analyseer opbouw van object'!I102","v":" "},{"$f":"IFERROR((VLOOKUP(L103,Table2[[Prod.ID]:[MKI '[EUR MKI']]],3,FALSE)),\"\")","v":""},{"$f":"IFERROR((VLOOKUP(L103,Table2[[Prod.ID]:[Massa '[kg']]],4,FALSE)),\"\")","v":""},{"$f":"IFERROR((VLOOKUP(L103,Table2[[Prod.ID]:[Kritieke/ schaarse materialen?]],6,FALSE)),\"\")","v":""},{"$f":"IFERROR((VLOOKUP(L103,Table2[[Prod.ID]:[Economische waarde '[EUR']]],7,FALSE)),\"\")","v":""},{"$f":"IFERROR((VLOOKUP(L103,Table2[[Prod.ID]:[Aantal keer]],8,FALSE)),\"\")","v":""},{"$f":"'5. Bepaal factoren en bereken'!T103","v":""},{"$f":"'5. Bepaal factoren en bereken'!U103","v":""},{"$f":"IF('5. Bepaal factoren en bereken'!V103>0,'5. Bepaal factoren en bereken'!V103,\"\")","v":""}]
[null,{"$f":"'5. Bepaal factoren en bereken'!C104","v":""},{"$f":"IF('5. Bepaal factoren en bereken'!D104=\"\", \"\",'5. Bepaal factoren en bereken'!D104)","v":""},{"$f":"'5. Bepaal factoren en bereken'!E104","v":""},{"$f":"'5. Bepaal factoren en bereken'!F104","v":""},{"$f":"'4. Analyseer opbouw van object'!F102","v":""},{"$f":"IFERROR((VLOOKUP(D104,Table2[[Prod.ID]:[MKI '[EUR MKI']]],3,FALSE)),\"\")","v":""},{"$f":"IFERROR((VLOOKUP(D104,Table2[[Prod.ID]:[Massa '[kg']]],4,FALSE)),\"\")","v":""},{"$f":"IFERROR((VLOOKUP(D104,Table2[[Prod.ID]:[Kritieke/ schaarse materialen?]],6,FALSE)),\"\")","v":""},{"$f":"IFERROR((VLOOKUP(D104,Table2[[Prod.ID]:[Economische waarde '[EUR']]],7,FALSE)),\"\")","v":""},{"$f":"IFERROR((VLOOKUP(D104,Table2[[Prod.ID]:[Aantal keer]],8,FALSE)),\"\")","v":""},{"$f":"'5. Bepaal factoren en bereken'!G104","v":""},{"$f":"'5. Bepaal factoren en bereken'!H104","v":""},{"$f":"'4. Analyseer opbouw van object'!I103","v":" "},{"$f":"IFERROR((VLOOKUP(L104,Table2[[Prod.ID]:[MKI '[EUR MKI']]],3,FALSE)),\"\")","v":""},{"$f":"IFERROR((VLOOKUP(L104,Table2[[Prod.ID]:[Massa '[kg']]],4,FALSE)),\"\")","v":""},{"$f":"IFERROR((VLOOKUP(L104,Table2[[Prod.ID]:[Kritieke/ schaarse materialen?]],6,FALSE)),\"\")","v":""},{"$f":"IFERROR((VLOOKUP(L104,Table2[[Prod.ID]:[Economische waarde '[EUR']]],7,FALSE)),\"\")","v":""},{"$f":"IFERROR((VLOOKUP(L104,Table2[[Prod.ID]:[Aantal keer]],8,FALSE)),\"\")","v":""},{"$f":"'5. Bepaal factoren en bereken'!T104","v":""},{"$f":"'5. Bepaal factoren en bereken'!U104","v":""},{"$f":"IF('5. Bepaal factoren en bereken'!V104>0,'5. Bepaal factoren en bereken'!V104,\"\")","v":""}]
[null,{"$f":"'5. Bepaal factoren en bereken'!C105","v":""},{"$f":"IF('5. Bepaal factoren en bereken'!D105=\"\", \"\",'5. Bepaal factoren en bereken'!D105)","v":""},{"$f":"'5. Bepaal factoren en bereken'!E105","v":""},{"$f":"'5. Bepaal factoren en bereken'!F105","v":""},{"$f":"'4. Analyseer opbouw van object'!F103","v":""},{"$f":"IFERROR((VLOOKUP(D105,Table2[[Prod.ID]:[MKI '[EUR MKI']]],3,FALSE)),\"\")","v":""},{"$f":"IFERROR((VLOOKUP(D105,Table2[[Prod.ID]:[Massa '[kg']]],4,FALSE)),\"\")","v":""},{"$f":"IFERROR((VLOOKUP(D105,Table2[[Prod.ID]:[Kritieke/ schaarse materialen?]],6,FALSE)),\"\")","v":""},{"$f":"IFERROR((VLOOKUP(D105,Table2[[Prod.ID]:[Economische waarde '[EUR']]],7,FALSE)),\"\")","v":""},{"$f":"IFERROR((VLOOKUP(D105,Table2[[Prod.ID]:[Aantal keer]],8,FALSE)),\"\")","v":""},{"$f":"'5. Bepaal factoren en bereken'!G105","v":""},{"$f":"'5. Bepaal factoren en bereken'!H105","v":""},{"$f":"'4. Analyseer opbouw van object'!I104","v":" "},{"$f":"IFERROR((VLOOKUP(L105,Table2[[Prod.ID]:[MKI '[EUR MKI']]],3,FALSE)),\"\")","v":""},{"$f":"IFERROR((VLOOKUP(L105,Table2[[Prod.ID]:[Massa '[kg']]],4,FALSE)),\"\")","v":""},{"$f":"IFERROR((VLOOKUP(L105,Table2[[Prod.ID]:[Kritieke/ schaarse materialen?]],6,FALSE)),\"\")","v":""},{"$f":"IFERROR((VLOOKUP(L105,Table2[[Prod.ID]:[Economische waarde '[EUR']]],7,FALSE)),\"\")","v":""},{"$f":"IFERROR((VLOOKUP(L105,Table2[[Prod.ID]:[Aantal keer]],8,FALSE)),\"\")","v":""},{"$f":"'5. Bepaal factoren en bereken'!T105","v":""},{"$f":"'5. Bepaal factoren en bereken'!U105","v":""},{"$f":"IF('5. Bepaal factoren en bereken'!V105>0,'5. Bepaal factoren en bereken'!V105,\"\")","v":""}]
[null,{"$f":"'5. Bepaal factoren en bereken'!C106","v":""},{"$f":"IF('5. Bepaal factoren en bereken'!D106=\"\", \"\",'5. Bepaal factoren en bereken'!D106)","v":""},{"$f":"'5. Bepaal factoren en bereken'!E106","v":""},{"$f":"'5. Bepaal factoren en bereken'!F106","v":""},{"$f":"'4. Analyseer opbouw van object'!F104","v":""},{"$f":"IFERROR((VLOOKUP(D106,Table2[[Prod.ID]:[MKI '[EUR MKI']]],3,FALSE)),\"\")","v":""},{"$f":"IFERROR((VLOOKUP(D106,Table2[[Prod.ID]:[Massa '[kg']]],4,FALSE)),\"\")","v":""},{"$f":"IFERROR((VLOOKUP(D106,Table2[[Prod.ID]:[Kritieke/ schaarse materialen?]],6,FALSE)),\"\")","v":""},{"$f":"IFERROR((VLOOKUP(D106,Table2[[Prod.ID]:[Economische waarde '[EUR']]],7,FALSE)),\"\")","v":""},{"$f":"IFERROR((VLOOKUP(D106,Table2[[Prod.ID]:[Aantal keer]],8,FALSE)),\"\")","v":""},{"$f":"'5. Bepaal factoren en bereken'!G106","v":""},{"$f":"'5. Bepaal factoren en bereken'!H106","v":""},{"$f":"'4. Analyseer opbouw van object'!I105","v":" "},{"$f":"IFERROR((VLOOKUP(L106,Table2[[Prod.ID]:[MKI '[EUR MKI']]],3,FALSE)),\"\")","v":""},{"$f":"IFERROR((VLOOKUP(L106,Table2[[Prod.ID]:[Massa '[kg']]],4,FALSE)),\"\")","v":""},{"$f":"IFERROR((VLOOKUP(L106,Table2[[Prod.ID]:[Kritieke/ schaarse materialen?]],6,FALSE)),\"\")","v":""},{"$f":"IFERROR((VLOOKUP(L106,Table2[[Prod.ID]:[Economische waarde '[EUR']]],7,FALSE)),\"\")","v":""},{"$f":"IFERROR((VLOOKUP(L106,Table2[[Prod.ID]:[Aantal keer]],8,FALSE)),\"\")","v":""},{"$f":"'5. Bepaal factoren en bereken'!T106","v":""},{"$f":"'5. Bepaal factoren en bereken'!U106","v":""},{"$f":"IF('5. Bepaal factoren en bereken'!V106>0,'5. Bepaal factoren en bereken'!V106,\"\")","v":""}]
[null,{"$f":"'5. Bepaal factoren en bereken'!C107","v":""},{"$f":"IF('5. Bepaal factoren en bereken'!D107=\"\", \"\",'5. Bepaal factoren en bereken'!D107)","v":""},{"$f":"'5. Bepaal factoren en bereken'!E107","v":""},{"$f":"'5. Bepaal factoren en bereken'!F107","v":""},{"$f":"'4. Analyseer opbouw van object'!F105","v":""},{"$f":"IFERROR((VLOOKUP(D107,Table2[[Prod.ID]:[MKI '[EUR MKI']]],3,FALSE)),\"\")","v":""},{"$f":"IFERROR((VLOOKUP(D107,Table2[[Prod.ID]:[Massa '[kg']]],4,FALSE)),\"\")","v":""},{"$f":"IFERROR((VLOOKUP(D107,Table2[[Prod.ID]:[Kritieke/ schaarse materialen?]],6,FALSE)),\"\")","v":""},{"$f":"IFERROR((VLOOKUP(D107,Table2[[Prod.ID]:[Economische waarde '[EUR']]],7,FALSE)),\"\")","v":""},{"$f":"IFERROR((VLOOKUP(D107,Table2[[Prod.ID]:[Aantal keer]],8,FALSE)),\"\")","v":""},{"$f":"'5. Bepaal factoren en bereken'!G107","v":""},{"$f":"'5. Bepaal factoren en bereken'!H107","v":""},{"$f":"'4. Analyseer opbouw van object'!I106","v":" "},{"$f":"IFERROR((VLOOKUP(L107,Table2[[Prod.ID]:[MKI '[EUR MKI']]],3,FALSE)),\"\")","v":""},{"$f":"IFERROR((VLOOKUP(L107,Table2[[Prod.ID]:[Massa '[kg']]],4,FALSE)),\"\")","v":""},{"$f":"IFERROR((VLOOKUP(L107,Table2[[Prod.ID]:[Kritieke/ schaarse materialen?]],6,FALSE)),\"\")","v":""},{"$f":"IFERROR((VLOOKUP(L107,Table2[[Prod.ID]:[Economische waarde '[EUR']]],7,FALSE)),\"\")","v":""},{"$f":"IFERROR((VLOOKUP(L107,Table2[[Prod.ID]:[Aantal keer]],8,FALSE)),\"\")","v":""},{"$f":"'5. Bepaal factoren en bereken'!T107","v":""},{"$f":"'5. Bepaal factoren en bereken'!U107","v":""},{"$f":"IF('5. Bepaal factoren en bereken'!V107>0,'5. Bepaal factoren en bereken'!V107,\"\")","v":""}]
[null,{"$f":"'5. Bepaal factoren en bereken'!C108","v":""},{"$f":"IF('5. Bepaal factoren en bereken'!D108=\"\", \"\",'5. Bepaal factoren en bereken'!D108)","v":""},{"$f":"'5. Bepaal factoren en bereken'!E108","v":""},{"$f":"'5. Bepaal factoren en bereken'!F108","v":""},{"$f":"'4. Analyseer opbouw van object'!F106","v":""},{"$f":"IFERROR((VLOOKUP(D108,Table2[[Prod.ID]:[MKI '[EUR MKI']]],3,FALSE)),\"\")","v":""},{"$f":"IFERROR((VLOOKUP(D108,Table2[[Prod.ID]:[Massa '[kg']]],4,FALSE)),\"\")","v":""},{"$f":"IFERROR((VLOOKUP(D108,Table2[[Prod.ID]:[Kritieke/ schaarse materialen?]],6,FALSE)),\"\")","v":""},{"$f":"IFERROR((VLOOKUP(D108,Table2[[Prod.ID]:[Economische waarde '[EUR']]],7,FALSE)),\"\")","v":""},{"$f":"IFERROR((VLOOKUP(D108,Table2[[Prod.ID]:[Aantal keer]],8,FALSE)),\"\")","v":""},{"$f":"'5. Bepaal factoren en bereken'!G108","v":""},{"$f":"'5. Bepaal factoren en bereken'!H108","v":""},{"$f":"'4. Analyseer opbouw van object'!I107","v":" "},{"$f":"IFERROR((VLOOKUP(L108,Table2[[Prod.ID]:[MKI '[EUR MKI']]],3,FALSE)),\"\")","v":""},{"$f":"IFERROR((VLOOKUP(L108,Table2[[Prod.ID]:[Massa '[kg']]],4,FALSE)),\"\")","v":""},{"$f":"IFERROR((VLOOKUP(L108,Table2[[Prod.ID]:[Kritieke/ schaarse materialen?]],6,FALSE)),\"\")","v":""},{"$f":"IFERROR((VLOOKUP(L108,Table2[[Prod.ID]:[Economische waarde '[EUR']]],7,FALSE)),\"\")","v":""},{"$f":"IFERROR((VLOOKUP(L108,Table2[[Prod.ID]:[Aantal keer]],8,FALSE)),\"\")","v":""},{"$f":"'5. Bepaal factoren en bereken'!T108","v":""},{"$f":"'5. Bepaal factoren en bereken'!U108","v":""},{"$f":"IF('5. Bepaal factoren en bereken'!V108>0,'5. Bepaal factoren en bereken'!V108,\"\")","v":""}]
[null,{"$f":"'5. Bepaal factoren en bereken'!C109","v":""},{"$f":"IF('5. Bepaal factoren en bereken'!D109=\"\", \"\",'5. Bepaal factoren en bereken'!D109)","v":""},{"$f":"'5. Bepaal factoren en bereken'!E109","v":""},{"$f":"'5. Bepaal factoren en bereken'!F109","v":""},{"$f":"'4. Analyseer opbouw van object'!F107","v":""},{"$f":"IFERROR((VLOOKUP(D109,Table2[[Prod.ID]:[MKI '[EUR MKI']]],3,FALSE)),\"\")","v":""},{"$f":"IFERROR((VLOOKUP(D109,Table2[[Prod.ID]:[Massa '[kg']]],4,FALSE)),\"\")","v":""},{"$f":"IFERROR((VLOOKUP(D109,Table2[[Prod.ID]:[Kritieke/ schaarse materialen?]],6,FALSE)),\"\")","v":""},{"$f":"IFERROR((VLOOKUP(D109,Table2[[Prod.ID]:[Economische waarde '[EUR']]],7,FALSE)),\"\")","v":""},{"$f":"IFERROR((VLOOKUP(D109,Table2[[Prod.ID]:[Aantal keer]],8,FALSE)),\"\")","v":""},{"$f":"'5. Bepaal factoren en bereken'!G109","v":""},{"$f":"'5. Bepaal factoren en bereken'!H109","v":""},{"$f":"'4. Analyseer opbouw van object'!I108","v":" "},{"$f":"IFERROR((VLOOKUP(L109,Table2[[Prod.ID]:[MKI '[EUR MKI']]],3,FALSE)),\"\")","v":""},{"$f":"IFERROR((VLOOKUP(L109,Table2[[Prod.ID]:[Massa '[kg']]],4,FALSE)),\"\")","v":""},{"$f":"IFERROR((VLOOKUP(L109,Table2[[Prod.ID]:[Kritieke/ schaarse materialen?]],6,FALSE)),\"\")","v":""},{"$f":"IFERROR((VLOOKUP(L109,Table2[[Prod.ID]:[Economische waarde '[EUR']]],7,FALSE)),\"\")","v":""},{"$f":"IFERROR((VLOOKUP(L109,Table2[[Prod.ID]:[Aantal keer]],8,FALSE)),\"\")","v":""},{"$f":"'5. Bepaal factoren en bereken'!T109","v":""},{"$f":"'5. Bepaal factoren en bereken'!U109","v":""},{"$f":"IF('5. Bepaal factoren en bereken'!V109>0,'5. Bepaal factoren en bereken'!V109,\"\")","v":""}]
[null,{"$f":"'5. Bepaal factoren en bereken'!C110","v":""},{"$f":"IF('5. Bepaal factoren en bereken'!D110=\"\", \"\",'5. Bepaal factoren en bereken'!D110)","v":""},{"$f":"'5. Bepaal factoren en bereken'!E110","v":""},{"$f":"'5. Bepaal factoren en bereken'!F110","v":""},{"$f":"'4. Analyseer opbouw van object'!F108","v":""},{"$f":"IFERROR((VLOOKUP(D110,Table2[[Prod.ID]:[MKI '[EUR MKI']]],3,FALSE)),\"\")","v":""},{"$f":"IFERROR((VLOOKUP(D110,Table2[[Prod.ID]:[Massa '[kg']]],4,FALSE)),\"\")","v":""},{"$f":"IFERROR((VLOOKUP(D110,Table2[[Prod.ID]:[Kritieke/ schaarse materialen?]],6,FALSE)),\"\")","v":""},{"$f":"IFERROR((VLOOKUP(D110,Table2[[Prod.ID]:[Economische waarde '[EUR']]],7,FALSE)),\"\")","v":""},{"$f":"IFERROR((VLOOKUP(D110,Table2[[Prod.ID]:[Aantal keer]],8,FALSE)),\"\")","v":""},{"$f":"'5. Bepaal factoren en bereken'!G110","v":""},{"$f":"'5. Bepaal factoren en bereken'!H110","v":""},{"$f":"'4. Analyseer opbouw van object'!I109","v":" "},{"$f":"IFERROR((VLOOKUP(L110,Table2[[Prod.ID]:[MKI '[EUR MKI']]],3,FALSE)),\"\")","v":""},{"$f":"IFERROR((VLOOKUP(L110,Table2[[Prod.ID]:[Massa '[kg']]],4,FALSE)),\"\")","v":""},{"$f":"IFERROR((VLOOKUP(L110,Table2[[Prod.ID]:[Kritieke/ schaarse materialen?]],6,FALSE)),\"\")","v":""},{"$f":"IFERROR((VLOOKUP(L110,Table2[[Prod.ID]:[Economische waarde '[EUR']]],7,FALSE)),\"\")","v":""},{"$f":"IFERROR((VLOOKUP(L110,Table2[[Prod.ID]:[Aantal keer]],8,FALSE)),\"\")","v":""},{"$f":"'5. Bepaal factoren en bereken'!T110","v":""},{"$f":"'5. Bepaal factoren en bereken'!U110","v":""},{"$f":"IF('5. Bepaal factoren en bereken'!V110>0,'5. Bepaal factoren en bereken'!V110,\"\")","v":""}]
[null,{"$f":"'5. Bepaal factoren en bereken'!C111","v":""},{"$f":"IF('5. Bepaal factoren en bereken'!D111=\"\", \"\",'5. Bepaal factoren en bereken'!D111)","v":""},{"$f":"'5. Bepaal factoren en bereken'!E111","v":""},{"$f":"'5. Bepaal factoren en bereken'!F111","v":""},{"$f":"'4. Analyseer opbouw van object'!F109","v":""},{"$f":"IFERROR((VLOOKUP(D111,Table2[[Prod.ID]:[MKI '[EUR MKI']]],3,FALSE)),\"\")","v":""},{"$f":"IFERROR((VLOOKUP(D111,Table2[[Prod.ID]:[Massa '[kg']]],4,FALSE)),\"\")","v":""},{"$f":"IFERROR((VLOOKUP(D111,Table2[[Prod.ID]:[Kritieke/ schaarse materialen?]],6,FALSE)),\"\")","v":""},{"$f":"IFERROR((VLOOKUP(D111,Table2[[Prod.ID]:[Economische waarde '[EUR']]],7,FALSE)),\"\")","v":""},{"$f":"IFERROR((VLOOKUP(D111,Table2[[Prod.ID]:[Aantal keer]],8,FALSE)),\"\")","v":""},{"$f":"'5. Bepaal factoren en bereken'!G111","v":""},{"$f":"'5. Bepaal factoren en bereken'!H111","v":""},{"$f":"'4. Analyseer opbouw van object'!I110","v":" "},{"$f":"IFERROR((VLOOKUP(L111,Table2[[Prod.ID]:[MKI '[EUR MKI']]],3,FALSE)),\"\")","v":""},{"$f":"IFERROR((VLOOKUP(L111,Table2[[Prod.ID]:[Massa '[kg']]],4,FALSE)),\"\")","v":""},{"$f":"IFERROR((VLOOKUP(L111,Table2[[Prod.ID]:[Kritieke/ schaarse materialen?]],6,FALSE)),\"\")","v":""},{"$f":"IFERROR((VLOOKUP(L111,Table2[[Prod.ID]:[Economische waarde '[EUR']]],7,FALSE)),\"\")","v":""},{"$f":"IFERROR((VLOOKUP(L111,Table2[[Prod.ID]:[Aantal keer]],8,FALSE)),\"\")","v":""},{"$f":"'5. Bepaal factoren en bereken'!T111","v":""},{"$f":"'5. Bepaal factoren en bereken'!U111","v":""},{"$f":"IF('5. Bepaal factoren en bereken'!V111>0,'5. Bepaal factoren en bereken'!V111,\"\")","v":""}]
[null,{"$f":"'5. Bepaal factoren en bereken'!C112","v":""},{"$f":"IF('5. Bepaal factoren en bereken'!D112=\"\", \"\",'5. Bepaal factoren en bereken'!D112)","v":""},{"$f":"'5. Bepaal factoren en bereken'!E112","v":""},{"$f":"'5. Bepaal factoren en bereken'!F112","v":""},{"$f":"'4. Analyseer opbouw van object'!F110","v":""},{"$f":"IFERROR((VLOOKUP(D112,Table2[[Prod.ID]:[MKI '[EUR MKI']]],3,FALSE)),\"\")","v":""},{"$f":"IFERROR((VLOOKUP(D112,Table2[[Prod.ID]:[Massa '[kg']]],4,FALSE)),\"\")","v":""},{"$f":"IFERROR((VLOOKUP(D112,Table2[[Prod.ID]:[Kritieke/ schaarse materialen?]],6,FALSE)),\"\")","v":""},{"$f":"IFERROR((VLOOKUP(D112,Table2[[Prod.ID]:[Economische waarde '[EUR']]],7,FALSE)),\"\")","v":""},{"$f":"IFERROR((VLOOKUP(D112,Table2[[Prod.ID]:[Aantal keer]],8,FALSE)),\"\")","v":""},{"$f":"'5. Bepaal factoren en bereken'!G112","v":""},{"$f":"'5. Bepaal factoren en bereken'!H112","v":""},{"$f":"'4. Analyseer opbouw van object'!I111","v":" "},{"$f":"IFERROR((VLOOKUP(L112,Table2[[Prod.ID]:[MKI '[EUR MKI']]],3,FALSE)),\"\")","v":""},{"$f":"IFERROR((VLOOKUP(L112,Table2[[Prod.ID]:[Massa '[kg']]],4,FALSE)),\"\")","v":""},{"$f":"IFERROR((VLOOKUP(L112,Table2[[Prod.ID]:[Kritieke/ schaarse materialen?]],6,FALSE)),\"\")","v":""},{"$f":"IFERROR((VLOOKUP(L112,Table2[[Prod.ID]:[Economische waarde '[EUR']]],7,FALSE)),\"\")","v":""},{"$f":"IFERROR((VLOOKUP(L112,Table2[[Prod.ID]:[Aantal keer]],8,FALSE)),\"\")","v":""},{"$f":"'5. Bepaal factoren en bereken'!T112","v":""},{"$f":"'5. Bepaal factoren en bereken'!U112","v":""},{"$f":"IF('5. Bepaal factoren en bereken'!V112>0,'5. Bepaal factoren en bereken'!V112,\"\")","v":""}]
[null,{"$f":"'5. Bepaal factoren en bereken'!C113","v":""},{"$f":"IF('5. Bepaal factoren en bereken'!D113=\"\", \"\",'5. Bepaal factoren en bereken'!D113)","v":""},{"$f":"'5. Bepaal factoren en bereken'!E113","v":""},{"$f":"'5. Bepaal factoren en bereken'!F113","v":""},{"$f":"'4. Analyseer opbouw van object'!F111","v":""},{"$f":"IFERROR((VLOOKUP(D113,Table2[[Prod.ID]:[MKI '[EUR MKI']]],3,FALSE)),\"\")","v":""},{"$f":"IFERROR((VLOOKUP(D113,Table2[[Prod.ID]:[Massa '[kg']]],4,FALSE)),\"\")","v":""},{"$f":"IFERROR((VLOOKUP(D113,Table2[[Prod.ID]:[Kritieke/ schaarse materialen?]],6,FALSE)),\"\")","v":""},{"$f":"IFERROR((VLOOKUP(D113,Table2[[Prod.ID]:[Economische waarde '[EUR']]],7,FALSE)),\"\")","v":""},{"$f":"IFERROR((VLOOKUP(D113,Table2[[Prod.ID]:[Aantal keer]],8,FALSE)),\"\")","v":""},{"$f":"'5. Bepaal factoren en bereken'!G113","v":""},{"$f":"'5. Bepaal factoren en bereken'!H113","v":""},{"$f":"'4. Analyseer opbouw van object'!I112","v":" "},{"$f":"IFERROR((VLOOKUP(L113,Table2[[Prod.ID]:[MKI '[EUR MKI']]],3,FALSE)),\"\")","v":""},{"$f":"IFERROR((VLOOKUP(L113,Table2[[Prod.ID]:[Massa '[kg']]],4,FALSE)),\"\")","v":""},{"$f":"IFERROR((VLOOKUP(L113,Table2[[Prod.ID]:[Kritieke/ schaarse materialen?]],6,FALSE)),\"\")","v":""},{"$f":"IFERROR((VLOOKUP(L113,Table2[[Prod.ID]:[Economische waarde '[EUR']]],7,FALSE)),\"\")","v":""},{"$f":"IFERROR((VLOOKUP(L113,Table2[[Prod.ID]:[Aantal keer]],8,FALSE)),\"\")","v":""},{"$f":"'5. Bepaal factoren en bereken'!T113","v":""},{"$f":"'5. Bepaal factoren en bereken'!U113","v":""},{"$f":"IF('5. Bepaal factoren en bereken'!V113>0,'5. Bepaal factoren en bereken'!V113,\"\")","v":""}]
[null,{"$f":"'5. Bepaal factoren en bereken'!C114","v":""},{"$f":"IF('5. Bepaal factoren en bereken'!D114=\"\", \"\",'5. Bepaal factoren en bereken'!D114)","v":""},{"$f":"'5. Bepaal factoren en bereken'!E114","v":""},{"$f":"'5. Bepaal factoren en bereken'!F114","v":""},{"$f":"'4. Analyseer opbouw van object'!F112","v":""},{"$f":"IFERROR((VLOOKUP(D114,Table2[[Prod.ID]:[MKI '[EUR MKI']]],3,FALSE)),\"\")","v":""},{"$f":"IFERROR((VLOOKUP(D114,Table2[[Prod.ID]:[Massa '[kg']]],4,FALSE)),\"\")","v":""},{"$f":"IFERROR((VLOOKUP(D114,Table2[[Prod.ID]:[Kritieke/ schaarse materialen?]],6,FALSE)),\"\")","v":""},{"$f":"IFERROR((VLOOKUP(D114,Table2[[Prod.ID]:[Economische waarde '[EUR']]],7,FALSE)),\"\")","v":""},{"$f":"IFERROR((VLOOKUP(D114,Table2[[Prod.ID]:[Aantal keer]],8,FALSE)),\"\")","v":""},{"$f":"'5. Bepaal factoren en bereken'!G114","v":""},{"$f":"'5. Bepaal factoren en bereken'!H114","v":""},{"$f":"'4. Analyseer opbouw van object'!I113","v":" "},{"$f":"IFERROR((VLOOKUP(L114,Table2[[Prod.ID]:[MKI '[EUR MKI']]],3,FALSE)),\"\")","v":""},{"$f":"IFERROR((VLOOKUP(L114,Table2[[Prod.ID]:[Massa '[kg']]],4,FALSE)),\"\")","v":""},{"$f":"IFERROR((VLOOKUP(L114,Table2[[Prod.ID]:[Kritieke/ schaarse materialen?]],6,FALSE)),\"\")","v":""},{"$f":"IFERROR((VLOOKUP(L114,Table2[[Prod.ID]:[Economische waarde '[EUR']]],7,FALSE)),\"\")","v":""},{"$f":"IFERROR((VLOOKUP(L114,Table2[[Prod.ID]:[Aantal keer]],8,FALSE)),\"\")","v":""},{"$f":"'5. Bepaal factoren en bereken'!T114","v":""},{"$f":"'5. Bepaal factoren en bereken'!U114","v":""},{"$f":"IF('5. Bepaal factoren en bereken'!V114>0,'5. Bepaal factoren en bereken'!V114,\"\")","v":""}]
[null,{"$f":"'5. Bepaal factoren en bereken'!C115","v":""},{"$f":"IF('5. Bepaal factoren en bereken'!D115=\"\", \"\",'5. Bepaal factoren en bereken'!D115)","v":""},{"$f":"'5. Bepaal factoren en bereken'!E115","v":""},{"$f":"'5. Bepaal factoren en bereken'!F115","v":""},{"$f":"'4. Analyseer opbouw van object'!F113","v":""},{"$f":"IFERROR((VLOOKUP(D115,Table2[[Prod.ID]:[MKI '[EUR MKI']]],3,FALSE)),\"\")","v":""},{"$f":"IFERROR((VLOOKUP(D115,Table2[[Prod.ID]:[Massa '[kg']]],4,FALSE)),\"\")","v":""},{"$f":"IFERROR((VLOOKUP(D115,Table2[[Prod.ID]:[Kritieke/ schaarse materialen?]],6,FALSE)),\"\")","v":""},{"$f":"IFERROR((VLOOKUP(D115,Table2[[Prod.ID]:[Economische waarde '[EUR']]],7,FALSE)),\"\")","v":""},{"$f":"IFERROR((VLOOKUP(D115,Table2[[Prod.ID]:[Aantal keer]],8,FALSE)),\"\")","v":""},{"$f":"'5. Bepaal factoren en bereken'!G115","v":""},{"$f":"'5. Bepaal factoren en bereken'!H115","v":""},{"$f":"'4. Analyseer opbouw van object'!I114","v":" "},{"$f":"IFERROR((VLOOKUP(L115,Table2[[Prod.ID]:[MKI '[EUR MKI']]],3,FALSE)),\"\")","v":""},{"$f":"IFERROR((VLOOKUP(L115,Table2[[Prod.ID]:[Massa '[kg']]],4,FALSE)),\"\")","v":""},{"$f":"IFERROR((VLOOKUP(L115,Table2[[Prod.ID]:[Kritieke/ schaarse materialen?]],6,FALSE)),\"\")","v":""},{"$f":"IFERROR((VLOOKUP(L115,Table2[[Prod.ID]:[Economische waarde '[EUR']]],7,FALSE)),\"\")","v":""},{"$f":"IFERROR((VLOOKUP(L115,Table2[[Prod.ID]:[Aantal keer]],8,FALSE)),\"\")","v":""},{"$f":"'5. Bepaal factoren en bereken'!T115","v":""},{"$f":"'5. Bepaal factoren en bereken'!U115","v":""},{"$f":"IF('5. Bepaal factoren en bereken'!V115>0,'5. Bepaal factoren en bereken'!V115,\"\")","v":""}]
[null,{"$f":"'5. Bepaal factoren en bereken'!C116","v":""},{"$f":"IF('5. Bepaal factoren en bereken'!D116=\"\", \"\",'5. Bepaal factoren en bereken'!D116)","v":""},{"$f":"'5. Bepaal factoren en bereken'!E116","v":""},{"$f":"'5. Bepaal factoren en bereken'!F116","v":""},{"$f":"'4. Analyseer opbouw van object'!F114","v":""},{"$f":"IFERROR((VLOOKUP(D116,Table2[[Prod.ID]:[MKI '[EUR MKI']]],3,FALSE)),\"\")","v":""},{"$f":"IFERROR((VLOOKUP(D116,Table2[[Prod.ID]:[Massa '[kg']]],4,FALSE)),\"\")","v":""},{"$f":"IFERROR((VLOOKUP(D116,Table2[[Prod.ID]:[Kritieke/ schaarse materialen?]],6,FALSE)),\"\")","v":""},{"$f":"IFERROR((VLOOKUP(D116,Table2[[Prod.ID]:[Economische waarde '[EUR']]],7,FALSE)),\"\")","v":""},{"$f":"IFERROR((VLOOKUP(D116,Table2[[Prod.ID]:[Aantal keer]],8,FALSE)),\"\")","v":""},{"$f":"'5. Bepaal factoren en bereken'!G116","v":""},{"$f":"'5. Bepaal factoren en bereken'!H116","v":""},{"$f":"'4. Analyseer opbouw van object'!I115","v":" "},{"$f":"IFERROR((VLOOKUP(L116,Table2[[Prod.ID]:[MKI '[EUR MKI']]],3,FALSE)),\"\")","v":""},{"$f":"IFERROR((VLOOKUP(L116,Table2[[Prod.ID]:[Massa '[kg']]],4,FALSE)),\"\")","v":""},{"$f":"IFERROR((VLOOKUP(L116,Table2[[Prod.ID]:[Kritieke/ schaarse materialen?]],6,FALSE)),\"\")","v":""},{"$f":"IFERROR((VLOOKUP(L116,Table2[[Prod.ID]:[Economische waarde '[EUR']]],7,FALSE)),\"\")","v":""},{"$f":"IFERROR((VLOOKUP(L116,Table2[[Prod.ID]:[Aantal keer]],8,FALSE)),\"\")","v":""},{"$f":"'5. Bepaal factoren en bereken'!T116","v":""},{"$f":"'5. Bepaal factoren en bereken'!U116","v":""},{"$f":"IF('5. Bepaal factoren en bereken'!V116>0,'5. Bepaal factoren en bereken'!V116,\"\")","v":""}]
[null,{"$f":"'5. Bepaal factoren en bereken'!C117","v":""},{"$f":"IF('5. Bepaal factoren en bereken'!D117=\"\", \"\",'5. Bepaal factoren en bereken'!D117)","v":""},{"$f":"'5. Bepaal factoren en bereken'!E117","v":""},{"$f":"'5. Bepaal factoren en bereken'!F117","v":""},{"$f":"'4. Analyseer opbouw van object'!F115","v":""},{"$f":"IFERROR((VLOOKUP(D117,Table2[[Prod.ID]:[MKI '[EUR MKI']]],3,FALSE)),\"\")","v":""},{"$f":"IFERROR((VLOOKUP(D117,Table2[[Prod.ID]:[Massa '[kg']]],4,FALSE)),\"\")","v":""},{"$f":"IFERROR((VLOOKUP(D117,Table2[[Prod.ID]:[Kritieke/ schaarse materialen?]],6,FALSE)),\"\")","v":""},{"$f":"IFERROR((VLOOKUP(D117,Table2[[Prod.ID]:[Economische waarde '[EUR']]],7,FALSE)),\"\")","v":""},{"$f":"IFERROR((VLOOKUP(D117,Table2[[Prod.ID]:[Aantal keer]],8,FALSE)),\"\")","v":""},{"$f":"'5. Bepaal factoren en bereken'!G117","v":""},{"$f":"'5. Bepaal factoren en bereken'!H117","v":""},{"$f":"'4. Analyseer opbouw van object'!I116","v":" "},{"$f":"IFERROR((VLOOKUP(L117,Table2[[Prod.ID]:[MKI '[EUR MKI']]],3,FALSE)),\"\")","v":""},{"$f":"IFERROR((VLOOKUP(L117,Table2[[Prod.ID]:[Massa '[kg']]],4,FALSE)),\"\")","v":""},{"$f":"IFERROR((VLOOKUP(L117,Table2[[Prod.ID]:[Kritieke/ schaarse materialen?]],6,FALSE)),\"\")","v":""},{"$f":"IFERROR((VLOOKUP(L117,Table2[[Prod.ID]:[Economische waarde '[EUR']]],7,FALSE)),\"\")","v":""},{"$f":"IFERROR((VLOOKUP(L117,Table2[[Prod.ID]:[Aantal keer]],8,FALSE)),\"\")","v":""},{"$f":"'5. Bepaal factoren en bereken'!T117","v":""},{"$f":"'5. Bepaal factoren en bereken'!U117","v":""},{"$f":"IF('5. Bepaal factoren en bereken'!V117>0,'5. Bepaal factoren en bereken'!V117,\"\")","v":""}]
[null,{"$f":"'5. Bepaal factoren en bereken'!C118","v":""},{"$f":"IF('5. Bepaal factoren en bereken'!D118=\"\", \"\",'5. Bepaal factoren en bereken'!D118)","v":""},{"$f":"'5. Bepaal factoren en bereken'!E118","v":""},{"$f":"'5. Bepaal factoren en bereken'!F118","v":""},{"$f":"'4. Analyseer opbouw van object'!F116","v":""},{"$f":"IFERROR((VLOOKUP(D118,Table2[[Prod.ID]:[MKI '[EUR MKI']]],3,FALSE)),\"\")","v":""},{"$f":"IFERROR((VLOOKUP(D118,Table2[[Prod.ID]:[Massa '[kg']]],4,FALSE)),\"\")","v":""},{"$f":"IFERROR((VLOOKUP(D118,Table2[[Prod.ID]:[Kritieke/ schaarse materialen?]],6,FALSE)),\"\")","v":""},{"$f":"IFERROR((VLOOKUP(D118,Table2[[Prod.ID]:[Economische waarde '[EUR']]],7,FALSE)),\"\")","v":""},{"$f":"IFERROR((VLOOKUP(D118,Table2[[Prod.ID]:[Aantal keer]],8,FALSE)),\"\")","v":""},{"$f":"'5. Bepaal factoren en bereken'!G118","v":""},{"$f":"'5. Bepaal factoren en bereken'!H118","v":""},{"$f":"'4. Analyseer opbouw van object'!I117","v":" "},{"$f":"IFERROR((VLOOKUP(L118,Table2[[Prod.ID]:[MKI '[EUR MKI']]],3,FALSE)),\"\")","v":""},{"$f":"IFERROR((VLOOKUP(L118,Table2[[Prod.ID]:[Massa '[kg']]],4,FALSE)),\"\")","v":""},{"$f":"IFERROR((VLOOKUP(L118,Table2[[Prod.ID]:[Kritieke/ schaarse materialen?]],6,FALSE)),\"\")","v":""},{"$f":"IFERROR((VLOOKUP(L118,Table2[[Prod.ID]:[Economische waarde '[EUR']]],7,FALSE)),\"\")","v":""},{"$f":"IFERROR((VLOOKUP(L118,Table2[[Prod.ID]:[Aantal keer]],8,FALSE)),\"\")","v":""},{"$f":"'5. Bepaal factoren en bereken'!T118","v":""},{"$f":"'5. Bepaal factoren en bereken'!U118","v":""},{"$f":"IF('5. Bepaal factoren en bereken'!V118>0,'5. Bepaal factoren en bereken'!V118,\"\")","v":""}]
[null,{"$f":"'5. Bepaal factoren en bereken'!C119","v":""},{"$f":"IF('5. Bepaal factoren en bereken'!D119=\"\", \"\",'5. Bepaal factoren en bereken'!D119)","v":""},{"$f":"'5. Bepaal factoren en bereken'!E119","v":""},{"$f":"'5. Bepaal factoren en bereken'!F119","v":""},{"$f":"'4. Analyseer opbouw van object'!F117","v":""},{"$f":"IFERROR((VLOOKUP(D119,Table2[[Prod.ID]:[MKI '[EUR MKI']]],3,FALSE)),\"\")","v":""},{"$f":"IFERROR((VLOOKUP(D119,Table2[[Prod.ID]:[Massa '[kg']]],4,FALSE)),\"\")","v":""},{"$f":"IFERROR((VLOOKUP(D119,Table2[[Prod.ID]:[Kritieke/ schaarse materialen?]],6,FALSE)),\"\")","v":""},{"$f":"IFERROR((VLOOKUP(D119,Table2[[Prod.ID]:[Economische waarde '[EUR']]],7,FALSE)),\"\")","v":""},{"$f":"IFERROR((VLOOKUP(D119,Table2[[Prod.ID]:[Aantal keer]],8,FALSE)),\"\")","v":""},{"$f":"'5. Bepaal factoren en bereken'!G119","v":""},{"$f":"'5. Bepaal factoren en bereken'!H119","v":""},{"$f":"'4. Analyseer opbouw van object'!I118","v":" "},{"$f":"IFERROR((VLOOKUP(L119,Table2[[Prod.ID]:[MKI '[EUR MKI']]],3,FALSE)),\"\")","v":""},{"$f":"IFERROR((VLOOKUP(L119,Table2[[Prod.ID]:[Massa '[kg']]],4,FALSE)),\"\")","v":""},{"$f":"IFERROR((VLOOKUP(L119,Table2[[Prod.ID]:[Kritieke/ schaarse materialen?]],6,FALSE)),\"\")","v":""},{"$f":"IFERROR((VLOOKUP(L119,Table2[[Prod.ID]:[Economische waarde '[EUR']]],7,FALSE)),\"\")","v":""},{"$f":"IFERROR((VLOOKUP(L119,Table2[[Prod.ID]:[Aantal keer]],8,FALSE)),\"\")","v":""},{"$f":"'5. Bepaal factoren en bereken'!T119","v":""},{"$f":"'5. Bepaal factoren en bereken'!U119","v":""},{"$f":"IF('5. Bepaal factoren en bereken'!V119>0,'5. Bepaal factoren en bereken'!V119,\"\")","v":""}]
[null,{"$f":"'5. Bepaal factoren en bereken'!C120","v":""},{"$f":"IF('5. Bepaal factoren en bereken'!D120=\"\", \"\",'5. Bepaal factoren en bereken'!D120)","v":""},{"$f":"'5. Bepaal factoren en bereken'!E120","v":""},{"$f":"'5. Bepaal factoren en bereken'!F120","v":""},{"$f":"'4. Analyseer opbouw van object'!F118","v":""},{"$f":"IFERROR((VLOOKUP(D120,Table2[[Prod.ID]:[MKI '[EUR MKI']]],3,FALSE)),\"\")","v":""},{"$f":"IFERROR((VLOOKUP(D120,Table2[[Prod.ID]:[Massa '[kg']]],4,FALSE)),\"\")","v":""},{"$f":"IFERROR((VLOOKUP(D120,Table2[[Prod.ID]:[Kritieke/ schaarse materialen?]],6,FALSE)),\"\")","v":""},{"$f":"IFERROR((VLOOKUP(D120,Table2[[Prod.ID]:[Economische waarde '[EUR']]],7,FALSE)),\"\")","v":""},{"$f":"IFERROR((VLOOKUP(D120,Table2[[Prod.ID]:[Aantal keer]],8,FALSE)),\"\")","v":""},{"$f":"'5. Bepaal factoren en bereken'!G120","v":""},{"$f":"'5. Bepaal factoren en bereken'!H120","v":""},{"$f":"'4. Analyseer opbouw van object'!I119","v":" "},{"$f":"IFERROR((VLOOKUP(L120,Table2[[Prod.ID]:[MKI '[EUR MKI']]],3,FALSE)),\"\")","v":""},{"$f":"IFERROR((VLOOKUP(L120,Table2[[Prod.ID]:[Massa '[kg']]],4,FALSE)),\"\")","v":""},{"$f":"IFERROR((VLOOKUP(L120,Table2[[Prod.ID]:[Kritieke/ schaarse materialen?]],6,FALSE)),\"\")","v":""},{"$f":"IFERROR((VLOOKUP(L120,Table2[[Prod.ID]:[Economische waarde '[EUR']]],7,FALSE)),\"\")","v":""},{"$f":"IFERROR((VLOOKUP(L120,Table2[[Prod.ID]:[Aantal keer]],8,FALSE)),\"\")","v":""},{"$f":"'5. Bepaal factoren en bereken'!T120","v":""},{"$f":"'5. Bepaal factoren en bereken'!U120","v":""},{"$f":"IF('5. Bepaal factoren en bereken'!V120>0,'5. Bepaal factoren en bereken'!V120,\"\")","v":""}]
[null,{"$f":"'5. Bepaal factoren en bereken'!C121","v":""},{"$f":"IF('5. Bepaal factoren en bereken'!D121=\"\", \"\",'5. Bepaal factoren en bereken'!D121)","v":""},{"$f":"'5. Bepaal factoren en bereken'!E121","v":""},{"$f":"'5. Bepaal factoren en bereken'!F121","v":""},{"$f":"'4. Analyseer opbouw van object'!F119","v":""},{"$f":"IFERROR((VLOOKUP(D121,Table2[[Prod.ID]:[MKI '[EUR MKI']]],3,FALSE)),\"\")","v":""},{"$f":"IFERROR((VLOOKUP(D121,Table2[[Prod.ID]:[Massa '[kg']]],4,FALSE)),\"\")","v":""},{"$f":"IFERROR((VLOOKUP(D121,Table2[[Prod.ID]:[Kritieke/ schaarse materialen?]],6,FALSE)),\"\")","v":""},{"$f":"IFERROR((VLOOKUP(D121,Table2[[Prod.ID]:[Economische waarde '[EUR']]],7,FALSE)),\"\")","v":""},{"$f":"IFERROR((VLOOKUP(D121,Table2[[Prod.ID]:[Aantal keer]],8,FALSE)),\"\")","v":""},{"$f":"'5. Bepaal factoren en bereken'!G121","v":""},{"$f":"'5. Bepaal factoren en bereken'!H121","v":""},{"$f":"'4. Analyseer opbouw van object'!I120","v":" "},{"$f":"IFERROR((VLOOKUP(L121,Table2[[Prod.ID]:[MKI '[EUR MKI']]],3,FALSE)),\"\")","v":""},{"$f":"IFERROR((VLOOKUP(L121,Table2[[Prod.ID]:[Massa '[kg']]],4,FALSE)),\"\")","v":""},{"$f":"IFERROR((VLOOKUP(L121,Table2[[Prod.ID]:[Kritieke/ schaarse materialen?]],6,FALSE)),\"\")","v":""},{"$f":"IFERROR((VLOOKUP(L121,Table2[[Prod.ID]:[Economische waarde '[EUR']]],7,FALSE)),\"\")","v":""},{"$f":"IFERROR((VLOOKUP(L121,Table2[[Prod.ID]:[Aantal keer]],8,FALSE)),\"\")","v":""},{"$f":"'5. Bepaal factoren en bereken'!T121","v":""},{"$f":"'5. Bepaal factoren en bereken'!U121","v":""},{"$f":"IF('5. Bepaal factoren en bereken'!V121>0,'5. Bepaal factoren en bereken'!V121,\"\")","v":""}]
[null,{"$f":"'5. Bepaal factoren en bereken'!C122","v":""},{"$f":"IF('5. Bepaal factoren en bereken'!D122=\"\", \"\",'5. Bepaal factoren en bereken'!D122)","v":""},{"$f":"'5. Bepaal factoren en bereken'!E122","v":""},{"$f":"'5. Bepaal factoren en bereken'!F122","v":""},{"$f":"'4. Analyseer opbouw van object'!F120","v":""},{"$f":"IFERROR((VLOOKUP(D122,Table2[[Prod.ID]:[MKI '[EUR MKI']]],3,FALSE)),\"\")","v":""},{"$f":"IFERROR((VLOOKUP(D122,Table2[[Prod.ID]:[Massa '[kg']]],4,FALSE)),\"\")","v":""},{"$f":"IFERROR((VLOOKUP(D122,Table2[[Prod.ID]:[Kritieke/ schaarse materialen?]],6,FALSE)),\"\")","v":""},{"$f":"IFERROR((VLOOKUP(D122,Table2[[Prod.ID]:[Economische waarde '[EUR']]],7,FALSE)),\"\")","v":""},{"$f":"IFERROR((VLOOKUP(D122,Table2[[Prod.ID]:[Aantal keer]],8,FALSE)),\"\")","v":""},{"$f":"'5. Bepaal factoren en bereken'!G122","v":""},{"$f":"'5. Bepaal factoren en bereken'!H122","v":""},{"$f":"'4. Analyseer opbouw van object'!I121","v":" "},{"$f":"IFERROR((VLOOKUP(L122,Table2[[Prod.ID]:[MKI '[EUR MKI']]],3,FALSE)),\"\")","v":""},{"$f":"IFERROR((VLOOKUP(L122,Table2[[Prod.ID]:[Massa '[kg']]],4,FALSE)),\"\")","v":""},{"$f":"IFERROR((VLOOKUP(L122,Table2[[Prod.ID]:[Kritieke/ schaarse materialen?]],6,FALSE)),\"\")","v":""},{"$f":"IFERROR((VLOOKUP(L122,Table2[[Prod.ID]:[Economische waarde '[EUR']]],7,FALSE)),\"\")","v":""},{"$f":"IFERROR((VLOOKUP(L122,Table2[[Prod.ID]:[Aantal keer]],8,FALSE)),\"\")","v":""},{"$f":"'5. Bepaal factoren en bereken'!T122","v":""},{"$f":"'5. Bepaal factoren en bereken'!U122","v":""},{"$f":"IF('5. Bepaal factoren en bereken'!V122>0,'5. Bepaal factoren en bereken'!V122,\"\")","v":""}]
[null,{"$f":"'5. Bepaal factoren en bereken'!C123","v":""},{"$f":"IF('5. Bepaal factoren en bereken'!D123=\"\", \"\",'5. Bepaal factoren en bereken'!D123)","v":""},{"$f":"'5. Bepaal factoren en bereken'!E123","v":""},{"$f":"'5. Bepaal factoren en bereken'!F123","v":""},{"$f":"'4. Analyseer opbouw van object'!F121","v":""},{"$f":"IFERROR((VLOOKUP(D123,Table2[[Prod.ID]:[MKI '[EUR MKI']]],3,FALSE)),\"\")","v":""},{"$f":"IFERROR((VLOOKUP(D123,Table2[[Prod.ID]:[Massa '[kg']]],4,FALSE)),\"\")","v":""},{"$f":"IFERROR((VLOOKUP(D123,Table2[[Prod.ID]:[Kritieke/ schaarse materialen?]],6,FALSE)),\"\")","v":""},{"$f":"IFERROR((VLOOKUP(D123,Table2[[Prod.ID]:[Economische waarde '[EUR']]],7,FALSE)),\"\")","v":""},{"$f":"IFERROR((VLOOKUP(D123,Table2[[Prod.ID]:[Aantal keer]],8,FALSE)),\"\")","v":""},{"$f":"'5. Bepaal factoren en bereken'!G123","v":""},{"$f":"'5. Bepaal factoren en bereken'!H123","v":""},{"$f":"'4. Analyseer opbouw van object'!I122","v":" "},{"$f":"IFERROR((VLOOKUP(L123,Table2[[Prod.ID]:[MKI '[EUR MKI']]],3,FALSE)),\"\")","v":""},{"$f":"IFERROR((VLOOKUP(L123,Table2[[Prod.ID]:[Massa '[kg']]],4,FALSE)),\"\")","v":""},{"$f":"IFERROR((VLOOKUP(L123,Table2[[Prod.ID]:[Kritieke/ schaarse materialen?]],6,FALSE)),\"\")","v":""},{"$f":"IFERROR((VLOOKUP(L123,Table2[[Prod.ID]:[Economische waarde '[EUR']]],7,FALSE)),\"\")","v":""},{"$f":"IFERROR((VLOOKUP(L123,Table2[[Prod.ID]:[Aantal keer]],8,FALSE)),\"\")","v":""},{"$f":"'5. Bepaal factoren en bereken'!T123","v":""},{"$f":"'5. Bepaal factoren en bereken'!U123","v":""},{"$f":"IF('5. Bepaal factoren en bereken'!V123>0,'5. Bepaal factoren en bereken'!V123,\"\")","v":""}]
[null,{"$f":"'5. Bepaal factoren en bereken'!C124","v":""},{"$f":"IF('5. Bepaal factoren en bereken'!D124=\"\", \"\",'5. Bepaal factoren en bereken'!D124)","v":""},{"$f":"'5. Bepaal factoren en bereken'!E124","v":""},{"$f":"'5. Bepaal factoren en bereken'!F124","v":""},{"$f":"'4. Analyseer opbouw van object'!F122","v":""},{"$f":"IFERROR((VLOOKUP(D124,Table2[[Prod.ID]:[MKI '[EUR MKI']]],3,FALSE)),\"\")","v":""},{"$f":"IFERROR((VLOOKUP(D124,Table2[[Prod.ID]:[Massa '[kg']]],4,FALSE)),\"\")","v":""},{"$f":"IFERROR((VLOOKUP(D124,Table2[[Prod.ID]:[Kritieke/ schaarse materialen?]],6,FALSE)),\"\")","v":""},{"$f":"IFERROR((VLOOKUP(D124,Table2[[Prod.ID]:[Economische waarde '[EUR']]],7,FALSE)),\"\")","v":""},{"$f":"IFERROR((VLOOKUP(D124,Table2[[Prod.ID]:[Aantal keer]],8,FALSE)),\"\")","v":""},{"$f":"'5. Bepaal factoren en bereken'!G124","v":""},{"$f":"'5. Bepaal factoren en bereken'!H124","v":""},{"$f":"'4. Analyseer opbouw van object'!I123","v":" "},{"$f":"IFERROR((VLOOKUP(L124,Table2[[Prod.ID]:[MKI '[EUR MKI']]],3,FALSE)),\"\")","v":""},{"$f":"IFERROR((VLOOKUP(L124,Table2[[Prod.ID]:[Massa '[kg']]],4,FALSE)),\"\")","v":""},{"$f":"IFERROR((VLOOKUP(L124,Table2[[Prod.ID]:[Kritieke/ schaarse materialen?]],6,FALSE)),\"\")","v":""},{"$f":"IFERROR((VLOOKUP(L124,Table2[[Prod.ID]:[Economische waarde '[EUR']]],7,FALSE)),\"\")","v":""},{"$f":"IFERROR((VLOOKUP(L124,Table2[[Prod.ID]:[Aantal keer]],8,FALSE)),\"\")","v":""},{"$f":"'5. Bepaal factoren en bereken'!T124","v":""},{"$f":"'5. Bepaal factoren en bereken'!U124","v":""},{"$f":"IF('5. Bepaal factoren en bereken'!V124>0,'5. Bepaal factoren en bereken'!V124,\"\")","v":""}]
[null,{"$f":"'5. Bepaal factoren en bereken'!C125","v":""},{"$f":"IF('5. Bepaal factoren en bereken'!D125=\"\", \"\",'5. Bepaal factoren en bereken'!D125)","v":""},{"$f":"'5. Bepaal factoren en bereken'!E125","v":""},{"$f":"'5. Bepaal factoren en bereken'!F125","v":""},{"$f":"'4. Analyseer opbouw van object'!F123","v":""},{"$f":"IFERROR((VLOOKUP(D125,Table2[[Prod.ID]:[MKI '[EUR MKI']]],3,FALSE)),\"\")","v":""},{"$f":"IFERROR((VLOOKUP(D125,Table2[[Prod.ID]:[Massa '[kg']]],4,FALSE)),\"\")","v":""},{"$f":"IFERROR((VLOOKUP(D125,Table2[[Prod.ID]:[Kritieke/ schaarse materialen?]],6,FALSE)),\"\")","v":""},{"$f":"IFERROR((VLOOKUP(D125,Table2[[Prod.ID]:[Economische waarde '[EUR']]],7,FALSE)),\"\")","v":""},{"$f":"IFERROR((VLOOKUP(D125,Table2[[Prod.ID]:[Aantal keer]],8,FALSE)),\"\")","v":""},{"$f":"'5. Bepaal factoren en bereken'!G125","v":""},{"$f":"'5. Bepaal factoren en bereken'!H125","v":""},{"$f":"'4. Analyseer opbouw van object'!I124","v":" "},{"$f":"IFERROR((VLOOKUP(L125,Table2[[Prod.ID]:[MKI '[EUR MKI']]],3,FALSE)),\"\")","v":""},{"$f":"IFERROR((VLOOKUP(L125,Table2[[Prod.ID]:[Massa '[kg']]],4,FALSE)),\"\")","v":""},{"$f":"IFERROR((VLOOKUP(L125,Table2[[Prod.ID]:[Kritieke/ schaarse materialen?]],6,FALSE)),\"\")","v":""},{"$f":"IFERROR((VLOOKUP(L125,Table2[[Prod.ID]:[Economische waarde '[EUR']]],7,FALSE)),\"\")","v":""},{"$f":"IFERROR((VLOOKUP(L125,Table2[[Prod.ID]:[Aantal keer]],8,FALSE)),\"\")","v":""},{"$f":"'5. Bepaal factoren en bereken'!T125","v":""},{"$f":"'5. Bepaal factoren en bereken'!U125","v":""},{"$f":"IF('5. Bepaal factoren en bereken'!V125>0,'5. Bepaal factoren en bereken'!V125,\"\")","v":""}]
[null,{"$f":"'5. Bepaal factoren en bereken'!C126","v":""},{"$f":"IF('5. Bepaal factoren en bereken'!D126=\"\", \"\",'5. Bepaal factoren en bereken'!D126)","v":""},{"$f":"'5. Bepaal factoren en bereken'!E126","v":""},{"$f":"'5. Bepaal factoren en bereken'!F126","v":""},{"$f":"'4. Analyseer opbouw van object'!F124","v":""},{"$f":"IFERROR((VLOOKUP(D126,Table2[[Prod.ID]:[MKI '[EUR MKI']]],3,FALSE)),\"\")","v":""},{"$f":"IFERROR((VLOOKUP(D126,Table2[[Prod.ID]:[Massa '[kg']]],4,FALSE)),\"\")","v":""},{"$f":"IFERROR((VLOOKUP(D126,Table2[[Prod.ID]:[Kritieke/ schaarse materialen?]],6,FALSE)),\"\")","v":""},{"$f":"IFERROR((VLOOKUP(D126,Table2[[Prod.ID]:[Economische waarde '[EUR']]],7,FALSE)),\"\")","v":""},{"$f":"IFERROR((VLOOKUP(D126,Table2[[Prod.ID]:[Aantal keer]],8,FALSE)),\"\")","v":""},{"$f":"'5. Bepaal factoren en bereken'!G126","v":""},{"$f":"'5. Bepaal factoren en bereken'!H126","v":""},{"$f":"'4. Analyseer opbouw van object'!I125","v":" "},{"$f":"IFERROR((VLOOKUP(L126,Table2[[Prod.ID]:[MKI '[EUR MKI']]],3,FALSE)),\"\")","v":""},{"$f":"IFERROR((VLOOKUP(L126,Table2[[Prod.ID]:[Massa '[kg']]],4,FALSE)),\"\")","v":""},{"$f":"IFERROR((VLOOKUP(L126,Table2[[Prod.ID]:[Kritieke/ schaarse materialen?]],6,FALSE)),\"\")","v":""},{"$f":"IFERROR((VLOOKUP(L126,Table2[[Prod.ID]:[Economische waarde '[EUR']]],7,FALSE)),\"\")","v":""},{"$f":"IFERROR((VLOOKUP(L126,Table2[[Prod.ID]:[Aantal keer]],8,FALSE)),\"\")","v":""},{"$f":"'5. Bepaal factoren en bereken'!T126","v":""},{"$f":"'5. Bepaal factoren en bereken'!U126","v":""},{"$f":"IF('5. Bepaal factoren en bereken'!V126>0,'5. Bepaal factoren en bereken'!V126,\"\")","v":""}]
[null,{"$f":"'5. Bepaal factoren en bereken'!C127","v":""},{"$f":"IF('5. Bepaal factoren en bereken'!D127=\"\", \"\",'5. Bepaal factoren en bereken'!D127)","v":""},{"$f":"'5. Bepaal factoren en bereken'!E127","v":""},{"$f":"'5. Bepaal factoren en bereken'!F127","v":""},{"$f":"'4. Analyseer opbouw van object'!F125","v":""},{"$f":"IFERROR((VLOOKUP(D127,Table2[[Prod.ID]:[MKI '[EUR MKI']]],3,FALSE)),\"\")","v":""},{"$f":"IFERROR((VLOOKUP(D127,Table2[[Prod.ID]:[Massa '[kg']]],4,FALSE)),\"\")","v":""},{"$f":"IFERROR((VLOOKUP(D127,Table2[[Prod.ID]:[Kritieke/ schaarse materialen?]],6,FALSE)),\"\")","v":""},{"$f":"IFERROR((VLOOKUP(D127,Table2[[Prod.ID]:[Economische waarde '[EUR']]],7,FALSE)),\"\")","v":""},{"$f":"IFERROR((VLOOKUP(D127,Table2[[Prod.ID]:[Aantal keer]],8,FALSE)),\"\")","v":""},{"$f":"'5. Bepaal factoren en bereken'!G127","v":""},{"$f":"'5. Bepaal factoren en bereken'!H127","v":""},{"$f":"'4. Analyseer opbouw van object'!I126","v":" "},{"$f":"IFERROR((VLOOKUP(L127,Table2[[Prod.ID]:[MKI '[EUR MKI']]],3,FALSE)),\"\")","v":""},{"$f":"IFERROR((VLOOKUP(L127,Table2[[Prod.ID]:[Massa '[kg']]],4,FALSE)),\"\")","v":""},{"$f":"IFERROR((VLOOKUP(L127,Table2[[Prod.ID]:[Kritieke/ schaarse materialen?]],6,FALSE)),\"\")","v":""},{"$f":"IFERROR((VLOOKUP(L127,Table2[[Prod.ID]:[Economische waarde '[EUR']]],7,FALSE)),\"\")","v":""},{"$f":"IFERROR((VLOOKUP(L127,Table2[[Prod.ID]:[Aantal keer]],8,FALSE)),\"\")","v":""},{"$f":"'5. Bepaal factoren en bereken'!T127","v":""},{"$f":"'5. Bepaal factoren en bereken'!U127","v":""},{"$f":"IF('5. Bepaal factoren en bereken'!V127>0,'5. Bepaal factoren en bereken'!V127,\"\")","v":""}]
[null,{"$f":"'5. Bepaal factoren en bereken'!C128","v":""},{"$f":"IF('5. Bepaal factoren en bereken'!D128=\"\", \"\",'5. Bepaal factoren en bereken'!D128)","v":""},{"$f":"'5. Bepaal factoren en bereken'!E128","v":""},{"$f":"'5. Bepaal factoren en bereken'!F128","v":""},{"$f":"'4. Analyseer opbouw van object'!F126","v":""},{"$f":"IFERROR((VLOOKUP(D128,Table2[[Prod.ID]:[MKI '[EUR MKI']]],3,FALSE)),\"\")","v":""},{"$f":"IFERROR((VLOOKUP(D128,Table2[[Prod.ID]:[Massa '[kg']]],4,FALSE)),\"\")","v":""},{"$f":"IFERROR((VLOOKUP(D128,Table2[[Prod.ID]:[Kritieke/ schaarse materialen?]],6,FALSE)),\"\")","v":""},{"$f":"IFERROR((VLOOKUP(D128,Table2[[Prod.ID]:[Economische waarde '[EUR']]],7,FALSE)),\"\")","v":""},{"$f":"IFERROR((VLOOKUP(D128,Table2[[Prod.ID]:[Aantal keer]],8,FALSE)),\"\")","v":""},{"$f":"'5. Bepaal factoren en bereken'!G128","v":""},{"$f":"'5. Bepaal factoren en bereken'!H128","v":""},{"$f":"'4. Analyseer opbouw van object'!I127","v":" "},{"$f":"IFERROR((VLOOKUP(L128,Table2[[Prod.ID]:[MKI '[EUR MKI']]],3,FALSE)),\"\")","v":""},{"$f":"IFERROR((VLOOKUP(L128,Table2[[Prod.ID]:[Massa '[kg']]],4,FALSE)),\"\")","v":""},{"$f":"IFERROR((VLOOKUP(L128,Table2[[Prod.ID]:[Kritieke/ schaarse materialen?]],6,FALSE)),\"\")","v":""},{"$f":"IFERROR((VLOOKUP(L128,Table2[[Prod.ID]:[Economische waarde '[EUR']]],7,FALSE)),\"\")","v":""},{"$f":"IFERROR((VLOOKUP(L128,Table2[[Prod.ID]:[Aantal keer]],8,FALSE)),\"\")","v":""},{"$f":"'5. Bepaal factoren en bereken'!T128","v":""},{"$f":"'5. Bepaal factoren en bereken'!U128","v":""},{"$f":"IF('5. Bepaal factoren en bereken'!V128>0,'5. Bepaal factoren en bereken'!V128,\"\")","v":""}]
[null,{"$f":"'5. Bepaal factoren en bereken'!C129","v":""},{"$f":"IF('5. Bepaal factoren en bereken'!D129=\"\", \"\",'5. Bepaal factoren en bereken'!D129)","v":""},{"$f":"'5. Bepaal factoren en bereken'!E129","v":""},{"$f":"'5. Bepaal factoren en bereken'!F129","v":""},{"$f":"'4. Analyseer opbouw van object'!F127","v":""},{"$f":"IFERROR((VLOOKUP(D129,Table2[[Prod.ID]:[MKI '[EUR MKI']]],3,FALSE)),\"\")","v":""},{"$f":"IFERROR((VLOOKUP(D129,Table2[[Prod.ID]:[Massa '[kg']]],4,FALSE)),\"\")","v":""},{"$f":"IFERROR((VLOOKUP(D129,Table2[[Prod.ID]:[Kritieke/ schaarse materialen?]],6,FALSE)),\"\")","v":""},{"$f":"IFERROR((VLOOKUP(D129,Table2[[Prod.ID]:[Economische waarde '[EUR']]],7,FALSE)),\"\")","v":""},{"$f":"IFERROR((VLOOKUP(D129,Table2[[Prod.ID]:[Aantal keer]],8,FALSE)),\"\")","v":""},{"$f":"'5. Bepaal factoren en bereken'!G129","v":""},{"$f":"'5. Bepaal factoren en bereken'!H129","v":""},{"$f":"'4. Analyseer opbouw van object'!I128","v":" "},{"$f":"IFERROR((VLOOKUP(L129,Table2[[Prod.ID]:[MKI '[EUR MKI']]],3,FALSE)),\"\")","v":""},{"$f":"IFERROR((VLOOKUP(L129,Table2[[Prod.ID]:[Massa '[kg']]],4,FALSE)),\"\")","v":""},{"$f":"IFERROR((VLOOKUP(L129,Table2[[Prod.ID]:[Kritieke/ schaarse materialen?]],6,FALSE)),\"\")","v":""},{"$f":"IFERROR((VLOOKUP(L129,Table2[[Prod.ID]:[Economische waarde '[EUR']]],7,FALSE)),\"\")","v":""},{"$f":"IFERROR((VLOOKUP(L129,Table2[[Prod.ID]:[Aantal keer]],8,FALSE)),\"\")","v":""},{"$f":"'5. Bepaal factoren en bereken'!T129","v":""},{"$f":"'5. Bepaal factoren en bereken'!U129","v":""},{"$f":"IF('5. Bepaal factoren en bereken'!V129>0,'5. Bepaal factoren en bereken'!V129,\"\")","v":""}]
[null,{"$f":"'5. Bepaal factoren en bereken'!C130","v":""},{"$f":"IF('5. Bepaal factoren en bereken'!D130=\"\", \"\",'5. Bepaal factoren en bereken'!D130)","v":""},{"$f":"'5. Bepaal factoren en bereken'!E130","v":""},{"$f":"'5. Bepaal factoren en bereken'!F130","v":""},{"$f":"'4. Analyseer opbouw van object'!F128","v":""},{"$f":"IFERROR((VLOOKUP(D130,Table2[[Prod.ID]:[MKI '[EUR MKI']]],3,FALSE)),\"\")","v":""},{"$f":"IFERROR((VLOOKUP(D130,Table2[[Prod.ID]:[Massa '[kg']]],4,FALSE)),\"\")","v":""},{"$f":"IFERROR((VLOOKUP(D130,Table2[[Prod.ID]:[Kritieke/ schaarse materialen?]],6,FALSE)),\"\")","v":""},{"$f":"IFERROR((VLOOKUP(D130,Table2[[Prod.ID]:[Economische waarde '[EUR']]],7,FALSE)),\"\")","v":""},{"$f":"IFERROR((VLOOKUP(D130,Table2[[Prod.ID]:[Aantal keer]],8,FALSE)),\"\")","v":""},{"$f":"'5. Bepaal factoren en bereken'!G130","v":""},{"$f":"'5. Bepaal factoren en bereken'!H130","v":""},{"$f":"'4. Analyseer opbouw van object'!I129","v":" "},{"$f":"IFERROR((VLOOKUP(L130,Table2[[Prod.ID]:[MKI '[EUR MKI']]],3,FALSE)),\"\")","v":""},{"$f":"IFERROR((VLOOKUP(L130,Table2[[Prod.ID]:[Massa '[kg']]],4,FALSE)),\"\")","v":""},{"$f":"IFERROR((VLOOKUP(L130,Table2[[Prod.ID]:[Kritieke/ schaarse materialen?]],6,FALSE)),\"\")","v":""},{"$f":"IFERROR((VLOOKUP(L130,Table2[[Prod.ID]:[Economische waarde '[EUR']]],7,FALSE)),\"\")","v":""},{"$f":"IFERROR((VLOOKUP(L130,Table2[[Prod.ID]:[Aantal keer]],8,FALSE)),\"\")","v":""},{"$f":"'5. Bepaal factoren en bereken'!T130","v":""},{"$f":"'5. Bepaal factoren en bereken'!U130","v":""},{"$f":"IF('5. Bepaal factoren en bereken'!V130>0,'5. Bepaal factoren en bereken'!V130,\"\")","v":""}]
[null,{"$f":"'5. Bepaal factoren en bereken'!C131","v":""},{"$f":"IF('5. Bepaal factoren en bereken'!D131=\"\", \"\",'5. Bepaal factoren en bereken'!D131)","v":""},{"$f":"'5. Bepaal factoren en bereken'!E131","v":""},{"$f":"'5. Bepaal factoren en bereken'!F131","v":""},{"$f":"'4. Analyseer opbouw van object'!F129","v":""},{"$f":"IFERROR((VLOOKUP(D131,Table2[[Prod.ID]:[MKI '[EUR MKI']]],3,FALSE)),\"\")","v":""},{"$f":"IFERROR((VLOOKUP(D131,Table2[[Prod.ID]:[Massa '[kg']]],4,FALSE)),\"\")","v":""},{"$f":"IFERROR((VLOOKUP(D131,Table2[[Prod.ID]:[Kritieke/ schaarse materialen?]],6,FALSE)),\"\")","v":""},{"$f":"IFERROR((VLOOKUP(D131,Table2[[Prod.ID]:[Economische waarde '[EUR']]],7,FALSE)),\"\")","v":""},{"$f":"IFERROR((VLOOKUP(D131,Table2[[Prod.ID]:[Aantal keer]],8,FALSE)),\"\")","v":""},{"$f":"'5. Bepaal factoren en bereken'!G131","v":""},{"$f":"'5. Bepaal factoren en bereken'!H131","v":""},{"$f":"'4. Analyseer opbouw van object'!I130","v":" "},{"$f":"IFERROR((VLOOKUP(L131,Table2[[Prod.ID]:[MKI '[EUR MKI']]],3,FALSE)),\"\")","v":""},{"$f":"IFERROR((VLOOKUP(L131,Table2[[Prod.ID]:[Massa '[kg']]],4,FALSE)),\"\")","v":""},{"$f":"IFERROR((VLOOKUP(L131,Table2[[Prod.ID]:[Kritieke/ schaarse materialen?]],6,FALSE)),\"\")","v":""},{"$f":"IFERROR((VLOOKUP(L131,Table2[[Prod.ID]:[Economische waarde '[EUR']]],7,FALSE)),\"\")","v":""},{"$f":"IFERROR((VLOOKUP(L131,Table2[[Prod.ID]:[Aantal keer]],8,FALSE)),\"\")","v":""},{"$f":"'5. Bepaal factoren en bereken'!T131","v":""},{"$f":"'5. Bepaal factoren en bereken'!U131","v":""},{"$f":"IF('5. Bepaal factoren en bereken'!V131>0,'5. Bepaal factoren en bereken'!V131,\"\")","v":""}]
[null,{"$f":"'5. Bepaal factoren en bereken'!C132","v":""},{"$f":"IF('5. Bepaal factoren en bereken'!D132=\"\", \"\",'5. Bepaal factoren en bereken'!D132)","v":""},{"$f":"'5. Bepaal factoren en bereken'!E132","v":""},{"$f":"'5. Bepaal factoren en bereken'!F132","v":""},{"$f":"'4. Analyseer opbouw van object'!F130","v":""},{"$f":"IFERROR((VLOOKUP(D132,Table2[[Prod.ID]:[MKI '[EUR MKI']]],3,FALSE)),\"\")","v":""},{"$f":"IFERROR((VLOOKUP(D132,Table2[[Prod.ID]:[Massa '[kg']]],4,FALSE)),\"\")","v":""},{"$f":"IFERROR((VLOOKUP(D132,Table2[[Prod.ID]:[Kritieke/ schaarse materialen?]],6,FALSE)),\"\")","v":""},{"$f":"IFERROR((VLOOKUP(D132,Table2[[Prod.ID]:[Economische waarde '[EUR']]],7,FALSE)),\"\")","v":""},{"$f":"IFERROR((VLOOKUP(D132,Table2[[Prod.ID]:[Aantal keer]],8,FALSE)),\"\")","v":""},{"$f":"'5. Bepaal factoren en bereken'!G132","v":""},{"$f":"'5. Bepaal factoren en bereken'!H132","v":""},{"$f":"'4. Analyseer opbouw van object'!I131","v":" "},{"$f":"IFERROR((VLOOKUP(L132,Table2[[Prod.ID]:[MKI '[EUR MKI']]],3,FALSE)),\"\")","v":""},{"$f":"IFERROR((VLOOKUP(L132,Table2[[Prod.ID]:[Massa '[kg']]],4,FALSE)),\"\")","v":""},{"$f":"IFERROR((VLOOKUP(L132,Table2[[Prod.ID]:[Kritieke/ schaarse materialen?]],6,FALSE)),\"\")","v":""},{"$f":"IFERROR((VLOOKUP(L132,Table2[[Prod.ID]:[Economische waarde '[EUR']]],7,FALSE)),\"\")","v":""},{"$f":"IFERROR((VLOOKUP(L132,Table2[[Prod.ID]:[Aantal keer]],8,FALSE)),\"\")","v":""},{"$f":"'5. Bepaal factoren en bereken'!T132","v":""},{"$f":"'5. Bepaal factoren en bereken'!U132","v":""},{"$f":"IF('5. Bepaal factoren en bereken'!V132>0,'5. Bepaal factoren en bereken'!V132,\"\")","v":""}]
[null,{"$f":"'5. Bepaal factoren en bereken'!C133","v":""},{"$f":"IF('5. Bepaal factoren en bereken'!D133=\"\", \"\",'5. Bepaal factoren en bereken'!D133)","v":""},{"$f":"'5. Bepaal factoren en bereken'!E133","v":""},{"$f":"'5. Bepaal factoren en bereken'!F133","v":""},{"$f":"'4. Analyseer opbouw van object'!F131","v":""},{"$f":"IFERROR((VLOOKUP(D133,Table2[[Prod.ID]:[MKI '[EUR MKI']]],3,FALSE)),\"\")","v":""},{"$f":"IFERROR((VLOOKUP(D133,Table2[[Prod.ID]:[Massa '[kg']]],4,FALSE)),\"\")","v":""},{"$f":"IFERROR((VLOOKUP(D133,Table2[[Prod.ID]:[Kritieke/ schaarse materialen?]],6,FALSE)),\"\")","v":""},{"$f":"IFERROR((VLOOKUP(D133,Table2[[Prod.ID]:[Economische waarde '[EUR']]],7,FALSE)),\"\")","v":""},{"$f":"IFERROR((VLOOKUP(D133,Table2[[Prod.ID]:[Aantal keer]],8,FALSE)),\"\")","v":""},{"$f":"'5. Bepaal factoren en bereken'!G133","v":""},{"$f":"'5. Bepaal factoren en bereken'!H133","v":""},{"$f":"'4. Analyseer opbouw van object'!I132","v":" "},{"$f":"IFERROR((VLOOKUP(L133,Table2[[Prod.ID]:[MKI '[EUR MKI']]],3,FALSE)),\"\")","v":""},{"$f":"IFERROR((VLOOKUP(L133,Table2[[Prod.ID]:[Massa '[kg']]],4,FALSE)),\"\")","v":""},{"$f":"IFERROR((VLOOKUP(L133,Table2[[Prod.ID]:[Kritieke/ schaarse materialen?]],6,FALSE)),\"\")","v":""},{"$f":"IFERROR((VLOOKUP(L133,Table2[[Prod.ID]:[Economische waarde '[EUR']]],7,FALSE)),\"\")","v":""},{"$f":"IFERROR((VLOOKUP(L133,Table2[[Prod.ID]:[Aantal keer]],8,FALSE)),\"\")","v":""},{"$f":"'5. Bepaal factoren en bereken'!T133","v":""},{"$f":"'5. Bepaal factoren en bereken'!U133","v":""},{"$f":"IF('5. Bepaal factoren en bereken'!V133>0,'5. Bepaal factoren en bereken'!V133,\"\")","v":""}]
[null,{"$f":"'5. Bepaal factoren en bereken'!C134","v":""},{"$f":"IF('5. Bepaal factoren en bereken'!D134=\"\", \"\",'5. Bepaal factoren en bereken'!D134)","v":""},{"$f":"'5. Bepaal factoren en bereken'!E134","v":""},{"$f":"'5. Bepaal factoren en bereken'!F134","v":""},{"$f":"'4. Analyseer opbouw van object'!F132","v":""},{"$f":"IFERROR((VLOOKUP(D134,Table2[[Prod.ID]:[MKI '[EUR MKI']]],3,FALSE)),\"\")","v":""},{"$f":"IFERROR((VLOOKUP(D134,Table2[[Prod.ID]:[Massa '[kg']]],4,FALSE)),\"\")","v":""},{"$f":"IFERROR((VLOOKUP(D134,Table2[[Prod.ID]:[Kritieke/ schaarse materialen?]],6,FALSE)),\"\")","v":""},{"$f":"IFERROR((VLOOKUP(D134,Table2[[Prod.ID]:[Economische waarde '[EUR']]],7,FALSE)),\"\")","v":""},{"$f":"IFERROR((VLOOKUP(D134,Table2[[Prod.ID]:[Aantal keer]],8,FALSE)),\"\")","v":""},{"$f":"'5. Bepaal factoren en bereken'!G134","v":""},{"$f":"'5. Bepaal factoren en bereken'!H134","v":""},{"$f":"'4. Analyseer opbouw van object'!I133","v":" "},{"$f":"IFERROR((VLOOKUP(L134,Table2[[Prod.ID]:[MKI '[EUR MKI']]],3,FALSE)),\"\")","v":""},{"$f":"IFERROR((VLOOKUP(L134,Table2[[Prod.ID]:[Massa '[kg']]],4,FALSE)),\"\")","v":""},{"$f":"IFERROR((VLOOKUP(L134,Table2[[Prod.ID]:[Kritieke/ schaarse materialen?]],6,FALSE)),\"\")","v":""},{"$f":"IFERROR((VLOOKUP(L134,Table2[[Prod.ID]:[Economische waarde '[EUR']]],7,FALSE)),\"\")","v":""},{"$f":"IFERROR((VLOOKUP(L134,Table2[[Prod.ID]:[Aantal keer]],8,FALSE)),\"\")","v":""},{"$f":"'5. Bepaal factoren en bereken'!T134","v":""},{"$f":"'5. Bepaal factoren en bereken'!U134","v":""},{"$f":"IF('5. Bepaal factoren en bereken'!V134>0,'5. Bepaal factoren en bereken'!V134,\"\")","v":""}]
[null,{"$f":"'5. Bepaal factoren en bereken'!C135","v":""},{"$f":"IF('5. Bepaal factoren en bereken'!D135=\"\", \"\",'5. Bepaal factoren en bereken'!D135)","v":""},{"$f":"'5. Bepaal factoren en bereken'!E135","v":""},{"$f":"'5. Bepaal factoren en bereken'!F135","v":""},{"$f":"'4. Analyseer opbouw van object'!F133","v":""},{"$f":"IFERROR((VLOOKUP(D135,Table2[[Prod.ID]:[MKI '[EUR MKI']]],3,FALSE)),\"\")","v":""},{"$f":"IFERROR((VLOOKUP(D135,Table2[[Prod.ID]:[Massa '[kg']]],4,FALSE)),\"\")","v":""},{"$f":"IFERROR((VLOOKUP(D135,Table2[[Prod.ID]:[Kritieke/ schaarse materialen?]],6,FALSE)),\"\")","v":""},{"$f":"IFERROR((VLOOKUP(D135,Table2[[Prod.ID]:[Economische waarde '[EUR']]],7,FALSE)),\"\")","v":""},{"$f":"IFERROR((VLOOKUP(D135,Table2[[Prod.ID]:[Aantal keer]],8,FALSE)),\"\")","v":""},{"$f":"'5. Bepaal factoren en bereken'!G135","v":""},{"$f":"'5. Bepaal factoren en bereken'!H135","v":""},{"$f":"'4. Analyseer opbouw van object'!I134","v":" "},{"$f":"IFERROR((VLOOKUP(L135,Table2[[Prod.ID]:[MKI '[EUR MKI']]],3,FALSE)),\"\")","v":""},{"$f":"IFERROR((VLOOKUP(L135,Table2[[Prod.ID]:[Massa '[kg']]],4,FALSE)),\"\")","v":""},{"$f":"IFERROR((VLOOKUP(L135,Table2[[Prod.ID]:[Kritieke/ schaarse materialen?]],6,FALSE)),\"\")","v":""},{"$f":"IFERROR((VLOOKUP(L135,Table2[[Prod.ID]:[Economische waarde '[EUR']]],7,FALSE)),\"\")","v":""},{"$f":"IFERROR((VLOOKUP(L135,Table2[[Prod.ID]:[Aantal keer]],8,FALSE)),\"\")","v":""},{"$f":"'5. Bepaal factoren en bereken'!T135","v":""},{"$f":"'5. Bepaal factoren en bereken'!U135","v":""},{"$f":"IF('5. Bepaal factoren en bereken'!V135>0,'5. Bepaal factoren en bereken'!V135,\"\")","v":""}]
[null,{"$f":"'5. Bepaal factoren en bereken'!C136","v":""},{"$f":"IF('5. Bepaal factoren en bereken'!D136=\"\", \"\",'5. Bepaal factoren en bereken'!D136)","v":""},{"$f":"'5. Bepaal factoren en bereken'!E136","v":""},{"$f":"'5. Bepaal factoren en bereken'!F136","v":""},{"$f":"'4. Analyseer opbouw van object'!F134","v":""},{"$f":"IFERROR((VLOOKUP(D136,Table2[[Prod.ID]:[MKI '[EUR MKI']]],3,FALSE)),\"\")","v":""},{"$f":"IFERROR((VLOOKUP(D136,Table2[[Prod.ID]:[Massa '[kg']]],4,FALSE)),\"\")","v":""},{"$f":"IFERROR((VLOOKUP(D136,Table2[[Prod.ID]:[Kritieke/ schaarse materialen?]],6,FALSE)),\"\")","v":""},{"$f":"IFERROR((VLOOKUP(D136,Table2[[Prod.ID]:[Economische waarde '[EUR']]],7,FALSE)),\"\")","v":""},{"$f":"IFERROR((VLOOKUP(D136,Table2[[Prod.ID]:[Aantal keer]],8,FALSE)),\"\")","v":""},{"$f":"'5. Bepaal factoren en bereken'!G136","v":""},{"$f":"'5. Bepaal factoren en bereken'!H136","v":""},{"$f":"'4. Analyseer opbouw van object'!I135","v":" "},{"$f":"IFERROR((VLOOKUP(L136,Table2[[Prod.ID]:[MKI '[EUR MKI']]],3,FALSE)),\"\")","v":""},{"$f":"IFERROR((VLOOKUP(L136,Table2[[Prod.ID]:[Massa '[kg']]],4,FALSE)),\"\")","v":""},{"$f":"IFERROR((VLOOKUP(L136,Table2[[Prod.ID]:[Kritieke/ schaarse materialen?]],6,FALSE)),\"\")","v":""},{"$f":"IFERROR((VLOOKUP(L136,Table2[[Prod.ID]:[Economische waarde '[EUR']]],7,FALSE)),\"\")","v":""},{"$f":"IFERROR((VLOOKUP(L136,Table2[[Prod.ID]:[Aantal keer]],8,FALSE)),\"\")","v":""},{"$f":"'5. Bepaal factoren en bereken'!T136","v":""},{"$f":"'5. Bepaal factoren en bereken'!U136","v":""},{"$f":"IF('5. Bepaal factoren en bereken'!V136>0,'5. Bepaal factoren en bereken'!V136,\"\")","v":""}]
[null,{"$f":"'5. Bepaal factoren en bereken'!C137","v":""},{"$f":"IF('5. Bepaal factoren en bereken'!D137=\"\", \"\",'5. Bepaal factoren en bereken'!D137)","v":""},{"$f":"'5. Bepaal factoren en bereken'!E137","v":""},{"$f":"'5. Bepaal factoren en bereken'!F137","v":""},{"$f":"'4. Analyseer opbouw van object'!F135","v":""},{"$f":"IFERROR((VLOOKUP(D137,Table2[[Prod.ID]:[MKI '[EUR MKI']]],3,FALSE)),\"\")","v":""},{"$f":"IFERROR((VLOOKUP(D137,Table2[[Prod.ID]:[Massa '[kg']]],4,FALSE)),\"\")","v":""},{"$f":"IFERROR((VLOOKUP(D137,Table2[[Prod.ID]:[Kritieke/ schaarse materialen?]],6,FALSE)),\"\")","v":""},{"$f":"IFERROR((VLOOKUP(D137,Table2[[Prod.ID]:[Economische waarde '[EUR']]],7,FALSE)),\"\")","v":""},{"$f":"IFERROR((VLOOKUP(D137,Table2[[Prod.ID]:[Aantal keer]],8,FALSE)),\"\")","v":""},{"$f":"'5. Bepaal factoren en bereken'!G137","v":""},{"$f":"'5. Bepaal factoren en bereken'!H137","v":""},{"$f":"'4. Analyseer opbouw van object'!I136","v":" "},{"$f":"IFERROR((VLOOKUP(L137,Table2[[Prod.ID]:[MKI '[EUR MKI']]],3,FALSE)),\"\")","v":""},{"$f":"IFERROR((VLOOKUP(L137,Table2[[Prod.ID]:[Massa '[kg']]],4,FALSE)),\"\")","v":""},{"$f":"IFERROR((VLOOKUP(L137,Table2[[Prod.ID]:[Kritieke/ schaarse materialen?]],6,FALSE)),\"\")","v":""},{"$f":"IFERROR((VLOOKUP(L137,Table2[[Prod.ID]:[Economische waarde '[EUR']]],7,FALSE)),\"\")","v":""},{"$f":"IFERROR((VLOOKUP(L137,Table2[[Prod.ID]:[Aantal keer]],8,FALSE)),\"\")","v":""},{"$f":"'5. Bepaal factoren en bereken'!T137","v":""},{"$f":"'5. Bepaal factoren en bereken'!U137","v":""},{"$f":"IF('5. Bepaal factoren en bereken'!V137>0,'5. Bepaal factoren en bereken'!V137,\"\")","v":""}]
[null,{"$f":"'5. Bepaal factoren en bereken'!C138","v":""},{"$f":"IF('5. Bepaal factoren en bereken'!D138=\"\", \"\",'5. Bepaal factoren en bereken'!D138)","v":""},{"$f":"'5. Bepaal factoren en bereken'!E138","v":""},{"$f":"'5. Bepaal factoren en bereken'!F138","v":""},{"$f":"'4. Analyseer opbouw van object'!F136","v":""},{"$f":"IFERROR((VLOOKUP(D138,Table2[[Prod.ID]:[MKI '[EUR MKI']]],3,FALSE)),\"\")","v":""},{"$f":"IFERROR((VLOOKUP(D138,Table2[[Prod.ID]:[Massa '[kg']]],4,FALSE)),\"\")","v":""},{"$f":"IFERROR((VLOOKUP(D138,Table2[[Prod.ID]:[Kritieke/ schaarse materialen?]],6,FALSE)),\"\")","v":""},{"$f":"IFERROR((VLOOKUP(D138,Table2[[Prod.ID]:[Economische waarde '[EUR']]],7,FALSE)),\"\")","v":""},{"$f":"IFERROR((VLOOKUP(D138,Table2[[Prod.ID]:[Aantal keer]],8,FALSE)),\"\")","v":""},{"$f":"'5. Bepaal factoren en bereken'!G138","v":""},{"$f":"'5. Bepaal factoren en bereken'!H138","v":""},{"$f":"'4. Analyseer opbouw van object'!I137","v":" "},{"$f":"IFERROR((VLOOKUP(L138,Table2[[Prod.ID]:[MKI '[EUR MKI']]],3,FALSE)),\"\")","v":""},{"$f":"IFERROR((VLOOKUP(L138,Table2[[Prod.ID]:[Massa '[kg']]],4,FALSE)),\"\")","v":""},{"$f":"IFERROR((VLOOKUP(L138,Table2[[Prod.ID]:[Kritieke/ schaarse materialen?]],6,FALSE)),\"\")","v":""},{"$f":"IFERROR((VLOOKUP(L138,Table2[[Prod.ID]:[Economische waarde '[EUR']]],7,FALSE)),\"\")","v":""},{"$f":"IFERROR((VLOOKUP(L138,Table2[[Prod.ID]:[Aantal keer]],8,FALSE)),\"\")","v":""},{"$f":"'5. Bepaal factoren en bereken'!T138","v":""},{"$f":"'5. Bepaal factoren en bereken'!U138","v":""},{"$f":"IF('5. Bepaal factoren en bereken'!V138>0,'5. Bepaal factoren en bereken'!V138,\"\")","v":""}]
[null,{"$f":"'5. Bepaal factoren en bereken'!C139","v":""},{"$f":"IF('5. Bepaal factoren en bereken'!D139=\"\", \"\",'5. Bepaal factoren en bereken'!D139)","v":""},{"$f":"'5. Bepaal factoren en bereken'!E139","v":""},{"$f":"'5. Bepaal factoren en bereken'!F139","v":""},{"$f":"'4. Analyseer opbouw van object'!F137","v":""},{"$f":"IFERROR((VLOOKUP(D139,Table2[[Prod.ID]:[MKI '[EUR MKI']]],3,FALSE)),\"\")","v":""},{"$f":"IFERROR((VLOOKUP(D139,Table2[[Prod.ID]:[Massa '[kg']]],4,FALSE)),\"\")","v":""},{"$f":"IFERROR((VLOOKUP(D139,Table2[[Prod.ID]:[Kritieke/ schaarse materialen?]],6,FALSE)),\"\")","v":""},{"$f":"IFERROR((VLOOKUP(D139,Table2[[Prod.ID]:[Economische waarde '[EUR']]],7,FALSE)),\"\")","v":""},{"$f":"IFERROR((VLOOKUP(D139,Table2[[Prod.ID]:[Aantal keer]],8,FALSE)),\"\")","v":""},{"$f":"'5. Bepaal factoren en bereken'!G139","v":""},{"$f":"'5. Bepaal factoren en bereken'!H139","v":""},{"$f":"'4. Analyseer opbouw van object'!I138","v":" "},{"$f":"IFERROR((VLOOKUP(L139,Table2[[Prod.ID]:[MKI '[EUR MKI']]],3,FALSE)),\"\")","v":""},{"$f":"IFERROR((VLOOKUP(L139,Table2[[Prod.ID]:[Massa '[kg']]],4,FALSE)),\"\")","v":""},{"$f":"IFERROR((VLOOKUP(L139,Table2[[Prod.ID]:[Kritieke/ schaarse materialen?]],6,FALSE)),\"\")","v":""},{"$f":"IFERROR((VLOOKUP(L139,Table2[[Prod.ID]:[Economische waarde '[EUR']]],7,FALSE)),\"\")","v":""},{"$f":"IFERROR((VLOOKUP(L139,Table2[[Prod.ID]:[Aantal keer]],8,FALSE)),\"\")","v":""},{"$f":"'5. Bepaal factoren en bereken'!T139","v":""},{"$f":"'5. Bepaal factoren en bereken'!U139","v":""},{"$f":"IF('5. Bepaal factoren en bereken'!V139>0,'5. Bepaal factoren en bereken'!V139,\"\")","v":""}]
[null,{"$f":"'5. Bepaal factoren en bereken'!C140","v":""},{"$f":"IF('5. Bepaal factoren en bereken'!D140=\"\", \"\",'5. Bepaal factoren en bereken'!D140)","v":""},{"$f":"'5. Bepaal factoren en bereken'!E140","v":""},{"$f":"'5. Bepaal factoren en bereken'!F140","v":""},{"$f":"'4. Analyseer opbouw van object'!F138","v":""},{"$f":"IFERROR((VLOOKUP(D140,Table2[[Prod.ID]:[MKI '[EUR MKI']]],3,FALSE)),\"\")","v":""},{"$f":"IFERROR((VLOOKUP(D140,Table2[[Prod.ID]:[Massa '[kg']]],4,FALSE)),\"\")","v":""},{"$f":"IFERROR((VLOOKUP(D140,Table2[[Prod.ID]:[Kritieke/ schaarse materialen?]],6,FALSE)),\"\")","v":""},{"$f":"IFERROR((VLOOKUP(D140,Table2[[Prod.ID]:[Economische waarde '[EUR']]],7,FALSE)),\"\")","v":""},{"$f":"IFERROR((VLOOKUP(D140,Table2[[Prod.ID]:[Aantal keer]],8,FALSE)),\"\")","v":""},{"$f":"'5. Bepaal factoren en bereken'!G140","v":""},{"$f":"'5. Bepaal factoren en bereken'!H140","v":""},{"$f":"'4. Analyseer opbouw van object'!I139","v":" "},{"$f":"IFERROR((VLOOKUP(L140,Table2[[Prod.ID]:[MKI '[EUR MKI']]],3,FALSE)),\"\")","v":""},{"$f":"IFERROR((VLOOKUP(L140,Table2[[Prod.ID]:[Massa '[kg']]],4,FALSE)),\"\")","v":""},{"$f":"IFERROR((VLOOKUP(L140,Table2[[Prod.ID]:[Kritieke/ schaarse materialen?]],6,FALSE)),\"\")","v":""},{"$f":"IFERROR((VLOOKUP(L140,Table2[[Prod.ID]:[Economische waarde '[EUR']]],7,FALSE)),\"\")","v":""},{"$f":"IFERROR((VLOOKUP(L140,Table2[[Prod.ID]:[Aantal keer]],8,FALSE)),\"\")","v":""},{"$f":"'5. Bepaal factoren en bereken'!T140","v":""},{"$f":"'5. Bepaal factoren en bereken'!U140","v":""},{"$f":"IF('5. Bepaal factoren en bereken'!V140>0,'5. Bepaal factoren en bereken'!V140,\"\")","v":""}]
[null,{"$f":"'5. Bepaal factoren en bereken'!C141","v":""},{"$f":"IF('5. Bepaal factoren en bereken'!D141=\"\", \"\",'5. Bepaal factoren en bereken'!D141)","v":""},{"$f":"'5. Bepaal factoren en bereken'!E141","v":""},{"$f":"'5. Bepaal factoren en bereken'!F141","v":""},{"$f":"'4. Analyseer opbouw van object'!F139","v":""},{"$f":"IFERROR((VLOOKUP(D141,Table2[[Prod.ID]:[MKI '[EUR MKI']]],3,FALSE)),\"\")","v":""},{"$f":"IFERROR((VLOOKUP(D141,Table2[[Prod.ID]:[Massa '[kg']]],4,FALSE)),\"\")","v":""},{"$f":"IFERROR((VLOOKUP(D141,Table2[[Prod.ID]:[Kritieke/ schaarse materialen?]],6,FALSE)),\"\")","v":""},{"$f":"IFERROR((VLOOKUP(D141,Table2[[Prod.ID]:[Economische waarde '[EUR']]],7,FALSE)),\"\")","v":""},{"$f":"IFERROR((VLOOKUP(D141,Table2[[Prod.ID]:[Aantal keer]],8,FALSE)),\"\")","v":""},{"$f":"'5. Bepaal factoren en bereken'!G141","v":""},{"$f":"'5. Bepaal factoren en bereken'!H141","v":""},{"$f":"'4. Analyseer opbouw van object'!I140","v":" "},{"$f":"IFERROR((VLOOKUP(L141,Table2[[Prod.ID]:[MKI '[EUR MKI']]],3,FALSE)),\"\")","v":""},{"$f":"IFERROR((VLOOKUP(L141,Table2[[Prod.ID]:[Massa '[kg']]],4,FALSE)),\"\")","v":""},{"$f":"IFERROR((VLOOKUP(L141,Table2[[Prod.ID]:[Kritieke/ schaarse materialen?]],6,FALSE)),\"\")","v":""},{"$f":"IFERROR((VLOOKUP(L141,Table2[[Prod.ID]:[Economische waarde '[EUR']]],7,FALSE)),\"\")","v":""},{"$f":"IFERROR((VLOOKUP(L141,Table2[[Prod.ID]:[Aantal keer]],8,FALSE)),\"\")","v":""},{"$f":"'5. Bepaal factoren en bereken'!T141","v":""},{"$f":"'5. Bepaal factoren en bereken'!U141","v":""},{"$f":"IF('5. Bepaal factoren en bereken'!V141>0,'5. Bepaal factoren en bereken'!V141,\"\")","v":""}]
[null,{"$f":"'5. Bepaal factoren en bereken'!C142","v":""},{"$f":"IF('5. Bepaal factoren en bereken'!D142=\"\", \"\",'5. Bepaal factoren en bereken'!D142)","v":""},{"$f":"'5. Bepaal factoren en bereken'!E142","v":""},{"$f":"'5. Bepaal factoren en bereken'!F142","v":""},{"$f":"'4. Analyseer opbouw van object'!F140","v":""},{"$f":"IFERROR((VLOOKUP(D142,Table2[[Prod.ID]:[MKI '[EUR MKI']]],3,FALSE)),\"\")","v":""},{"$f":"IFERROR((VLOOKUP(D142,Table2[[Prod.ID]:[Massa '[kg']]],4,FALSE)),\"\")","v":""},{"$f":"IFERROR((VLOOKUP(D142,Table2[[Prod.ID]:[Kritieke/ schaarse materialen?]],6,FALSE)),\"\")","v":""},{"$f":"IFERROR((VLOOKUP(D142,Table2[[Prod.ID]:[Economische waarde '[EUR']]],7,FALSE)),\"\")","v":""},{"$f":"IFERROR((VLOOKUP(D142,Table2[[Prod.ID]:[Aantal keer]],8,FALSE)),\"\")","v":""},{"$f":"'5. Bepaal factoren en bereken'!G142","v":""},{"$f":"'5. Bepaal factoren en bereken'!H142","v":""},{"$f":"'4. Analyseer opbouw van object'!I141","v":" "},{"$f":"IFERROR((VLOOKUP(L142,Table2[[Prod.ID]:[MKI '[EUR MKI']]],3,FALSE)),\"\")","v":""},{"$f":"IFERROR((VLOOKUP(L142,Table2[[Prod.ID]:[Massa '[kg']]],4,FALSE)),\"\")","v":""},{"$f":"IFERROR((VLOOKUP(L142,Table2[[Prod.ID]:[Kritieke/ schaarse materialen?]],6,FALSE)),\"\")","v":""},{"$f":"IFERROR((VLOOKUP(L142,Table2[[Prod.ID]:[Economische waarde '[EUR']]],7,FALSE)),\"\")","v":""},{"$f":"IFERROR((VLOOKUP(L142,Table2[[Prod.ID]:[Aantal keer]],8,FALSE)),\"\")","v":""},{"$f":"'5. Bepaal factoren en bereken'!T142","v":""},{"$f":"'5. Bepaal factoren en bereken'!U142","v":""},{"$f":"IF('5. Bepaal factoren en bereken'!V142>0,'5. Bepaal factoren en bereken'!V142,\"\")","v":""}]
[null,{"$f":"'5. Bepaal factoren en bereken'!C143","v":""},{"$f":"IF('5. Bepaal factoren en bereken'!D143=\"\", \"\",'5. Bepaal factoren en bereken'!D143)","v":""},{"$f":"'5. Bepaal factoren en bereken'!E143","v":""},{"$f":"'5. Bepaal factoren en bereken'!F143","v":""},{"$f":"'4. Analyseer opbouw van object'!F141","v":""},{"$f":"IFERROR((VLOOKUP(D143,Table2[[Prod.ID]:[MKI '[EUR MKI']]],3,FALSE)),\"\")","v":""},{"$f":"IFERROR((VLOOKUP(D143,Table2[[Prod.ID]:[Massa '[kg']]],4,FALSE)),\"\")","v":""},{"$f":"IFERROR((VLOOKUP(D143,Table2[[Prod.ID]:[Kritieke/ schaarse materialen?]],6,FALSE)),\"\")","v":""},{"$f":"IFERROR((VLOOKUP(D143,Table2[[Prod.ID]:[Economische waarde '[EUR']]],7,FALSE)),\"\")","v":""},{"$f":"IFERROR((VLOOKUP(D143,Table2[[Prod.ID]:[Aantal keer]],8,FALSE)),\"\")","v":""},{"$f":"'5. Bepaal factoren en bereken'!G143","v":""},{"$f":"'5. Bepaal factoren en bereken'!H143","v":""},{"$f":"'4. Analyseer opbouw van object'!I142","v":" "},{"$f":"IFERROR((VLOOKUP(L143,Table2[[Prod.ID]:[MKI '[EUR MKI']]],3,FALSE)),\"\")","v":""},{"$f":"IFERROR((VLOOKUP(L143,Table2[[Prod.ID]:[Massa '[kg']]],4,FALSE)),\"\")","v":""},{"$f":"IFERROR((VLOOKUP(L143,Table2[[Prod.ID]:[Kritieke/ schaarse materialen?]],6,FALSE)),\"\")","v":""},{"$f":"IFERROR((VLOOKUP(L143,Table2[[Prod.ID]:[Economische waarde '[EUR']]],7,FALSE)),\"\")","v":""},{"$f":"IFERROR((VLOOKUP(L143,Table2[[Prod.ID]:[Aantal keer]],8,FALSE)),\"\")","v":""},{"$f":"'5. Bepaal factoren en bereken'!T143","v":""},{"$f":"'5. Bepaal factoren en bereken'!U143","v":""},{"$f":"IF('5. Bepaal factoren en bereken'!V143>0,'5. Bepaal factoren en bereken'!V143,\"\")","v":""}]
[null,{"$f":"'5. Bepaal factoren en bereken'!C144","v":""},{"$f":"IF('5. Bepaal factoren en bereken'!D144=\"\", \"\",'5. Bepaal factoren en bereken'!D144)","v":""},{"$f":"'5. Bepaal factoren en bereken'!E144","v":""},{"$f":"'5. Bepaal factoren en bereken'!F144","v":""},{"$f":"'4. Analyseer opbouw van object'!F142","v":""},{"$f":"IFERROR((VLOOKUP(D144,Table2[[Prod.ID]:[MKI '[EUR MKI']]],3,FALSE)),\"\")","v":""},{"$f":"IFERROR((VLOOKUP(D144,Table2[[Prod.ID]:[Massa '[kg']]],4,FALSE)),\"\")","v":""},{"$f":"IFERROR((VLOOKUP(D144,Table2[[Prod.ID]:[Kritieke/ schaarse materialen?]],6,FALSE)),\"\")","v":""},{"$f":"IFERROR((VLOOKUP(D144,Table2[[Prod.ID]:[Economische waarde '[EUR']]],7,FALSE)),\"\")","v":""},{"$f":"IFERROR((VLOOKUP(D144,Table2[[Prod.ID]:[Aantal keer]],8,FALSE)),\"\")","v":""},{"$f":"'5. Bepaal factoren en bereken'!G144","v":""},{"$f":"'5. Bepaal factoren en bereken'!H144","v":""},{"$f":"'4. Analyseer opbouw van object'!I143","v":" "},{"$f":"IFERROR((VLOOKUP(L144,Table2[[Prod.ID]:[MKI '[EUR MKI']]],3,FALSE)),\"\")","v":""},{"$f":"IFERROR((VLOOKUP(L144,Table2[[Prod.ID]:[Massa '[kg']]],4,FALSE)),\"\")","v":""},{"$f":"IFERROR((VLOOKUP(L144,Table2[[Prod.ID]:[Kritieke/ schaarse materialen?]],6,FALSE)),\"\")","v":""},{"$f":"IFERROR((VLOOKUP(L144,Table2[[Prod.ID]:[Economische waarde '[EUR']]],7,FALSE)),\"\")","v":""},{"$f":"IFERROR((VLOOKUP(L144,Table2[[Prod.ID]:[Aantal keer]],8,FALSE)),\"\")","v":""},{"$f":"'5. Bepaal factoren en bereken'!T144","v":""},{"$f":"'5. Bepaal factoren en bereken'!U144","v":""},{"$f":"IF('5. Bepaal factoren en bereken'!V144>0,'5. Bepaal factoren en bereken'!V144,\"\")","v":""}]
[null,{"$f":"'5. Bepaal factoren en bereken'!C145","v":""},{"$f":"IF('5. Bepaal factoren en bereken'!D145=\"\", \"\",'5. Bepaal factoren en bereken'!D145)","v":""},{"$f":"'5. Bepaal factoren en bereken'!E145","v":""},{"$f":"'5. Bepaal factoren en bereken'!F145","v":""},{"$f":"'4. Analyseer opbouw van object'!F143","v":""},{"$f":"IFERROR((VLOOKUP(D145,Table2[[Prod.ID]:[MKI '[EUR MKI']]],3,FALSE)),\"\")","v":""},{"$f":"IFERROR((VLOOKUP(D145,Table2[[Prod.ID]:[Massa '[kg']]],4,FALSE)),\"\")","v":""},{"$f":"IFERROR((VLOOKUP(D145,Table2[[Prod.ID]:[Kritieke/ schaarse materialen?]],6,FALSE)),\"\")","v":""},{"$f":"IFERROR((VLOOKUP(D145,Table2[[Prod.ID]:[Economische waarde '[EUR']]],7,FALSE)),\"\")","v":""},{"$f":"IFERROR((VLOOKUP(D145,Table2[[Prod.ID]:[Aantal keer]],8,FALSE)),\"\")","v":""},{"$f":"'5. Bepaal factoren en bereken'!G145","v":""},{"$f":"'5. Bepaal factoren en bereken'!H145","v":""},{"$f":"'4. Analyseer opbouw van object'!I144","v":" "},{"$f":"IFERROR((VLOOKUP(L145,Table2[[Prod.ID]:[MKI '[EUR MKI']]],3,FALSE)),\"\")","v":""},{"$f":"IFERROR((VLOOKUP(L145,Table2[[Prod.ID]:[Massa '[kg']]],4,FALSE)),\"\")","v":""},{"$f":"IFERROR((VLOOKUP(L145,Table2[[Prod.ID]:[Kritieke/ schaarse materialen?]],6,FALSE)),\"\")","v":""},{"$f":"IFERROR((VLOOKUP(L145,Table2[[Prod.ID]:[Economische waarde '[EUR']]],7,FALSE)),\"\")","v":""},{"$f":"IFERROR((VLOOKUP(L145,Table2[[Prod.ID]:[Aantal keer]],8,FALSE)),\"\")","v":""},{"$f":"'5. Bepaal factoren en bereken'!T145","v":""},{"$f":"'5. Bepaal factoren en bereken'!U145","v":""},{"$f":"IF('5. Bepaal factoren en bereken'!V145>0,'5. Bepaal factoren en bereken'!V145,\"\")","v":""}]
[null,{"$f":"'5. Bepaal factoren en bereken'!C146","v":""},{"$f":"IF('5. Bepaal factoren en bereken'!D146=\"\", \"\",'5. Bepaal factoren en bereken'!D146)","v":""},{"$f":"'5. Bepaal factoren en bereken'!E146","v":""},{"$f":"'5. Bepaal factoren en bereken'!F146","v":""},{"$f":"'4. Analyseer opbouw van object'!F144","v":""},{"$f":"IFERROR((VLOOKUP(D146,Table2[[Prod.ID]:[MKI '[EUR MKI']]],3,FALSE)),\"\")","v":""},{"$f":"IFERROR((VLOOKUP(D146,Table2[[Prod.ID]:[Massa '[kg']]],4,FALSE)),\"\")","v":""},{"$f":"IFERROR((VLOOKUP(D146,Table2[[Prod.ID]:[Kritieke/ schaarse materialen?]],6,FALSE)),\"\")","v":""},{"$f":"IFERROR((VLOOKUP(D146,Table2[[Prod.ID]:[Economische waarde '[EUR']]],7,FALSE)),\"\")","v":""},{"$f":"IFERROR((VLOOKUP(D146,Table2[[Prod.ID]:[Aantal keer]],8,FALSE)),\"\")","v":""},{"$f":"'5. Bepaal factoren en bereken'!G146","v":""},{"$f":"'5. Bepaal factoren en bereken'!H146","v":""},{"$f":"'4. Analyseer opbouw van object'!I145","v":" "},{"$f":"IFERROR((VLOOKUP(L146,Table2[[Prod.ID]:[MKI '[EUR MKI']]],3,FALSE)),\"\")","v":""},{"$f":"IFERROR((VLOOKUP(L146,Table2[[Prod.ID]:[Massa '[kg']]],4,FALSE)),\"\")","v":""},{"$f":"IFERROR((VLOOKUP(L146,Table2[[Prod.ID]:[Kritieke/ schaarse materialen?]],6,FALSE)),\"\")","v":""},{"$f":"IFERROR((VLOOKUP(L146,Table2[[Prod.ID]:[Economische waarde '[EUR']]],7,FALSE)),\"\")","v":""},{"$f":"IFERROR((VLOOKUP(L146,Table2[[Prod.ID]:[Aantal keer]],8,FALSE)),\"\")","v":""},{"$f":"'5. Bepaal factoren en bereken'!T146","v":""},{"$f":"'5. Bepaal factoren en bereken'!U146","v":""},{"$f":"IF('5. Bepaal factoren en bereken'!V146>0,'5. Bepaal factoren en bereken'!V146,\"\")","v":""}]
[null,{"$f":"'5. Bepaal factoren en bereken'!C147","v":""},{"$f":"IF('5. Bepaal factoren en bereken'!D147=\"\", \"\",'5. Bepaal factoren en bereken'!D147)","v":""},{"$f":"'5. Bepaal factoren en bereken'!E147","v":""},{"$f":"'5. Bepaal factoren en bereken'!F147","v":""},{"$f":"'4. Analyseer opbouw van object'!F145","v":""},{"$f":"IFERROR((VLOOKUP(D147,Table2[[Prod.ID]:[MKI '[EUR MKI']]],3,FALSE)),\"\")","v":""},{"$f":"IFERROR((VLOOKUP(D147,Table2[[Prod.ID]:[Massa '[kg']]],4,FALSE)),\"\")","v":""},{"$f":"IFERROR((VLOOKUP(D147,Table2[[Prod.ID]:[Kritieke/ schaarse materialen?]],6,FALSE)),\"\")","v":""},{"$f":"IFERROR((VLOOKUP(D147,Table2[[Prod.ID]:[Economische waarde '[EUR']]],7,FALSE)),\"\")","v":""},{"$f":"IFERROR((VLOOKUP(D147,Table2[[Prod.ID]:[Aantal keer]],8,FALSE)),\"\")","v":""},{"$f":"'5. Bepaal factoren en bereken'!G147","v":""},{"$f":"'5. Bepaal factoren en bereken'!H147","v":""},{"$f":"'4. Analyseer opbouw van object'!I146","v":" "},{"$f":"IFERROR((VLOOKUP(L147,Table2[[Prod.ID]:[MKI '[EUR MKI']]],3,FALSE)),\"\")","v":""},{"$f":"IFERROR((VLOOKUP(L147,Table2[[Prod.ID]:[Massa '[kg']]],4,FALSE)),\"\")","v":""},{"$f":"IFERROR((VLOOKUP(L147,Table2[[Prod.ID]:[Kritieke/ schaarse materialen?]],6,FALSE)),\"\")","v":""},{"$f":"IFERROR((VLOOKUP(L147,Table2[[Prod.ID]:[Economische waarde '[EUR']]],7,FALSE)),\"\")","v":""},{"$f":"IFERROR((VLOOKUP(L147,Table2[[Prod.ID]:[Aantal keer]],8,FALSE)),\"\")","v":""},{"$f":"'5. Bepaal factoren en bereken'!T147","v":""},{"$f":"'5. Bepaal factoren en bereken'!U147","v":""},{"$f":"IF('5. Bepaal factoren en bereken'!V147>0,'5. Bepaal factoren en bereken'!V147,\"\")","v":""}]
[null,{"$f":"'5. Bepaal factoren en bereken'!C148","v":""},{"$f":"IF('5. Bepaal factoren en bereken'!D148=\"\", \"\",'5. Bepaal factoren en bereken'!D148)","v":""},{"$f":"'5. Bepaal factoren en bereken'!E148","v":""},{"$f":"'5. Bepaal factoren en bereken'!F148","v":""},{"$f":"'4. Analyseer opbouw van object'!F146","v":""},{"$f":"IFERROR((VLOOKUP(D148,Table2[[Prod.ID]:[MKI '[EUR MKI']]],3,FALSE)),\"\")","v":""},{"$f":"IFERROR((VLOOKUP(D148,Table2[[Prod.ID]:[Massa '[kg']]],4,FALSE)),\"\")","v":""},{"$f":"IFERROR((VLOOKUP(D148,Table2[[Prod.ID]:[Kritieke/ schaarse materialen?]],6,FALSE)),\"\")","v":""},{"$f":"IFERROR((VLOOKUP(D148,Table2[[Prod.ID]:[Economische waarde '[EUR']]],7,FALSE)),\"\")","v":""},{"$f":"IFERROR((VLOOKUP(D148,Table2[[Prod.ID]:[Aantal keer]],8,FALSE)),\"\")","v":""},{"$f":"'5. Bepaal factoren en bereken'!G148","v":""},{"$f":"'5. Bepaal factoren en bereken'!H148","v":""},{"$f":"'4. Analyseer opbouw van object'!I147","v":" "},{"$f":"IFERROR((VLOOKUP(L148,Table2[[Prod.ID]:[MKI '[EUR MKI']]],3,FALSE)),\"\")","v":""},{"$f":"IFERROR((VLOOKUP(L148,Table2[[Prod.ID]:[Massa '[kg']]],4,FALSE)),\"\")","v":""},{"$f":"IFERROR((VLOOKUP(L148,Table2[[Prod.ID]:[Kritieke/ schaarse materialen?]],6,FALSE)),\"\")","v":""},{"$f":"IFERROR((VLOOKUP(L148,Table2[[Prod.ID]:[Economische waarde '[EUR']]],7,FALSE)),\"\")","v":""},{"$f":"IFERROR((VLOOKUP(L148,Table2[[Prod.ID]:[Aantal keer]],8,FALSE)),\"\")","v":""},{"$f":"'5. Bepaal factoren en bereken'!T148","v":""},{"$f":"'5. Bepaal factoren en bereken'!U148","v":""},{"$f":"IF('5. Bepaal factoren en bereken'!V148>0,'5. Bepaal factoren en bereken'!V148,\"\")","v":""}]
[null,{"$f":"'5. Bepaal factoren en bereken'!C149","v":""},{"$f":"IF('5. Bepaal factoren en bereken'!D149=\"\", \"\",'5. Bepaal factoren en bereken'!D149)","v":""},{"$f":"'5. Bepaal factoren en bereken'!E149","v":""},{"$f":"'5. Bepaal factoren en bereken'!F149","v":""},{"$f":"'4. Analyseer opbouw van object'!F147","v":""},{"$f":"IFERROR((VLOOKUP(D149,Table2[[Prod.ID]:[MKI '[EUR MKI']]],3,FALSE)),\"\")","v":""},{"$f":"IFERROR((VLOOKUP(D149,Table2[[Prod.ID]:[Massa '[kg']]],4,FALSE)),\"\")","v":""},{"$f":"IFERROR((VLOOKUP(D149,Table2[[Prod.ID]:[Kritieke/ schaarse materialen?]],6,FALSE)),\"\")","v":""},{"$f":"IFERROR((VLOOKUP(D149,Table2[[Prod.ID]:[Economische waarde '[EUR']]],7,FALSE)),\"\")","v":""},{"$f":"IFERROR((VLOOKUP(D149,Table2[[Prod.ID]:[Aantal keer]],8,FALSE)),\"\")","v":""},{"$f":"'5. Bepaal factoren en bereken'!G149","v":""},{"$f":"'5. Bepaal factoren en bereken'!H149","v":""},{"$f":"'4. Analyseer opbouw van object'!I148","v":" "},{"$f":"IFERROR((VLOOKUP(L149,Table2[[Prod.ID]:[MKI '[EUR MKI']]],3,FALSE)),\"\")","v":""},{"$f":"IFERROR((VLOOKUP(L149,Table2[[Prod.ID]:[Massa '[kg']]],4,FALSE)),\"\")","v":""},{"$f":"IFERROR((VLOOKUP(L149,Table2[[Prod.ID]:[Kritieke/ schaarse materialen?]],6,FALSE)),\"\")","v":""},{"$f":"IFERROR((VLOOKUP(L149,Table2[[Prod.ID]:[Economische waarde '[EUR']]],7,FALSE)),\"\")","v":""},{"$f":"IFERROR((VLOOKUP(L149,Table2[[Prod.ID]:[Aantal keer]],8,FALSE)),\"\")","v":""},{"$f":"'5. Bepaal factoren en bereken'!T149","v":""},{"$f":"'5. Bepaal factoren en bereken'!U149","v":""},{"$f":"IF('5. Bepaal factoren en bereken'!V149>0,'5. Bepaal factoren en bereken'!V149,\"\")","v":""}]
[null,{"$f":"'5. Bepaal factoren en bereken'!C150","v":""},{"$f":"IF('5. Bepaal factoren en bereken'!D150=\"\", \"\",'5. Bepaal factoren en bereken'!D150)","v":""},{"$f":"'5. Bepaal factoren en bereken'!E150","v":""},{"$f":"'5. Bepaal factoren en bereken'!F150","v":""},{"$f":"'4. Analyseer opbouw van object'!F148","v":""},{"$f":"IFERROR((VLOOKUP(D150,Table2[[Prod.ID]:[MKI '[EUR MKI']]],3,FALSE)),\"\")","v":""},{"$f":"IFERROR((VLOOKUP(D150,Table2[[Prod.ID]:[Massa '[kg']]],4,FALSE)),\"\")","v":""},{"$f":"IFERROR((VLOOKUP(D150,Table2[[Prod.ID]:[Kritieke/ schaarse materialen?]],6,FALSE)),\"\")","v":""},{"$f":"IFERROR((VLOOKUP(D150,Table2[[Prod.ID]:[Economische waarde '[EUR']]],7,FALSE)),\"\")","v":""},{"$f":"IFERROR((VLOOKUP(D150,Table2[[Prod.ID]:[Aantal keer]],8,FALSE)),\"\")","v":""},{"$f":"'5. Bepaal factoren en bereken'!G150","v":""},{"$f":"'5. Bepaal factoren en bereken'!H150","v":""},{"$f":"'4. Analyseer opbouw van object'!I149","v":" "},{"$f":"IFERROR((VLOOKUP(L150,Table2[[Prod.ID]:[MKI '[EUR MKI']]],3,FALSE)),\"\")","v":""},{"$f":"IFERROR((VLOOKUP(L150,Table2[[Prod.ID]:[Massa '[kg']]],4,FALSE)),\"\")","v":""},{"$f":"IFERROR((VLOOKUP(L150,Table2[[Prod.ID]:[Kritieke/ schaarse materialen?]],6,FALSE)),\"\")","v":""},{"$f":"IFERROR((VLOOKUP(L150,Table2[[Prod.ID]:[Economische waarde '[EUR']]],7,FALSE)),\"\")","v":""},{"$f":"IFERROR((VLOOKUP(L150,Table2[[Prod.ID]:[Aantal keer]],8,FALSE)),\"\")","v":""},{"$f":"'5. Bepaal factoren en bereken'!T150","v":""},{"$f":"'5. Bepaal factoren en bereken'!U150","v":""},{"$f":"IF('5. Bepaal factoren en bereken'!V150>0,'5. Bepaal factoren en bereken'!V150,\"\")","v":""}]
[null,{"$f":"'5. Bepaal factoren en bereken'!C151","v":""},{"$f":"IF('5. Bepaal factoren en bereken'!D151=\"\", \"\",'5. Bepaal factoren en bereken'!D151)","v":""},{"$f":"'5. Bepaal factoren en bereken'!E151","v":""},{"$f":"'5. Bepaal factoren en bereken'!F151","v":""},{"$f":"'4. Analyseer opbouw van object'!F149","v":""},{"$f":"IFERROR((VLOOKUP(D151,Table2[[Prod.ID]:[MKI '[EUR MKI']]],3,FALSE)),\"\")","v":""},{"$f":"IFERROR((VLOOKUP(D151,Table2[[Prod.ID]:[Massa '[kg']]],4,FALSE)),\"\")","v":""},{"$f":"IFERROR((VLOOKUP(D151,Table2[[Prod.ID]:[Kritieke/ schaarse materialen?]],6,FALSE)),\"\")","v":""},{"$f":"IFERROR((VLOOKUP(D151,Table2[[Prod.ID]:[Economische waarde '[EUR']]],7,FALSE)),\"\")","v":""},{"$f":"IFERROR((VLOOKUP(D151,Table2[[Prod.ID]:[Aantal keer]],8,FALSE)),\"\")","v":""},{"$f":"'5. Bepaal factoren en bereken'!G151","v":""},{"$f":"'5. Bepaal factoren en bereken'!H151","v":""},{"$f":"'4. Analyseer opbouw van object'!I150","v":" "},{"$f":"IFERROR((VLOOKUP(L151,Table2[[Prod.ID]:[MKI '[EUR MKI']]],3,FALSE)),\"\")","v":""},{"$f":"IFERROR((VLOOKUP(L151,Table2[[Prod.ID]:[Massa '[kg']]],4,FALSE)),\"\")","v":""},{"$f":"IFERROR((VLOOKUP(L151,Table2[[Prod.ID]:[Kritieke/ schaarse materialen?]],6,FALSE)),\"\")","v":""},{"$f":"IFERROR((VLOOKUP(L151,Table2[[Prod.ID]:[Economische waarde '[EUR']]],7,FALSE)),\"\")","v":""},{"$f":"IFERROR((VLOOKUP(L151,Table2[[Prod.ID]:[Aantal keer]],8,FALSE)),\"\")","v":""},{"$f":"'5. Bepaal factoren en bereken'!T151","v":""},{"$f":"'5. Bepaal factoren en bereken'!U151","v":""},{"$f":"IF('5. Bepaal factoren en bereken'!V151>0,'5. Bepaal factoren en bereken'!V151,\"\")","v":""}]
[null,{"$f":"'5. Bepaal factoren en bereken'!C152","v":""},{"$f":"IF('5. Bepaal factoren en bereken'!D152=\"\", \"\",'5. Bepaal factoren en bereken'!D152)","v":""},{"$f":"'5. Bepaal factoren en bereken'!E152","v":""},{"$f":"'5. Bepaal factoren en bereken'!F152","v":""},{"$f":"'4. Analyseer opbouw van object'!F150","v":""},{"$f":"IFERROR((VLOOKUP(D152,Table2[[Prod.ID]:[MKI '[EUR MKI']]],3,FALSE)),\"\")","v":""},{"$f":"IFERROR((VLOOKUP(D152,Table2[[Prod.ID]:[Massa '[kg']]],4,FALSE)),\"\")","v":""},{"$f":"IFERROR((VLOOKUP(D152,Table2[[Prod.ID]:[Kritieke/ schaarse materialen?]],6,FALSE)),\"\")","v":""},{"$f":"IFERROR((VLOOKUP(D152,Table2[[Prod.ID]:[Economische waarde '[EUR']]],7,FALSE)),\"\")","v":""},{"$f":"IFERROR((VLOOKUP(D152,Table2[[Prod.ID]:[Aantal keer]],8,FALSE)),\"\")","v":""},{"$f":"'5. Bepaal factoren en bereken'!G152","v":""},{"$f":"'5. Bepaal factoren en bereken'!H152","v":""},{"$f":"'4. Analyseer opbouw van object'!I151","v":" "},{"$f":"IFERROR((VLOOKUP(L152,Table2[[Prod.ID]:[MKI '[EUR MKI']]],3,FALSE)),\"\")","v":""},{"$f":"IFERROR((VLOOKUP(L152,Table2[[Prod.ID]:[Massa '[kg']]],4,FALSE)),\"\")","v":""},{"$f":"IFERROR((VLOOKUP(L152,Table2[[Prod.ID]:[Kritieke/ schaarse materialen?]],6,FALSE)),\"\")","v":""},{"$f":"IFERROR((VLOOKUP(L152,Table2[[Prod.ID]:[Economische waarde '[EUR']]],7,FALSE)),\"\")","v":""},{"$f":"IFERROR((VLOOKUP(L152,Table2[[Prod.ID]:[Aantal keer]],8,FALSE)),\"\")","v":""},{"$f":"'5. Bepaal factoren en bereken'!T152","v":""},{"$f":"'5. Bepaal factoren en bereken'!U152","v":""},{"$f":"IF('5. Bepaal factoren en bereken'!V152>0,'5. Bepaal factoren en bereken'!V152,\"\")","v":""}]
[null,{"$f":"'5. Bepaal factoren en bereken'!C153","v":""},{"$f":"IF('5. Bepaal factoren en bereken'!D153=\"\", \"\",'5. Bepaal factoren en bereken'!D153)","v":""},{"$f":"'5. Bepaal factoren en bereken'!E153","v":""},{"$f":"'5. Bepaal factoren en bereken'!F153","v":""},{"$f":"'4. Analyseer opbouw van object'!F151","v":""},{"$f":"IFERROR((VLOOKUP(D153,Table2[[Prod.ID]:[MKI '[EUR MKI']]],3,FALSE)),\"\")","v":""},{"$f":"IFERROR((VLOOKUP(D153,Table2[[Prod.ID]:[Massa '[kg']]],4,FALSE)),\"\")","v":""},{"$f":"IFERROR((VLOOKUP(D153,Table2[[Prod.ID]:[Kritieke/ schaarse materialen?]],6,FALSE)),\"\")","v":""},{"$f":"IFERROR((VLOOKUP(D153,Table2[[Prod.ID]:[Economische waarde '[EUR']]],7,FALSE)),\"\")","v":""},{"$f":"IFERROR((VLOOKUP(D153,Table2[[Prod.ID]:[Aantal keer]],8,FALSE)),\"\")","v":""},{"$f":"'5. Bepaal factoren en bereken'!G153","v":""},{"$f":"'5. Bepaal factoren en bereken'!H153","v":""},{"$f":"'4. Analyseer opbouw van object'!I152","v":" "},{"$f":"IFERROR((VLOOKUP(L153,Table2[[Prod.ID]:[MKI '[EUR MKI']]],3,FALSE)),\"\")","v":""},{"$f":"IFERROR((VLOOKUP(L153,Table2[[Prod.ID]:[Massa '[kg']]],4,FALSE)),\"\")","v":""},{"$f":"IFERROR((VLOOKUP(L153,Table2[[Prod.ID]:[Kritieke/ schaarse materialen?]],6,FALSE)),\"\")","v":""},{"$f":"IFERROR((VLOOKUP(L153,Table2[[Prod.ID]:[Economische waarde '[EUR']]],7,FALSE)),\"\")","v":""},{"$f":"IFERROR((VLOOKUP(L153,Table2[[Prod.ID]:[Aantal keer]],8,FALSE)),\"\")","v":""},{"$f":"'5. Bepaal factoren en bereken'!T153","v":""},{"$f":"'5. Bepaal factoren en bereken'!U153","v":""},{"$f":"IF('5. Bepaal factoren en bereken'!V153>0,'5. Bepaal factoren en bereken'!V153,\"\")","v":""}]
[null,{"$f":"'5. Bepaal factoren en bereken'!C154","v":""},{"$f":"IF('5. Bepaal factoren en bereken'!D154=\"\", \"\",'5. Bepaal factoren en bereken'!D154)","v":""},{"$f":"'5. Bepaal factoren en bereken'!E154","v":""},{"$f":"'5. Bepaal factoren en bereken'!F154","v":""},{"$f":"'4. Analyseer opbouw van object'!F152","v":""},{"$f":"IFERROR((VLOOKUP(D154,Table2[[Prod.ID]:[MKI '[EUR MKI']]],3,FALSE)),\"\")","v":""},{"$f":"IFERROR((VLOOKUP(D154,Table2[[Prod.ID]:[Massa '[kg']]],4,FALSE)),\"\")","v":""},{"$f":"IFERROR((VLOOKUP(D154,Table2[[Prod.ID]:[Kritieke/ schaarse materialen?]],6,FALSE)),\"\")","v":""},{"$f":"IFERROR((VLOOKUP(D154,Table2[[Prod.ID]:[Economische waarde '[EUR']]],7,FALSE)),\"\")","v":""},{"$f":"IFERROR((VLOOKUP(D154,Table2[[Prod.ID]:[Aantal keer]],8,FALSE)),\"\")","v":""},{"$f":"'5. Bepaal factoren en bereken'!G154","v":""},{"$f":"'5. Bepaal factoren en bereken'!H154","v":""},{"$f":"'4. Analyseer opbouw van object'!I153","v":" "},{"$f":"IFERROR((VLOOKUP(L154,Table2[[Prod.ID]:[MKI '[EUR MKI']]],3,FALSE)),\"\")","v":""},{"$f":"IFERROR((VLOOKUP(L154,Table2[[Prod.ID]:[Massa '[kg']]],4,FALSE)),\"\")","v":""},{"$f":"IFERROR((VLOOKUP(L154,Table2[[Prod.ID]:[Kritieke/ schaarse materialen?]],6,FALSE)),\"\")","v":""},{"$f":"IFERROR((VLOOKUP(L154,Table2[[Prod.ID]:[Economische waarde '[EUR']]],7,FALSE)),\"\")","v":""},{"$f":"IFERROR((VLOOKUP(L154,Table2[[Prod.ID]:[Aantal keer]],8,FALSE)),\"\")","v":""},{"$f":"'5. Bepaal factoren en bereken'!T154","v":""},{"$f":"'5. Bepaal factoren en bereken'!U154","v":""},{"$f":"IF('5. Bepaal factoren en bereken'!V154>0,'5. Bepaal factoren en bereken'!V154,\"\")","v":""}]
[null,{"$f":"'5. Bepaal factoren en bereken'!C155","v":""},{"$f":"IF('5. Bepaal factoren en bereken'!D155=\"\", \"\",'5. Bepaal factoren en bereken'!D155)","v":""},{"$f":"'5. Bepaal factoren en bereken'!E155","v":""},{"$f":"'5. Bepaal factoren en bereken'!F155","v":""},{"$f":"'4. Analyseer opbouw van object'!F153","v":""},{"$f":"IFERROR((VLOOKUP(D155,Table2[[Prod.ID]:[MKI '[EUR MKI']]],3,FALSE)),\"\")","v":""},{"$f":"IFERROR((VLOOKUP(D155,Table2[[Prod.ID]:[Massa '[kg']]],4,FALSE)),\"\")","v":""},{"$f":"IFERROR((VLOOKUP(D155,Table2[[Prod.ID]:[Kritieke/ schaarse materialen?]],6,FALSE)),\"\")","v":""},{"$f":"IFERROR((VLOOKUP(D155,Table2[[Prod.ID]:[Economische waarde '[EUR']]],7,FALSE)),\"\")","v":""},{"$f":"IFERROR((VLOOKUP(D155,Table2[[Prod.ID]:[Aantal keer]],8,FALSE)),\"\")","v":""},{"$f":"'5. Bepaal factoren en bereken'!G155","v":""},{"$f":"'5. Bepaal factoren en bereken'!H155","v":""},{"$f":"'4. Analyseer opbouw van object'!I154","v":" "},{"$f":"IFERROR((VLOOKUP(L155,Table2[[Prod.ID]:[MKI '[EUR MKI']]],3,FALSE)),\"\")","v":""},{"$f":"IFERROR((VLOOKUP(L155,Table2[[Prod.ID]:[Massa '[kg']]],4,FALSE)),\"\")","v":""},{"$f":"IFERROR((VLOOKUP(L155,Table2[[Prod.ID]:[Kritieke/ schaarse materialen?]],6,FALSE)),\"\")","v":""},{"$f":"IFERROR((VLOOKUP(L155,Table2[[Prod.ID]:[Economische waarde '[EUR']]],7,FALSE)),\"\")","v":""},{"$f":"IFERROR((VLOOKUP(L155,Table2[[Prod.ID]:[Aantal keer]],8,FALSE)),\"\")","v":""},{"$f":"'5. Bepaal factoren en bereken'!T155","v":""},{"$f":"'5. Bepaal factoren en bereken'!U155","v":""},{"$f":"IF('5. Bepaal factoren en bereken'!V155>0,'5. Bepaal factoren en bereken'!V155,\"\")","v":""}]
[null,{"$f":"'5. Bepaal factoren en bereken'!C156","v":""},{"$f":"IF('5. Bepaal factoren en bereken'!D156=\"\", \"\",'5. Bepaal factoren en bereken'!D156)","v":""},{"$f":"'5. Bepaal factoren en bereken'!E156","v":""},{"$f":"'5. Bepaal factoren en bereken'!F156","v":""},{"$f":"'4. Analyseer opbouw van object'!F154","v":""},{"$f":"IFERROR((VLOOKUP(D156,Table2[[Prod.ID]:[MKI '[EUR MKI']]],3,FALSE)),\"\")","v":""},{"$f":"IFERROR((VLOOKUP(D156,Table2[[Prod.ID]:[Massa '[kg']]],4,FALSE)),\"\")","v":""},{"$f":"IFERROR((VLOOKUP(D156,Table2[[Prod.ID]:[Kritieke/ schaarse materialen?]],6,FALSE)),\"\")","v":""},{"$f":"IFERROR((VLOOKUP(D156,Table2[[Prod.ID]:[Economische waarde '[EUR']]],7,FALSE)),\"\")","v":""},{"$f":"IFERROR((VLOOKUP(D156,Table2[[Prod.ID]:[Aantal keer]],8,FALSE)),\"\")","v":""},{"$f":"'5. Bepaal factoren en bereken'!G156","v":""},{"$f":"'5. Bepaal factoren en bereken'!H156","v":""},{"$f":"'4. Analyseer opbouw van object'!I155","v":" "},{"$f":"IFERROR((VLOOKUP(L156,Table2[[Prod.ID]:[MKI '[EUR MKI']]],3,FALSE)),\"\")","v":""},{"$f":"IFERROR((VLOOKUP(L156,Table2[[Prod.ID]:[Massa '[kg']]],4,FALSE)),\"\")","v":""},{"$f":"IFERROR((VLOOKUP(L156,Table2[[Prod.ID]:[Kritieke/ schaarse materialen?]],6,FALSE)),\"\")","v":""},{"$f":"IFERROR((VLOOKUP(L156,Table2[[Prod.ID]:[Economische waarde '[EUR']]],7,FALSE)),\"\")","v":""},{"$f":"IFERROR((VLOOKUP(L156,Table2[[Prod.ID]:[Aantal keer]],8,FALSE)),\"\")","v":""},{"$f":"'5. Bepaal factoren en bereken'!T156","v":""},{"$f":"'5. Bepaal factoren en bereken'!U156","v":""},{"$f":"IF('5. Bepaal factoren en bereken'!V156>0,'5. Bepaal factoren en bereken'!V156,\"\")","v":""}]
[null,{"$f":"'5. Bepaal factoren en bereken'!C157","v":""},{"$f":"IF('5. Bepaal factoren en bereken'!D157=\"\", \"\",'5. Bepaal factoren en bereken'!D157)","v":""},{"$f":"'5. Bepaal factoren en bereken'!E157","v":""},{"$f":"'5. Bepaal factoren en bereken'!F157","v":""},{"$f":"'4. Analyseer opbouw van object'!F155","v":""},{"$f":"IFERROR((VLOOKUP(D157,Table2[[Prod.ID]:[MKI '[EUR MKI']]],3,FALSE)),\"\")","v":""},{"$f":"IFERROR((VLOOKUP(D157,Table2[[Prod.ID]:[Massa '[kg']]],4,FALSE)),\"\")","v":""},{"$f":"IFERROR((VLOOKUP(D157,Table2[[Prod.ID]:[Kritieke/ schaarse materialen?]],6,FALSE)),\"\")","v":""},{"$f":"IFERROR((VLOOKUP(D157,Table2[[Prod.ID]:[Economische waarde '[EUR']]],7,FALSE)),\"\")","v":""},{"$f":"IFERROR((VLOOKUP(D157,Table2[[Prod.ID]:[Aantal keer]],8,FALSE)),\"\")","v":""},{"$f":"'5. Bepaal factoren en bereken'!G157","v":""},{"$f":"'5. Bepaal factoren en bereken'!H157","v":""},{"$f":"'4. Analyseer opbouw van object'!I156","v":" "},{"$f":"IFERROR((VLOOKUP(L157,Table2[[Prod.ID]:[MKI '[EUR MKI']]],3,FALSE)),\"\")","v":""},{"$f":"IFERROR((VLOOKUP(L157,Table2[[Prod.ID]:[Massa '[kg']]],4,FALSE)),\"\")","v":""},{"$f":"IFERROR((VLOOKUP(L157,Table2[[Prod.ID]:[Kritieke/ schaarse materialen?]],6,FALSE)),\"\")","v":""},{"$f":"IFERROR((VLOOKUP(L157,Table2[[Prod.ID]:[Economische waarde '[EUR']]],7,FALSE)),\"\")","v":""},{"$f":"IFERROR((VLOOKUP(L157,Table2[[Prod.ID]:[Aantal keer]],8,FALSE)),\"\")","v":""},{"$f":"'5. Bepaal factoren en bereken'!T157","v":""},{"$f":"'5. Bepaal factoren en bereken'!U157","v":""},{"$f":"IF('5. Bepaal factoren en bereken'!V157>0,'5. Bepaal factoren en bereken'!V157,\"\")","v":""}]
[null,{"$f":"'5. Bepaal factoren en bereken'!C158","v":""},{"$f":"IF('5. Bepaal factoren en bereken'!D158=\"\", \"\",'5. Bepaal factoren en bereken'!D158)","v":""},{"$f":"'5. Bepaal factoren en bereken'!E158","v":""},{"$f":"'5. Bepaal factoren en bereken'!F158","v":""},{"$f":"'4. Analyseer opbouw van object'!F156","v":""},{"$f":"IFERROR((VLOOKUP(D158,Table2[[Prod.ID]:[MKI '[EUR MKI']]],3,FALSE)),\"\")","v":""},{"$f":"IFERROR((VLOOKUP(D158,Table2[[Prod.ID]:[Massa '[kg']]],4,FALSE)),\"\")","v":""},{"$f":"IFERROR((VLOOKUP(D158,Table2[[Prod.ID]:[Kritieke/ schaarse materialen?]],6,FALSE)),\"\")","v":""},{"$f":"IFERROR((VLOOKUP(D158,Table2[[Prod.ID]:[Economische waarde '[EUR']]],7,FALSE)),\"\")","v":""},{"$f":"IFERROR((VLOOKUP(D158,Table2[[Prod.ID]:[Aantal keer]],8,FALSE)),\"\")","v":""},{"$f":"'5. Bepaal factoren en bereken'!G158","v":""},{"$f":"'5. Bepaal factoren en bereken'!H158","v":""},{"$f":"'4. Analyseer opbouw van object'!I157","v":" "},{"$f":"IFERROR((VLOOKUP(L158,Table2[[Prod.ID]:[MKI '[EUR MKI']]],3,FALSE)),\"\")","v":""},{"$f":"IFERROR((VLOOKUP(L158,Table2[[Prod.ID]:[Massa '[kg']]],4,FALSE)),\"\")","v":""},{"$f":"IFERROR((VLOOKUP(L158,Table2[[Prod.ID]:[Kritieke/ schaarse materialen?]],6,FALSE)),\"\")","v":""},{"$f":"IFERROR((VLOOKUP(L158,Table2[[Prod.ID]:[Economische waarde '[EUR']]],7,FALSE)),\"\")","v":""},{"$f":"IFERROR((VLOOKUP(L158,Table2[[Prod.ID]:[Aantal keer]],8,FALSE)),\"\")","v":""},{"$f":"'5. Bepaal factoren en bereken'!T158","v":""},{"$f":"'5. Bepaal factoren en bereken'!U158","v":""},{"$f":"IF('5. Bepaal factoren en bereken'!V158>0,'5. Bepaal factoren en bereken'!V158,\"\")","v":""}]
[null,{"$f":"'5. Bepaal factoren en bereken'!C159","v":""},{"$f":"IF('5. Bepaal factoren en bereken'!D159=\"\", \"\",'5. Bepaal factoren en bereken'!D159)","v":""},{"$f":"'5. Bepaal factoren en bereken'!E159","v":""},{"$f":"'5. Bepaal factoren en bereken'!F159","v":""},{"$f":"'4. Analyseer opbouw van object'!F157","v":""},{"$f":"IFERROR((VLOOKUP(D159,Table2[[Prod.ID]:[MKI '[EUR MKI']]],3,FALSE)),\"\")","v":""},{"$f":"IFERROR((VLOOKUP(D159,Table2[[Prod.ID]:[Massa '[kg']]],4,FALSE)),\"\")","v":""},{"$f":"IFERROR((VLOOKUP(D159,Table2[[Prod.ID]:[Kritieke/ schaarse materialen?]],6,FALSE)),\"\")","v":""},{"$f":"IFERROR((VLOOKUP(D159,Table2[[Prod.ID]:[Economische waarde '[EUR']]],7,FALSE)),\"\")","v":""},{"$f":"IFERROR((VLOOKUP(D159,Table2[[Prod.ID]:[Aantal keer]],8,FALSE)),\"\")","v":""},{"$f":"'5. Bepaal factoren en bereken'!G159","v":""},{"$f":"'5. Bepaal factoren en bereken'!H159","v":""},{"$f":"'4. Analyseer opbouw van object'!I158","v":" "},{"$f":"IFERROR((VLOOKUP(L159,Table2[[Prod.ID]:[MKI '[EUR MKI']]],3,FALSE)),\"\")","v":""},{"$f":"IFERROR((VLOOKUP(L159,Table2[[Prod.ID]:[Massa '[kg']]],4,FALSE)),\"\")","v":""},{"$f":"IFERROR((VLOOKUP(L159,Table2[[Prod.ID]:[Kritieke/ schaarse materialen?]],6,FALSE)),\"\")","v":""},{"$f":"IFERROR((VLOOKUP(L159,Table2[[Prod.ID]:[Economische waarde '[EUR']]],7,FALSE)),\"\")","v":""},{"$f":"IFERROR((VLOOKUP(L159,Table2[[Prod.ID]:[Aantal keer]],8,FALSE)),\"\")","v":""},{"$f":"'5. Bepaal factoren en bereken'!T159","v":""},{"$f":"'5. Bepaal factoren en bereken'!U159","v":""},{"$f":"IF('5. Bepaal factoren en bereken'!V159>0,'5. Bepaal factoren en bereken'!V159,\"\")","v":""}]
[null,{"$f":"'5. Bepaal factoren en bereken'!C160","v":""},{"$f":"IF('5. Bepaal factoren en bereken'!D160=\"\", \"\",'5. Bepaal factoren en bereken'!D160)","v":""},{"$f":"'5. Bepaal factoren en bereken'!E160","v":""},{"$f":"'5. Bepaal factoren en bereken'!F160","v":""},{"$f":"'4. Analyseer opbouw van object'!F158","v":""},{"$f":"IFERROR((VLOOKUP(D160,Table2[[Prod.ID]:[MKI '[EUR MKI']]],3,FALSE)),\"\")","v":""},{"$f":"IFERROR((VLOOKUP(D160,Table2[[Prod.ID]:[Massa '[kg']]],4,FALSE)),\"\")","v":""},{"$f":"IFERROR((VLOOKUP(D160,Table2[[Prod.ID]:[Kritieke/ schaarse materialen?]],6,FALSE)),\"\")","v":""},{"$f":"IFERROR((VLOOKUP(D160,Table2[[Prod.ID]:[Economische waarde '[EUR']]],7,FALSE)),\"\")","v":""},{"$f":"IFERROR((VLOOKUP(D160,Table2[[Prod.ID]:[Aantal keer]],8,FALSE)),\"\")","v":""},{"$f":"'5. Bepaal factoren en bereken'!G160","v":""},{"$f":"'5. Bepaal factoren en bereken'!H160","v":""},{"$f":"'4. Analyseer opbouw van object'!I159","v":" "},{"$f":"IFERROR((VLOOKUP(L160,Table2[[Prod.ID]:[MKI '[EUR MKI']]],3,FALSE)),\"\")","v":""},{"$f":"IFERROR((VLOOKUP(L160,Table2[[Prod.ID]:[Massa '[kg']]],4,FALSE)),\"\")","v":""},{"$f":"IFERROR((VLOOKUP(L160,Table2[[Prod.ID]:[Kritieke/ schaarse materialen?]],6,FALSE)),\"\")","v":""},{"$f":"IFERROR((VLOOKUP(L160,Table2[[Prod.ID]:[Economische waarde '[EUR']]],7,FALSE)),\"\")","v":""},{"$f":"IFERROR((VLOOKUP(L160,Table2[[Prod.ID]:[Aantal keer]],8,FALSE)),\"\")","v":""},{"$f":"'5. Bepaal factoren en bereken'!T160","v":""},{"$f":"'5. Bepaal factoren en bereken'!U160","v":""},{"$f":"IF('5. Bepaal factoren en bereken'!V160>0,'5. Bepaal factoren en bereken'!V160,\"\")","v":""}]
[null,{"$f":"'5. Bepaal factoren en bereken'!C161","v":""},{"$f":"IF('5. Bepaal factoren en bereken'!D161=\"\", \"\",'5. Bepaal factoren en bereken'!D161)","v":""},{"$f":"'5. Bepaal factoren en bereken'!E161","v":""},{"$f":"'5. Bepaal factoren en bereken'!F161","v":""},{"$f":"'4. Analyseer opbouw van object'!F159","v":""},{"$f":"IFERROR((VLOOKUP(D161,Table2[[Prod.ID]:[MKI '[EUR MKI']]],3,FALSE)),\"\")","v":""},{"$f":"IFERROR((VLOOKUP(D161,Table2[[Prod.ID]:[Massa '[kg']]],4,FALSE)),\"\")","v":""},{"$f":"IFERROR((VLOOKUP(D161,Table2[[Prod.ID]:[Kritieke/ schaarse materialen?]],6,FALSE)),\"\")","v":""},{"$f":"IFERROR((VLOOKUP(D161,Table2[[Prod.ID]:[Economische waarde '[EUR']]],7,FALSE)),\"\")","v":""},{"$f":"IFERROR((VLOOKUP(D161,Table2[[Prod.ID]:[Aantal keer]],8,FALSE)),\"\")","v":""},{"$f":"'5. Bepaal factoren en bereken'!G161","v":""},{"$f":"'5. Bepaal factoren en bereken'!H161","v":""},{"$f":"'4. Analyseer opbouw van object'!I160","v":" "},{"$f":"IFERROR((VLOOKUP(L161,Table2[[Prod.ID]:[MKI '[EUR MKI']]],3,FALSE)),\"\")","v":""},{"$f":"IFERROR((VLOOKUP(L161,Table2[[Prod.ID]:[Massa '[kg']]],4,FALSE)),\"\")","v":""},{"$f":"IFERROR((VLOOKUP(L161,Table2[[Prod.ID]:[Kritieke/ schaarse materialen?]],6,FALSE)),\"\")","v":""},{"$f":"IFERROR((VLOOKUP(L161,Table2[[Prod.ID]:[Economische waarde '[EUR']]],7,FALSE)),\"\")","v":""},{"$f":"IFERROR((VLOOKUP(L161,Table2[[Prod.ID]:[Aantal keer]],8,FALSE)),\"\")","v":""},{"$f":"'5. Bepaal factoren en bereken'!T161","v":""},{"$f":"'5. Bepaal factoren en bereken'!U161","v":""},{"$f":"IF('5. Bepaal factoren en bereken'!V161>0,'5. Bepaal factoren en bereken'!V161,\"\")","v":""}]
[null,{"$f":"'5. Bepaal factoren en bereken'!C162","v":""},{"$f":"IF('5. Bepaal factoren en bereken'!D162=\"\", \"\",'5. Bepaal factoren en bereken'!D162)","v":""},{"$f":"'5. Bepaal factoren en bereken'!E162","v":""},{"$f":"'5. Bepaal factoren en bereken'!F162","v":""},{"$f":"'4. Analyseer opbouw van object'!F160","v":""},{"$f":"IFERROR((VLOOKUP(D162,Table2[[Prod.ID]:[MKI '[EUR MKI']]],3,FALSE)),\"\")","v":""},{"$f":"IFERROR((VLOOKUP(D162,Table2[[Prod.ID]:[Massa '[kg']]],4,FALSE)),\"\")","v":""},{"$f":"IFERROR((VLOOKUP(D162,Table2[[Prod.ID]:[Kritieke/ schaarse materialen?]],6,FALSE)),\"\")","v":""},{"$f":"IFERROR((VLOOKUP(D162,Table2[[Prod.ID]:[Economische waarde '[EUR']]],7,FALSE)),\"\")","v":""},{"$f":"IFERROR((VLOOKUP(D162,Table2[[Prod.ID]:[Aantal keer]],8,FALSE)),\"\")","v":""},{"$f":"'5. Bepaal factoren en bereken'!G162","v":""},{"$f":"'5. Bepaal factoren en bereken'!H162","v":""},{"$f":"'4. Analyseer opbouw van object'!I161","v":" "},{"$f":"IFERROR((VLOOKUP(L162,Table2[[Prod.ID]:[MKI '[EUR MKI']]],3,FALSE)),\"\")","v":""},{"$f":"IFERROR((VLOOKUP(L162,Table2[[Prod.ID]:[Massa '[kg']]],4,FALSE)),\"\")","v":""},{"$f":"IFERROR((VLOOKUP(L162,Table2[[Prod.ID]:[Kritieke/ schaarse materialen?]],6,FALSE)),\"\")","v":""},{"$f":"IFERROR((VLOOKUP(L162,Table2[[Prod.ID]:[Economische waarde '[EUR']]],7,FALSE)),\"\")","v":""},{"$f":"IFERROR((VLOOKUP(L162,Table2[[Prod.ID]:[Aantal keer]],8,FALSE)),\"\")","v":""},{"$f":"'5. Bepaal factoren en bereken'!T162","v":""},{"$f":"'5. Bepaal factoren en bereken'!U162","v":""},{"$f":"IF('5. Bepaal factoren en bereken'!V162>0,'5. Bepaal factoren en bereken'!V162,\"\")","v":""}]
[null,{"$f":"'5. Bepaal factoren en bereken'!C163","v":""},{"$f":"IF('5. Bepaal factoren en bereken'!D163=\"\", \"\",'5. Bepaal factoren en bereken'!D163)","v":""},{"$f":"'5. Bepaal factoren en bereken'!E163","v":""},{"$f":"'5. Bepaal factoren en bereken'!F163","v":""},{"$f":"'4. Analyseer opbouw van object'!F161","v":""},{"$f":"IFERROR((VLOOKUP(D163,Table2[[Prod.ID]:[MKI '[EUR MKI']]],3,FALSE)),\"\")","v":""},{"$f":"IFERROR((VLOOKUP(D163,Table2[[Prod.ID]:[Massa '[kg']]],4,FALSE)),\"\")","v":""},{"$f":"IFERROR((VLOOKUP(D163,Table2[[Prod.ID]:[Kritieke/ schaarse materialen?]],6,FALSE)),\"\")","v":""},{"$f":"IFERROR((VLOOKUP(D163,Table2[[Prod.ID]:[Economische waarde '[EUR']]],7,FALSE)),\"\")","v":""},{"$f":"IFERROR((VLOOKUP(D163,Table2[[Prod.ID]:[Aantal keer]],8,FALSE)),\"\")","v":""},{"$f":"'5. Bepaal factoren en bereken'!G163","v":""},{"$f":"'5. Bepaal factoren en bereken'!H163","v":""},{"$f":"'4. Analyseer opbouw van object'!I162","v":" "},{"$f":"IFERROR((VLOOKUP(L163,Table2[[Prod.ID]:[MKI '[EUR MKI']]],3,FALSE)),\"\")","v":""},{"$f":"IFERROR((VLOOKUP(L163,Table2[[Prod.ID]:[Massa '[kg']]],4,FALSE)),\"\")","v":""},{"$f":"IFERROR((VLOOKUP(L163,Table2[[Prod.ID]:[Kritieke/ schaarse materialen?]],6,FALSE)),\"\")","v":""},{"$f":"IFERROR((VLOOKUP(L163,Table2[[Prod.ID]:[Economische waarde '[EUR']]],7,FALSE)),\"\")","v":""},{"$f":"IFERROR((VLOOKUP(L163,Table2[[Prod.ID]:[Aantal keer]],8,FALSE)),\"\")","v":""},{"$f":"'5. Bepaal factoren en bereken'!T163","v":""},{"$f":"'5. Bepaal factoren en bereken'!U163","v":""},{"$f":"IF('5. Bepaal factoren en bereken'!V163>0,'5. Bepaal factoren en bereken'!V163,\"\")","v":""}]
[null,{"$f":"'5. Bepaal factoren en bereken'!C164","v":""},{"$f":"IF('5. Bepaal factoren en bereken'!D164=\"\", \"\",'5. Bepaal factoren en bereken'!D164)","v":""},{"$f":"'5. Bepaal factoren en bereken'!E164","v":""},{"$f":"'5. Bepaal factoren en bereken'!F164","v":""},{"$f":"'4. Analyseer opbouw van object'!F162","v":""},{"$f":"IFERROR((VLOOKUP(D164,Table2[[Prod.ID]:[MKI '[EUR MKI']]],3,FALSE)),\"\")","v":""},{"$f":"IFERROR((VLOOKUP(D164,Table2[[Prod.ID]:[Massa '[kg']]],4,FALSE)),\"\")","v":""},{"$f":"IFERROR((VLOOKUP(D164,Table2[[Prod.ID]:[Kritieke/ schaarse materialen?]],6,FALSE)),\"\")","v":""},{"$f":"IFERROR((VLOOKUP(D164,Table2[[Prod.ID]:[Economische waarde '[EUR']]],7,FALSE)),\"\")","v":""},{"$f":"IFERROR((VLOOKUP(D164,Table2[[Prod.ID]:[Aantal keer]],8,FALSE)),\"\")","v":""},{"$f":"'5. Bepaal factoren en bereken'!G164","v":""},{"$f":"'5. Bepaal factoren en bereken'!H164","v":""},{"$f":"'4. Analyseer opbouw van object'!I163","v":" "},{"$f":"IFERROR((VLOOKUP(L164,Table2[[Prod.ID]:[MKI '[EUR MKI']]],3,FALSE)),\"\")","v":""},{"$f":"IFERROR((VLOOKUP(L164,Table2[[Prod.ID]:[Massa '[kg']]],4,FALSE)),\"\")","v":""},{"$f":"IFERROR((VLOOKUP(L164,Table2[[Prod.ID]:[Kritieke/ schaarse materialen?]],6,FALSE)),\"\")","v":""},{"$f":"IFERROR((VLOOKUP(L164,Table2[[Prod.ID]:[Economische waarde '[EUR']]],7,FALSE)),\"\")","v":""},{"$f":"IFERROR((VLOOKUP(L164,Table2[[Prod.ID]:[Aantal keer]],8,FALSE)),\"\")","v":""},{"$f":"'5. Bepaal factoren en bereken'!T164","v":""},{"$f":"'5. Bepaal factoren en bereken'!U164","v":""},{"$f":"IF('5. Bepaal factoren en bereken'!V164>0,'5. Bepaal factoren en bereken'!V164,\"\")","v":""}]
[null,{"$f":"'5. Bepaal factoren en bereken'!C165","v":""},{"$f":"IF('5. Bepaal factoren en bereken'!D165=\"\", \"\",'5. Bepaal factoren en bereken'!D165)","v":""},{"$f":"'5. Bepaal factoren en bereken'!E165","v":""},{"$f":"'5. Bepaal factoren en bereken'!F165","v":""},{"$f":"'4. Analyseer opbouw van object'!F163","v":""},{"$f":"IFERROR((VLOOKUP(D165,Table2[[Prod.ID]:[MKI '[EUR MKI']]],3,FALSE)),\"\")","v":""},{"$f":"IFERROR((VLOOKUP(D165,Table2[[Prod.ID]:[Massa '[kg']]],4,FALSE)),\"\")","v":""},{"$f":"IFERROR((VLOOKUP(D165,Table2[[Prod.ID]:[Kritieke/ schaarse materialen?]],6,FALSE)),\"\")","v":""},{"$f":"IFERROR((VLOOKUP(D165,Table2[[Prod.ID]:[Economische waarde '[EUR']]],7,FALSE)),\"\")","v":""},{"$f":"IFERROR((VLOOKUP(D165,Table2[[Prod.ID]:[Aantal keer]],8,FALSE)),\"\")","v":""},{"$f":"'5. Bepaal factoren en bereken'!G165","v":""},{"$f":"'5. Bepaal factoren en bereken'!H165","v":""},{"$f":"'4. Analyseer opbouw van object'!I164","v":" "},{"$f":"IFERROR((VLOOKUP(L165,Table2[[Prod.ID]:[MKI '[EUR MKI']]],3,FALSE)),\"\")","v":""},{"$f":"IFERROR((VLOOKUP(L165,Table2[[Prod.ID]:[Massa '[kg']]],4,FALSE)),\"\")","v":""},{"$f":"IFERROR((VLOOKUP(L165,Table2[[Prod.ID]:[Kritieke/ schaarse materialen?]],6,FALSE)),\"\")","v":""},{"$f":"IFERROR((VLOOKUP(L165,Table2[[Prod.ID]:[Economische waarde '[EUR']]],7,FALSE)),\"\")","v":""},{"$f":"IFERROR((VLOOKUP(L165,Table2[[Prod.ID]:[Aantal keer]],8,FALSE)),\"\")","v":""},{"$f":"'5. Bepaal factoren en bereken'!T165","v":""},{"$f":"'5. Bepaal factoren en bereken'!U165","v":""},{"$f":"IF('5. Bepaal factoren en bereken'!V165>0,'5. Bepaal factoren en bereken'!V165,\"\")","v":""}]
[null,{"$f":"'5. Bepaal factoren en bereken'!C166","v":""},{"$f":"IF('5. Bepaal factoren en bereken'!D166=\"\", \"\",'5. Bepaal factoren en bereken'!D166)","v":""},{"$f":"'5. Bepaal factoren en bereken'!E166","v":""},{"$f":"'5. Bepaal factoren en bereken'!F166","v":""},{"$f":"'4. Analyseer opbouw van object'!F164","v":""},{"$f":"IFERROR((VLOOKUP(D166,Table2[[Prod.ID]:[MKI '[EUR MKI']]],3,FALSE)),\"\")","v":""},{"$f":"IFERROR((VLOOKUP(D166,Table2[[Prod.ID]:[Massa '[kg']]],4,FALSE)),\"\")","v":""},{"$f":"IFERROR((VLOOKUP(D166,Table2[[Prod.ID]:[Kritieke/ schaarse materialen?]],6,FALSE)),\"\")","v":""},{"$f":"IFERROR((VLOOKUP(D166,Table2[[Prod.ID]:[Economische waarde '[EUR']]],7,FALSE)),\"\")","v":""},{"$f":"IFERROR((VLOOKUP(D166,Table2[[Prod.ID]:[Aantal keer]],8,FALSE)),\"\")","v":""},{"$f":"'5. Bepaal factoren en bereken'!G166","v":""},{"$f":"'5. Bepaal factoren en bereken'!H166","v":""},{"$f":"'4. Analyseer opbouw van object'!I165","v":" "},{"$f":"IFERROR((VLOOKUP(L166,Table2[[Prod.ID]:[MKI '[EUR MKI']]],3,FALSE)),\"\")","v":""},{"$f":"IFERROR((VLOOKUP(L166,Table2[[Prod.ID]:[Massa '[kg']]],4,FALSE)),\"\")","v":""},{"$f":"IFERROR((VLOOKUP(L166,Table2[[Prod.ID]:[Kritieke/ schaarse materialen?]],6,FALSE)),\"\")","v":""},{"$f":"IFERROR((VLOOKUP(L166,Table2[[Prod.ID]:[Economische waarde '[EUR']]],7,FALSE)),\"\")","v":""},{"$f":"IFERROR((VLOOKUP(L166,Table2[[Prod.ID]:[Aantal keer]],8,FALSE)),\"\")","v":""},{"$f":"'5. Bepaal factoren en bereken'!T166","v":""},{"$f":"'5. Bepaal factoren en bereken'!U166","v":""},{"$f":"IF('5. Bepaal factoren en bereken'!V166>0,'5. Bepaal factoren en bereken'!V166,\"\")","v":""}]
[null,{"$f":"'5. Bepaal factoren en bereken'!C167","v":""},{"$f":"IF('5. Bepaal factoren en bereken'!D167=\"\", \"\",'5. Bepaal factoren en bereken'!D167)","v":""},{"$f":"'5. Bepaal factoren en bereken'!E167","v":""},{"$f":"'5. Bepaal factoren en bereken'!F167","v":""},{"$f":"'4. Analyseer opbouw van object'!F165","v":""},{"$f":"IFERROR((VLOOKUP(D167,Table2[[Prod.ID]:[MKI '[EUR MKI']]],3,FALSE)),\"\")","v":""},{"$f":"IFERROR((VLOOKUP(D167,Table2[[Prod.ID]:[Massa '[kg']]],4,FALSE)),\"\")","v":""},{"$f":"IFERROR((VLOOKUP(D167,Table2[[Prod.ID]:[Kritieke/ schaarse materialen?]],6,FALSE)),\"\")","v":""},{"$f":"IFERROR((VLOOKUP(D167,Table2[[Prod.ID]:[Economische waarde '[EUR']]],7,FALSE)),\"\")","v":""},{"$f":"IFERROR((VLOOKUP(D167,Table2[[Prod.ID]:[Aantal keer]],8,FALSE)),\"\")","v":""},{"$f":"'5. Bepaal factoren en bereken'!G167","v":""},{"$f":"'5. Bepaal factoren en bereken'!H167","v":""},{"$f":"'4. Analyseer opbouw van object'!I166","v":" "},{"$f":"IFERROR((VLOOKUP(L167,Table2[[Prod.ID]:[MKI '[EUR MKI']]],3,FALSE)),\"\")","v":""},{"$f":"IFERROR((VLOOKUP(L167,Table2[[Prod.ID]:[Massa '[kg']]],4,FALSE)),\"\")","v":""},{"$f":"IFERROR((VLOOKUP(L167,Table2[[Prod.ID]:[Kritieke/ schaarse materialen?]],6,FALSE)),\"\")","v":""},{"$f":"IFERROR((VLOOKUP(L167,Table2[[Prod.ID]:[Economische waarde '[EUR']]],7,FALSE)),\"\")","v":""},{"$f":"IFERROR((VLOOKUP(L167,Table2[[Prod.ID]:[Aantal keer]],8,FALSE)),\"\")","v":""},{"$f":"'5. Bepaal factoren en bereken'!T167","v":""},{"$f":"'5. Bepaal factoren en bereken'!U167","v":""},{"$f":"IF('5. Bepaal factoren en bereken'!V167>0,'5. Bepaal factoren en bereken'!V167,\"\")","v":""}]
[null,{"$f":"'5. Bepaal factoren en bereken'!C168","v":""},{"$f":"IF('5. Bepaal factoren en bereken'!D168=\"\", \"\",'5. Bepaal factoren en bereken'!D168)","v":""},{"$f":"'5. Bepaal factoren en bereken'!E168","v":""},{"$f":"'5. Bepaal factoren en bereken'!F168","v":""},{"$f":"'4. Analyseer opbouw van object'!F166","v":""},{"$f":"IFERROR((VLOOKUP(D168,Table2[[Prod.ID]:[MKI '[EUR MKI']]],3,FALSE)),\"\")","v":""},{"$f":"IFERROR((VLOOKUP(D168,Table2[[Prod.ID]:[Massa '[kg']]],4,FALSE)),\"\")","v":""},{"$f":"IFERROR((VLOOKUP(D168,Table2[[Prod.ID]:[Kritieke/ schaarse materialen?]],6,FALSE)),\"\")","v":""},{"$f":"IFERROR((VLOOKUP(D168,Table2[[Prod.ID]:[Economische waarde '[EUR']]],7,FALSE)),\"\")","v":""},{"$f":"IFERROR((VLOOKUP(D168,Table2[[Prod.ID]:[Aantal keer]],8,FALSE)),\"\")","v":""},{"$f":"'5. Bepaal factoren en bereken'!G168","v":""},{"$f":"'5. Bepaal factoren en bereken'!H168","v":""},{"$f":"'4. Analyseer opbouw van object'!I167","v":" "},{"$f":"IFERROR((VLOOKUP(L168,Table2[[Prod.ID]:[MKI '[EUR MKI']]],3,FALSE)),\"\")","v":""},{"$f":"IFERROR((VLOOKUP(L168,Table2[[Prod.ID]:[Massa '[kg']]],4,FALSE)),\"\")","v":""},{"$f":"IFERROR((VLOOKUP(L168,Table2[[Prod.ID]:[Kritieke/ schaarse materialen?]],6,FALSE)),\"\")","v":""},{"$f":"IFERROR((VLOOKUP(L168,Table2[[Prod.ID]:[Economische waarde '[EUR']]],7,FALSE)),\"\")","v":""},{"$f":"IFERROR((VLOOKUP(L168,Table2[[Prod.ID]:[Aantal keer]],8,FALSE)),\"\")","v":""},{"$f":"'5. Bepaal factoren en bereken'!T168","v":""},{"$f":"'5. Bepaal factoren en bereken'!U168","v":""},{"$f":"IF('5. Bepaal factoren en bereken'!V168>0,'5. Bepaal factoren en bereken'!V168,\"\")","v":""}]
[null,{"$f":"'5. Bepaal factoren en bereken'!C169","v":""},{"$f":"IF('5. Bepaal factoren en bereken'!D169=\"\", \"\",'5. Bepaal factoren en bereken'!D169)","v":""},{"$f":"'5. Bepaal factoren en bereken'!E169","v":""},{"$f":"'5. Bepaal factoren en bereken'!F169","v":""},{"$f":"'4. Analyseer opbouw van object'!F167","v":""},{"$f":"IFERROR((VLOOKUP(D169,Table2[[Prod.ID]:[MKI '[EUR MKI']]],3,FALSE)),\"\")","v":""},{"$f":"IFERROR((VLOOKUP(D169,Table2[[Prod.ID]:[Massa '[kg']]],4,FALSE)),\"\")","v":""},{"$f":"IFERROR((VLOOKUP(D169,Table2[[Prod.ID]:[Kritieke/ schaarse materialen?]],6,FALSE)),\"\")","v":""},{"$f":"IFERROR((VLOOKUP(D169,Table2[[Prod.ID]:[Economische waarde '[EUR']]],7,FALSE)),\"\")","v":""},{"$f":"IFERROR((VLOOKUP(D169,Table2[[Prod.ID]:[Aantal keer]],8,FALSE)),\"\")","v":""},{"$f":"'5. Bepaal factoren en bereken'!G169","v":""},{"$f":"'5. Bepaal factoren en bereken'!H169","v":""},{"$f":"'4. Analyseer opbouw van object'!I168","v":" "},{"$f":"IFERROR((VLOOKUP(L169,Table2[[Prod.ID]:[MKI '[EUR MKI']]],3,FALSE)),\"\")","v":""},{"$f":"IFERROR((VLOOKUP(L169,Table2[[Prod.ID]:[Massa '[kg']]],4,FALSE)),\"\")","v":""},{"$f":"IFERROR((VLOOKUP(L169,Table2[[Prod.ID]:[Kritieke/ schaarse materialen?]],6,FALSE)),\"\")","v":""},{"$f":"IFERROR((VLOOKUP(L169,Table2[[Prod.ID]:[Economische waarde '[EUR']]],7,FALSE)),\"\")","v":""},{"$f":"IFERROR((VLOOKUP(L169,Table2[[Prod.ID]:[Aantal keer]],8,FALSE)),\"\")","v":""},{"$f":"'5. Bepaal factoren en bereken'!T169","v":""},{"$f":"'5. Bepaal factoren en bereken'!U169","v":""},{"$f":"IF('5. Bepaal factoren en bereken'!V169>0,'5. Bepaal factoren en bereken'!V169,\"\")","v":""}]
[null,{"$f":"'5. Bepaal factoren en bereken'!C170","v":""},{"$f":"IF('5. Bepaal factoren en bereken'!D170=\"\", \"\",'5. Bepaal factoren en bereken'!D170)","v":""},{"$f":"'5. Bepaal factoren en bereken'!E170","v":""},{"$f":"'5. Bepaal factoren en bereken'!F170","v":""},{"$f":"'4. Analyseer opbouw van object'!F168","v":""},{"$f":"IFERROR((VLOOKUP(D170,Table2[[Prod.ID]:[MKI '[EUR MKI']]],3,FALSE)),\"\")","v":""},{"$f":"IFERROR((VLOOKUP(D170,Table2[[Prod.ID]:[Massa '[kg']]],4,FALSE)),\"\")","v":""},{"$f":"IFERROR((VLOOKUP(D170,Table2[[Prod.ID]:[Kritieke/ schaarse materialen?]],6,FALSE)),\"\")","v":""},{"$f":"IFERROR((VLOOKUP(D170,Table2[[Prod.ID]:[Economische waarde '[EUR']]],7,FALSE)),\"\")","v":""},{"$f":"IFERROR((VLOOKUP(D170,Table2[[Prod.ID]:[Aantal keer]],8,FALSE)),\"\")","v":""},{"$f":"'5. Bepaal factoren en bereken'!G170","v":""},{"$f":"'5. Bepaal factoren en bereken'!H170","v":""},{"$f":"'4. Analyseer opbouw van object'!I169","v":" "},{"$f":"IFERROR((VLOOKUP(L170,Table2[[Prod.ID]:[MKI '[EUR MKI']]],3,FALSE)),\"\")","v":""},{"$f":"IFERROR((VLOOKUP(L170,Table2[[Prod.ID]:[Massa '[kg']]],4,FALSE)),\"\")","v":""},{"$f":"IFERROR((VLOOKUP(L170,Table2[[Prod.ID]:[Kritieke/ schaarse materialen?]],6,FALSE)),\"\")","v":""},{"$f":"IFERROR((VLOOKUP(L170,Table2[[Prod.ID]:[Economische waarde '[EUR']]],7,FALSE)),\"\")","v":""},{"$f":"IFERROR((VLOOKUP(L170,Table2[[Prod.ID]:[Aantal keer]],8,FALSE)),\"\")","v":""},{"$f":"'5. Bepaal factoren en bereken'!T170","v":""},{"$f":"'5. Bepaal factoren en bereken'!U170","v":""},{"$f":"IF('5. Bepaal factoren en bereken'!V170>0,'5. Bepaal factoren en bereken'!V170,\"\")","v":""}]
[null,{"$f":"'5. Bepaal factoren en bereken'!C171","v":""},{"$f":"IF('5. Bepaal factoren en bereken'!D171=\"\", \"\",'5. Bepaal factoren en bereken'!D171)","v":""},{"$f":"'5. Bepaal factoren en bereken'!E171","v":""},{"$f":"'5. Bepaal factoren en bereken'!F171","v":""},{"$f":"'4. Analyseer opbouw van object'!F169","v":""},{"$f":"IFERROR((VLOOKUP(D171,Table2[[Prod.ID]:[MKI '[EUR MKI']]],3,FALSE)),\"\")","v":""},{"$f":"IFERROR((VLOOKUP(D171,Table2[[Prod.ID]:[Massa '[kg']]],4,FALSE)),\"\")","v":""},{"$f":"IFERROR((VLOOKUP(D171,Table2[[Prod.ID]:[Kritieke/ schaarse materialen?]],6,FALSE)),\"\")","v":""},{"$f":"IFERROR((VLOOKUP(D171,Table2[[Prod.ID]:[Economische waarde '[EUR']]],7,FALSE)),\"\")","v":""},{"$f":"IFERROR((VLOOKUP(D171,Table2[[Prod.ID]:[Aantal keer]],8,FALSE)),\"\")","v":""},{"$f":"'5. Bepaal factoren en bereken'!G171","v":""},{"$f":"'5. Bepaal factoren en bereken'!H171","v":""},{"$f":"'4. Analyseer opbouw van object'!I170","v":" "},{"$f":"IFERROR((VLOOKUP(L171,Table2[[Prod.ID]:[MKI '[EUR MKI']]],3,FALSE)),\"\")","v":""},{"$f":"IFERROR((VLOOKUP(L171,Table2[[Prod.ID]:[Massa '[kg']]],4,FALSE)),\"\")","v":""},{"$f":"IFERROR((VLOOKUP(L171,Table2[[Prod.ID]:[Kritieke/ schaarse materialen?]],6,FALSE)),\"\")","v":""},{"$f":"IFERROR((VLOOKUP(L171,Table2[[Prod.ID]:[Economische waarde '[EUR']]],7,FALSE)),\"\")","v":""},{"$f":"IFERROR((VLOOKUP(L171,Table2[[Prod.ID]:[Aantal keer]],8,FALSE)),\"\")","v":""},{"$f":"'5. Bepaal factoren en bereken'!T171","v":""},{"$f":"'5. Bepaal factoren en bereken'!U171","v":""},{"$f":"IF('5. Bepaal factoren en bereken'!V171>0,'5. Bepaal factoren en bereken'!V171,\"\")","v":""}]
[null,{"$f":"'5. Bepaal factoren en bereken'!C172","v":""},{"$f":"IF('5. Bepaal factoren en bereken'!D172=\"\", \"\",'5. Bepaal factoren en bereken'!D172)","v":""},{"$f":"'5. Bepaal factoren en bereken'!E172","v":""},{"$f":"'5. Bepaal factoren en bereken'!F172","v":""},{"$f":"'4. Analyseer opbouw van object'!F170","v":""},{"$f":"IFERROR((VLOOKUP(D172,Table2[[Prod.ID]:[MKI '[EUR MKI']]],3,FALSE)),\"\")","v":""},{"$f":"IFERROR((VLOOKUP(D172,Table2[[Prod.ID]:[Massa '[kg']]],4,FALSE)),\"\")","v":""},{"$f":"IFERROR((VLOOKUP(D172,Table2[[Prod.ID]:[Kritieke/ schaarse materialen?]],6,FALSE)),\"\")","v":""},{"$f":"IFERROR((VLOOKUP(D172,Table2[[Prod.ID]:[Economische waarde '[EUR']]],7,FALSE)),\"\")","v":""},{"$f":"IFERROR((VLOOKUP(D172,Table2[[Prod.ID]:[Aantal keer]],8,FALSE)),\"\")","v":""},{"$f":"'5. Bepaal factoren en bereken'!G172","v":""},{"$f":"'5. Bepaal factoren en bereken'!H172","v":""},{"$f":"'4. Analyseer opbouw van object'!I171","v":" "},{"$f":"IFERROR((VLOOKUP(L172,Table2[[Prod.ID]:[MKI '[EUR MKI']]],3,FALSE)),\"\")","v":""},{"$f":"IFERROR((VLOOKUP(L172,Table2[[Prod.ID]:[Massa '[kg']]],4,FALSE)),\"\")","v":""},{"$f":"IFERROR((VLOOKUP(L172,Table2[[Prod.ID]:[Kritieke/ schaarse materialen?]],6,FALSE)),\"\")","v":""},{"$f":"IFERROR((VLOOKUP(L172,Table2[[Prod.ID]:[Economische waarde '[EUR']]],7,FALSE)),\"\")","v":""},{"$f":"IFERROR((VLOOKUP(L172,Table2[[Prod.ID]:[Aantal keer]],8,FALSE)),\"\")","v":""},{"$f":"'5. Bepaal factoren en bereken'!T172","v":""},{"$f":"'5. Bepaal factoren en bereken'!U172","v":""},{"$f":"IF('5. Bepaal factoren en bereken'!V172>0,'5. Bepaal factoren en bereken'!V172,\"\")","v":""}]
[null,{"$f":"'5. Bepaal factoren en bereken'!C173","v":""},{"$f":"IF('5. Bepaal factoren en bereken'!D173=\"\", \"\",'5. Bepaal factoren en bereken'!D173)","v":""},{"$f":"'5. Bepaal factoren en bereken'!E173","v":""},{"$f":"'5. Bepaal factoren en bereken'!F173","v":""},{"$f":"'4. Analyseer opbouw van object'!F171","v":""},{"$f":"IFERROR((VLOOKUP(D173,Table2[[Prod.ID]:[MKI '[EUR MKI']]],3,FALSE)),\"\")","v":""},{"$f":"IFERROR((VLOOKUP(D173,Table2[[Prod.ID]:[Massa '[kg']]],4,FALSE)),\"\")","v":""},{"$f":"IFERROR((VLOOKUP(D173,Table2[[Prod.ID]:[Kritieke/ schaarse materialen?]],6,FALSE)),\"\")","v":""},{"$f":"IFERROR((VLOOKUP(D173,Table2[[Prod.ID]:[Economische waarde '[EUR']]],7,FALSE)),\"\")","v":""},{"$f":"IFERROR((VLOOKUP(D173,Table2[[Prod.ID]:[Aantal keer]],8,FALSE)),\"\")","v":""},{"$f":"'5. Bepaal factoren en bereken'!G173","v":""},{"$f":"'5. Bepaal factoren en bereken'!H173","v":""},{"$f":"'4. Analyseer opbouw van object'!I172","v":" "},{"$f":"IFERROR((VLOOKUP(L173,Table2[[Prod.ID]:[MKI '[EUR MKI']]],3,FALSE)),\"\")","v":""},{"$f":"IFERROR((VLOOKUP(L173,Table2[[Prod.ID]:[Massa '[kg']]],4,FALSE)),\"\")","v":""},{"$f":"IFERROR((VLOOKUP(L173,Table2[[Prod.ID]:[Kritieke/ schaarse materialen?]],6,FALSE)),\"\")","v":""},{"$f":"IFERROR((VLOOKUP(L173,Table2[[Prod.ID]:[Economische waarde '[EUR']]],7,FALSE)),\"\")","v":""},{"$f":"IFERROR((VLOOKUP(L173,Table2[[Prod.ID]:[Aantal keer]],8,FALSE)),\"\")","v":""},{"$f":"'5. Bepaal factoren en bereken'!T173","v":""},{"$f":"'5. Bepaal factoren en bereken'!U173","v":""},{"$f":"IF('5. Bepaal factoren en bereken'!V173>0,'5. Bepaal factoren en bereken'!V173,\"\")","v":""}]
[null,{"$f":"'5. Bepaal factoren en bereken'!C174","v":""},{"$f":"IF('5. Bepaal factoren en bereken'!D174=\"\", \"\",'5. Bepaal factoren en bereken'!D174)","v":""},{"$f":"'5. Bepaal factoren en bereken'!E174","v":""},{"$f":"'5. Bepaal factoren en bereken'!F174","v":""},{"$f":"'4. Analyseer opbouw van object'!F172","v":""},{"$f":"IFERROR((VLOOKUP(D174,Table2[[Prod.ID]:[MKI '[EUR MKI']]],3,FALSE)),\"\")","v":""},{"$f":"IFERROR((VLOOKUP(D174,Table2[[Prod.ID]:[Massa '[kg']]],4,FALSE)),\"\")","v":""},{"$f":"IFERROR((VLOOKUP(D174,Table2[[Prod.ID]:[Kritieke/ schaarse materialen?]],6,FALSE)),\"\")","v":""},{"$f":"IFERROR((VLOOKUP(D174,Table2[[Prod.ID]:[Economische waarde '[EUR']]],7,FALSE)),\"\")","v":""},{"$f":"IFERROR((VLOOKUP(D174,Table2[[Prod.ID]:[Aantal keer]],8,FALSE)),\"\")","v":""},{"$f":"'5. Bepaal factoren en bereken'!G174","v":""},{"$f":"'5. Bepaal factoren en bereken'!H174","v":""},{"$f":"'4. Analyseer opbouw van object'!I173","v":" "},{"$f":"IFERROR((VLOOKUP(L174,Table2[[Prod.ID]:[MKI '[EUR MKI']]],3,FALSE)),\"\")","v":""},{"$f":"IFERROR((VLOOKUP(L174,Table2[[Prod.ID]:[Massa '[kg']]],4,FALSE)),\"\")","v":""},{"$f":"IFERROR((VLOOKUP(L174,Table2[[Prod.ID]:[Kritieke/ schaarse materialen?]],6,FALSE)),\"\")","v":""},{"$f":"IFERROR((VLOOKUP(L174,Table2[[Prod.ID]:[Economische waarde '[EUR']]],7,FALSE)),\"\")","v":""},{"$f":"IFERROR((VLOOKUP(L174,Table2[[Prod.ID]:[Aantal keer]],8,FALSE)),\"\")","v":""},{"$f":"'5. Bepaal factoren en bereken'!T174","v":""},{"$f":"'5. Bepaal factoren en bereken'!U174","v":""},{"$f":"IF('5. Bepaal factoren en bereken'!V174>0,'5. Bepaal factoren en bereken'!V174,\"\")","v":""}]
[null,{"$f":"'5. Bepaal factoren en bereken'!C175","v":""},{"$f":"IF('5. Bepaal factoren en bereken'!D175=\"\", \"\",'5. Bepaal factoren en bereken'!D175)","v":""},{"$f":"'5. Bepaal factoren en bereken'!E175","v":""},{"$f":"'5. Bepaal factoren en bereken'!F175","v":""},{"$f":"'4. Analyseer opbouw van object'!F173","v":""},{"$f":"IFERROR((VLOOKUP(D175,Table2[[Prod.ID]:[MKI '[EUR MKI']]],3,FALSE)),\"\")","v":""},{"$f":"IFERROR((VLOOKUP(D175,Table2[[Prod.ID]:[Massa '[kg']]],4,FALSE)),\"\")","v":""},{"$f":"IFERROR((VLOOKUP(D175,Table2[[Prod.ID]:[Kritieke/ schaarse materialen?]],6,FALSE)),\"\")","v":""},{"$f":"IFERROR((VLOOKUP(D175,Table2[[Prod.ID]:[Economische waarde '[EUR']]],7,FALSE)),\"\")","v":""},{"$f":"IFERROR((VLOOKUP(D175,Table2[[Prod.ID]:[Aantal keer]],8,FALSE)),\"\")","v":""},{"$f":"'5. Bepaal factoren en bereken'!G175","v":""},{"$f":"'5. Bepaal factoren en bereken'!H175","v":""},{"$f":"'4. Analyseer opbouw van object'!I174","v":" "},{"$f":"IFERROR((VLOOKUP(L175,Table2[[Prod.ID]:[MKI '[EUR MKI']]],3,FALSE)),\"\")","v":""},{"$f":"IFERROR((VLOOKUP(L175,Table2[[Prod.ID]:[Massa '[kg']]],4,FALSE)),\"\")","v":""},{"$f":"IFERROR((VLOOKUP(L175,Table2[[Prod.ID]:[Kritieke/ schaarse materialen?]],6,FALSE)),\"\")","v":""},{"$f":"IFERROR((VLOOKUP(L175,Table2[[Prod.ID]:[Economische waarde '[EUR']]],7,FALSE)),\"\")","v":""},{"$f":"IFERROR((VLOOKUP(L175,Table2[[Prod.ID]:[Aantal keer]],8,FALSE)),\"\")","v":""},{"$f":"'5. Bepaal factoren en bereken'!T175","v":""},{"$f":"'5. Bepaal factoren en bereken'!U175","v":""},{"$f":"IF('5. Bepaal factoren en bereken'!V175>0,'5. Bepaal factoren en bereken'!V175,\"\")","v":""}]
[null,{"$f":"'5. Bepaal factoren en bereken'!C176","v":""},{"$f":"IF('5. Bepaal factoren en bereken'!D176=\"\", \"\",'5. Bepaal factoren en bereken'!D176)","v":""},{"$f":"'5. Bepaal factoren en bereken'!E176","v":""},{"$f":"'5. Bepaal factoren en bereken'!F176","v":""},{"$f":"'4. Analyseer opbouw van object'!F174","v":""},{"$f":"IFERROR((VLOOKUP(D176,Table2[[Prod.ID]:[MKI '[EUR MKI']]],3,FALSE)),\"\")","v":""},{"$f":"IFERROR((VLOOKUP(D176,Table2[[Prod.ID]:[Massa '[kg']]],4,FALSE)),\"\")","v":""},{"$f":"IFERROR((VLOOKUP(D176,Table2[[Prod.ID]:[Kritieke/ schaarse materialen?]],6,FALSE)),\"\")","v":""},{"$f":"IFERROR((VLOOKUP(D176,Table2[[Prod.ID]:[Economische waarde '[EUR']]],7,FALSE)),\"\")","v":""},{"$f":"IFERROR((VLOOKUP(D176,Table2[[Prod.ID]:[Aantal keer]],8,FALSE)),\"\")","v":""},{"$f":"'5. Bepaal factoren en bereken'!G176","v":""},{"$f":"'5. Bepaal factoren en bereken'!H176","v":""},{"$f":"'4. Analyseer opbouw van object'!I175","v":" "},{"$f":"IFERROR((VLOOKUP(L176,Table2[[Prod.ID]:[MKI '[EUR MKI']]],3,FALSE)),\"\")","v":""},{"$f":"IFERROR((VLOOKUP(L176,Table2[[Prod.ID]:[Massa '[kg']]],4,FALSE)),\"\")","v":""},{"$f":"IFERROR((VLOOKUP(L176,Table2[[Prod.ID]:[Kritieke/ schaarse materialen?]],6,FALSE)),\"\")","v":""},{"$f":"IFERROR((VLOOKUP(L176,Table2[[Prod.ID]:[Economische waarde '[EUR']]],7,FALSE)),\"\")","v":""},{"$f":"IFERROR((VLOOKUP(L176,Table2[[Prod.ID]:[Aantal keer]],8,FALSE)),\"\")","v":""},{"$f":"'5. Bepaal factoren en bereken'!T176","v":""},{"$f":"'5. Bepaal factoren en bereken'!U176","v":""},{"$f":"IF('5. Bepaal factoren en bereken'!V176>0,'5. Bepaal factoren en bereken'!V176,\"\")","v":""}]
[null,{"$f":"'5. Bepaal factoren en bereken'!C177","v":""},{"$f":"IF('5. Bepaal factoren en bereken'!D177=\"\", \"\",'5. Bepaal factoren en bereken'!D177)","v":""},{"$f":"'5. Bepaal factoren en bereken'!E177","v":""},{"$f":"'5. Bepaal factoren en bereken'!F177","v":""},{"$f":"'4. Analyseer opbouw van object'!F175","v":""},{"$f":"IFERROR((VLOOKUP(D177,Table2[[Prod.ID]:[MKI '[EUR MKI']]],3,FALSE)),\"\")","v":""},{"$f":"IFERROR((VLOOKUP(D177,Table2[[Prod.ID]:[Massa '[kg']]],4,FALSE)),\"\")","v":""},{"$f":"IFERROR((VLOOKUP(D177,Table2[[Prod.ID]:[Kritieke/ schaarse materialen?]],6,FALSE)),\"\")","v":""},{"$f":"IFERROR((VLOOKUP(D177,Table2[[Prod.ID]:[Economische waarde '[EUR']]],7,FALSE)),\"\")","v":""},{"$f":"IFERROR((VLOOKUP(D177,Table2[[Prod.ID]:[Aantal keer]],8,FALSE)),\"\")","v":""},{"$f":"'5. Bepaal factoren en bereken'!G177","v":""},{"$f":"'5. Bepaal factoren en bereken'!H177","v":""},{"$f":"'4. Analyseer opbouw van object'!I176","v":" "},{"$f":"IFERROR((VLOOKUP(L177,Table2[[Prod.ID]:[MKI '[EUR MKI']]],3,FALSE)),\"\")","v":""},{"$f":"IFERROR((VLOOKUP(L177,Table2[[Prod.ID]:[Massa '[kg']]],4,FALSE)),\"\")","v":""},{"$f":"IFERROR((VLOOKUP(L177,Table2[[Prod.ID]:[Kritieke/ schaarse materialen?]],6,FALSE)),\"\")","v":""},{"$f":"IFERROR((VLOOKUP(L177,Table2[[Prod.ID]:[Economische waarde '[EUR']]],7,FALSE)),\"\")","v":""},{"$f":"IFERROR((VLOOKUP(L177,Table2[[Prod.ID]:[Aantal keer]],8,FALSE)),\"\")","v":""},{"$f":"'5. Bepaal factoren en bereken'!T177","v":""},{"$f":"'5. Bepaal factoren en bereken'!U177","v":""},{"$f":"IF('5. Bepaal factoren en bereken'!V177>0,'5. Bepaal factoren en bereken'!V177,\"\")","v":""}]
[null,{"$f":"'5. Bepaal factoren en bereken'!C178","v":""},{"$f":"IF('5. Bepaal factoren en bereken'!D178=\"\", \"\",'5. Bepaal factoren en bereken'!D178)","v":""},{"$f":"'5. Bepaal factoren en bereken'!E178","v":""},{"$f":"'5. Bepaal factoren en bereken'!F178","v":""},{"$f":"'4. Analyseer opbouw van object'!F176","v":""},{"$f":"IFERROR((VLOOKUP(D178,Table2[[Prod.ID]:[MKI '[EUR MKI']]],3,FALSE)),\"\")","v":""},{"$f":"IFERROR((VLOOKUP(D178,Table2[[Prod.ID]:[Massa '[kg']]],4,FALSE)),\"\")","v":""},{"$f":"IFERROR((VLOOKUP(D178,Table2[[Prod.ID]:[Kritieke/ schaarse materialen?]],6,FALSE)),\"\")","v":""},{"$f":"IFERROR((VLOOKUP(D178,Table2[[Prod.ID]:[Economische waarde '[EUR']]],7,FALSE)),\"\")","v":""},{"$f":"IFERROR((VLOOKUP(D178,Table2[[Prod.ID]:[Aantal keer]],8,FALSE)),\"\")","v":""},{"$f":"'5. Bepaal factoren en bereken'!G178","v":""},{"$f":"'5. Bepaal factoren en bereken'!H178","v":""},{"$f":"'4. Analyseer opbouw van object'!I177","v":" "},{"$f":"IFERROR((VLOOKUP(L178,Table2[[Prod.ID]:[MKI '[EUR MKI']]],3,FALSE)),\"\")","v":""},{"$f":"IFERROR((VLOOKUP(L178,Table2[[Prod.ID]:[Massa '[kg']]],4,FALSE)),\"\")","v":""},{"$f":"IFERROR((VLOOKUP(L178,Table2[[Prod.ID]:[Kritieke/ schaarse materialen?]],6,FALSE)),\"\")","v":""},{"$f":"IFERROR((VLOOKUP(L178,Table2[[Prod.ID]:[Economische waarde '[EUR']]],7,FALSE)),\"\")","v":""},{"$f":"IFERROR((VLOOKUP(L178,Table2[[Prod.ID]:[Aantal keer]],8,FALSE)),\"\")","v":""},{"$f":"'5. Bepaal factoren en bereken'!T178","v":""},{"$f":"'5. Bepaal factoren en bereken'!U178","v":""},{"$f":"IF('5. Bepaal factoren en bereken'!V178>0,'5. Bepaal factoren en bereken'!V178,\"\")","v":""}]
[null,{"$f":"'5. Bepaal factoren en bereken'!C179","v":""},{"$f":"IF('5. Bepaal factoren en bereken'!D179=\"\", \"\",'5. Bepaal factoren en bereken'!D179)","v":""},{"$f":"'5. Bepaal factoren en bereken'!E179","v":""},{"$f":"'5. Bepaal factoren en bereken'!F179","v":""},{"$f":"'4. Analyseer opbouw van object'!F177","v":""},{"$f":"IFERROR((VLOOKUP(D179,Table2[[Prod.ID]:[MKI '[EUR MKI']]],3,FALSE)),\"\")","v":""},{"$f":"IFERROR((VLOOKUP(D179,Table2[[Prod.ID]:[Massa '[kg']]],4,FALSE)),\"\")","v":""},{"$f":"IFERROR((VLOOKUP(D179,Table2[[Prod.ID]:[Kritieke/ schaarse materialen?]],6,FALSE)),\"\")","v":""},{"$f":"IFERROR((VLOOKUP(D179,Table2[[Prod.ID]:[Economische waarde '[EUR']]],7,FALSE)),\"\")","v":""},{"$f":"IFERROR((VLOOKUP(D179,Table2[[Prod.ID]:[Aantal keer]],8,FALSE)),\"\")","v":""},{"$f":"'5. Bepaal factoren en bereken'!G179","v":""},{"$f":"'5. Bepaal factoren en bereken'!H179","v":""},{"$f":"'4. Analyseer opbouw van object'!I178","v":" "},{"$f":"IFERROR((VLOOKUP(L179,Table2[[Prod.ID]:[MKI '[EUR MKI']]],3,FALSE)),\"\")","v":""},{"$f":"IFERROR((VLOOKUP(L179,Table2[[Prod.ID]:[Massa '[kg']]],4,FALSE)),\"\")","v":""},{"$f":"IFERROR((VLOOKUP(L179,Table2[[Prod.ID]:[Kritieke/ schaarse materialen?]],6,FALSE)),\"\")","v":""},{"$f":"IFERROR((VLOOKUP(L179,Table2[[Prod.ID]:[Economische waarde '[EUR']]],7,FALSE)),\"\")","v":""},{"$f":"IFERROR((VLOOKUP(L179,Table2[[Prod.ID]:[Aantal keer]],8,FALSE)),\"\")","v":""},{"$f":"'5. Bepaal factoren en bereken'!T179","v":""},{"$f":"'5. Bepaal factoren en bereken'!U179","v":""},{"$f":"IF('5. Bepaal factoren en bereken'!V179>0,'5. Bepaal factoren en bereken'!V179,\"\")","v":""}]
[null,{"$f":"'5. Bepaal factoren en bereken'!C180","v":""},{"$f":"IF('5. Bepaal factoren en bereken'!D180=\"\", \"\",'5. Bepaal factoren en bereken'!D180)","v":""},{"$f":"'5. Bepaal factoren en bereken'!E180","v":""},{"$f":"'5. Bepaal factoren en bereken'!F180","v":""},{"$f":"'4. Analyseer opbouw van object'!F178","v":""},{"$f":"IFERROR((VLOOKUP(D180,Table2[[Prod.ID]:[MKI '[EUR MKI']]],3,FALSE)),\"\")","v":""},{"$f":"IFERROR((VLOOKUP(D180,Table2[[Prod.ID]:[Massa '[kg']]],4,FALSE)),\"\")","v":""},{"$f":"IFERROR((VLOOKUP(D180,Table2[[Prod.ID]:[Kritieke/ schaarse materialen?]],6,FALSE)),\"\")","v":""},{"$f":"IFERROR((VLOOKUP(D180,Table2[[Prod.ID]:[Economische waarde '[EUR']]],7,FALSE)),\"\")","v":""},{"$f":"IFERROR((VLOOKUP(D180,Table2[[Prod.ID]:[Aantal keer]],8,FALSE)),\"\")","v":""},{"$f":"'5. Bepaal factoren en bereken'!G180","v":""},{"$f":"'5. Bepaal factoren en bereken'!H180","v":""},{"$f":"'4. Analyseer opbouw van object'!I179","v":" "},{"$f":"IFERROR((VLOOKUP(L180,Table2[[Prod.ID]:[MKI '[EUR MKI']]],3,FALSE)),\"\")","v":""},{"$f":"IFERROR((VLOOKUP(L180,Table2[[Prod.ID]:[Massa '[kg']]],4,FALSE)),\"\")","v":""},{"$f":"IFERROR((VLOOKUP(L180,Table2[[Prod.ID]:[Kritieke/ schaarse materialen?]],6,FALSE)),\"\")","v":""},{"$f":"IFERROR((VLOOKUP(L180,Table2[[Prod.ID]:[Economische waarde '[EUR']]],7,FALSE)),\"\")","v":""},{"$f":"IFERROR((VLOOKUP(L180,Table2[[Prod.ID]:[Aantal keer]],8,FALSE)),\"\")","v":""},{"$f":"'5. Bepaal factoren en bereken'!T180","v":""},{"$f":"'5. Bepaal factoren en bereken'!U180","v":""},{"$f":"IF('5. Bepaal factoren en bereken'!V180>0,'5. Bepaal factoren en bereken'!V180,\"\")","v":""}]
[null,{"$f":"'5. Bepaal factoren en bereken'!C181","v":""},{"$f":"IF('5. Bepaal factoren en bereken'!D181=\"\", \"\",'5. Bepaal factoren en bereken'!D181)","v":""},{"$f":"'5. Bepaal factoren en bereken'!E181","v":""},{"$f":"'5. Bepaal factoren en bereken'!F181","v":""},{"$f":"'4. Analyseer opbouw van object'!F179","v":""},{"$f":"IFERROR((VLOOKUP(D181,Table2[[Prod.ID]:[MKI '[EUR MKI']]],3,FALSE)),\"\")","v":""},{"$f":"IFERROR((VLOOKUP(D181,Table2[[Prod.ID]:[Massa '[kg']]],4,FALSE)),\"\")","v":""},{"$f":"IFERROR((VLOOKUP(D181,Table2[[Prod.ID]:[Kritieke/ schaarse materialen?]],6,FALSE)),\"\")","v":""},{"$f":"IFERROR((VLOOKUP(D181,Table2[[Prod.ID]:[Economische waarde '[EUR']]],7,FALSE)),\"\")","v":""},{"$f":"IFERROR((VLOOKUP(D181,Table2[[Prod.ID]:[Aantal keer]],8,FALSE)),\"\")","v":""},{"$f":"'5. Bepaal factoren en bereken'!G181","v":""},{"$f":"'5. Bepaal factoren en bereken'!H181","v":""},{"$f":"'4. Analyseer opbouw van object'!I180","v":" "},{"$f":"IFERROR((VLOOKUP(L181,Table2[[Prod.ID]:[MKI '[EUR MKI']]],3,FALSE)),\"\")","v":""},{"$f":"IFERROR((VLOOKUP(L181,Table2[[Prod.ID]:[Massa '[kg']]],4,FALSE)),\"\")","v":""},{"$f":"IFERROR((VLOOKUP(L181,Table2[[Prod.ID]:[Kritieke/ schaarse materialen?]],6,FALSE)),\"\")","v":""},{"$f":"IFERROR((VLOOKUP(L181,Table2[[Prod.ID]:[Economische waarde '[EUR']]],7,FALSE)),\"\")","v":""},{"$f":"IFERROR((VLOOKUP(L181,Table2[[Prod.ID]:[Aantal keer]],8,FALSE)),\"\")","v":""},{"$f":"'5. Bepaal factoren en bereken'!T181","v":""},{"$f":"'5. Bepaal factoren en bereken'!U181","v":""},{"$f":"IF('5. Bepaal factoren en bereken'!V181>0,'5. Bepaal factoren en bereken'!V181,\"\")","v":""}]
[null,{"$f":"'5. Bepaal factoren en bereken'!C182","v":""},{"$f":"IF('5. Bepaal factoren en bereken'!D182=\"\", \"\",'5. Bepaal factoren en bereken'!D182)","v":""},{"$f":"'5. Bepaal factoren en bereken'!E182","v":""},{"$f":"'5. Bepaal factoren en bereken'!F182","v":""},{"$f":"'4. Analyseer opbouw van object'!F180","v":""},{"$f":"IFERROR((VLOOKUP(D182,Table2[[Prod.ID]:[MKI '[EUR MKI']]],3,FALSE)),\"\")","v":""},{"$f":"IFERROR((VLOOKUP(D182,Table2[[Prod.ID]:[Massa '[kg']]],4,FALSE)),\"\")","v":""},{"$f":"IFERROR((VLOOKUP(D182,Table2[[Prod.ID]:[Kritieke/ schaarse materialen?]],6,FALSE)),\"\")","v":""},{"$f":"IFERROR((VLOOKUP(D182,Table2[[Prod.ID]:[Economische waarde '[EUR']]],7,FALSE)),\"\")","v":""},{"$f":"IFERROR((VLOOKUP(D182,Table2[[Prod.ID]:[Aantal keer]],8,FALSE)),\"\")","v":""},{"$f":"'5. Bepaal factoren en bereken'!G182","v":""},{"$f":"'5. Bepaal factoren en bereken'!H182","v":""},{"$f":"'4. Analyseer opbouw van object'!I181","v":" "},{"$f":"IFERROR((VLOOKUP(L182,Table2[[Prod.ID]:[MKI '[EUR MKI']]],3,FALSE)),\"\")","v":""},{"$f":"IFERROR((VLOOKUP(L182,Table2[[Prod.ID]:[Massa '[kg']]],4,FALSE)),\"\")","v":""},{"$f":"IFERROR((VLOOKUP(L182,Table2[[Prod.ID]:[Kritieke/ schaarse materialen?]],6,FALSE)),\"\")","v":""},{"$f":"IFERROR((VLOOKUP(L182,Table2[[Prod.ID]:[Economische waarde '[EUR']]],7,FALSE)),\"\")","v":""},{"$f":"IFERROR((VLOOKUP(L182,Table2[[Prod.ID]:[Aantal keer]],8,FALSE)),\"\")","v":""},{"$f":"'5. Bepaal factoren en bereken'!T182","v":""},{"$f":"'5. Bepaal factoren en bereken'!U182","v":""},{"$f":"IF('5. Bepaal factoren en bereken'!V182>0,'5. Bepaal factoren en bereken'!V182,\"\")","v":""}]
[null,{"$f":"'5. Bepaal factoren en bereken'!C183","v":""},{"$f":"IF('5. Bepaal factoren en bereken'!D183=\"\", \"\",'5. Bepaal factoren en bereken'!D183)","v":""},{"$f":"'5. Bepaal factoren en bereken'!E183","v":""},{"$f":"'5. Bepaal factoren en bereken'!F183","v":""},{"$f":"'4. Analyseer opbouw van object'!F181","v":""},{"$f":"IFERROR((VLOOKUP(D183,Table2[[Prod.ID]:[MKI '[EUR MKI']]],3,FALSE)),\"\")","v":""},{"$f":"IFERROR((VLOOKUP(D183,Table2[[Prod.ID]:[Massa '[kg']]],4,FALSE)),\"\")","v":""},{"$f":"IFERROR((VLOOKUP(D183,Table2[[Prod.ID]:[Kritieke/ schaarse materialen?]],6,FALSE)),\"\")","v":""},{"$f":"IFERROR((VLOOKUP(D183,Table2[[Prod.ID]:[Economische waarde '[EUR']]],7,FALSE)),\"\")","v":""},{"$f":"IFERROR((VLOOKUP(D183,Table2[[Prod.ID]:[Aantal keer]],8,FALSE)),\"\")","v":""},{"$f":"'5. Bepaal factoren en bereken'!G183","v":""},{"$f":"'5. Bepaal factoren en bereken'!H183","v":""},{"$f":"'4. Analyseer opbouw van object'!I182","v":" "},{"$f":"IFERROR((VLOOKUP(L183,Table2[[Prod.ID]:[MKI '[EUR MKI']]],3,FALSE)),\"\")","v":""},{"$f":"IFERROR((VLOOKUP(L183,Table2[[Prod.ID]:[Massa '[kg']]],4,FALSE)),\"\")","v":""},{"$f":"IFERROR((VLOOKUP(L183,Table2[[Prod.ID]:[Kritieke/ schaarse materialen?]],6,FALSE)),\"\")","v":""},{"$f":"IFERROR((VLOOKUP(L183,Table2[[Prod.ID]:[Economische waarde '[EUR']]],7,FALSE)),\"\")","v":""},{"$f":"IFERROR((VLOOKUP(L183,Table2[[Prod.ID]:[Aantal keer]],8,FALSE)),\"\")","v":""},{"$f":"'5. Bepaal factoren en bereken'!T183","v":""},{"$f":"'5. Bepaal factoren en bereken'!U183","v":""},{"$f":"IF('5. Bepaal factoren en bereken'!V183>0,'5. Bepaal factoren en bereken'!V183,\"\")","v":""}]
[null,{"$f":"'5. Bepaal factoren en bereken'!C184","v":""},{"$f":"IF('5. Bepaal factoren en bereken'!D184=\"\", \"\",'5. Bepaal factoren en bereken'!D184)","v":""},{"$f":"'5. Bepaal factoren en bereken'!E184","v":""},{"$f":"'5. Bepaal factoren en bereken'!F184","v":""},{"$f":"'4. Analyseer opbouw van object'!F182","v":""},{"$f":"IFERROR((VLOOKUP(D184,Table2[[Prod.ID]:[MKI '[EUR MKI']]],3,FALSE)),\"\")","v":""},{"$f":"IFERROR((VLOOKUP(D184,Table2[[Prod.ID]:[Massa '[kg']]],4,FALSE)),\"\")","v":""},{"$f":"IFERROR((VLOOKUP(D184,Table2[[Prod.ID]:[Kritieke/ schaarse materialen?]],6,FALSE)),\"\")","v":""},{"$f":"IFERROR((VLOOKUP(D184,Table2[[Prod.ID]:[Economische waarde '[EUR']]],7,FALSE)),\"\")","v":""},{"$f":"IFERROR((VLOOKUP(D184,Table2[[Prod.ID]:[Aantal keer]],8,FALSE)),\"\")","v":""},{"$f":"'5. Bepaal factoren en bereken'!G184","v":""},{"$f":"'5. Bepaal factoren en bereken'!H184","v":""},{"$f":"'4. Analyseer opbouw van object'!I183","v":" "},{"$f":"IFERROR((VLOOKUP(L184,Table2[[Prod.ID]:[MKI '[EUR MKI']]],3,FALSE)),\"\")","v":""},{"$f":"IFERROR((VLOOKUP(L184,Table2[[Prod.ID]:[Massa '[kg']]],4,FALSE)),\"\")","v":""},{"$f":"IFERROR((VLOOKUP(L184,Table2[[Prod.ID]:[Kritieke/ schaarse materialen?]],6,FALSE)),\"\")","v":""},{"$f":"IFERROR((VLOOKUP(L184,Table2[[Prod.ID]:[Economische waarde '[EUR']]],7,FALSE)),\"\")","v":""},{"$f":"IFERROR((VLOOKUP(L184,Table2[[Prod.ID]:[Aantal keer]],8,FALSE)),\"\")","v":""},{"$f":"'5. Bepaal factoren en bereken'!T184","v":""},{"$f":"'5. Bepaal factoren en bereken'!U184","v":""},{"$f":"IF('5. Bepaal factoren en bereken'!V184>0,'5. Bepaal factoren en bereken'!V184,\"\")","v":""}]
[null,{"$f":"'5. Bepaal factoren en bereken'!C185","v":""},{"$f":"IF('5. Bepaal factoren en bereken'!D185=\"\", \"\",'5. Bepaal factoren en bereken'!D185)","v":""},{"$f":"'5. Bepaal factoren en bereken'!E185","v":""},{"$f":"'5. Bepaal factoren en bereken'!F185","v":""},{"$f":"'4. Analyseer opbouw van object'!F183","v":""},{"$f":"IFERROR((VLOOKUP(D185,Table2[[Prod.ID]:[MKI '[EUR MKI']]],3,FALSE)),\"\")","v":""},{"$f":"IFERROR((VLOOKUP(D185,Table2[[Prod.ID]:[Massa '[kg']]],4,FALSE)),\"\")","v":""},{"$f":"IFERROR((VLOOKUP(D185,Table2[[Prod.ID]:[Kritieke/ schaarse materialen?]],6,FALSE)),\"\")","v":""},{"$f":"IFERROR((VLOOKUP(D185,Table2[[Prod.ID]:[Economische waarde '[EUR']]],7,FALSE)),\"\")","v":""},{"$f":"IFERROR((VLOOKUP(D185,Table2[[Prod.ID]:[Aantal keer]],8,FALSE)),\"\")","v":""},{"$f":"'5. Bepaal factoren en bereken'!G185","v":""},{"$f":"'5. Bepaal factoren en bereken'!H185","v":""},{"$f":"'4. Analyseer opbouw van object'!I184","v":" "},{"$f":"IFERROR((VLOOKUP(L185,Table2[[Prod.ID]:[MKI '[EUR MKI']]],3,FALSE)),\"\")","v":""},{"$f":"IFERROR((VLOOKUP(L185,Table2[[Prod.ID]:[Massa '[kg']]],4,FALSE)),\"\")","v":""},{"$f":"IFERROR((VLOOKUP(L185,Table2[[Prod.ID]:[Kritieke/ schaarse materialen?]],6,FALSE)),\"\")","v":""},{"$f":"IFERROR((VLOOKUP(L185,Table2[[Prod.ID]:[Economische waarde '[EUR']]],7,FALSE)),\"\")","v":""},{"$f":"IFERROR((VLOOKUP(L185,Table2[[Prod.ID]:[Aantal keer]],8,FALSE)),\"\")","v":""},{"$f":"'5. Bepaal factoren en bereken'!T185","v":""},{"$f":"'5. Bepaal factoren en bereken'!U185","v":""},{"$f":"IF('5. Bepaal factoren en bereken'!V185>0,'5. Bepaal factoren en bereken'!V185,\"\")","v":""}]
[null,{"$f":"'5. Bepaal factoren en bereken'!C186","v":""},{"$f":"IF('5. Bepaal factoren en bereken'!D186=\"\", \"\",'5. Bepaal factoren en bereken'!D186)","v":""},{"$f":"'5. Bepaal factoren en bereken'!E186","v":""},{"$f":"'5. Bepaal factoren en bereken'!F186","v":""},{"$f":"'4. Analyseer opbouw van object'!F184","v":""},{"$f":"IFERROR((VLOOKUP(D186,Table2[[Prod.ID]:[MKI '[EUR MKI']]],3,FALSE)),\"\")","v":""},{"$f":"IFERROR((VLOOKUP(D186,Table2[[Prod.ID]:[Massa '[kg']]],4,FALSE)),\"\")","v":""},{"$f":"IFERROR((VLOOKUP(D186,Table2[[Prod.ID]:[Kritieke/ schaarse materialen?]],6,FALSE)),\"\")","v":""},{"$f":"IFERROR((VLOOKUP(D186,Table2[[Prod.ID]:[Economische waarde '[EUR']]],7,FALSE)),\"\")","v":""},{"$f":"IFERROR((VLOOKUP(D186,Table2[[Prod.ID]:[Aantal keer]],8,FALSE)),\"\")","v":""},{"$f":"'5. Bepaal factoren en bereken'!G186","v":""},{"$f":"'5. Bepaal factoren en bereken'!H186","v":""},{"$f":"'4. Analyseer opbouw van object'!I185","v":" "},{"$f":"IFERROR((VLOOKUP(L186,Table2[[Prod.ID]:[MKI '[EUR MKI']]],3,FALSE)),\"\")","v":""},{"$f":"IFERROR((VLOOKUP(L186,Table2[[Prod.ID]:[Massa '[kg']]],4,FALSE)),\"\")","v":""},{"$f":"IFERROR((VLOOKUP(L186,Table2[[Prod.ID]:[Kritieke/ schaarse materialen?]],6,FALSE)),\"\")","v":""},{"$f":"IFERROR((VLOOKUP(L186,Table2[[Prod.ID]:[Economische waarde '[EUR']]],7,FALSE)),\"\")","v":""},{"$f":"IFERROR((VLOOKUP(L186,Table2[[Prod.ID]:[Aantal keer]],8,FALSE)),\"\")","v":""},{"$f":"'5. Bepaal factoren en bereken'!T186","v":""},{"$f":"'5. Bepaal factoren en bereken'!U186","v":""},{"$f":"IF('5. Bepaal factoren en bereken'!V186>0,'5. Bepaal factoren en bereken'!V186,\"\")","v":""}]
[null,{"$f":"'5. Bepaal factoren en bereken'!C187","v":""},{"$f":"IF('5. Bepaal factoren en bereken'!D187=\"\", \"\",'5. Bepaal factoren en bereken'!D187)","v":""},{"$f":"'5. Bepaal factoren en bereken'!E187","v":""},{"$f":"'5. Bepaal factoren en bereken'!F187","v":""},{"$f":"'4. Analyseer opbouw van object'!F185","v":""},{"$f":"IFERROR((VLOOKUP(D187,Table2[[Prod.ID]:[MKI '[EUR MKI']]],3,FALSE)),\"\")","v":""},{"$f":"IFERROR((VLOOKUP(D187,Table2[[Prod.ID]:[Massa '[kg']]],4,FALSE)),\"\")","v":""},{"$f":"IFERROR((VLOOKUP(D187,Table2[[Prod.ID]:[Kritieke/ schaarse materialen?]],6,FALSE)),\"\")","v":""},{"$f":"IFERROR((VLOOKUP(D187,Table2[[Prod.ID]:[Economische waarde '[EUR']]],7,FALSE)),\"\")","v":""},{"$f":"IFERROR((VLOOKUP(D187,Table2[[Prod.ID]:[Aantal keer]],8,FALSE)),\"\")","v":""},{"$f":"'5. Bepaal factoren en bereken'!G187","v":""},{"$f":"'5. Bepaal factoren en bereken'!H187","v":""},{"$f":"'4. Analyseer opbouw van object'!I186","v":" "},{"$f":"IFERROR((VLOOKUP(L187,Table2[[Prod.ID]:[MKI '[EUR MKI']]],3,FALSE)),\"\")","v":""},{"$f":"IFERROR((VLOOKUP(L187,Table2[[Prod.ID]:[Massa '[kg']]],4,FALSE)),\"\")","v":""},{"$f":"IFERROR((VLOOKUP(L187,Table2[[Prod.ID]:[Kritieke/ schaarse materialen?]],6,FALSE)),\"\")","v":""},{"$f":"IFERROR((VLOOKUP(L187,Table2[[Prod.ID]:[Economische waarde '[EUR']]],7,FALSE)),\"\")","v":""},{"$f":"IFERROR((VLOOKUP(L187,Table2[[Prod.ID]:[Aantal keer]],8,FALSE)),\"\")","v":""},{"$f":"'5. Bepaal factoren en bereken'!T187","v":""},{"$f":"'5. Bepaal factoren en bereken'!U187","v":""},{"$f":"IF('5. Bepaal factoren en bereken'!V187>0,'5. Bepaal factoren en bereken'!V187,\"\")","v":""}]
[null,{"$f":"'5. Bepaal factoren en bereken'!C188","v":""},{"$f":"IF('5. Bepaal factoren en bereken'!D188=\"\", \"\",'5. Bepaal factoren en bereken'!D188)","v":""},{"$f":"'5. Bepaal factoren en bereken'!E188","v":""},{"$f":"'5. Bepaal factoren en bereken'!F188","v":""},{"$f":"'4. Analyseer opbouw van object'!F186","v":""},{"$f":"IFERROR((VLOOKUP(D188,Table2[[Prod.ID]:[MKI '[EUR MKI']]],3,FALSE)),\"\")","v":""},{"$f":"IFERROR((VLOOKUP(D188,Table2[[Prod.ID]:[Massa '[kg']]],4,FALSE)),\"\")","v":""},{"$f":"IFERROR((VLOOKUP(D188,Table2[[Prod.ID]:[Kritieke/ schaarse materialen?]],6,FALSE)),\"\")","v":""},{"$f":"IFERROR((VLOOKUP(D188,Table2[[Prod.ID]:[Economische waarde '[EUR']]],7,FALSE)),\"\")","v":""},{"$f":"IFERROR((VLOOKUP(D188,Table2[[Prod.ID]:[Aantal keer]],8,FALSE)),\"\")","v":""},{"$f":"'5. Bepaal factoren en bereken'!G188","v":""},{"$f":"'5. Bepaal factoren en bereken'!H188","v":""},{"$f":"'4. Analyseer opbouw van object'!I187","v":" "},{"$f":"IFERROR((VLOOKUP(L188,Table2[[Prod.ID]:[MKI '[EUR MKI']]],3,FALSE)),\"\")","v":""},{"$f":"IFERROR((VLOOKUP(L188,Table2[[Prod.ID]:[Massa '[kg']]],4,FALSE)),\"\")","v":""},{"$f":"IFERROR((VLOOKUP(L188,Table2[[Prod.ID]:[Kritieke/ schaarse materialen?]],6,FALSE)),\"\")","v":""},{"$f":"IFERROR((VLOOKUP(L188,Table2[[Prod.ID]:[Economische waarde '[EUR']]],7,FALSE)),\"\")","v":""},{"$f":"IFERROR((VLOOKUP(L188,Table2[[Prod.ID]:[Aantal keer]],8,FALSE)),\"\")","v":""},{"$f":"'5. Bepaal factoren en bereken'!T188","v":""},{"$f":"'5. Bepaal factoren en bereken'!U188","v":""},{"$f":"IF('5. Bepaal factoren en bereken'!V188>0,'5. Bepaal factoren en bereken'!V188,\"\")","v":""}]
[null,{"$f":"'5. Bepaal factoren en bereken'!C189","v":""},{"$f":"IF('5. Bepaal factoren en bereken'!D189=\"\", \"\",'5. Bepaal factoren en bereken'!D189)","v":""},{"$f":"'5. Bepaal factoren en bereken'!E189","v":""},{"$f":"'5. Bepaal factoren en bereken'!F189","v":""},{"$f":"'4. Analyseer opbouw van object'!F187","v":""},{"$f":"IFERROR((VLOOKUP(D189,Table2[[Prod.ID]:[MKI '[EUR MKI']]],3,FALSE)),\"\")","v":""},{"$f":"IFERROR((VLOOKUP(D189,Table2[[Prod.ID]:[Massa '[kg']]],4,FALSE)),\"\")","v":""},{"$f":"IFERROR((VLOOKUP(D189,Table2[[Prod.ID]:[Kritieke/ schaarse materialen?]],6,FALSE)),\"\")","v":""},{"$f":"IFERROR((VLOOKUP(D189,Table2[[Prod.ID]:[Economische waarde '[EUR']]],7,FALSE)),\"\")","v":""},{"$f":"IFERROR((VLOOKUP(D189,Table2[[Prod.ID]:[Aantal keer]],8,FALSE)),\"\")","v":""},{"$f":"'5. Bepaal factoren en bereken'!G189","v":""},{"$f":"'5. Bepaal factoren en bereken'!H189","v":""},{"$f":"'4. Analyseer opbouw van object'!I188","v":" "},{"$f":"IFERROR((VLOOKUP(L189,Table2[[Prod.ID]:[MKI '[EUR MKI']]],3,FALSE)),\"\")","v":""},{"$f":"IFERROR((VLOOKUP(L189,Table2[[Prod.ID]:[Massa '[kg']]],4,FALSE)),\"\")","v":""},{"$f":"IFERROR((VLOOKUP(L189,Table2[[Prod.ID]:[Kritieke/ schaarse materialen?]],6,FALSE)),\"\")","v":""},{"$f":"IFERROR((VLOOKUP(L189,Table2[[Prod.ID]:[Economische waarde '[EUR']]],7,FALSE)),\"\")","v":""},{"$f":"IFERROR((VLOOKUP(L189,Table2[[Prod.ID]:[Aantal keer]],8,FALSE)),\"\")","v":""},{"$f":"'5. Bepaal factoren en bereken'!T189","v":""},{"$f":"'5. Bepaal factoren en bereken'!U189","v":""},{"$f":"IF('5. Bepaal factoren en bereken'!V189>0,'5. Bepaal factoren en bereken'!V189,\"\")","v":""}]
[null,{"$f":"'5. Bepaal factoren en bereken'!C190","v":""},{"$f":"IF('5. Bepaal factoren en bereken'!D190=\"\", \"\",'5. Bepaal factoren en bereken'!D190)","v":""},{"$f":"'5. Bepaal factoren en bereken'!E190","v":""},{"$f":"'5. Bepaal factoren en bereken'!F190","v":""},{"$f":"'4. Analyseer opbouw van object'!F188","v":""},{"$f":"IFERROR((VLOOKUP(D190,Table2[[Prod.ID]:[MKI '[EUR MKI']]],3,FALSE)),\"\")","v":""},{"$f":"IFERROR((VLOOKUP(D190,Table2[[Prod.ID]:[Massa '[kg']]],4,FALSE)),\"\")","v":""},{"$f":"IFERROR((VLOOKUP(D190,Table2[[Prod.ID]:[Kritieke/ schaarse materialen?]],6,FALSE)),\"\")","v":""},{"$f":"IFERROR((VLOOKUP(D190,Table2[[Prod.ID]:[Economische waarde '[EUR']]],7,FALSE)),\"\")","v":""},{"$f":"IFERROR((VLOOKUP(D190,Table2[[Prod.ID]:[Aantal keer]],8,FALSE)),\"\")","v":""},{"$f":"'5. Bepaal factoren en bereken'!G190","v":""},{"$f":"'5. Bepaal factoren en bereken'!H190","v":""},{"$f":"'4. Analyseer opbouw van object'!I189","v":" "},{"$f":"IFERROR((VLOOKUP(L190,Table2[[Prod.ID]:[MKI '[EUR MKI']]],3,FALSE)),\"\")","v":""},{"$f":"IFERROR((VLOOKUP(L190,Table2[[Prod.ID]:[Massa '[kg']]],4,FALSE)),\"\")","v":""},{"$f":"IFERROR((VLOOKUP(L190,Table2[[Prod.ID]:[Kritieke/ schaarse materialen?]],6,FALSE)),\"\")","v":""},{"$f":"IFERROR((VLOOKUP(L190,Table2[[Prod.ID]:[Economische waarde '[EUR']]],7,FALSE)),\"\")","v":""},{"$f":"IFERROR((VLOOKUP(L190,Table2[[Prod.ID]:[Aantal keer]],8,FALSE)),\"\")","v":""},{"$f":"'5. Bepaal factoren en bereken'!T190","v":""},{"$f":"'5. Bepaal factoren en bereken'!U190","v":""},{"$f":"IF('5. Bepaal factoren en bereken'!V190>0,'5. Bepaal factoren en bereken'!V190,\"\")","v":""}]
[null,{"$f":"'5. Bepaal factoren en bereken'!C191","v":""},{"$f":"IF('5. Bepaal factoren en bereken'!D191=\"\", \"\",'5. Bepaal factoren en bereken'!D191)","v":""},{"$f":"'5. Bepaal factoren en bereken'!E191","v":""},{"$f":"'5. Bepaal factoren en bereken'!F191","v":""},{"$f":"'4. Analyseer opbouw van object'!F189","v":""},{"$f":"IFERROR((VLOOKUP(D191,Table2[[Prod.ID]:[MKI '[EUR MKI']]],3,FALSE)),\"\")","v":""},{"$f":"IFERROR((VLOOKUP(D191,Table2[[Prod.ID]:[Massa '[kg']]],4,FALSE)),\"\")","v":""},{"$f":"IFERROR((VLOOKUP(D191,Table2[[Prod.ID]:[Kritieke/ schaarse materialen?]],6,FALSE)),\"\")","v":""},{"$f":"IFERROR((VLOOKUP(D191,Table2[[Prod.ID]:[Economische waarde '[EUR']]],7,FALSE)),\"\")","v":""},{"$f":"IFERROR((VLOOKUP(D191,Table2[[Prod.ID]:[Aantal keer]],8,FALSE)),\"\")","v":""},{"$f":"'5. Bepaal factoren en bereken'!G191","v":""},{"$f":"'5. Bepaal factoren en bereken'!H191","v":""},{"$f":"'4. Analyseer opbouw van object'!I190","v":" "},{"$f":"IFERROR((VLOOKUP(L191,Table2[[Prod.ID]:[MKI '[EUR MKI']]],3,FALSE)),\"\")","v":""},{"$f":"IFERROR((VLOOKUP(L191,Table2[[Prod.ID]:[Massa '[kg']]],4,FALSE)),\"\")","v":""},{"$f":"IFERROR((VLOOKUP(L191,Table2[[Prod.ID]:[Kritieke/ schaarse materialen?]],6,FALSE)),\"\")","v":""},{"$f":"IFERROR((VLOOKUP(L191,Table2[[Prod.ID]:[Economische waarde '[EUR']]],7,FALSE)),\"\")","v":""},{"$f":"IFERROR((VLOOKUP(L191,Table2[[Prod.ID]:[Aantal keer]],8,FALSE)),\"\")","v":""},{"$f":"'5. Bepaal factoren en bereken'!T191","v":""},{"$f":"'5. Bepaal factoren en bereken'!U191","v":""},{"$f":"IF('5. Bepaal factoren en bereken'!V191>0,'5. Bepaal factoren en bereken'!V191,\"\")","v":""}]
[null,{"$f":"'5. Bepaal factoren en bereken'!C192","v":""},{"$f":"IF('5. Bepaal factoren en bereken'!D192=\"\", \"\",'5. Bepaal factoren en bereken'!D192)","v":""},{"$f":"'5. Bepaal factoren en bereken'!E192","v":""},{"$f":"'5. Bepaal factoren en bereken'!F192","v":""},{"$f":"'4. Analyseer opbouw van object'!F190","v":""},{"$f":"IFERROR((VLOOKUP(D192,Table2[[Prod.ID]:[MKI '[EUR MKI']]],3,FALSE)),\"\")","v":""},{"$f":"IFERROR((VLOOKUP(D192,Table2[[Prod.ID]:[Massa '[kg']]],4,FALSE)),\"\")","v":""},{"$f":"IFERROR((VLOOKUP(D192,Table2[[Prod.ID]:[Kritieke/ schaarse materialen?]],6,FALSE)),\"\")","v":""},{"$f":"IFERROR((VLOOKUP(D192,Table2[[Prod.ID]:[Economische waarde '[EUR']]],7,FALSE)),\"\")","v":""},{"$f":"IFERROR((VLOOKUP(D192,Table2[[Prod.ID]:[Aantal keer]],8,FALSE)),\"\")","v":""},{"$f":"'5. Bepaal factoren en bereken'!G192","v":""},{"$f":"'5. Bepaal factoren en bereken'!H192","v":""},{"$f":"'4. Analyseer opbouw van object'!I191","v":" "},{"$f":"IFERROR((VLOOKUP(L192,Table2[[Prod.ID]:[MKI '[EUR MKI']]],3,FALSE)),\"\")","v":""},{"$f":"IFERROR((VLOOKUP(L192,Table2[[Prod.ID]:[Massa '[kg']]],4,FALSE)),\"\")","v":""},{"$f":"IFERROR((VLOOKUP(L192,Table2[[Prod.ID]:[Kritieke/ schaarse materialen?]],6,FALSE)),\"\")","v":""},{"$f":"IFERROR((VLOOKUP(L192,Table2[[Prod.ID]:[Economische waarde '[EUR']]],7,FALSE)),\"\")","v":""},{"$f":"IFERROR((VLOOKUP(L192,Table2[[Prod.ID]:[Aantal keer]],8,FALSE)),\"\")","v":""},{"$f":"'5. Bepaal factoren en bereken'!T192","v":""},{"$f":"'5. Bepaal factoren en bereken'!U192","v":""},{"$f":"IF('5. Bepaal factoren en bereken'!V192>0,'5. Bepaal factoren en bereken'!V192,\"\")","v":""}]
[null,{"$f":"'5. Bepaal factoren en bereken'!C193","v":""},{"$f":"IF('5. Bepaal factoren en bereken'!D193=\"\", \"\",'5. Bepaal factoren en bereken'!D193)","v":""},{"$f":"'5. Bepaal factoren en bereken'!E193","v":""},{"$f":"'5. Bepaal factoren en bereken'!F193","v":""},{"$f":"'4. Analyseer opbouw van object'!F191","v":""},{"$f":"IFERROR((VLOOKUP(D193,Table2[[Prod.ID]:[MKI '[EUR MKI']]],3,FALSE)),\"\")","v":""},{"$f":"IFERROR((VLOOKUP(D193,Table2[[Prod.ID]:[Massa '[kg']]],4,FALSE)),\"\")","v":""},{"$f":"IFERROR((VLOOKUP(D193,Table2[[Prod.ID]:[Kritieke/ schaarse materialen?]],6,FALSE)),\"\")","v":""},{"$f":"IFERROR((VLOOKUP(D193,Table2[[Prod.ID]:[Economische waarde '[EUR']]],7,FALSE)),\"\")","v":""},{"$f":"IFERROR((VLOOKUP(D193,Table2[[Prod.ID]:[Aantal keer]],8,FALSE)),\"\")","v":""},{"$f":"'5. Bepaal factoren en bereken'!G193","v":""},{"$f":"'5. Bepaal factoren en bereken'!H193","v":""},{"$f":"'4. Analyseer opbouw van object'!I192","v":" "},{"$f":"IFERROR((VLOOKUP(L193,Table2[[Prod.ID]:[MKI '[EUR MKI']]],3,FALSE)),\"\")","v":""},{"$f":"IFERROR((VLOOKUP(L193,Table2[[Prod.ID]:[Massa '[kg']]],4,FALSE)),\"\")","v":""},{"$f":"IFERROR((VLOOKUP(L193,Table2[[Prod.ID]:[Kritieke/ schaarse materialen?]],6,FALSE)),\"\")","v":""},{"$f":"IFERROR((VLOOKUP(L193,Table2[[Prod.ID]:[Economische waarde '[EUR']]],7,FALSE)),\"\")","v":""},{"$f":"IFERROR((VLOOKUP(L193,Table2[[Prod.ID]:[Aantal keer]],8,FALSE)),\"\")","v":""},{"$f":"'5. Bepaal factoren en bereken'!T193","v":""},{"$f":"'5. Bepaal factoren en bereken'!U193","v":""},{"$f":"IF('5. Bepaal factoren en bereken'!V193>0,'5. Bepaal factoren en bereken'!V193,\"\")","v":""}]
[null,{"$f":"'5. Bepaal factoren en bereken'!C194","v":""},{"$f":"IF('5. Bepaal factoren en bereken'!D194=\"\", \"\",'5. Bepaal factoren en bereken'!D194)","v":""},{"$f":"'5. Bepaal factoren en bereken'!E194","v":""},{"$f":"'5. Bepaal factoren en bereken'!F194","v":""},{"$f":"'4. Analyseer opbouw van object'!F192","v":""},{"$f":"IFERROR((VLOOKUP(D194,Table2[[Prod.ID]:[MKI '[EUR MKI']]],3,FALSE)),\"\")","v":""},{"$f":"IFERROR((VLOOKUP(D194,Table2[[Prod.ID]:[Massa '[kg']]],4,FALSE)),\"\")","v":""},{"$f":"IFERROR((VLOOKUP(D194,Table2[[Prod.ID]:[Kritieke/ schaarse materialen?]],6,FALSE)),\"\")","v":""},{"$f":"IFERROR((VLOOKUP(D194,Table2[[Prod.ID]:[Economische waarde '[EUR']]],7,FALSE)),\"\")","v":""},{"$f":"IFERROR((VLOOKUP(D194,Table2[[Prod.ID]:[Aantal keer]],8,FALSE)),\"\")","v":""},{"$f":"'5. Bepaal factoren en bereken'!G194","v":""},{"$f":"'5. Bepaal factoren en bereken'!H194","v":""},{"$f":"'4. Analyseer opbouw van object'!I193","v":" "},{"$f":"IFERROR((VLOOKUP(L194,Table2[[Prod.ID]:[MKI '[EUR MKI']]],3,FALSE)),\"\")","v":""},{"$f":"IFERROR((VLOOKUP(L194,Table2[[Prod.ID]:[Massa '[kg']]],4,FALSE)),\"\")","v":""},{"$f":"IFERROR((VLOOKUP(L194,Table2[[Prod.ID]:[Kritieke/ schaarse materialen?]],6,FALSE)),\"\")","v":""},{"$f":"IFERROR((VLOOKUP(L194,Table2[[Prod.ID]:[Economische waarde '[EUR']]],7,FALSE)),\"\")","v":""},{"$f":"IFERROR((VLOOKUP(L194,Table2[[Prod.ID]:[Aantal keer]],8,FALSE)),\"\")","v":""},{"$f":"'5. Bepaal factoren en bereken'!T194","v":""},{"$f":"'5. Bepaal factoren en bereken'!U194","v":""},{"$f":"IF('5. Bepaal factoren en bereken'!V194>0,'5. Bepaal factoren en bereken'!V194,\"\")","v":""}]
[null,{"$f":"'5. Bepaal factoren en bereken'!C195","v":""},{"$f":"IF('5. Bepaal factoren en bereken'!D195=\"\", \"\",'5. Bepaal factoren en bereken'!D195)","v":""},{"$f":"'5. Bepaal factoren en bereken'!E195","v":""},{"$f":"'5. Bepaal factoren en bereken'!F195","v":""},{"$f":"'4. Analyseer opbouw van object'!F193","v":""},{"$f":"IFERROR((VLOOKUP(D195,Table2[[Prod.ID]:[MKI '[EUR MKI']]],3,FALSE)),\"\")","v":""},{"$f":"IFERROR((VLOOKUP(D195,Table2[[Prod.ID]:[Massa '[kg']]],4,FALSE)),\"\")","v":""},{"$f":"IFERROR((VLOOKUP(D195,Table2[[Prod.ID]:[Kritieke/ schaarse materialen?]],6,FALSE)),\"\")","v":""},{"$f":"IFERROR((VLOOKUP(D195,Table2[[Prod.ID]:[Economische waarde '[EUR']]],7,FALSE)),\"\")","v":""},{"$f":"IFERROR((VLOOKUP(D195,Table2[[Prod.ID]:[Aantal keer]],8,FALSE)),\"\")","v":""},{"$f":"'5. Bepaal factoren en bereken'!G195","v":""},{"$f":"'5. Bepaal factoren en bereken'!H195","v":""},{"$f":"'4. Analyseer opbouw van object'!I194","v":" "},{"$f":"IFERROR((VLOOKUP(L195,Table2[[Prod.ID]:[MKI '[EUR MKI']]],3,FALSE)),\"\")","v":""},{"$f":"IFERROR((VLOOKUP(L195,Table2[[Prod.ID]:[Massa '[kg']]],4,FALSE)),\"\")","v":""},{"$f":"IFERROR((VLOOKUP(L195,Table2[[Prod.ID]:[Kritieke/ schaarse materialen?]],6,FALSE)),\"\")","v":""},{"$f":"IFERROR((VLOOKUP(L195,Table2[[Prod.ID]:[Economische waarde '[EUR']]],7,FALSE)),\"\")","v":""},{"$f":"IFERROR((VLOOKUP(L195,Table2[[Prod.ID]:[Aantal keer]],8,FALSE)),\"\")","v":""},{"$f":"'5. Bepaal factoren en bereken'!T195","v":""},{"$f":"'5. Bepaal factoren en bereken'!U195","v":""},{"$f":"IF('5. Bepaal factoren en bereken'!V195>0,'5. Bepaal factoren en bereken'!V195,\"\")","v":""}]
[null,{"$f":"'5. Bepaal factoren en bereken'!C196","v":""},{"$f":"IF('5. Bepaal factoren en bereken'!D196=\"\", \"\",'5. Bepaal factoren en bereken'!D196)","v":""},{"$f":"'5. Bepaal factoren en bereken'!E196","v":""},{"$f":"'5. Bepaal factoren en bereken'!F196","v":""},{"$f":"'4. Analyseer opbouw van object'!F194","v":""},{"$f":"IFERROR((VLOOKUP(D196,Table2[[Prod.ID]:[MKI '[EUR MKI']]],3,FALSE)),\"\")","v":""},{"$f":"IFERROR((VLOOKUP(D196,Table2[[Prod.ID]:[Massa '[kg']]],4,FALSE)),\"\")","v":""},{"$f":"IFERROR((VLOOKUP(D196,Table2[[Prod.ID]:[Kritieke/ schaarse materialen?]],6,FALSE)),\"\")","v":""},{"$f":"IFERROR((VLOOKUP(D196,Table2[[Prod.ID]:[Economische waarde '[EUR']]],7,FALSE)),\"\")","v":""},{"$f":"IFERROR((VLOOKUP(D196,Table2[[Prod.ID]:[Aantal keer]],8,FALSE)),\"\")","v":""},{"$f":"'5. Bepaal factoren en bereken'!G196","v":""},{"$f":"'5. Bepaal factoren en bereken'!H196","v":""},{"$f":"'4. Analyseer opbouw van object'!I195","v":" "},{"$f":"IFERROR((VLOOKUP(L196,Table2[[Prod.ID]:[MKI '[EUR MKI']]],3,FALSE)),\"\")","v":""},{"$f":"IFERROR((VLOOKUP(L196,Table2[[Prod.ID]:[Massa '[kg']]],4,FALSE)),\"\")","v":""},{"$f":"IFERROR((VLOOKUP(L196,Table2[[Prod.ID]:[Kritieke/ schaarse materialen?]],6,FALSE)),\"\")","v":""},{"$f":"IFERROR((VLOOKUP(L196,Table2[[Prod.ID]:[Economische waarde '[EUR']]],7,FALSE)),\"\")","v":""},{"$f":"IFERROR((VLOOKUP(L196,Table2[[Prod.ID]:[Aantal keer]],8,FALSE)),\"\")","v":""},{"$f":"'5. Bepaal factoren en bereken'!T196","v":""},{"$f":"'5. Bepaal factoren en bereken'!U196","v":""},{"$f":"IF('5. Bepaal factoren en bereken'!V196>0,'5. Bepaal factoren en bereken'!V196,\"\")","v":""}]
[null,{"$f":"'5. Bepaal factoren en bereken'!C197","v":""},{"$f":"IF('5. Bepaal factoren en bereken'!D197=\"\", \"\",'5. Bepaal factoren en bereken'!D197)","v":""},{"$f":"'5. Bepaal factoren en bereken'!E197","v":""},{"$f":"'5. Bepaal factoren en bereken'!F197","v":""},{"$f":"'4. Analyseer opbouw van object'!F195","v":""},{"$f":"IFERROR((VLOOKUP(D197,Table2[[Prod.ID]:[MKI '[EUR MKI']]],3,FALSE)),\"\")","v":""},{"$f":"IFERROR((VLOOKUP(D197,Table2[[Prod.ID]:[Massa '[kg']]],4,FALSE)),\"\")","v":""},{"$f":"IFERROR((VLOOKUP(D197,Table2[[Prod.ID]:[Kritieke/ schaarse materialen?]],6,FALSE)),\"\")","v":""},{"$f":"IFERROR((VLOOKUP(D197,Table2[[Prod.ID]:[Economische waarde '[EUR']]],7,FALSE)),\"\")","v":""},{"$f":"IFERROR((VLOOKUP(D197,Table2[[Prod.ID]:[Aantal keer]],8,FALSE)),\"\")","v":""},{"$f":"'5. Bepaal factoren en bereken'!G197","v":""},{"$f":"'5. Bepaal factoren en bereken'!H197","v":""},{"$f":"'4. Analyseer opbouw van object'!I196","v":" "},{"$f":"IFERROR((VLOOKUP(L197,Table2[[Prod.ID]:[MKI '[EUR MKI']]],3,FALSE)),\"\")","v":""},{"$f":"IFERROR((VLOOKUP(L197,Table2[[Prod.ID]:[Massa '[kg']]],4,FALSE)),\"\")","v":""},{"$f":"IFERROR((VLOOKUP(L197,Table2[[Prod.ID]:[Kritieke/ schaarse materialen?]],6,FALSE)),\"\")","v":""},{"$f":"IFERROR((VLOOKUP(L197,Table2[[Prod.ID]:[Economische waarde '[EUR']]],7,FALSE)),\"\")","v":""},{"$f":"IFERROR((VLOOKUP(L197,Table2[[Prod.ID]:[Aantal keer]],8,FALSE)),\"\")","v":""},{"$f":"'5. Bepaal factoren en bereken'!T197","v":""},{"$f":"'5. Bepaal factoren en bereken'!U197","v":""},{"$f":"IF('5. Bepaal factoren en bereken'!V197>0,'5. Bepaal factoren en bereken'!V197,\"\")","v":""}]
[null,{"$f":"'5. Bepaal factoren en bereken'!C198","v":""},{"$f":"IF('5. Bepaal factoren en bereken'!D198=\"\", \"\",'5. Bepaal factoren en bereken'!D198)","v":""},{"$f":"'5. Bepaal factoren en bereken'!E198","v":""},{"$f":"'5. Bepaal factoren en bereken'!F198","v":""},{"$f":"'4. Analyseer opbouw van object'!F196","v":""},{"$f":"IFERROR((VLOOKUP(D198,Table2[[Prod.ID]:[MKI '[EUR MKI']]],3,FALSE)),\"\")","v":""},{"$f":"IFERROR((VLOOKUP(D198,Table2[[Prod.ID]:[Massa '[kg']]],4,FALSE)),\"\")","v":""},{"$f":"IFERROR((VLOOKUP(D198,Table2[[Prod.ID]:[Kritieke/ schaarse materialen?]],6,FALSE)),\"\")","v":""},{"$f":"IFERROR((VLOOKUP(D198,Table2[[Prod.ID]:[Economische waarde '[EUR']]],7,FALSE)),\"\")","v":""},{"$f":"IFERROR((VLOOKUP(D198,Table2[[Prod.ID]:[Aantal keer]],8,FALSE)),\"\")","v":""},{"$f":"'5. Bepaal factoren en bereken'!G198","v":""},{"$f":"'5. Bepaal factoren en bereken'!H198","v":""},{"$f":"'4. Analyseer opbouw van object'!I197","v":" "},{"$f":"IFERROR((VLOOKUP(L198,Table2[[Prod.ID]:[MKI '[EUR MKI']]],3,FALSE)),\"\")","v":""},{"$f":"IFERROR((VLOOKUP(L198,Table2[[Prod.ID]:[Massa '[kg']]],4,FALSE)),\"\")","v":""},{"$f":"IFERROR((VLOOKUP(L198,Table2[[Prod.ID]:[Kritieke/ schaarse materialen?]],6,FALSE)),\"\")","v":""},{"$f":"IFERROR((VLOOKUP(L198,Table2[[Prod.ID]:[Economische waarde '[EUR']]],7,FALSE)),\"\")","v":""},{"$f":"IFERROR((VLOOKUP(L198,Table2[[Prod.ID]:[Aantal keer]],8,FALSE)),\"\")","v":""},{"$f":"'5. Bepaal factoren en bereken'!T198","v":""},{"$f":"'5. Bepaal factoren en bereken'!U198","v":""},{"$f":"IF('5. Bepaal factoren en bereken'!V198>0,'5. Bepaal factoren en bereken'!V198,\"\")","v":""}]
[null,{"$f":"'5. Bepaal factoren en bereken'!C199","v":""},{"$f":"IF('5. Bepaal factoren en bereken'!D199=\"\", \"\",'5. Bepaal factoren en bereken'!D199)","v":""},{"$f":"'5. Bepaal factoren en bereken'!E199","v":""},{"$f":"'5. Bepaal factoren en bereken'!F199","v":""},{"$f":"'4. Analyseer opbouw van object'!F197","v":""},{"$f":"IFERROR((VLOOKUP(D199,Table2[[Prod.ID]:[MKI '[EUR MKI']]],3,FALSE)),\"\")","v":""},{"$f":"IFERROR((VLOOKUP(D199,Table2[[Prod.ID]:[Massa '[kg']]],4,FALSE)),\"\")","v":""},{"$f":"IFERROR((VLOOKUP(D199,Table2[[Prod.ID]:[Kritieke/ schaarse materialen?]],6,FALSE)),\"\")","v":""},{"$f":"IFERROR((VLOOKUP(D199,Table2[[Prod.ID]:[Economische waarde '[EUR']]],7,FALSE)),\"\")","v":""},{"$f":"IFERROR((VLOOKUP(D199,Table2[[Prod.ID]:[Aantal keer]],8,FALSE)),\"\")","v":""},{"$f":"'5. Bepaal factoren en bereken'!G199","v":""},{"$f":"'5. Bepaal factoren en bereken'!H199","v":""},{"$f":"'4. Analyseer opbouw van object'!I198","v":" "},{"$f":"IFERROR((VLOOKUP(L199,Table2[[Prod.ID]:[MKI '[EUR MKI']]],3,FALSE)),\"\")","v":""},{"$f":"IFERROR((VLOOKUP(L199,Table2[[Prod.ID]:[Massa '[kg']]],4,FALSE)),\"\")","v":""},{"$f":"IFERROR((VLOOKUP(L199,Table2[[Prod.ID]:[Kritieke/ schaarse materialen?]],6,FALSE)),\"\")","v":""},{"$f":"IFERROR((VLOOKUP(L199,Table2[[Prod.ID]:[Economische waarde '[EUR']]],7,FALSE)),\"\")","v":""},{"$f":"IFERROR((VLOOKUP(L199,Table2[[Prod.ID]:[Aantal keer]],8,FALSE)),\"\")","v":""},{"$f":"'5. Bepaal factoren en bereken'!T199","v":""},{"$f":"'5. Bepaal factoren en bereken'!U199","v":""},{"$f":"IF('5. Bepaal factoren en bereken'!V199>0,'5. Bepaal factoren en bereken'!V199,\"\")","v":""}]
[null,{"$f":"'5. Bepaal factoren en bereken'!C200","v":""},{"$f":"IF('5. Bepaal factoren en bereken'!D200=\"\", \"\",'5. Bepaal factoren en bereken'!D200)","v":""},{"$f":"'5. Bepaal factoren en bereken'!E200","v":""},{"$f":"'5. Bepaal factoren en bereken'!F200","v":""},{"$f":"'4. Analyseer opbouw van object'!F198","v":""},{"$f":"IFERROR((VLOOKUP(D200,Table2[[Prod.ID]:[MKI '[EUR MKI']]],3,FALSE)),\"\")","v":""},{"$f":"IFERROR((VLOOKUP(D200,Table2[[Prod.ID]:[Massa '[kg']]],4,FALSE)),\"\")","v":""},{"$f":"IFERROR((VLOOKUP(D200,Table2[[Prod.ID]:[Kritieke/ schaarse materialen?]],6,FALSE)),\"\")","v":""},{"$f":"IFERROR((VLOOKUP(D200,Table2[[Prod.ID]:[Economische waarde '[EUR']]],7,FALSE)),\"\")","v":""},{"$f":"IFERROR((VLOOKUP(D200,Table2[[Prod.ID]:[Aantal keer]],8,FALSE)),\"\")","v":""},{"$f":"'5. Bepaal factoren en bereken'!G200","v":""},{"$f":"'5. Bepaal factoren en bereken'!H200","v":""},{"$f":"'4. Analyseer opbouw van object'!I199","v":" "},{"$f":"IFERROR((VLOOKUP(L200,Table2[[Prod.ID]:[MKI '[EUR MKI']]],3,FALSE)),\"\")","v":""},{"$f":"IFERROR((VLOOKUP(L200,Table2[[Prod.ID]:[Massa '[kg']]],4,FALSE)),\"\")","v":""},{"$f":"IFERROR((VLOOKUP(L200,Table2[[Prod.ID]:[Kritieke/ schaarse materialen?]],6,FALSE)),\"\")","v":""},{"$f":"IFERROR((VLOOKUP(L200,Table2[[Prod.ID]:[Economische waarde '[EUR']]],7,FALSE)),\"\")","v":""},{"$f":"IFERROR((VLOOKUP(L200,Table2[[Prod.ID]:[Aantal keer]],8,FALSE)),\"\")","v":""},{"$f":"'5. Bepaal factoren en bereken'!T200","v":""},{"$f":"'5. Bepaal factoren en bereken'!U200","v":""},{"$f":"IF('5. Bepaal factoren en bereken'!V200>0,'5. Bepaal factoren en bereken'!V200,\"\")","v":""}]
[null,{"$f":"'5. Bepaal factoren en bereken'!C201","v":""},{"$f":"IF('5. Bepaal factoren en bereken'!D201=\"\", \"\",'5. Bepaal factoren en bereken'!D201)","v":""},{"$f":"'5. Bepaal factoren en bereken'!E201","v":""},{"$f":"'5. Bepaal factoren en bereken'!F201","v":""},{"$f":"'4. Analyseer opbouw van object'!F199","v":""},{"$f":"IFERROR((VLOOKUP(D201,Table2[[Prod.ID]:[MKI '[EUR MKI']]],3,FALSE)),\"\")","v":""},{"$f":"IFERROR((VLOOKUP(D201,Table2[[Prod.ID]:[Massa '[kg']]],4,FALSE)),\"\")","v":""},{"$f":"IFERROR((VLOOKUP(D201,Table2[[Prod.ID]:[Kritieke/ schaarse materialen?]],6,FALSE)),\"\")","v":""},{"$f":"IFERROR((VLOOKUP(D201,Table2[[Prod.ID]:[Economische waarde '[EUR']]],7,FALSE)),\"\")","v":""},{"$f":"IFERROR((VLOOKUP(D201,Table2[[Prod.ID]:[Aantal keer]],8,FALSE)),\"\")","v":""},{"$f":"'5. Bepaal factoren en bereken'!G201","v":""},{"$f":"'5. Bepaal factoren en bereken'!H201","v":""},{"$f":"'4. Analyseer opbouw van object'!I200","v":" "},{"$f":"IFERROR((VLOOKUP(L201,Table2[[Prod.ID]:[MKI '[EUR MKI']]],3,FALSE)),\"\")","v":""},{"$f":"IFERROR((VLOOKUP(L201,Table2[[Prod.ID]:[Massa '[kg']]],4,FALSE)),\"\")","v":""},{"$f":"IFERROR((VLOOKUP(L201,Table2[[Prod.ID]:[Kritieke/ schaarse materialen?]],6,FALSE)),\"\")","v":""},{"$f":"IFERROR((VLOOKUP(L201,Table2[[Prod.ID]:[Economische waarde '[EUR']]],7,FALSE)),\"\")","v":""},{"$f":"IFERROR((VLOOKUP(L201,Table2[[Prod.ID]:[Aantal keer]],8,FALSE)),\"\")","v":""},{"$f":"'5. Bepaal factoren en bereken'!T201","v":""},{"$f":"'5. Bepaal factoren en bereken'!U201","v":""},{"$f":"IF('5. Bepaal factoren en bereken'!V201>0,'5. Bepaal factoren en bereken'!V201,\"\")","v":""}]
[null,{"$f":"'5. Bepaal factoren en bereken'!C202","v":""},{"$f":"IF('5. Bepaal factoren en bereken'!D202=\"\", \"\",'5. Bepaal factoren en bereken'!D202)","v":""},{"$f":"'5. Bepaal factoren en bereken'!E202","v":""},{"$f":"'5. Bepaal factoren en bereken'!F202","v":""},{"$f":"'4. Analyseer opbouw van object'!F200","v":""},{"$f":"IFERROR((VLOOKUP(D202,Table2[[Prod.ID]:[MKI '[EUR MKI']]],3,FALSE)),\"\")","v":""},{"$f":"IFERROR((VLOOKUP(D202,Table2[[Prod.ID]:[Massa '[kg']]],4,FALSE)),\"\")","v":""},{"$f":"IFERROR((VLOOKUP(D202,Table2[[Prod.ID]:[Kritieke/ schaarse materialen?]],6,FALSE)),\"\")","v":""},{"$f":"IFERROR((VLOOKUP(D202,Table2[[Prod.ID]:[Economische waarde '[EUR']]],7,FALSE)),\"\")","v":""},{"$f":"IFERROR((VLOOKUP(D202,Table2[[Prod.ID]:[Aantal keer]],8,FALSE)),\"\")","v":""},{"$f":"'5. Bepaal factoren en bereken'!G202","v":""},{"$f":"'5. Bepaal factoren en bereken'!H202","v":""},{"$f":"'4. Analyseer opbouw van object'!I201","v":" "},{"$f":"IFERROR((VLOOKUP(L202,Table2[[Prod.ID]:[MKI '[EUR MKI']]],3,FALSE)),\"\")","v":""},{"$f":"IFERROR((VLOOKUP(L202,Table2[[Prod.ID]:[Massa '[kg']]],4,FALSE)),\"\")","v":""},{"$f":"IFERROR((VLOOKUP(L202,Table2[[Prod.ID]:[Kritieke/ schaarse materialen?]],6,FALSE)),\"\")","v":""},{"$f":"IFERROR((VLOOKUP(L202,Table2[[Prod.ID]:[Economische waarde '[EUR']]],7,FALSE)),\"\")","v":""},{"$f":"IFERROR((VLOOKUP(L202,Table2[[Prod.ID]:[Aantal keer]],8,FALSE)),\"\")","v":""},{"$f":"'5. Bepaal factoren en bereken'!T202","v":""},{"$f":"'5. Bepaal factoren en bereken'!U202","v":""},{"$f":"IF('5. Bepaal factoren en bereken'!V202>0,'5. Bepaal factoren en bereken'!V202,\"\")","v":""}]
[null,{"$f":"'5. Bepaal factoren en bereken'!C203","v":0},{"$f":"IF('5. Bepaal factoren en bereken'!D203=\"\", \"\",'5. Bepaal factoren en bereken'!D203)","v":""},{"$f":"'5. Bepaal factoren en bereken'!E203","v":0},{"$f":"'5. Bepaal factoren en bereken'!F203","v":0},{"$f":"'4. Analyseer opbouw van object'!F201","v":""},{"$f":"IFERROR((VLOOKUP(D203,Table2[[Prod.ID]:[MKI '[EUR MKI']]],3,FALSE)),\"\")","v":""},{"$f":"IFERROR((VLOOKUP(D203,Table2[[Prod.ID]:[Massa '[kg']]],4,FALSE)),\"\")","v":""},{"$f":"IFERROR((VLOOKUP(D203,Table2[[Prod.ID]:[Kritieke/ schaarse materialen?]],6,FALSE)),\"\")","v":""},{"$f":"IFERROR((VLOOKUP(D203,Table2[[Prod.ID]:[Economische waarde '[EUR']]],7,FALSE)),\"\")","v":""},{"$f":"IFERROR((VLOOKUP(D203,Table2[[Prod.ID]:[Aantal keer]],8,FALSE)),\"\")","v":""},{"$f":"'5. Bepaal factoren en bereken'!G203","v":0},{"$f":"'5. Bepaal factoren en bereken'!H203","v":0},{"$f":"'4. Analyseer opbouw van object'!I202","v":0},{"$f":"IFERROR((VLOOKUP(L203,Table2[[Prod.ID]:[MKI '[EUR MKI']]],3,FALSE)),\"\")","v":""},{"$f":"IFERROR((VLOOKUP(L203,Table2[[Prod.ID]:[Massa '[kg']]],4,FALSE)),\"\")","v":""},{"$f":"IFERROR((VLOOKUP(L203,Table2[[Prod.ID]:[Kritieke/ schaarse materialen?]],6,FALSE)),\"\")","v":""},{"$f":"IFERROR((VLOOKUP(L203,Table2[[Prod.ID]:[Economische waarde '[EUR']]],7,FALSE)),\"\")","v":""},{"$f":"IFERROR((VLOOKUP(L203,Table2[[Prod.ID]:[Aantal keer]],8,FALSE)),\"\")","v":""},{"$f":"'5. Bepaal factoren en bereken'!T203","v":0},{"$f":"'5. Bepaal factoren en bereken'!U203","v":0},{"$f":"IF('5. Bepaal factoren en bereken'!V203>0,'5. Bepaal factoren en bereken'!V203,\"\")","v":""}]

{"sheet":"Achtergrond info","index":9,"n_rows":38,"n_cols":16,"rows_kept":38,"cut":false,"hidden":true,"merged":[]}
[]
[null,"Sheet om uiteindelijk te verbergen voor de gebruiker"]
[null,"[sheet voor named ranges etc]"]
[null,null,null,null,null,null,null,null,null,null,null,null,null,null,null,"Classificering"]
[null,null,"Factor","Categorieen","Score",null,null,"Nodig voor drop-down menus:",null,null,null,null,null,null,null,"Afgebakend object"]
[null,"Type verbinding","Droge verbinding","Los (geen bevestigingsmateriaal)",1,null,null,"Droge verbinding","Droge_verbinding","Verbinding_met_toegevoegde_elementen","Directe_integrale_verbinding","Zachte_chemische_verbinding","Harde_chemische_verbinding",null,null,"Lijnobject met componenten"]
[null,"Type verbinding","Droge verbinding","Klikverbinding",1,null,null,"Verbinding met toegevoegde elementen","Los (geen bevestigingsmateriaal)","Bout- en moerverbinding","Pin-verbindingen","Kitverbinding","Lijmverbinding",null,null,"Lijnobject doorlopend"]
[null,"Type verbinding","Droge verbinding","Overige droge verbindingen",1,null,null,"Directe integrale verbinding","Klikverbinding","Veerverbinding","Spijkerverbinding","Schuimverbinding (PUR)","Aanstortverbinding"]
[null,"Type verbinding","Verbinding met toegevoegde elementen","Bout- en moerverbinding",0.8,null,null,"Zacht chemische verbinding","Overige droge verbindingen","Hoekverbinding","Klinknagels en popnagels","Overige zachte chemische verbindingen","Lasverbinding"]
[null,"Type verbinding","Verbinding met toegevoegde elementen","Veerverbinding",0.8,null,null,"Harde chemische verbinding",null,"Schroefverbinding","Overige integrale verbindingen",null,"Cementgebonden verbinding",null,null,"Randvoorwaarden"]
[null,"Type verbinding","Verbinding met toegevoegde elementen","Hoekverbindingen",0.8,null,null,null,null,"Overige verbindingen met toegevoegde verbindingselementen",null,null,"Chemische ankers",null,null,"Ja"]
[null,"Type verbinding","Verbinding met toegevoegde elementen","Schroefverbinding",0.8,null,null,null,null,null,null,null,"Overige harde chemische verbinding",null,null,"Nee"]
[null,"Type verbinding","Verbinding met toegevoegde elementen","Overige verbindingen met toegevoegde verbindingselementen",0.8]
[null,"Type verbinding","Directe integrale verbinding","Pin-verbindingen",0.6]
[null,"Type verbinding","Directe integrale verbinding","Spijkerverbinding",0.6]
[null,"Type verbinding","Directe integrale verbinding","Klinknagels en popnagels",0.6,null,null,{"$f":"IF(H7=C10,1,0)","v":1}]
[null,"Type verbinding","Directe integrale verbinding","Overige integrale verbindingen",0.6]
[null,"Type verbinding","Zachte chemische verbinding","Kitverbinding",0.2]
[null,"Type verbinding","Zachte chemische verbinding","Schuimverbinding (PUR)",0.2]
[null,"Type verbinding","Zachte chemische verbinding","Overige zachte chemische verbindingen",0.2]
[null,"Type verbinding","Harde chemische verbinding","Lijmverbinding",0.1]
[null,"Type verbinding","Harde chemische verbinding","Aanstortverbinding",0.1]
[null,"Type verbinding","Harde chemische verbinding","Lasverbinding",0.1]
[null,"Type verbinding","Harde chemische verbinding","Cementgebonden verbinding",0.1]
[null,"Type verbinding","Harde chemische verbinding","Chemische ankers",0.1]
[null,"Type verbinding","Harde chemische verbinding","Overige harde chemische verbinding",0.1]
[null,"Toegankelijkheid verbinding","Vrij toegankelijk zonder extra handelingen","Vrij toegankelijk zonder extra handelingen",1]
[null,"Toegankelijkheid verbinding","Toegankelijk met extra handelingen die geen schade veroorzaken aan het product of omliggende producten","Toegankelijk met extra handelingen die geen schade veroorzaken aan het product of omliggende producten",0.8]
[null,"Toegankelijkheid verbinding","Toegankelijk met extra handelingen met volledig herstelbare schade aan het product of omliggende producten","Toegankelijk met extra handelingen met volledig herstelbare schade aan het product of omliggende producten",0.6]
[null,"Toegankelijkheid verbinding","Toegankelijk met extra handelingen met gedeeltelijk herstelbare schade aan het product of omliggende producten","Toegankelijk met extra handelingen met gedeeltelijk herstelbare schade aan het product of omliggende producten",0.4]
[null,"Toegankelijkheid verbinding","Niet toegankelijk – onherstelbare schade aan het product of omliggende producten","Niet toegankelijk – onherstelbare schade aan het product of omliggende producten",0.1,null,null," "]
[null,"Randopsluiting","Product is direct vrij uitneembaar zonder de omgekeerde bouwvolgorde te volgen","Product is direct vrij uitneembaar zonder de omgekeerde bouwvolgorde te volgen",1]
[null,"Randopsluiting","Vrij toegankelijk: er is na het volgen van de omgekeerde bouwvolgorde géén belemmering voor het (tussentijds) uitnemen van het product of element","Vrij toegankelijk: er is na het volgen van de omgekeerde bouwvolgorde géén belemmering voor het (tussentijds) uitnemen van het product of element",0.6]
[null,"Randopsluiting","Gedeeltelijk ingesloten: er is na het volgen van de omgekeerde bouwvolgorde gedeeltelijke belemmering voor het (tussentijds) uitnemen van het product of element","Gedeeltelijk ingesloten: er is na het volgen van de omgekeerde bouwvolgorde gedeeltelijke belemmering voor het (tussentijds) uitnemen van het product of element",0.4]
[null,"Randopsluiting","Volledig ingesloten: er is na het volgen van de omgekeerde bouwvolgorde volledige belemmering voor het (tussentijds) uitnemen van het product of element","Volledig ingesloten: er is na het volgen van de omgekeerde bouwvolgorde volledige belemmering voor het (tussentijds) uitnemen van het product of element",0.1]
[null,"Doorkruisingen","Geen doorkruisingen - modulaire zonering van producten of elementen","Geen doorkruisingen - modulaire zonering van producten of elementen",1]
[null,"Doorkruisingen","Incidentele doorkruisingen van producten of elementen die verhinderen dat het product zonder schade uit de constructie kan worden gehaald bij vervanging- of verwijderwerkzaamheden","Incidentele doorkruisingen van producten of elementen die verhinderen dat het product zonder schade uit de constructie kan worden gehaald bij vervanging- of verwijderwerkzaamheden",0.4]
[null,"Doorkruisingen","Volledige integratie van producten of elementen die verhinderen dat het product zonder schade uit de constructie kan worden gehaald bij vervanging- of verwijderwerkzaamheden","Volledige integratie van producten of elementen die verhinderen dat het product zonder schade uit de constructie kan worden gehaald bij vervanging- of verwijderwerkzaamheden",0.1]